{"text_format":"1","workbook":"xlsx","n_sheets":27,"sheets":["Controle de Revisões","Instruções","Diretório","E1GC","_E1GC","E1G2G","_E1G2G","E2G","_E2G","E1G Flex","_E1G Flex","E1GM","_E1GM","E1GMI","_E1GMI","Biodiesel","_Biodiesel","CombAlterHEFA","_BioQavHEFA","Biometano","_Biometano","Dados auxiliares","FE's queima combustíveis","_Emissões Agrícolas","Enderecos","Listas","calculos_Anna"],"not_rendered":{"charts":0,"images":6,"macros":1,"external_links":0,"defined_names":19,"comments":0,"pivot_tables":0},"unopened":[],"bounds":{"document_bytes":16777216,"sheet_cells":100000,"rows_first":2000,"rows_last":500,"rows_between":2000,"halvings":0,"cell_chars":16384,"cell_head_chars":4096},"cells_cut":0,"cells_raw":0,"read":"whole","date_system":"1900"}

{"sheet":"Controle de Revisões","index":0,"n_rows":18,"n_cols":4,"rows_kept":18,"cut":false,"hidden":false,"merged":[[11,1,13,1],[11,3,13,3],[4,1,5,1],[4,3,5,3],[6,1,8,1],[6,3,8,3]]}
[]
[]
[null,"Versão","Controle das alterações na RenovaCalc","Data de publicação"]
[null,"0.","Versão publicada da RenovaCalc junto com a publicação da Resolução ANP nº758/2018","2018-11-27"]
[null,"1."," Inluida a função \"SEERRO\" no cabeçario que cálcula a nota de eficiência para as rotas E1GC, E1G2G, E2G, E1G Flex, E1GM, E1GMI, CombAlterHEFA","2019-01-03"]
[null,null," Retirada do limite superior das células."]
[null,"2."," E1GC, na célula C17. Ajustado o erro para chamar a _E1GC antes chamava a célula a aba _EGC1, que não existe.","2019-02-15"]
[null,null," Adição da fórmula : =D26*(1-G26)+D28 na célula D31 (MLC) na rota do E2G.  "]
[null,null," Arrumação das mensagens de entrada nas células. "]
[null,"2.1"," Correção da célula C17 na planilha E1GC. Correção de erro na proteção do arquivo que fazia com que o arquivo abrisse errado em versões diferentes do Excel","2019-02-19"]
[null,"2.2"," Planilha EIGC - Desbloqueio da célula G62 / Retificação da validação da célula G63 / Correção das células Y62 e Y63","2019-02-26"]
[null,"3."," Alteração na rota de Biodiesel e CombAlternHEFA (Adição da pergunta \"Alguma fração dessa matéria-prima é elegível?\" na etapa da Fase Industrial para óleo de soja próprio, óleo de soja de terceiros, óleo de palma, óleo de algodão e outros óleos vegetais)  ",{"$f":"DATE(2019,6,3)","v":"2019-06-03"}]
[null,null," Revisão das formatações das células"]
[null,null," Inclusão na etapa agrícola de todos os produtores de biomassa da célula \"Quantidade comprada pela unidade produtora de biocombustível\""]
[null,"4."," Ajuste interno no cálculo da etapa industrial na rota \"Etanol combustível de primeira geração produzido a partir de cana-de-açúcar e milho em usina integrada\"","2019-08-29"]
[null,"5. "," Não Aplicado ","2019-09-09"]
[null,"6. "," Melhoria na rota de E1G_Flex.","2020-01-09"]
[null,"6.1"," Ajuste na rota de E1G_Flex.","2020-01-24"]

{"sheet":"Instruções","index":1,"n_rows":25,"n_cols":11,"rows_kept":25,"cut":false,"hidden":false,"merged":[]}
[null,".."]
[null,"Instruções"]
[]
[null,"A RenovaCalc é a ferramenta de cálculo de intensidade de carbono dos biocombustíveis e geração da Nota de Eficiência Energético-Ambiental, de acordo com o referencial metodológico estabelecido no RenovaBio."]
[]
[null,"O responsável pelo preenchimento deve estar atento às seguintes diretrizes:"]
[]
[null,"1. Só devem ser preenchidas as células demarcadas em pontilhado:"]
[]
[null,"2. Quando o parâmetro for zero, o campo deverá ser deixado em branco."]
[]
[null,"3. A unidade de preenchimento de cada parâmetro é fixa e estará sempre indicada ao lado da célula que deve ser preenchida. Por exemplo:",null,null,null,null,null,null,"Ureia",null," kg N/t cana"]
[]
[null,"3.1. O usuário deve sempre inserir os dados na unidade pré-indicada, sendo considerado incorreto qualquer dado que esteja em outra unidade."]
[]
[null,"3.2. Ao selecionar a célula a ser preenchida, orientações de como preencher cada parâmetro serão fornecidas.    Por exemplo:"]
[]
[]
[]
[]
[null,"4. O usuário deve sempre preencher os dados com até duas casas decimais, para evitar problemas de arredondamento."]
[]
[null,"5. As informações referentes à fase agrícola devem ser preenchidas de acordo com o que foi calculado no arquivo correspondente de \"produtores de biomassa\". Devem ser preenchidos apenas os dados consolidados da fase agrícola."]
[]
[null,"6. As informações referentes à fase industrial independem do atendimento aos critérios de elegibilidade. Devem sempre ser preenchidas as quantidades totais utilizadas pela unidade produtora de biocombustível."]

{"sheet":"Diretório","index":2,"n_rows":4,"n_cols":5,"rows_kept":4,"cut":false,"hidden":false,"merged":[]}
[null,".."]
[null,"DIRETÓRIO DE ROTAS DE PRODUÇÃO DE BIOCOMBUSTÍVEIS"]
[null,"."]
[null,null,null,null,"."]

{"sheet":"E1GC","index":3,"n_rows":154,"n_cols":46,"rows_kept":154,"cut":false,"hidden":false,"merged":[[60,39,60,45],[67,39,67,45],[22,39,22,45],[23,39,23,45],[34,39,34,45],[37,39,37,45],[42,39,42,45],[3,2,3,7],[5,2,5,7],[7,2,7,7],[9,2,9,3],[42,10,42,16],[34,10,34,16],[37,10,37,16],[34,1,34,7],[23,10,23,16],[12,2,12,3],[42,1,42,7],[150,2,150,4],[60,30,60,36],[67,30,67,36],[34,30,34,36],[37,30,37,36],[86,1,86,7],[42,19,42,25],[60,10,60,16],[60,19,60,25],[67,10,67,16],[67,19,67,25],[85,1,85,7],[67,1,67,7],[37,1,37,7],[119,2,119,4],[124,2,124,4],[22,30,22,36],[23,30,23,36],[42,30,42,36],[144,2,144,4],[149,2,149,4],[109,2,109,4],[114,2,114,4],[142,1,142,7],[95,1,95,7],[22,1,22,7],[104,2,104,4],[96,2,96,4],[100,2,100,4],[22,10,22,16],[22,19,22,25],[23,19,23,25],[60,1,60,7],[23,1,23,7],[34,19,34,25],[37,19,37,25],[14,3,14,5]]}
[]
[null,"Etanol combustível de primeira geração produzido a partir de cana-de-açúcar"]
[]
[null,"Razão Social:","Usina Hipotética"]
[]
[null,"CNPJ","00.000.000/0000-00"]
[]
[null,"Responsável pelo preenchimento:"]
[]
[null,"Telefone :","(00) 0000-0000"]
[]
[]
[null,null,"Etanol Anidro"]
[]
[null,"Intensidade de Carbono\n(g CO₂eq/MJ)",{"$f":"SUM(C17:C20)","v":0.43899999999999995},"Nota de Eficiência Energético-Ambiental\n(g CO₂eq/MJ)",null,null,{"$f":"G18-C15","v":86.961000000000013}]
[]
[null,"agrícola",{"$f":"IFERROR((IF(C13=\"Etanol Anidro\",_E1GC!C5,IF(C13=\"Etanol Hidratado\",_E1GC!E5,\"\"))),0)","v":0},null,null,null,"Fóssil substituto: Gasolina"]
[null,"industrial",{"$f":"IFERROR(IF(C13=\"Etanol Anidro\",_E1GC!C6,IF(C13=\"Etanol Hidratado\",_E1GC!E6,\"\")),0)","v":0},null,null,null,{"$f":"'Dados auxiliares'!F166","v":87.4}]
[null,"transporte",{"$f":"IFERROR(IF(C13=\"Etanol Anidro\",_E1GC!C7,IF(C13=\"Etanol Hidratado\",_E1GC!E7,\"\")),0)","v":0},null,null,null,"Redução de emissões"]
[null,"uso",{"$f":"IFERROR(IF(C13=\"Etanol Anidro\",_E1GC!C8,IF(C13=\"Etanol Hidratado\",_E1GC!E8,\"\")),0)","v":0.43899999999999995},null,null,null,{"$f":"(G18-C15)/G18","v":0.9949771167048056}]
[]
[]
[null,"Fase agrícola - Dados Consolidados",null,null,null,null,null,null,null,null,"Fornecedores - Dados consolidados",null,null,null,null,null,null,null,null,"Média ponderada - RenovaCalc",null,null,null,null,null,null,null,null,null,null,"Default - Cana",null,null,null,null,null,null,null,null,"Guarda dados de preenchimento"]
[null,"Informações gerais",null,null,null,null,null,null,null,null,"Informações gerais",null,null,null,null,null,null,null,null,"Informações gerais",null,null,null,null,null,null,null,null,null,null,"Informações gerais",null,null,null,null,null,null,null,null,"Informações gerais"]
[]
[null,null,"Sistema de plantio","Convencional",null,null,null,null,null,null,null,"Sistema de plantio","Convencional",null,null,null,null,null,null,null,"Sistema de plantio",{"$f":"D26","v":"Convencional"}]
[null,null,"Área total",null,"ha",null,null,null,null,null,null,"Área total",null,"ha",null,null,null,null,null,null,"Área total",{"$f":"D27","v":0},"ha"]
[]
[null,null,"Produção total colhida para moagem",null,"t cana",null,null,null,null,null,null,"Produção total colhida para moagem",null,"t cana",null,null,null,null,null,null,"Produção total colhida para moagem",{"$f":"D29","v":0},"t cana"]
[null,null,"Quantidade comprada pela unidade produtora de biocombustível",null,"t cana"]
[null,null,"Teor de impurezas vegetais (base úmida)",null,"kg/t cana","Umidade",null,null,null,null,null,"Teor de impurezas vegetais (base úmida)",null,"kg/t cana","Umidade",0.5,null,null,null,null,"Teor de impurezas vegetais (base úmida)",{"$f":"D31","v":0},"kg/t cana","Umidade",{"$f":"G31","v":0}]
[null,null,"Teor de impurezas minerais",null,"kg/t cana",null,null,null,null,null,null,"Teor de impurezas minerais",null,"kg/t cana",null,null,null,null,null,null,"Teor de impurezas minerais",{"$f":"D32","v":0},"kg/t cana"]
[null,null,"Palha recolhida (base seca)",null,"t palha",null,null,null,null,null,null,"Palha recolhida (base seca)",null,"t palha",null,null,null,null,null,null,"Palha recolhida (base seca)",{"$f":"D33","v":0},"t palha"]
[]
[null,"Área Queimada",null,null,null,null,null,null,null,null,"Área Queimada",null,null,null,null,null,null,null,null,"Área Queimada",null,null,null,null,null,null,null,null,null,null,"Área Queimada",null,null,null,null,null,null,null,null,"Área Queimada"]
[null,null,"Área queimada",null,"ha",null,null,null,null,null,null,"Área queimada",null,"ha",null,null,null,null,null,null,"Área queimada",{"$f":"D36","v":0},"ha",null,null,null,null,null,null,null,null,"Área queimada",1,"% da área total",null,null,null,null,null,null,"Área queimada",null,"% da área total"]
[]
[null,"Corretivos",null,null,null,null,null,null,null,null,"Corretivos",null,null,null,null,null,null,null,null,"Corretivos",null,null,null,null,null,null,null,null,null,null,"Corretivos",null,null,null,null,null,null,null,null,"Corretivos"]
[null,null,"Calcário calcítico",null,"kg/t cana",null,null,null,null,null,null,"Calcário calcítico",null,"kg/t cana",null,null,null,null,null,null,"Calcário calcítico",{"$f":"D39","v":0},"kg/t cana",null,null,null,null,null,null,null,null,"Calcário calcítico",0,"kg/t cana",null,null,null,null,null,null,"Calcário calcítico",null,"kg/t cana"]
[null,null,"Calcário dolomítico",null,"kg/t cana",null,null,null,null,null,null,"Calcário dolomítico",null,"kg/t cana",null,null,null,null,null,null,"Calcário dolomítico",{"$f":"D40","v":0},"kg/t cana",null,null,null,null,null,null,null,null,"Calcário dolomítico",12,"kg/t cana",null,null,null,null,null,null,"Calcário dolomítico",null,"kg/t cana"]
[null,null,"Gesso",null,"kg/t cana",null,null,null,null,null,null,"Gesso",null,"kg/t cana",null,null,null,null,null,null,"Gesso",{"$f":"D41","v":0},"kg/t cana",null,null,null,null,null,null,null,null,"Gesso",5,"kg/t cana",null,null,null,null,null,null,"Gesso",null,"kg/t cana"]
[]
[null,"Fertilizantes Sintéticos",null,null,null,null,null,null,null,null,"Fertilizantes Sintéticos",null,null,null,null,null,null,null,null,"Fertilizantes Sintéticos",null,null,null,null,null,null,null,null,null,null,"Fertilizantes Sintéticos",null,null,null,null,null,null,null,null,"Fertilizantes Sintéticos"]
[null,null,"Ureia",null,"kg N/t cana",null,null,null,null,null,null,"Ureia",null,"kg N/t cana",null,null,null,null,null,null,"Ureia",{"$f":"D44","v":0},"kg N/t cana",null,null,null,null,null,null,null,null,"Ureia",2,"kg N/t cana",null,null,null,null,null,null,"Ureia",null,"kg N/t cana"]
[null,null,"Fosfato monoamônico (MAP)",null,"kg N/t cana",null,null,null,null,null,null,"Fosfato monoamônico (MAP)",null,"kg N/t cana",null,null,null,null,null,null,"Fosfato monoamônico (MAP)",0,"kg N/t cana",null,null,null,null,null,null,null,null,"Fosfato monoamônico (MAP)",0,"kg N/t cana",null,null,null,null,null,null,"Fosfato monoamônico (MAP)",null,"kg N/t cana"]
[null,null,"Fosfato monoamônico (MAP)",null,"kg P₂O₅/t cana",null,null,null,null,null,null,"Fosfato monoamônico (MAP)",null,"kg P₂O₅/t cana",null,null,null,null,null,null,"Fosfato monoamônico (MAP)",0,"kg P₂O₅/t cana",null,null,null,null,null,null,null,null,"Fosfato monoamônico (MAP)",0,"kg P₂O₅/t cana",null,null,null,null,null,null,"Fosfato monoamônico (MAP)",null,"kg P₂O₅/t cana"]
[null,null,"Fosfato diamônico (DAP)",null,"kg N/t cana",null,null,null,null,null,null,"Fosfato diamônico (DAP)",null,"kg N/t cana",null,null,null,null,null,null,"Fosfato diamônico (DAP)",0,"kg N/t cana",null,null,null,null,null,null,null,null,"Fosfato diamônico (DAP)",0,"kg N/t cana",null,null,null,null,null,null,"Fosfato diamônico (DAP)",null,"kg N/t cana"]
[null,null,"Fosfato diamônico (DAP)",null,"kg P₂O₅/t cana",null,null,null,null,null,null,"Fosfato diamônico (DAP)",null,"kg P₂O₅/t cana",null,null,null,null,null,null,"Fosfato diamônico (DAP)",0,"kg P₂O₅/t cana",null,null,null,null,null,null,null,null,"Fosfato diamônico (DAP)",0,"kg P₂O₅/t cana",null,null,null,null,null,null,"Fosfato diamônico (DAP)",null,"kg P₂O₅/t cana"]
[null,null,"Nitrato de amônio",null,"kg N/t cana",null,null,null,null,null,null,"Nitrato de amônio",null,"kg N/t cana",null,null,null,null,null,null,"Nitrato de amônio",0,"kg N/t cana",null,null,null,null,null,null,null,null,"Nitrato de amônio",0,"kg N/t cana",null,null,null,null,null,null,"Nitrato de amônio",null,"kg N/t cana"]
[null,null,"Solução de nitrato de amônio e ureia (UAN)",null,"kg N/t cana",null,null,null,null,null,null,"Solução de nitrato de amônio e ureia (UAN)",null,"kg N/t cana",null,null,null,null,null,null,"Solução de nitrato de amônio e ureia (UAN)",0,"kg N/t cana",null,null,null,null,null,null,null,null,"Solução de nitrato de amônio e ureia (UAN)",0,"kg N/t cana",null,null,null,null,null,null,"Solução de nitrato de amônio e ureia (UAN)",null,"kg N/t cana"]
[null,null,"Amônia anidra",null,"kg N/t cana",null,null,null,null,null,null,"Amônia anidra",null,"kg N/t cana",null,null,null,null,null,null,"Amônia anidra",0,"kg N/t cana",null,null,null,null,null,null,null,null,"Amônia anidra",0,"kg N/t cana",null,null,null,null,null,null,"Amônia anidra",null,"kg N/t cana"]
[null,null,"Sulfato de amônio",null,"kg N/t cana",null,null,null,null,null,null,"Sulfato de amônio",null,"kg N/t cana",null,null,null,null,null,null,"Sulfato de amônio",0,"kg N/t cana",null,null,null,null,null,null,null,null,"Sulfato de amônio",0,"kg N/t cana",null,null,null,null,null,null,"Sulfato de amônio",null,"kg N/t cana"]
[null,null,"Nitrato de amônio e cálcio (CAN)",null,"kg N/t cana",null,null,null,null,null,null,"Nitrato de amônio e cálcio (CAN)",null,"kg N/t cana",null,null,null,null,null,null,"Nitrato de amônio e cálcio (CAN)",0,"kg N/t cana",null,null,null,null,null,null,null,null,"Nitrato de amônio e cálcio (CAN)",0,"kg N/t cana",null,null,null,null,null,null,"Nitrato de amônio e cálcio (CAN)",null,"kg N/t cana"]
[null,null,"Superfosfato simples (SSP)",null,"kg P₂O₅/t cana",null,null,null,null,null,null,"Superfosfato simples (SSP)",null,"kg P₂O₅/t cana",null,null,null,null,null,null,"Superfosfato simples (SSP)",0,"kg P₂O₅/t cana",null,null,null,null,null,null,null,null,"Superfosfato simples (SSP)",1,"kg P₂O₅/t cana",null,null,null,null,null,null,"Superfosfato simples (SSP)",null,"kg P₂O₅/t cana"]
[null,null,"Superfosfato triplo (TSP)",null,"kg P₂O₅/t cana",null,null,null,null,null,null,"Superfosfato triplo (TSP)",null,"kg P₂O₅/t cana",null,null,null,null,null,null,"Superfosfato triplo (TSP)",0,"kg P₂O₅/t cana",null,null,null,null,null,null,null,null,"Superfosfato triplo (TSP)",0,"kg P₂O₅/t cana",null,null,null,null,null,null,"Superfosfato triplo (TSP)",null,"kg P₂O₅/t cana"]
[null,null,"Cloreto de potássio (KCl)",null,"kg K₂O/t cana",null," ",null,null,null,null,"Cloreto de potássio (KCl)",null,"kg K₂O/t cana",null,null,null,null,null,null,"Cloreto de potássio (KCl)",0,"kg K₂O/t cana",null,null,null,null,null,null,null,null,"Cloreto de potássio (KCl)",2,"kg K₂O/t cana",null,null,null,null,null,null,"Cloreto de potássio (KCl)",null,"kg K₂O/t cana"]
[null,"Outros","especificar",null,"kg N/t cana",null,null,null,null,null,"Outros","especificar",null,"kg N/t cana",null,null,null,null,null,"Outros","especificar",0,"kg N/t cana",null,null,null,null,null,null,null,"Outros ","especificar",0,"kg N/t cana",null,null,null,null,null,"Outros ","especificar",null,"kg N/t cana"]
[null,"Outros","especificar",null,"kg P₂O₅/t cana",null,null,null,null,null,"Outros","especificar",null,"kg P₂O₅/t cana",null,null,null,null,null,"Outros","especificar",0,"kg P₂O₅/t cana",null,null,null,null,null,null,null,"Outros ","especificar",0,"kg P₂O₅/t cana",null,null,null,null,null,"Outros ","especificar",null,"kg P₂O₅/t cana"]
[null,"Outros","especificar",null,"kg K₂O/t cana",null,null,null,null,null,"Outros","especificar",null,"kg K₂O/t cana",null,null,null,null,null,"Outros","especificar",0,"kg K₂O/t cana",null,null,null,null,null,null,null,"Outros ","especificar",0,"kg K₂O/t cana",null,null,null,null,null,"Outros ","especificar",null,"kg K₂O/t cana"]
[]
[null,"Fertilizantes Orgânicos/Organominerais",null,null,null,null,null,null,null,null,"Fertilizantes Orgânicos/Organominerais",null,null,null,null,null,null,null,null,"Fertilizantes Orgânicos/Organominerais",null,null,null,null,null,null,null,null,null,null,"Fertilizantes Orgânicos/Organominerais",null,null,null,null,null,null,null,null,"Fertilizantes Orgânicos/Organominerais"]
[null,null,"Vinhaça",null,"L/t cana","Concentração de N",null,"g N/L",null,null,null,"Vinhaça",null,"L/t cana","Concentração de N",null,"g N/L",null,null,null,"Vinhaça",{"$f":"D62","v":0},"L/t cana","Concentração de N",{"$f":"G62","v":0},"g N/L",null,null,null,null,null,"Vinhaça",1000,"L/t cana","Concentração de N",0.375,"g N/L",null,null,null,"Vinhaça",null,"L/t cana","Concentração de N",null,"g N/L"]
[null,null,"Torta de Filtro (base úmida)",null,"kg/t cana","Concentração de N",null,"g N/kg",null,null,null,"Torta de Filtro (base úmida)",null,"kg/t cana","Concentração de N",null,"g N/kg",null,null,null,"Torta de Filtro (base úmida)",{"$f":"D63","v":0},"kg/t cana","Concentração de N",{"$f":"G63","v":0},"g N/kg",null,null,null,null,null,"Torta de Filtro (base úmida)",42.800000000000011,"kg/t cana","Concentração de N",2.8,"g N/kg",null,null,null,"Torta de Filtro (base úmida)",null,"kg/t cana","Concentração de N",null,"g N/kg"]
[null,null,"Cinzas e fuligem (base úmida)",null,"kg/t cana","Concentração de N",null,"g N/kg",null,null,null,"Cinzas e fuligem (base úmida)",null,"kg/t cana","Concentração de N",null,"g N/kg",null,null,null,"Cinzas e fuligem (base úmida)",{"$f":"D64","v":0},"kg/t cana","Concentração de N",{"$f":"G64","v":0},"g N/kg",null,null,null,null,null,"Cinzas e fuligem (base úmida)",10.08,"kg/t cana","Concentração de N",null,"g N/kg",null,null,null,"Cinzas e fuligem (base úmida)",null,"kg/t cana","Concentração de N",null,"g N/kg"]
[null,"Outros","especificar",null,"kg/t cana","Concentração de N",null,"g N/kg",null,null,"Outros","especificar",null,"kg/t cana","Concentração de N",null,"g N/kg",null,null,"Outros","especificar",{"$f":"D65","v":0},"kg/t cana","Concentração de N",{"$f":"G65","v":0},"g N/kg",null,null,null,null,"Outros","especificar",0,"kg/t cana","Concentração de N",null,"g N/kg",null,null,"Outros","especificar",null,"kg/t cana","Concentração de N",null,"g N/kg"]
[null,"Outros","especificar",null,"kg/t cana","Concentração de N",null,"g N/kg",null,null,"Outros","especificar",null,"kg/t cana","Concentração de N",null,"g N/kg",null,null,"Outros","especificar",{"$f":"D66","v":0},"kg/t cana","Concentração de N",{"$f":"G66","v":0},"g N/kg",null,null,null,null,"Outros","especificar",0,"kg/t cana","Concentração de N",null,"g N/kg",null,null,"Outros","especificar",null,"kg/t cana","Concentração de N",null,"g N/kg"]
[]
[null,"Combustíveis e eletricidade",null,null,null,null,null,null,null,null,"Combustíveis e eletricidade",null,null,null,null,null,null,null,null,"Combustíveis e eletricidade",null,null,null,null,null,null,null,null,null,null,"Combustíveis e eletricidade",null,null,null,null,null,null,null,null,"Combustíveis e eletricidade"]
[null,null,"Diesel - B8",null,"L/t cana",null,null,null,null,null,null,"Diesel - B8",null,"L/t cana",null,null,null,null,null,null,"Diesel - B8",{"$f":"D69","v":0},"L/t cana",null,null,null,null,null,null,null,null,"Diesel - B8",0,"L/t cana",null,null,null,null,null,null,"Diesel - B8",null,"L/t cana"]
[null,null,"Diesel - B10",null,"L/t cana",null,null,null,null,null,null,"Diesel - B10",null,"L/t cana",null,null,null,null,null,null,"Diesel - B10",0,"L/t cana",null,null,null,null,null,null,null,null,"Diesel - B10",6,"L/t cana",null,null,null,null,null,null,"Diesel - B10",null,"L/t cana"]
[null,null,"Diesel - BX",null,"L/t cana","Teor de biodiesel na mistura",null,null,null,null,null,"Diesel - BX",null,"L/t cana","Teor de biodiesel na mistura",0.11,null,null,null,null,"Diesel - BX",0,"L/t cana","Teor médio de biodiesel na mistura",{"$f":"G71","v":0},"%",null,null,null,null,null,"Diesel - BX",0,"L/t cana","Teor médio de biodiesel na mistura",0.11,"%",null,null,null,"Diesel - BX",null,"L/t cana","Teor médio de biodiesel na mistura",0.11,"%"]
[null,null,"Diesel - B20",null,"L/t cana",null,null,null,null,null,null,"Diesel - B20",null,"L/t cana",null,null,null,null,null,null,"Diesel - B20",0,"L/t cana",null,null,null,null,null,null,null,null,"Diesel - B20",0,"L/t cana",null,null,null,null,null,null,"Diesel - B20",null,"L/t cana"]
[null,null,"Diesel - B30",null,"L/t cana",null,null,null,null,null,null,"Diesel - B30",null,"L/t cana",null,null,null,null,null,null,"Diesel - B30",0,"L/t cana",null,null,null,null,null,null,null,null,"Diesel - B30",0,"L/t cana",null,null,null,null,null,null,"Diesel - B30",null,"L/t cana"]
[null,null,"Biodiesel - B100",null,"L/t cana",null,null,null,null,null,null,"Biodiesel - B100",null,"L/t cana",null,null,null,null,null,null,"Biodiesel - B100",0,"L/t cana",null,null,null,null,null,null,null,null,"Biodiesel - B100",0,"L/t cana",null,null,null,null,null,null,"Biodiesel - B100",null,"L/t cana"]
[null,null,"Gasolina C",null,"L/t cana",null,null,null,null,null,null,"Gasolina C",null,"L/t cana",null,null,null,null,null,null,"Gasolina C",0,"L/t cana",null,null,null,null,null,null,null,null,"Gasolina C",0,"L/t cana",null,null,null,null,null,null,"Gasolina C",null,"L/t cana"]
[null,null,"Etanol hidratado",null,"L/t cana",null,null,null,null,null,null,"Etanol hidratado",null,"L/t cana",null,null,null,null,null,null,"Etanol hidratado",0,"L/t cana",null,null,null,null,null,null,null,null,"Etanol hidratado",0,"L/t cana",null,null,null,null,null,null,"Etanol hidratado",null,"L/t cana"]
[null,null,"Biometano de terceiros",null,"Nm³/t cana",null,null,null,null,null,null,"Biometano de terceiros",null,"Nm³/t cana",null,null,null,null,null,null,"Biometano de terceiros",0,"Nm³/t cana",null,null,null,null,null,null,null,null,"Biometano de terceiros",0,"Nm³/t cana",null,null,null,null,null,null,"Biometano de terceiros",null,"Nm³/t cana"]
[null,null,"Biometano próprio",null,"Nm³/t cana",null,null,null,null,null,null,"Biometano próprio",null,"Nm³/t cana",null,null,null,null,null,null,"Biometano próprio",0,"Nm³/t cana",null,null,null,null,null,null,null,null,"Biometano próprio",0,"Nm³/t cana",null,null,null,null,null,null,"Biometano próprio",null,"Nm³/t cana"]
[null,null,"Eletricidade da rede - mix médio",null,"kWh/t cana",null,null,null,null,null,null,"Eletricidade da rede - mix médio",null,"kWh/t cana",null,null,null,null,null,null,"Eletricidade da rede - mix médio",0,"kWh/t cana",null,null,null,null,null,null,null,null,"Eletricidade da rede - mix médio",0,"kWh/t cana",null,null,null,null,null,null,"Eletricidade da rede - mix médio",null,"kWh/t cana"]
[null,null,"Eletricidade - PCH",null,"kWh/t cana",null,null,null,null,null,null,"Eletricidade - PCH",null,"kWh/t cana",null,null,null,null,null,null,"Eletricidade - PCH",0,"kWh/t cana",null,null,null,null,null,null,null,null,"Eletricidade - PCH",0,"kWh/t cana",null,null,null,null,null,null,"Eletricidade - PCH",null,"kWh/t cana"]
[null,null,"Eletricidade - biomassa",null,"kWh/t cana",null,null,null,null,null,null,"Eletricidade - biomassa",null,"kWh/t cana",null,null,null,null,null,null,"Eletricidade - biomassa",0,"kWh/t cana",null,null,null,null,null,null,null,null,"Eletricidade - biomassa",0,"kWh/t cana",null,null,null,null,null,null,"Eletricidade - biomassa",null,"kWh/t cana"]
[null,null,"Eletricidade - eólica",null,"kWh/t cana",null,null,null,null,null,null,"Eletricidade - eólica",null,"kWh/t cana",null,null,null,null,null,null,"Eletricidade - eólica",0,"kWh/t cana",null,null,null,null,null,null,null,null,"Eletricidade - eólica",0,"kWh/t cana",null,null,null,null,null,null,"Eletricidade - eólica",null,"kWh/t cana"]
[null,null,"Eletricidade - solar",null,"kWh/t cana",null,null,null,null,null,null,"Eletricidade - solar",null,"kWh/t cana",null,null,null,null,null,null,"Eletricidade - solar",0,"kWh/t cana",null,null,null,null,null,null,null,null,"Eletricidade - solar",0,"kWh/t cana",null,null,null,null,null,null,"Eletricidade - solar",null,"kWh/t cana"]
[]
[]
[null,"Fase industrial - processamento do etanol"]
[null,"Processamento e rendimentos"]
[null,null,"Quantidade de cana processada",null,"t cana"]
[null,null,"Quantidade de palha processada (base seca)",null,"t palha"]
[null,null,"Rendimento Etanol Anidro",null,"L/t cana"]
[null,null,"Rendimento Etanol Hidratado",null,"L/t cana"]
[null,null,"Rendimento Açúcar",null,"kg/t cana"]
[null,null,"Rendimento Energia Elétrica Comercializada",null,"kWh/t cana"]
[null,null,"Rendimento Bagaço Comercializado (base úmida)",null,"kg/t cana","Umidade"]
[]
[null,"Combustíveis e eletricidade"]
[null,null,"Bagaço próprio"]
[null,null,"Quantidade (base úmida)",null,"kg/t cana"]
[null,null,"Umidade"]
[]
[null,null,"Palha própria"]
[null,null,"Quantidade (base úmida)",null,"kg/t cana"]
[null,null,"Umidade"]
[]
[null,null,"Bagaço de terceiros"]
[null,null,"Quantidade (base úmida)",null,"kg/t cana"]
[null,null,"Umidade"]
[null,null,"Distância de transporte",null," km"]
[]
[null,null,"Palha de terceiros"]
[null,null,"Quantidade (base úmida)",null,"kg/t cana"]
[null,null,"Umidade"]
[null,null,"Distância de transporte",null," km"]
[]
[null,null,"Cavaco de madeira"]
[null,null,"Quantidade (base úmida)",null,"kg/t cana"]
[null,null,"Umidade"]
[null,null,"Distância de transporte",null," km"]
[]
[null,null,"Lenha"]
[null,null,"Quantidade (base úmida)",null,"kg/t cana"]
[null,null,"Umidade"]
[null,null,"Distância de transporte",null," km"]
[]
[null,null,"Resíduos florestais"]
[null,null,"Quantidade (base úmida)",null,"kg/t cana"]
[null,null,"Umidade"]
[null,null,"Distância de transporte",null," km"]
[]
[]
[null,null,"Óleo combustível",null,"L/t cana"]
[null,null,"Etanol hidratado próprio",null,"L/t cana"]
[null,null,"Etanol anidro próprio",null,"L/t cana"]
[null,null,"Biogás próprio",null,"Nm³/t cana","PCI do biogás",null,"MJ/Nm³"]
[null,null,"Biogás de terceiros",null,"Nm³/t cana","PCI do biogás",null,"MJ/Nm³",null,null,null,null,null,null,null,null,null,null,null,null,null,null,null,null,null,null,{"$f":"IF(AND(G135<=50,G135>=30,G135=ROUND(G135,2)),G135,\"\")","v":""}]
[null,null,"Eletricidade da rede - mix médio",null,"kWh/t cana"]
[null,null,"Eletricidade - PCH",null,"kWh/t cana"]
[null,null,"Eletricidade - biomassa",null,"kWh/t cana"]
[null,null,"Eletricidade - eólica",null,"kWh/t cana"]
[null,null,"Eletricidade - solar",null,"kWh/t cana"]
[]
[]
[null,"Fase de distribuição"]
[]
[null,null,"Etanol anidro"]
[null,null,"Rodoviário",1]
[null,null,"Dutoviário",0,{"$f":"IF((SUM(D146:D148)=1),\"\",\"A soma das porcentagens de distribuição deve ser igual a 100%!\")","v":""}]
[null,null,"Ferroviário",0]
[]
[]
[null,null,"Etanol hidratado"]
[null,null,"Rodoviário",1]
[null,null,"Dutoviário",0,{"$f":"IF((SUM(D152:D154)=1),\"\",\"A soma das porcentagens de distribuição deve ser igual a 100%!\")","v":""}]
[null,null,"Ferroviário",0]

{"sheet":"_E1GC","index":4,"n_rows":171,"n_cols":9,"rows_kept":171,"cut":false,"hidden":true,"merged":[[143,1,143,5],[3,4,3,5],[2,4,2,5],[3,2,3,3],[2,2,2,3],[10,7,14,7],[10,8,14,8],[88,7,94,7],[88,8,94,8],[1,1,1,5],[10,1,10,5],[88,1,88,5]]}
[]
[null,"Emissões totais - g CO₂ eq"]
[null,null,"Anidro",null,"Hidratado"]
[null,"Total",{"$f":"C5+C6+C7+C8","v":{"$error":"#DIV/0!"}},null,{"$f":"E5+E6+E7+E8","v":{"$error":"#DIV/0!"}}]
[null,"Agrícola",{"$f":"$H$86","v":{"$error":"#DIV/0!"}},{"$f":"C5/$C$4","v":{"$error":"#DIV/0!"}},{"$f":"$I$86","v":{"$error":"#DIV/0!"}},{"$f":"E5/$E$4","v":{"$error":"#DIV/0!"}}]
[null,"Industrial",{"$f":"($H$141-$H$97)","v":{"$error":"#DIV/0!"}},{"$f":"C6/$C$4","v":{"$error":"#DIV/0!"}},{"$f":"($I$141-$I$97)","v":{"$error":"#DIV/0!"}},{"$f":"E6/$E$4","v":{"$error":"#DIV/0!"}}]
[null,"Transporte",{"$f":"$D$171","v":{"$error":"#DIV/0!"}},{"$f":"C7/$C$4","v":{"$error":"#DIV/0!"}},{"$f":"$E$171","v":{"$error":"#DIV/0!"}},{"$f":"E7/$E$4","v":{"$error":"#DIV/0!"}}]
[null,"Uso",{"$f":"'FE''s queima combustíveis'!$I$7","v":0.43899999999999995},{"$f":"C8/$C$4","v":{"$error":"#DIV/0!"}},{"$f":"'FE''s queima combustíveis'!$I$8","v":0.66300000000000003},{"$f":"E8/$E$4","v":{"$error":"#DIV/0!"}}]
[]
[]
[null,"Etapa agrícola - Cana-de-açúcar",null,null,null,null,null,"Emissões por MJ de etanol anidro","Emissões por MJ de etanol hidratado"]
[null,"Produto",null,"1 ha médio","1 t cana"]
[null,"Produção de cana","kg",{"$f":"(E1GC!V29/E1GC!V27)*1000","v":{"$error":"#DIV/0!"}},1000]
[null,"Entradas da natureza",null,"1 ha médio","1 t cana"]
[null,"Ocupação total","ha",1,{"$f":"(D15*E13)/D13","v":{"$error":"#DIV/0!"}}]
[null,"Entradas da tecnosfera",null,"1 ha médio","1 t cana","g CO2 eq/t cana",null,"g CO2 eq/MJ","g CO2 eq/MJ"]
[null,"Fertilizantes e corretivos"]
[null,"Calcário calcítico","kg",null,{"$f":"E1GC!V39","v":0},{"$f":"E18*'Dados auxiliares'!$H$52","v":0},null,{"$f":"(F18/$E$91)*$F$91","v":{"$error":"#DIV/0!"}},{"$f":"(F18/$E$92)*$F$92","v":{"$error":"#DIV/0!"}}]
[null,"Calcário dolomítico","kg",null,{"$f":"E1GC!V40","v":0},{"$f":"E19*'Dados auxiliares'!$H$53","v":0},null,{"$f":"(F19/$E$91)*$F$91","v":{"$error":"#DIV/0!"}},{"$f":"(F19/$E$92)*$F$92","v":{"$error":"#DIV/0!"}}]
[null,"Gesso","kg",null,{"$f":"E1GC!V41","v":0},{"$f":"E20*'Dados auxiliares'!$H$54","v":0},null,{"$error":"#DIV/0!"},{"$error":"#DIV/0!"}]
[null,"N - Ureia","kg N",null,{"$f":"E1GC!V44","v":0},{"$f":"E21*'Dados auxiliares'!$H$55","v":0},null,{"$error":"#DIV/0!"},{"$error":"#DIV/0!"}]
[null,"N - Fosfato monoamônico (MAP)","kg N",null,{"$f":"E1GC!V45","v":0},{"$f":"E22*'Dados auxiliares'!$H$56","v":0},null,{"$error":"#DIV/0!"},{"$error":"#DIV/0!"}]
[null,"P₂O₅ - Fosfato monoamônico (MAP)","kg P₂O₅",null,{"$f":"E1GC!V46","v":0},{"$f":"E23*'Dados auxiliares'!$H$57","v":0},null,{"$error":"#DIV/0!"},{"$error":"#DIV/0!"}]
[null,"N - Fosfato diamônico (DAP)","kg N",null,{"$f":"E1GC!V47","v":0},{"$f":"E24*'Dados auxiliares'!$H$58","v":0},null,{"$error":"#DIV/0!"},{"$error":"#DIV/0!"}]
[null,"P₂O₅ - Fosfato diamônico (DAP)","kg P₂O₅",null,{"$f":"E1GC!V48","v":0},{"$f":"E25*'Dados auxiliares'!$H$59","v":0},null,{"$error":"#DIV/0!"},{"$error":"#DIV/0!"}]
[null,"N - Nitrato de amônio","kg N",null,{"$f":"E1GC!V49","v":0},{"$f":"E26*'Dados auxiliares'!$H$60","v":0},null,{"$error":"#DIV/0!"},{"$error":"#DIV/0!"}]
[null,"N - Solução de nitrato de amônio e ureia (UAN)","kg N",null,{"$f":"E1GC!V50","v":0},{"$f":"E27*'Dados auxiliares'!$H$61","v":0},null,{"$error":"#DIV/0!"},{"$error":"#DIV/0!"}]
[null,"N - Amônia anidra","kg N",null,{"$f":"E1GC!V51","v":0},{"$f":"E28*'Dados auxiliares'!$H$62","v":0},null,{"$error":"#DIV/0!"},{"$error":"#DIV/0!"}]
[null,"N - Sulfato de amônio","kg N",null,{"$f":"E1GC!V52","v":0},{"$f":"E29*'Dados auxiliares'!$H$63","v":0},null,{"$error":"#DIV/0!"},{"$error":"#DIV/0!"}]
[null,"N - Nitrato de amônio e cálcio (CAN)","kg N",null,{"$f":"E1GC!V53","v":0},{"$f":"E30*'Dados auxiliares'!$H$64","v":0},null,{"$error":"#DIV/0!"},{"$error":"#DIV/0!"}]
[null,"P₂O₅ - Superfosfato simples (SSP)","kg P₂O₅",null,{"$f":"E1GC!V54","v":0},{"$f":"E31*'Dados auxiliares'!$H$66","v":0},null,{"$error":"#DIV/0!"},{"$error":"#DIV/0!"}]
[null,"P₂O₅ - Superfosfato triplo (TSP)","kg P₂O₅",null,{"$f":"E1GC!V55","v":0},{"$f":"E32*'Dados auxiliares'!$H$67","v":0},null,{"$error":"#DIV/0!"},{"$error":"#DIV/0!"}]
[null,"K₂O - Cloreto de potássio (KCl)","kg K₂O",null,{"$f":"E1GC!V56","v":0},{"$f":"E33*'Dados auxiliares'!H$68","v":0},null,{"$error":"#DIV/0!"},{"$error":"#DIV/0!"}]
[null,"N - Outros","kg N",null,{"$f":"E1GC!V57","v":0},{"$f":"E34*'Dados auxiliares'!H$69","v":0},null,{"$error":"#DIV/0!"},{"$error":"#DIV/0!"}]
[null,"P₂O₅ - Outros","kg P₂O₅",null,{"$f":"E1GC!V58","v":0},{"$f":"E35*'Dados auxiliares'!H$70","v":0},null,{"$error":"#DIV/0!"},{"$error":"#DIV/0!"}]
[null,"K₂O - Outros","kg K₂O",null,{"$f":"E1GC!V59","v":0},{"$f":"E36*'Dados auxiliares'!H$71","v":0},null,{"$error":"#DIV/0!"},{"$error":"#DIV/0!"}]
[null,"Vinhaça","L",null,{"$f":"E1GC!V62","v":0},0,null,{"$error":"#DIV/0!"},{"$error":"#DIV/0!"}]
[null,"Torta de filtro","kg",null,{"$f":"E1GC!V63","v":0},0,null,{"$error":"#DIV/0!"},{"$error":"#DIV/0!"}]
[null,"Cinzas e fuligem","kg",null,{"$f":"E1GC!V64","v":0},0,null,{"$error":"#DIV/0!"},{"$error":"#DIV/0!"}]
[null,"Outros Fertilizantes Orgânicos/Organominerais","kg",null,{"$f":"E1GC!V65+E1GC!V66","v":0},0,null,{"$error":"#DIV/0!"},{"$error":"#DIV/0!"}]
[null,"Agrotóxico"]
[null,"Herbicidas e Inseticidas - Total","kg",{"$f":"SUM(D43:D56)","v":1.0831569385065971},{"$f":"SUM(E43:E56)","v":{"$error":"#DIV/0!"}},{"$f":"SUM(F43:F56)","v":{"$error":"#DIV/0!"}},null,{"$f":"(F42/$E$91)*$F$91","v":{"$error":"#DIV/0!"}},{"$error":"#DIV/0!"}]
[null,"Herbicida, Roundup Ready, como glifosato","kg",0.17411826749021314,{"$f":"D43*$E$15","v":{"$error":"#DIV/0!"}},{"$f":"E43*'Dados auxiliares'!$H$72","v":{"$error":"#DIV/0!"}},null,{"$error":"#DIV/0!"},{"$error":"#DIV/0!"}]
[null,"Herbicida, Boral 500 SC, como sulfentrazone","kg",0.51076802087864281,{"$f":"D44*$E$15","v":{"$error":"#DIV/0!"}},{"$f":"E44*'Dados auxiliares'!$H$74","v":{"$error":"#DIV/0!"}},null,{"$error":"#DIV/0!"},{"$error":"#DIV/0!"}]
[null,"Herbicida, Hexaron, como hexazinona","kg",7.3793224880382789E-3,{"$f":"D45*$E$15","v":{"$error":"#DIV/0!"}},{"$f":"E45*'Dados auxiliares'!$H$74","v":{"$error":"#DIV/0!"}},null,{"$error":"#DIV/0!"},{"$error":"#DIV/0!"}]
[null,"Herbicida, Combine 500 SC, como tebuthiuron","kg",0.17491467014644049,{"$error":"#DIV/0!"},{"$f":"E46*'Dados auxiliares'!$H$74","v":{"$error":"#DIV/0!"}},null,{"$error":"#DIV/0!"},{"$error":"#DIV/0!"}]
[null,"Herbicida, Goal, como oxifluorfen","kg",4.4723166594171377E-3,{"$error":"#DIV/0!"},{"$f":"E47*'Dados auxiliares'!$H$74","v":{"$error":"#DIV/0!"}},null,{"$error":"#DIV/0!"},{"$error":"#DIV/0!"}]
[null,"Herbicida, Diuron, como diuron","kg",9.3173263737857046E-3,{"$error":"#DIV/0!"},{"$f":"E48*'Dados auxiliares'!$H$74","v":{"$error":"#DIV/0!"}},null,{"$error":"#DIV/0!"},{"$error":"#DIV/0!"}]
[null,"Herbicida, Herburon, como diuron","kg",4.6586631868928516E-2,{"$f":"D49*$E$15","v":{"$error":"#DIV/0!"}},{"$f":"E49*'Dados auxiliares'!$H$74","v":{"$error":"#DIV/0!"}},null,{"$error":"#DIV/0!"},{"$error":"#DIV/0!"}]
[null,"Herbicida, Hexaron, como diuron","kg",2.616305245759026E-2,{"$f":"D50*$E$15","v":{"$error":"#DIV/0!"}},{"$f":"E50*'Dados auxiliares'!$H$74","v":{"$error":"#DIV/0!"}},null,{"$error":"#DIV/0!"},{"$error":"#DIV/0!"}]
[null,"Herbicida, Herbipak, como ametrina","kg",4.6586631868928516E-2,{"$error":"#DIV/0!"},{"$f":"E51*'Dados auxiliares'!$H$74","v":{"$error":"#DIV/0!"}},null,{"$error":"#DIV/0!"},{"$error":"#DIV/0!"}]
[null,"Herbicida, Nortox, como 2,4 D","kg",3.7548825286356391E-2,{"$error":"#DIV/0!"},{"$f":"E52*'Dados auxiliares'!$H$73","v":{"$error":"#DIV/0!"}},null,{"$error":"#DIV/0!"},{"$error":"#DIV/0!"}]
[null,"Inseticida, Actara, como thiamethoxan","kg",9.3173263737857046E-3,{"$error":"#DIV/0!"},{"$f":"E53*'Dados auxiliares'!$H$74","v":{"$error":"#DIV/0!"}},null,{"$error":"#DIV/0!"},{"$error":"#DIV/0!"}]
[null,"Inseticida, Mirex, como sulfluramida","kg",6.987994780339279E-5,{"$error":"#DIV/0!"},{"$f":"E54*'Dados auxiliares'!$H$74","v":{"$error":"#DIV/0!"}},null,{"$error":"#DIV/0!"},{"$error":"#DIV/0!"}]
[null,"Inseticida, Regent 800 WG, como fipronil","kg",3.4051201391909529E-2,{"$f":"D55*$E$15","v":{"$error":"#DIV/0!"}},{"$f":"E55*'Dados auxiliares'!$H$74","v":{"$error":"#DIV/0!"}},null,{"$error":"#DIV/0!"},{"$error":"#DIV/0!"}]
[null,"Inseticida, Regent 800 WG, como fipronil","kg",1.8634652747571412E-3,{"$f":"D56*$E$15","v":{"$error":"#DIV/0!"}},{"$f":"E56*'Dados auxiliares'!$H$74","v":{"$error":"#DIV/0!"}},null,{"$error":"#DIV/0!"},{"$error":"#DIV/0!"}]
[null,"Combustíveis e eletricidade"]
[null,"Diesel B0","kg",null,{"$f":"(E1GC!$V$69*(1-0.08)+E1GC!$V$70*(1-0.1)+E1GC!$V$71*(1-E1GC!$Y$71)+E1GC!V72*(1-0.2)+E1GC!$V$73*(1-0.3)+E1GC!$V$74*(1-1))*('Dados auxiliares'!$D$26)","v":0},{"$f":"E58*'Dados auxiliares'!$H$116","v":0},null,{"$f":"(F58/$E$91)*$F$91","v":{"$error":"#DIV/0!"}},{"$error":"#DIV/0!"}]
[null,"Biodiesel B100","kg",null,{"$f":"(E1GC!$V$69*(0.08)+E1GC!$V$70*(0.1)+E1GC!$V$71*(E1GC!$Y$71)+E1GC!V73*(0.2)+E1GC!$V$73*(0.3)+E1GC!$V$74*(1))*('Dados auxiliares'!$D$17)","v":0},{"$f":"E59*'Dados auxiliares'!$H$117","v":0},null,{"$error":"#DIV/0!"},{"$error":"#DIV/0!"}]
[null,"Gasolina A","kg",null,{"$f":"E1GC!V75*(1-'FE''s queima combustíveis'!$D$19)*'Dados auxiliares'!$D$24","v":0},{"$f":"E60*'Dados auxiliares'!$H$120","v":0},null,{"$error":"#DIV/0!"},{"$error":"#DIV/0!"}]
[null,"Etanol anidro","kg",null,{"$f":"E1GC!V75*('FE''s queima combustíveis'!$D$19)*'Dados auxiliares'!$D$15","v":0},{"$f":"E61*'Dados auxiliares'!$H$121","v":0},null,{"$error":"#DIV/0!"},{"$error":"#DIV/0!"}]
[null,"Etanol hidratado","kg",null,{"$f":"E1GC!V76*'Dados auxiliares'!$D$16","v":0},{"$f":"E62*'Dados auxiliares'!$H$122","v":0},null,{"$error":"#DIV/0!"},{"$error":"#DIV/0!"}]
[null,"Biometano de terceiros","Nm³",null,{"$f":"E1GC!V77","v":0},{"$f":"E63*('Dados auxiliares'!$D$18*1000)*'Dados auxiliares'!$F$18*'Dados auxiliares'!$H$125","v":0},null,{"$error":"#DIV/0!"},{"$error":"#DIV/0!"}]
[null,"Eletricidade da rede - mix médio","kWh",null,{"$f":"E1GC!V79","v":0},{"$f":"E64*'Dados auxiliares'!$H$107","v":0},null,{"$error":"#DIV/0!"},{"$error":"#DIV/0!"}]
[null,"Eletricidade - PCH","kWh",null,{"$f":"E1GC!V80","v":0},{"$f":"E65*'Dados auxiliares'!$H$108","v":0},null,{"$error":"#DIV/0!"},{"$error":"#DIV/0!"}]
[null,"Eletricidade - biomassa","kWh",null,{"$f":"E1GC!V81","v":0},{"$f":"E66*'Dados auxiliares'!$H$109","v":0},null,{"$error":"#DIV/0!"},{"$error":"#DIV/0!"}]
[null,"Eletricidade - eólica","kWh",null,{"$f":"E1GC!V82","v":0},{"$f":"E67*'Dados auxiliares'!$H$110","v":0},null,{"$error":"#DIV/0!"},{"$error":"#DIV/0!"}]
[null,"Eletricidade - solar","kWh",null,{"$f":"E1GC!V83","v":0},{"$f":"E68*'Dados auxiliares'!$H$111","v":0},null,{"$error":"#DIV/0!"},{"$error":"#DIV/0!"}]
[null,"Emissões",null,"1 ha médio","1 t cana","g CO2 eq/t cana",null,"g CO2 eq/MJ","g CO2 eq/MJ"]
[null,"N2O - Fertilizantes sintéticos","kg",{"$f":"'_Emissões Agrícolas'!$C$54","v":{"$error":"#DIV/0!"}},{"$f":"D70*$E$15","v":{"$error":"#DIV/0!"}},{"$f":"E70*1000*'Dados auxiliares'!$D$9","v":{"$error":"#DIV/0!"}},null,{"$f":"(F70/$E$91)*$F$91","v":{"$error":"#DIV/0!"}},{"$error":"#DIV/0!"}]
[null,"N2O - Fertilizantes organominerais","kg",{"$f":"'_Emissões Agrícolas'!$C$58","v":{"$error":"#DIV/0!"}},{"$f":"D71*$E$15","v":{"$error":"#DIV/0!"}},{"$f":"E71*1000*'Dados auxiliares'!$D$9","v":{"$error":"#DIV/0!"}},null,{"$f":"(F71/$E$91)*$F$91","v":{"$error":"#DIV/0!"}},{"$error":"#DIV/0!"}]
[null,"N2O - Resíduos culturais","kg",{"$f":"'_Emissões Agrícolas'!$C$62","v":{"$error":"#DIV/0!"}},{"$f":"D72*$E$15","v":{"$error":"#DIV/0!"}},{"$f":"E72*1000*'Dados auxiliares'!$D$9","v":{"$error":"#DIV/0!"}},null,{"$error":"#DIV/0!"},{"$error":"#DIV/0!"}]
[null,"CO2 - Calcário ","kg",null,{"$f":"$E$18*'_Emissões Agrícolas'!$E$79+$E$19*'_Emissões Agrícolas'!$E$80","v":0},{"$f":"E73*1000","v":0},null,{"$f":"(F73/$E$91)*$F$91","v":{"$error":"#DIV/0!"}},{"$error":"#DIV/0!"}]
[null,"CO2 - Uréia","kg",null,{"$f":"$E$21*'_Emissões Agrícolas'!$E$81","v":0},{"$f":"E74*1000","v":0},null,{"$error":"#DIV/0!"},{"$error":"#DIV/0!"}]
[null,"N2O - queima palha","kg",{"$f":"'_Emissões Agrícolas'!C73","v":{"$error":"#DIV/0!"}},{"$f":"D75*$E$15","v":{"$error":"#DIV/0!"}},{"$f":"E75*1000*'Dados auxiliares'!$D$9","v":{"$error":"#DIV/0!"}},null,{"$error":"#DIV/0!"},{"$error":"#DIV/0!"}]
[null,"CH4 bio - queima palha","kg",{"$f":"'_Emissões Agrícolas'!C74","v":{"$error":"#DIV/0!"}},{"$f":"D76*$E$15","v":{"$error":"#DIV/0!"}},{"$f":"E76*1000*'Dados auxiliares'!$D$8","v":{"$error":"#DIV/0!"}},null,{"$error":"#DIV/0!"},{"$error":"#DIV/0!"}]
[null,"CO₂ eq - queima do diesel","kg",null,{"$f":"$E$58*'FE''s queima combustíveis'!$I$64/1000","v":0},{"$f":"E77*1000","v":0},null,{"$error":"#DIV/0!"},{"$error":"#DIV/0!"}]
[null,"CO₂ eq - queima do biodiesel","kg",null,{"$f":"$E$59*'FE''s queima combustíveis'!$I$65/1000","v":0},{"$f":"E78*1000","v":0},null,{"$error":"#DIV/0!"},{"$error":"#DIV/0!"}]
[null,"CO₂ eq - queima da gasolina A","kg",null,{"$f":"$E$60*'FE''s queima combustíveis'!$I$9/1000","v":0},0,null,{"$error":"#DIV/0!"},{"$error":"#DIV/0!"}]
[null,"CO₂ eq - queima do etanol anidro","kg",null,{"$f":"$E$61*'FE''s queima combustíveis'!$I$7/1000","v":0},0,null,{"$error":"#DIV/0!"},{"$error":"#DIV/0!"}]
[null,"CO₂ eq - queima do etanol hidratado","kg",null,{"$f":"$E$62*'FE''s queima combustíveis'!$I$8/1000","v":0},0,null,{"$error":"#DIV/0!"},{"$error":"#DIV/0!"}]
[null,"CO₂ eq - queima do biometano","kg",null,{"$f":"($E$63+E1GC!V78)*'FE''s queima combustíveis'!$I$66/1000","v":0},0,null,{"$error":"#DIV/0!"},{"$error":"#DIV/0!"}]
[]
[null,"Emissões do processo","g CO2 eq/t cana",null,null,{"$f":"SUM(F70:F82)","v":{"$error":"#DIV/0!"}},null,{"$f":"(F84/$E$91)*$F$91","v":{"$error":"#DIV/0!"}},{"$error":"#DIV/0!"}]
[null,"Emissões background","g CO2 eq/t cana",null,null,{"$f":"SUM(F18:F42,F57:F68)","v":{"$error":"#DIV/0!"}},null,{"$f":"(F85/$E$91)*$F$91","v":{"$error":"#DIV/0!"}},{"$f":"(F85/$E$92)*$F$92","v":{"$error":"#DIV/0!"}}]
[null,"Emissões totais","g CO2 eq/t cana",null,null,{"$f":"F84+F85","v":{"$error":"#DIV/0!"}},null,{"$f":"(F86/$E$91)*$F$91","v":{"$error":"#DIV/0!"}},{"$error":"#DIV/0!"}]
[]
[]
[null,"Etapa industrial - Etanol",null,null,null,null,null,"Emissões por MJ de etanol anidro","Emissões por MJ de etanol hidratado"]
[null,"Produtos","Unidade","1 TC","MJ","Alocação"]
[null,"Etanol anidro","kg",{"$f":"E1GC!D90*'Dados auxiliares'!$D$15","v":0},{"$f":"D91*'Dados auxiliares'!$F$15","v":0},{"$f":"E91/SUM($E$91:$E$95)","v":{"$error":"#DIV/0!"}}]
[null,"Etanol hidratado","kg",{"$f":"E1GC!D91*'Dados auxiliares'!$D$16","v":0},{"$f":"D92*'Dados auxiliares'!$F$16","v":0},{"$f":"E92/SUM($E$91:$E$95)","v":{"$error":"#DIV/0!"}}]
[null,"Açúcar","kg",{"$f":"E1GC!D92","v":0},{"$f":"D93*'Dados auxiliares'!D36","v":0},{"$f":"E93/SUM($E$91:$E$95)","v":{"$error":"#DIV/0!"}}]
[null,"Energia elétrica comercializada","kWh",{"$f":"E1GC!D93","v":0},{"$f":"CONVERT(D94,\"kWh\",\"MJ\")","v":0},{"$f":"E94/SUM($E$91:$E$95)","v":{"$error":"#DIV/0!"}}]
[null,"Bagaço comercializado","kg base úmida",{"$f":"E1GC!D94","v":0},"-","-"]
[null,"Entradas ","Unidade","1 TC",null,"g CO2 eq/t cana",null,"g CO2 eq/MJ","g CO2 eq/MJ"]
[null,"Cana-de-açúcar","t",1,null,{"$f":"D97*F86","v":{"$error":"#DIV/0!"}},null,{"$f":"(F97/$E$91)*$F$91","v":{"$error":"#DIV/0!"}},{"$f":"(F97/$E$92)*$F$92","v":{"$error":"#DIV/0!"}}]
[null,"Água","kg",1500,null,{"$f":"D98*'Dados auxiliares'!$H$83","v":13.202358602448482},null,{"$error":"#DIV/0!"},{"$error":"#DIV/0!"}]
[null,"Cal (CaO)","kg",0.82,null,{"$f":"D99*'Dados auxiliares'!$H$84","v":788.62446998560051},null,{"$error":"#DIV/0!"},{"$error":"#DIV/0!"}]
[null,"Ácido sulfúrico","kg",0.26500000000000001,null,{"$f":"D100*'Dados auxiliares'!$H$88","v":28.980362820546588},null,{"$error":"#DIV/0!"},{"$error":"#DIV/0!"}]
[null,"Ácido fosfórico","kg",{"$f":"176.5/1000","v":0.17649999999999999},null,{"$f":"D101*'Dados auxiliares'!$H$89","v":267.03160716266467},null,{"$error":"#DIV/0!"},{"$error":"#DIV/0!"}]
[null,"Floculante ","kg",{"$f":"2.555/1000","v":2.555E-3},null,{"$f":"D102*'Dados auxiliares'!$H$91","v":5.495541825757118},null,{"$error":"#DIV/0!"},{"$error":"#DIV/0!"}]
[null,"Antibióticos","kg",{"$f":"0.297/1000","v":2.9700000000000001E-4},null,{"$f":"D103*'Dados auxiliares'!$H$92","v":0.63881640792558292},null,{"$error":"#DIV/0!"},{"$error":"#DIV/0!"}]
[null,"Óleo lubrificante","kg",{"$f":"13/1000","v":1.2999999999999999E-2},null,{"$f":"D104*'Dados auxiliares'!$H$93","v":14.708242207038198},null,{"$error":"#DIV/0!"},{"$error":"#DIV/0!"}]
[null,"Zeolita","kg",{"$f":"(D91*0.03)/67.2","v":0},null,{"$f":"D105*'Dados auxiliares'!$H$94","v":0},null,{"$error":"#DIV/0!"},{"$error":"#DIV/0!"}]
[null,"Bagaço próprio","kg base seca",{"$f":"E1GC!$D$98*(1-E1GC!$D$99)","v":0},null,0,null,{"$error":"#DIV/0!"},{"$error":"#DIV/0!"}]
[null,"Palha própria","kg base seca",{"$f":"E1GC!$D$102*(1-E1GC!$D$103)","v":0},null,0,null,{"$error":"#DIV/0!"},{"$error":"#DIV/0!"}]
[null,"Bagaço de terceiros","kg base seca",{"$f":"E1GC!$D$106*(1-E1GC!$D$107)","v":0},null,0,null,{"$error":"#DIV/0!"},{"$error":"#DIV/0!"}]
[null,"Transporte de bagaço de terceiros","tkm",{"$f":"((D108/1000)*E1GC!$D$108)","v":0},null,{"$f":"D109*'Dados auxiliares'!$H$131","v":0},null,{"$error":"#DIV/0!"},{"$error":"#DIV/0!"}]
[null,"Palha de terceiros","kg base seca",{"$f":"E1GC!$D$111*(1-E1GC!$D$112)","v":0},null,{"$f":"D110*'Dados auxiliares'!$H$78","v":0},null,{"$error":"#DIV/0!"},{"$error":"#DIV/0!"}]
[null,"Transporte de palha de terceiros","tkm",{"$f":"((D110/1000)*E1GC!$D$113)","v":0},null,{"$f":"D111*'Dados auxiliares'!$H$131","v":0},null,{"$error":"#DIV/0!"},{"$error":"#DIV/0!"}]
[null,"Cavaco de madeira","kg base seca",{"$f":"E1GC!$D$116*(1-E1GC!$D$117)","v":0},null,{"$f":"D112*'Dados auxiliares'!$H$123","v":0},null,{"$error":"#DIV/0!"},{"$error":"#DIV/0!"}]
[null,"Transporte de cavaco de madeira","tkm",{"$f":"((D112/1000)*E1GC!$D$118)","v":0},null,{"$f":"D113*'Dados auxiliares'!$H$131","v":0},null,{"$error":"#DIV/0!"},{"$error":"#DIV/0!"}]
[null,"Lenha","kg base seca",{"$f":"E1GC!$D$121*(1-E1GC!$D$122)","v":0},null,{"$f":"D114*'Dados auxiliares'!$H$124","v":0},null,{"$error":"#DIV/0!"},{"$error":"#DIV/0!"}]
[null,"Transporte de lenha","tkm",{"$f":"((D114/1000)*E1GC!$D$123)","v":0},null,{"$f":"D115*'Dados auxiliares'!$H$131","v":0},null,{"$error":"#DIV/0!"},{"$error":"#DIV/0!"}]
[null,"Resíduos florestais","kg base seca",{"$f":"E1GC!$D$126*(1-E1GC!$D$127)","v":0},null,0,null,{"$error":"#DIV/0!"},{"$error":"#DIV/0!"}]
[null,"Transporte de resíduos florestais","tkm",{"$f":"((D116/1000)*E1GC!$D$128)","v":0},null,{"$f":"D117*'Dados auxiliares'!$H$131","v":0},null,{"$error":"#DIV/0!"},{"$error":"#DIV/0!"}]
[null,"Óleo combusível","kg",{"$f":"E1GC!D131*'Dados auxiliares'!$D$30","v":0},null,{"$f":"D118*'Dados auxiliares'!$H$126","v":0},null,{"$f":"(F118/$E$91)*$F$91","v":{"$error":"#DIV/0!"}},{"$f":"(F118/$E$92)*$F$92","v":{"$error":"#DIV/0!"}}]
[null,"Biogás de terceiros","Nm³",{"$f":"E1GC!D135","v":0},null,{"$f":"D119*E1GC!G135*'Dados auxiliares'!$H$125","v":0},null,{"$f":"(F119/$E$91)*$F$91","v":{"$error":"#DIV/0!"}},{"$f":"(F119/$E$92)*$F$92","v":{"$error":"#DIV/0!"}}]
[null,"Eletricidade da rede - mix médio","kWh",{"$f":"E1GC!D136","v":0},null,{"$f":"D120*'Dados auxiliares'!$H$107","v":0},null,{"$error":"#DIV/0!"},{"$error":"#DIV/0!"}]
[null,"Eletricidade - PCH","kWh",{"$f":"E1GC!D137","v":0},null,{"$f":"D121*'Dados auxiliares'!$H$108","v":0},null,{"$error":"#DIV/0!"},{"$error":"#DIV/0!"}]
[null,"Eletricidade - biomassa","kWh",{"$f":"E1GC!D138","v":0},null,{"$f":"D122*'Dados auxiliares'!$H$109","v":0},null,{"$error":"#DIV/0!"},{"$error":"#DIV/0!"}]
[null,"Eletricidade - eólica","kWh",{"$f":"E1GC!D139","v":0},null,{"$f":"D123*'Dados auxiliares'!$H$110","v":0},null,{"$error":"#DIV/0!"},{"$error":"#DIV/0!"}]
[null,"Eletricidade - solar","kWh",{"$f":"E1GC!D140","v":0},null,{"$f":"D124*'Dados auxiliares'!$H$111","v":0},null,{"$error":"#DIV/0!"},{"$error":"#DIV/0!"}]
[null,"Emissões","Unidade","1 TC",null,"g CO2 eq/t cana",null,"g CO2 eq/MJ","g CO2 eq/MJ"]
[null,"CO₂ eq - queima do bagaço próprio","kg",{"$f":"$D$106*'FE''s queima combustíveis'!$I$36/1000","v":0},null,{"$f":"D126*1000","v":0},null,{"$error":"#DIV/0!"},{"$f":"(F126/$E$92)*$F$92","v":{"$error":"#DIV/0!"}}]
[null,"CO₂ eq - queima da palha própria","kg",{"$f":"$D$107*'FE''s queima combustíveis'!$I$37/1000","v":0},null,{"$f":"D127*1000","v":0},null,{"$error":"#DIV/0!"},{"$error":"#DIV/0!"}]
[null,"CO₂ eq - queima do bagaço de terceiros","kg",{"$f":"$D$108*'FE''s queima combustíveis'!$I$36/1000","v":0},null,0,null,{"$error":"#DIV/0!"},{"$error":"#DIV/0!"}]
[null,"CO₂ eq - queima da palha de terceiros","kg",{"$f":"$D$110*'FE''s queima combustíveis'!$I$37/1000","v":0},null,0,null,{"$error":"#DIV/0!"},{"$error":"#DIV/0!"}]
[null,"CO₂ eq - queima dos cavacos de madeira","kg",{"$f":"$D$112*'FE''s queima combustíveis'!$I$38/1000","v":0},null,0,null,{"$error":"#DIV/0!"},{"$error":"#DIV/0!"}]
[null,"CO₂ eq - queima da lenha","kg",{"$f":"$D$114*'FE''s queima combustíveis'!$I$39/1000","v":0},null,0,null,{"$error":"#DIV/0!"},{"$error":"#DIV/0!"}]
[null,"CO₂ eq - queima dos resíduos florestais","kg",{"$f":"$D$116*'FE''s queima combustíveis'!$I$40/1000","v":0},null,0,null,{"$error":"#DIV/0!"},{"$error":"#DIV/0!"}]
[null,"CO₂ eq - queima do óleo combustível","kg",{"$f":"D118*'FE''s queima combustíveis'!$I$53/1000","v":0},null,0,null,{"$f":"(F133/$E$91)*$F$91","v":{"$error":"#DIV/0!"}},{"$f":"(F133/$E$92)*$F$92","v":{"$error":"#DIV/0!"}}]
[null,"CO₂ eq - queima do etanol hidratado próprio","kg",{"$f":"E1GC!D132*'Dados auxiliares'!$D$16*'FE''s queima combustíveis'!$I$57/1000","v":0},null,0,null,{"$error":"#DIV/0!"},{"$error":"#DIV/0!"}]
[null,"CO₂ eq - queima do etanol anidro próprio","kg",{"$f":"E1GC!D133*'Dados auxiliares'!$D$15*'FE''s queima combustíveis'!$I$55/1000","v":0},null,0,null,{"$error":"#DIV/0!"},{"$error":"#DIV/0!"}]
[null,"CO₂ eq - queima do biogás próprio","kg",{"$f":"E1GC!D134*E1GC!G134*'FE''s queima combustíveis'!$I$41/1000","v":0},null,0,null,{"$error":"#DIV/0!"},{"$error":"#DIV/0!"}]
[null,"CO₂ eq - queima do biogás de terceiros","kg",{"$f":"E1GC!D135*E1GC!G135*'FE''s queima combustíveis'!$I$41/1000","v":0},null,0,null,{"$f":"(F137/$E$91)*$F$91","v":{"$error":"#DIV/0!"}},{"$f":"(F137/$E$92)*$F$92","v":{"$error":"#DIV/0!"}}]
[]
[null,"Emissões do processo","g CO2 eq/t cana",null,null,{"$f":"SUM(F126:F137)","v":0},null,{"$error":"#DIV/0!"},{"$f":"(F139/$E$92)*$F$92","v":{"$error":"#DIV/0!"}}]
[null,"Emissões background","g CO2 eq/t cana",null,null,{"$f":"SUM(F97:F124)","v":{"$error":"#DIV/0!"}},null,{"$error":"#DIV/0!"},{"$error":"#DIV/0!"}]
[null,"Emissões totais","g CO2 eq/t cana",null,null,{"$f":"F139+F140","v":{"$error":"#DIV/0!"}},null,{"$error":"#DIV/0!"},{"$error":"#DIV/0!"}]
[]
[]
[null,"Etapa distribuição"]
[null,"Sistema logístico rodoviário"]
[null,"Parâmetro","Unidade","Etanol anidro","Etanol hidratado"]
[null,"Massa","kg/t cana",{"$f":"$D$91*E1GC!$D$146","v":0},{"$f":"$D$92*E1GC!$D$152","v":0}]
[null,"Distância de transporte rodoviário","km",{"$f":"'Dados auxiliares'!C153","v":700},{"$f":"'Dados auxiliares'!C153","v":700}]
[null,"Transporte rodoviário","tkm/t cana",{"$f":"D147/1000*D148","v":0},{"$f":"E147/1000*E148","v":0}]
[null,"Emissões","g CO2 eq/t cana",{"$f":"D149*'Dados auxiliares'!$H$132","v":0},{"$f":"E149*'Dados auxiliares'!$H$132","v":0}]
[null,"Emissões","g CO2 eq/MJ",{"$f":"D150/$E$91","v":{"$error":"#DIV/0!"}},{"$f":"E150/$E$92","v":{"$error":"#DIV/0!"}}]
[null,"Sistema logístico dutoviário"]
[null,"Parâmetro","Unidade","Etanol anidro","Etanol hidratado"]
[null,"Massa","kg/t cana",{"$f":"$D$91*E1GC!$D$147","v":0},{"$f":"$D$92*E1GC!$D$153","v":0}]
[null,"Distância de transporte rodoviário","km",{"$f":"'Dados auxiliares'!E153","v":200},{"$f":"'Dados auxiliares'!E153","v":200}]
[null,"Transporte rodoviário","tkm/t cana",{"$f":"D154/1000*D155","v":0},{"$f":"E154/1000*E155","v":0}]
[null,"Distância de transporte dutoviário","km",{"$f":"'Dados auxiliares'!D153","v":500},{"$f":"'Dados auxiliares'!D153","v":500}]
[null,"Transporte dutoviário","tkm/t cana",{"$f":"D154/1000*D157","v":0},{"$f":"E154/1000*E157","v":0}]
[null,"Emissões","g CO2 eq/t cana",{"$f":"D156*'Dados auxiliares'!$H$132+D158*'Dados auxiliares'!$H$136","v":0},{"$f":"E156*'Dados auxiliares'!$H$132+E158*'Dados auxiliares'!$H$136","v":0}]
[null,"Emissões","g CO2 eq/MJ",{"$f":"D159/$E$91","v":{"$error":"#DIV/0!"}},{"$f":"E159/$E$92","v":{"$error":"#DIV/0!"}}]
[null,"Sistema logístico ferroviário"]
[null,"Parâmetro","Unidade","Etanol anidro","Etanol hidratado"]
[null,"Massa","kg/t cana",{"$f":"$D$91*E1GC!$D$148","v":0},{"$f":"$D$92*E1GC!$D$154","v":0}]
[null,"Distância de transporte rodoviário","km",{"$f":"'Dados auxiliares'!G153","v":400},{"$f":"'Dados auxiliares'!G153","v":400}]
[null,"Transporte rodoviário","tkm/t cana",{"$f":"D163/1000*D164","v":0},{"$f":"E163/1000*E164","v":0}]
[null,"Distância de transporte ferroviário","km",{"$f":"'Dados auxiliares'!F153","v":300},{"$f":"'Dados auxiliares'!F153","v":300}]
[null,"Transporte ferroviário","tkm/t cana",{"$f":"D163/1000*D166","v":0},{"$f":"E163/1000*E166","v":0}]
[null,"Emissões","g CO2 eq/t cana",{"$f":"D165*'Dados auxiliares'!$H$132+D167*'Dados auxiliares'!$H$135","v":0},{"$f":"E165*'Dados auxiliares'!$H$132+E167*'Dados auxiliares'!$H$135","v":0}]
[null,"Emissões","g CO2 eq/MJ",{"$f":"D168/$E$91","v":{"$error":"#DIV/0!"}},{"$f":"E168/$E$92","v":{"$error":"#DIV/0!"}}]
[]
[null,"Emissões totais","g CO2 eq/MJ",{"$f":"D151+D160+D169","v":{"$error":"#DIV/0!"}},{"$f":"E151+E160+E169","v":{"$error":"#DIV/0!"}}]

{"sheet":"E1G2G","index":5,"n_rows":164,"n_cols":46,"rows_kept":164,"cut":false,"hidden":false,"merged":[[42,39,42,45],[60,39,60,45],[67,39,67,45],[22,39,22,45],[23,39,23,45],[34,39,34,45],[37,39,37,45],[111,2,111,4],[60,1,60,7],[60,10,60,16],[60,19,60,25],[85,1,85,7],[86,1,86,7],[100,1,100,7],[106,1,106,7],[107,2,107,4],[160,2,160,4],[115,2,115,4],[120,2,120,4],[125,2,125,4],[130,2,130,4],[135,2,135,4],[152,1,152,7],[154,2,154,4],[159,2,159,4],[60,30,60,36],[67,1,67,7],[67,10,67,16],[67,19,67,25],[67,30,67,36],[42,1,42,7],[42,10,42,16],[42,19,42,25],[42,30,42,36],[37,1,37,7],[37,10,37,16],[34,1,34,7],[34,10,34,16],[34,19,34,25],[34,30,34,36],[37,19,37,25],[37,30,37,36],[22,30,22,36],[23,1,23,7],[23,10,23,16],[23,19,23,25],[23,30,23,36],[22,1,22,7],[22,10,22,16],[22,19,22,25],[14,3,14,5],[3,2,3,7],[5,2,5,7],[7,2,7,7],[9,2,9,3],[12,2,12,3]]}
[]
[null,"Etanol combustível de primeira e segunda geração produzido em usina integrada"]
[]
[null,"Nome da Usina:","Usina Hipotética"]
[]
[null,"CNPJ","00.000.000/0000-00"]
[]
[null,"Responsável pelo preenchimento:"]
[]
[null,"Telefone :","(00) 0000-0000"]
[]
[]
[null,null,"Etanol Anidro"]
[]
[null,"Intensidade de Carbono\n(g CO₂eq/MJ)",{"$f":"SUM(C17:C20)","v":0.43899999999999995},"Nota de Eficiência Energético-Ambiental\n(g CO₂eq/MJ)",null,null,{"$f":"G18-C15","v":86.961000000000013}]
[]
[null,"agrícola",{"$f":"IFERROR(IF(C13=\"Etanol Anidro\",_E1G2G!C5,IF(C13=\"Etanol Hidratado\",_E1G2G!E5,\"\")),0)","v":0},null,null,null,"Fóssil substituto: Gasolina"]
[null,"industrial",{"$f":"IFERROR(IF(C13=\"Etanol Anidro\",_E1G2G!C6,IF(C13=\"Etanol Hidratado\",_E1G2G!E6,\"\")),0)","v":0},null,null,null,{"$f":"'Dados auxiliares'!F166","v":87.4}]
[null,"transporte",{"$f":"IFERROR(IF(C13=\"Etanol Anidro\",_E1G2G!C7,IF(C13=\"Etanol Hidratado\",_E1G2G!E7,\"\")),0)","v":0},null,null,null,"Redução de emissões"]
[null,"uso",{"$f":"IFERROR(IF(C13=\"Etanol Anidro\",_E1G2G!C8,IF(C13=\"Etanol Hidratado\",_E1G2G!E8,\"\")),0)","v":0.43899999999999995},null,null,null,{"$f":"(G18-C15)/G18","v":0.9949771167048056}]
[]
[]
[null,"Fase agrícola - Dados Consolidados",null,null,null,null,null,null,null,null,"Fornecedores - Dados consolidados",null,null,null,null,null,null,null,null,"Média ponderada - RenovaCalc",null,null,null,null,null,null,null,null,null,null,"Default - Cana",null,null,null,null,null,null,null,null,"Guarda dados de preenchimento"]
[null,"Informações gerais",null,null,null,null,null,null,null,null,"Informações gerais",null,null,null,null,null,null,null,null,"Informações gerais",null,null,null,null,null,null,null,null,null,null,"Informações gerais",null,null,null,null,null,null,null,null,"Informações gerais"]
[]
[null,null,"Sistema de plantio","Convencional",null,null,null,null,null,null,null,"Sistema de plantio","Convencional",null,null,null,null,null,null,null,"Sistema de plantio",{"$f":"D26","v":"Convencional"}]
[null,null,"Área total",null,"ha",null,null,null,null,null,null,"Área total",null,"ha",null,null,null,null,null,null,"Área total",{"$f":"D27","v":0},"ha"]
[]
[null,null,"Produção total colhida para moagem",null,"t cana",null,null,null,null,null,null,"Produção total colhida para moagem",null,"t cana",null,null,null,null,null,null,"Produção total colhida para moagem",{"$f":"D29","v":0},"t cana"]
[null,null,"Quantidade comprada pela unidade produtora de biocombustível",null,"t cana"]
[null,null,"Teor de impurezas vegetais (base úmida)",null,"kg/t cana","Umidade",null,null,null,null,null,"Teor de impurezas vegetais (base úmida)",null,"kg/t cana","Umidade",0.5,null,null,null,null,"Teor de impurezas vegetais (base úmida)",{"$f":"D31","v":0},"kg/t cana","Umidade",{"$f":"G31","v":0}]
[null,null,"Teor de impurezas minerais",null,"kg/t cana",null,null,null,null,null,null,"Teor de impurezas minerais",null,"kg/t cana",null,null,null,null,null,null,"Teor de impurezas minerais",{"$f":"D32","v":0},"kg/t cana"]
[null,null,"Palha recolhida (base seca)",null,"t palha",null,null,null,null,null,null,"Palha recolhida (base seca)",null,"t palha",null,null,null,null,null,null,"Palha recolhida (base seca)",{"$f":"D33","v":0},"t palha"]
[]
[null,"Área Queimada",null,null,null,null,null,null,null,null,"Área Queimada",null,null,null,null,null,null,null,null,"Área Queimada",null,null,null,null,null,null,null,null,null,null,"Área Queimada",null,null,null,null,null,null,null,null,"Área Queimada"]
[null,null,"Área queimada",null,"ha",null,null,null,null,null,null,"Área queimada",null,"ha",null,null,null,null,null,null,"Área queimada",{"$f":"D36","v":0},"ha",null,null,null,null,null,null,null,null,"Área queimada",1,"% da área total",null,null,null,null,null,null,"Área queimada",3680,"% da área total"]
[]
[null,"Corretivos",null,null,null,null,null,null,null,null,"Corretivos",null,null,null,null,null,null,null,null,"Corretivos",null,null,null,null,null,null,null,null,null,null,"Corretivos",null,null,null,null,null,null,null,null,"Corretivos"]
[null,null,"Calcário calcítico",null,"kg/t cana",null,null,null,null,null,null,"Calcário calcítico",null,"kg/t cana",null,null,null,null,null,null,"Calcário calcítico",{"$f":"D39","v":0},"kg/t cana",null,null,null,null,null,null,null,null,"Calcário calcítico",0,"kg/t cana",null,null,null,null,null,null,"Calcário calcítico",0,"kg/t cana"]
[null,null,"Calcário dolomítico",null,"kg/t cana",null,null,null,null,null,null,"Calcário dolomítico",null,"kg/t cana",null,null,null,null,null,null,"Calcário dolomítico",{"$f":"D40","v":0},"kg/t cana",null,null,null,null,null,null,null,null,"Calcário dolomítico",12,"kg/t cana",null,null,null,null,null,null,"Calcário dolomítico",5.79,"kg/t cana"]
[null,null,"Gesso",null,"kg/t cana",null,null,null,null,null,null,"Gesso",null,"kg/t cana",null,null,null,null,null,null,"Gesso",{"$f":"D41","v":0},"kg/t cana",null,null,null,null,null,null,null,null,"Gesso",5,"kg/t cana",null,null,null,null,null,null,"Gesso",2.79,"kg/t cana"]
[]
[null,"Fertilizantes Sintéticos",null,null,null,null,null,null,null,null,"Fertilizantes Sintéticos",null,null,null,null,null,null,null,null,"Fertilizantes Sintéticos",null,null,null,null,null,null,null,null,null,null,"Fertilizantes Sintéticos",null,null,null,null,null,null,null,null,"Fertilizantes Sintéticos"]
[null,null,"Ureia",null,"kg N/t cana",null,null,null,null,null,null,"Ureia",null,"kg N/t cana",null,null,null,null,null,null,"Ureia",{"$f":"D44","v":0},"kg N/t cana",null,null,null,null,null,null,null,null,"Ureia",2,"kg N/t cana",null,null,null,null,null,null,"Ureia",1.107,"kg N/t cana"]
[null,null,"Fosfato monoamônico (MAP)",null,"kg N/t cana",null,null,null,null,null,null,"Fosfato monoamônico (MAP)",null,"kg N/t cana",null,null,null,null,null,null,"Fosfato monoamônico (MAP)",0,"kg N/t cana",null,null,null,null,null,null,null,null,"Fosfato monoamônico (MAP)",0,"kg N/t cana",null,null,null,null,null,null,"Fosfato monoamônico (MAP)",0,"kg N/t cana"]
[null,null,"Fosfato monoamônico (MAP)",null,"kg P₂O₅/t cana",null,null,null,null,null,null,"Fosfato monoamônico (MAP)",null,"kg P₂O₅/t cana",null,null,null,null,null,null,"Fosfato monoamônico (MAP)",0,"kg P₂O₅/t cana",null,null,null,null,null,null,null,null,"Fosfato monoamônico (MAP)",0,"kg P₂O₅/t cana",null,null,null,null,null,null,"Fosfato monoamônico (MAP)",0,"kg P₂O₅/t cana"]
[null,null,"Fosfato diamônico (DAP)",null,"kg N/t cana",null,null,null,null,null,null,"Fosfato diamônico (DAP)",null,"kg N/t cana",null,null,null,null,null,null,"Fosfato diamônico (DAP)",0,"kg N/t cana",null,null,null,null,null,null,null,null,"Fosfato diamônico (DAP)",0,"kg N/t cana",null,null,null,null,null,null,"Fosfato diamônico (DAP)",0,"kg N/t cana"]
[null,null,"Fosfato diamônico (DAP)",null,"kg P₂O₅/t cana",null,null,null,null,null,null,"Fosfato diamônico (DAP)",null,"kg P₂O₅/t cana",null,null,null,null,null,null,"Fosfato diamônico (DAP)",0,"kg P₂O₅/t cana",null,null,null,null,null,null,null,null,"Fosfato diamônico (DAP)",0,"kg P₂O₅/t cana",null,null,null,null,null,null,"Fosfato diamônico (DAP)",0,"kg P₂O₅/t cana"]
[null,null,"Nitrato de amônio",null,"kg N/t cana",null,null,null,null,null,null,"Nitrato de amônio",null,"kg N/t cana",null,null,null,null,null,null,"Nitrato de amônio",0,"kg N/t cana",null,null,null,null,null,null,null,null,"Nitrato de amônio",0,"kg N/t cana",null,null,null,null,null,null,"Nitrato de amônio",0,"kg N/t cana"]
[null,null,"Solução de nitrato de amônio e ureia (UAN)",null,"kg N/t cana",null,null,null,null,null,null,"Solução de nitrato de amônio e ureia (UAN)",null,"kg N/t cana",null,null,null,null,null,null,"Solução de nitrato de amônio e ureia (UAN)",0,"kg N/t cana",null,null,null,null,null,null,null,null,"Solução de nitrato de amônio e ureia (UAN)",0,"kg N/t cana",null,null,null,null,null,null,"Solução de nitrato de amônio e ureia (UAN)",0,"kg N/t cana"]
[null,null,"Amônia anidra",null,"kg N/t cana",null,null,null,null,null,null,"Amônia anidra",null,"kg N/t cana",null,null,null,null,null,null,"Amônia anidra",0,"kg N/t cana",null,null,null,null,null,null,null,null,"Amônia anidra",0,"kg N/t cana",null,null,null,null,null,null,"Amônia anidra",0,"kg N/t cana"]
[null,null,"Sulfato de amônio",null,"kg N/t cana",null,null,null,null,null,null,"Sulfato de amônio",null,"kg N/t cana",null,null,null,null,null,null,"Sulfato de amônio",0,"kg N/t cana",null,null,null,null,null,null,null,null,"Sulfato de amônio",0,"kg N/t cana",null,null,null,null,null,null,"Sulfato de amônio",0,"kg N/t cana"]
[null,null,"Nitrato de amônio e cálcio (CAN)",null,"kg N/t cana",null,null,null,null,null,null,"Nitrato de amônio e cálcio (CAN)",null,"kg N/t cana",null,null,null,null,null,null,"Nitrato de amônio e cálcio (CAN)",0,"kg N/t cana",null,null,null,null,null,null,null,null,"Nitrato de amônio e cálcio (CAN)",0,"kg N/t cana",null,null,null,null,null,null,"Nitrato de amônio e cálcio (CAN)",0,"kg N/t cana"]
[null,null,"Superfosfato simples (SSP)",null,"kg P₂O₅/t cana",null,null,null,null,null,null,"Superfosfato simples (SSP)",null,"kg P₂O₅/t cana",null,null,null,null,null,null,"Superfosfato simples (SSP)",0,"kg P₂O₅/t cana",null,null,null,null,null,null,null,null,"Superfosfato simples (SSP)",1,"kg P₂O₅/t cana",null,null,null,null,null,null,"Superfosfato simples (SSP)",0.443898833367118,"kg P₂O₅/t cana"]
[null,null,"Superfosfato triplo (TSP)",null,"kg P₂O₅/t cana",null,null,null,null,null,null,"Superfosfato triplo (TSP)",null,"kg P₂O₅/t cana",null,null,null,null,null,null,"Superfosfato triplo (TSP)",0,"kg P₂O₅/t cana",null,null,null,null,null,null,null,null,"Superfosfato triplo (TSP)",0,"kg P₂O₅/t cana",null,null,null,null,null,null,"Superfosfato triplo (TSP)",0,"kg P₂O₅/t cana"]
[null,null,"Cloreto de potássio (KCl)",null,"kg K₂O/t cana",null,null,null,null,null,null,"Cloreto de potássio (KCl)",null,"kg K₂O/t cana",null,null,null,null,null,null,"Cloreto de potássio (KCl)",0,"kg K₂O/t cana",null,null,null,null,null,null,null,null,"Cloreto de potássio (KCl)",2,"kg K₂O/t cana",null,null,null,null,null,null,"Cloreto de potássio (KCl)",1.3462049016245501,"kg K₂O/t cana"]
[null,"Outros","especificar",null,"kg N/t cana",null,null,null,null,null,"Outros","especificar",null,"kg N/t cana",null,null,null,null,null,"Outros","especificar",0,"kg N/t cana",null,null,null,null,null,null,null,"Outros ","especificar",0,"kg N/t cana",null,null,null,null,null,"Outros ","especificar",0,"kg N/t cana"]
[null,"Outros","especificar",null,"kg P₂O₅/t cana",null,null,null,null,null,"Outros","especificar",null,"kg P₂O₅/t cana",null,null,null,null,null,"Outros","especificar",0,"kg P₂O₅/t cana",null,null,null,null,null,null,null,"Outros ","especificar",0,"kg P₂O₅/t cana",null,null,null,null,null,"Outros ","especificar",0,"kg P₂O₅/t cana"]
[null,"Outros","especificar",null,"kg K₂O/t cana",null,null,null,null,null,"Outros","especificar",null,"kg K₂O/t cana",null,null,null,null,null,"Outros","especificar",0,"kg K₂O/t cana",null,null,null,null,null,null,null,"Outros ","especificar",0,"kg K₂O/t cana",null,null,null,null,null,"Outros ","especificar",0,"kg K₂O/t cana"]
[]
[null,"Fertilizantes Orgânicos/Organominerais",null,null,null,null,null,null,null,null,"Fertilizantes Orgânicos/Organominerais",null,null,null,null,null,null,null,null,"Fertilizantes Orgânicos/Organominerais",null,null,null,null,null,null,null,null,null,null,"Fertilizantes Orgânicos/Organominerais",null,null,null,null,null,null,null,null,"Fertilizantes Orgânicos/Organominerais"]
[null,null,"Vinhaça",null,"L/t cana","Concentração de N",null,"g N/L",null,null,null,"Vinhaça",null,"L/t cana","Concentração de N",null,"g N/L",null,null,null,"Vinhaça",{"$f":"D62","v":0},"L/t cana","Concentração de N",{"$f":"G62","v":0},"g N/L",null,null,null,null,null,"Vinhaça",1000,"L/t cana","Concentração de N",0.375,"g N/L",null,null,null,"Vinhaça",440.2,"L/t cana","Concentração de N",0.375,"g N/L"]
[null,null,"Torta de Filtro (base úmida)",null,"kg/t cana","Concentração de N",null,"g N/kg",null,null,null,"Torta de Filtro (base úmida)",null,"kg/t cana","Concentração de N",null,"g N/kg",null,null,null,"Torta de Filtro (base úmida)",{"$f":"D63","v":0},"kg/t cana","Concentração de N",{"$f":"G63","v":0},"g N/kg",null,null,null,null,null,"Torta de Filtro (base úmida)",42.800000000000011,"kg/t cana","Concentração de N",2.8,"g N/kg",null,null,null,"Torta de Filtro (base úmida)",30.571428571428577,"kg/t cana","Concentração de N",14,"g N/kg"]
[null,null,"Cinzas e fuligem (base úmida)",null,"kg/t cana","Concentração de N",null,"g N/kg",null,null,null,"Cinzas e fuligem (base úmida)",null,"kg/t cana","Concentração de N",null,"g N/kg",null,null,null,"Cinzas e fuligem (base úmida)",{"$f":"D64","v":0},"kg/t cana","Concentração de N",{"$f":"G64","v":0},"g N/kg",null,null,null,null,null,"Cinzas e fuligem (base úmida)",10.08,"kg/t cana","Concentração de N",null,"g N/kg",null,null,null,"Cinzas e fuligem (base úmida)",7.2,"kg/t cana","Concentração de N",null,"g N/kg"]
[null,"Outros","especificar",null,"kg/t cana","Concentração de N",null,"g N/kg",null,null,"Outros","especificar",null,"kg/t cana","Concentração de N",null,"g N/kg",null,null,"Outros","especificar",{"$f":"D65","v":0},"kg/t cana","Concentração de N",{"$f":"G65","v":0},"g N/kg",null,null,null,null,"Outros","especificar",0,"kg/t cana","Concentração de N",null,"g N/kg",null,null,"Outros","especificar",0,"kg/t cana","Concentração de N",null,"g N/kg"]
[null,"Outros","especificar",null,"kg/t cana","Concentração de N",null,"g N/kg",null,null,"Outros","especificar",null,"kg/t cana","Concentração de N",null,"g N/kg",null,null,"Outros","especificar",{"$f":"D66","v":0},"kg/t cana","Concentração de N",{"$f":"G66","v":0},"g N/kg",null,null,null,null,"Outros","especificar",0,"kg/t cana","Concentração de N",null,"g N/kg",null,null,"Outros","especificar",0,"kg/t cana","Concentração de N",null,"g N/kg"]
[]
[null,"Combustíveis e eletricidade",null,null,null,null,null,null,null,null,"Combustíveis e eletricidade",null,null,null,null,null,null,null,null,"Combustíveis e eletricidade",null,null,null,null,null,null,null,null,null,null,"Combustíveis e eletricidade",null,null,null,null,null,null,null,null,"Combustíveis e eletricidade"]
[null,null,"Diesel - B8",null,"L/t cana",null,null,null,null,null,null,"Diesel - B8",null,"L/t cana",null,null,null,null,null,null,"Diesel - B8",{"$f":"D69","v":0},"L/t cana",null,null,null,null,null,null,null,null,"Diesel - B8",0,"L/t cana",null,null,null,null,null,null,"Diesel - B8",0,"L/t cana"]
[null,null,"Diesel - B10",null,"L/t cana",null,null,null,null,null,null,"Diesel - B10",null,"L/t cana",null,null,null,null,null,null,"Diesel - B10",0,"L/t cana",null,null,null,null,null,null,null,null,"Diesel - B10",6,"L/t cana",null,null,null,null,null,null,"Diesel - B10",3.18,"L/t cana"]
[null,null,"Diesel - BX",null,"L/t cana","Teor de biodiesel na mistura",null,null,null,null,null,"Diesel - BX",null,"L/t cana","Teor de biodiesel na mistura",0.15,null,null,null,null,"Diesel - BX",0,"L/t cana","Teor médio de biodiesel na mistura",{"$f":"G71","v":0},"%",null,null,null,null,null,"Diesel - BX",0,"L/t cana","Teor médio de biodiesel na mistura",0.11,"%",null,null,null,"Diesel - BX",0,"L/t cana","Teor médio de biodiesel na mistura",0.11,"%"]
[null,null,"Diesel - B20",null,"L/t cana",null,null,null,null,null,null,"Diesel - B20",null,"L/t cana",null,null,null,null,null,null,"Diesel - B20",0,"L/t cana",null,null,null,null,null,null,null,null,"Diesel - B20",0,"L/t cana",null,null,null,null,null,null,"Diesel - B20",0,"L/t cana"]
[null,null,"Diesel - B30",null,"L/t cana",null,null,null,null,null,null,"Diesel - B30",null,"L/t cana",null,null,null,null,null,null,"Diesel - B30",0,"L/t cana",null,null,null,null,null,null,null,null,"Diesel - B30",0,"L/t cana",null,null,null,null,null,null,"Diesel - B30",0,"L/t cana"]
[null,null,"Biodiesel - B100",null,"L/t cana",null,null,null,null,null,null,"Biodiesel - B100",null,"L/t cana",null,null,null,null,null,null,"Biodiesel - B100",0,"L/t cana",null,null,null,null,null,null,null,null,"Biodiesel - B100",0,"L/t cana",null,null,null,null,null,null,"Biodiesel - B100",0,"L/t cana"]
[null,null,"Gasolina C",null,"L/t cana",null,null,null,null,null,null,"Gasolina C",null,"L/t cana",null,null,null,null,null,null,"Gasolina C",0,"L/t cana",null,null,null,null,null,null,null,null,"Gasolina C",0,"L/t cana",null,null,null,null,null,null,"Gasolina C",0,"L/t cana"]
[null,null,"Etanol hidratado",null,"L/t cana",null,null,null,null,null,null,"Etanol hidratado",null,"L/t cana",null,null,null,null,null,null,"Etanol hidratado",0,"L/t cana",null,null,null,null,null,null,null,null,"Etanol hidratado",0,"L/t cana",null,null,null,null,null,null,"Etanol hidratado",0,"L/t cana"]
[null,null,"Biometano de terceiros",null,"Nm³/t cana",null,null,null,null,null,null,"Biometano de terceiros",null,"Nm³/t cana",null,null,null,null,null,null,"Biometano de terceiros",0,"Nm³/t cana",null,null,null,null,null,null,null,null,"Biometano de terceiros",0,"Nm³/t cana",null,null,null,null,null,null,"Biometano de terceiros",0,"Nm³/t cana"]
[null,null,"Biometano próprio",null,"Nm³/t cana",null,null,null,null,null,null,"Biometano próprio",null,"Nm³/t cana",null,null,null,null,null,null,"Biometano próprio",0,"Nm³/t cana",null,null,null,null,null,null,null,null,"Biometano próprio",0,"Nm³/t cana",null,null,null,null,null,null,"Biometano próprio",0,"Nm³/t cana"]
[null,null,"Eletricidade da rede - mix médio",null,"kWh/t cana",null,null,null,null,null,null,"Eletricidade da rede - mix médio",null,"kWh/t cana",null,null,null,null,null,null,"Eletricidade da rede - mix médio",0,"kWh/t cana",null,null,null,null,null,null,null,null,"Eletricidade da rede - mix médio",0,"kWh/t cana",null,null,null,null,null,null,"Eletricidade da rede - mix médio",0,"kWh/t cana"]
[null,null,"Eletricidade - PCH",null,"kWh/t cana",null,null,null,null,null,null,"Eletricidade - PCH",null,"kWh/t cana",null,null,null,null,null,null,"Eletricidade - PCH",0,"kWh/t cana",null,null,null,null,null,null,null,null,"Eletricidade - PCH",0,"kWh/t cana",null,null,null,null,null,null,"Eletricidade - PCH",0,"kWh/t cana"]
[null,null,"Eletricidade - biomassa",null,"kWh/t cana",null,null,null,null,null,null,"Eletricidade - biomassa",null,"kWh/t cana",null,null,null,null,null,null,"Eletricidade - biomassa",0,"kWh/t cana",null,null,null,null,null,null,null,null,"Eletricidade - biomassa",0,"kWh/t cana",null,null,null,null,null,null,"Eletricidade - biomassa",0,"kWh/t cana"]
[null,null,"Eletricidade - eólica",null,"kWh/t cana",null,null,null,null,null,null,"Eletricidade - eólica",null,"kWh/t cana",null,null,null,null,null,null,"Eletricidade - eólica",0,"kWh/t cana",null,null,null,null,null,null,null,null,"Eletricidade - eólica",0,"kWh/t cana",null,null,null,null,null,null,"Eletricidade - eólica",0,"kWh/t cana"]
[null,null,"Eletricidade - solar",null,"kWh/t cana",null,null,null,null,null,null,"Eletricidade - solar",null,"kWh/t cana",null,null,null,null,null,null,"Eletricidade - solar",0,"kWh/t cana",null,null,null,null,null,null,null,null,"Eletricidade - solar",0,"kWh/t cana",null,null,null,null,null,null,"Eletricidade - solar",0,"kWh/t cana"]
[]
[]
[null,"Fase industrial - processamento do etanol"]
[null,"Processamento e rendimentos"]
[null,null,"Quantidade de cana processada",null,"t cana"]
[null,null,"Quantidade de palha própria processada (base seca)",null,"t palha"]
[null,null,"Quantidade de bagaço próprio processado (base úmida)",null,"t bagaço","Umidade"]
[null,null,"Quantidade de bagaço de terceiros processado (base úmida)",null,"t bagaço","Umidade"]
[null,null,"Distância de transporte - bagaço de terceiros",null,"km"]
[null,null,"Quantidade de palha de terceiros processada (base seca)",null,"t palha"]
[null,null,"Distância de transporte - palha de terceiros",null,"km"]
[null,null,"Rendimento Etanol Anidro",null,"L/t cana"]
[null,null,"Rendimento Etanol Hidratado",null,"L/t cana"]
[null,null,"Rendimento Açúcar",null,"kg/t cana"]
[null,null,"Rendimento Energia Elétrica Comercializada",null,"kWh/t cana"]
[null,null,"Rendimento Bagaço Comercializado (base úmida)",null,"kg/t cana","Umidade"]
[]
[null,"Insumos industriais"]
[null,null,"Enzimas",null,"kg/t cana"]
[null,null,"Ácido sulfúrico",null,"kg/t cana"]
[null,null,"Amônia",null,"kg/t cana"]
[null,null,"Hidróxido de sódio",null,"kg/t cana"]
[]
[null,"Combustíveis e eletricidade"]
[null,null,"Bagaço próprio"]
[null,null,"Quantidade (base úmida)",null,"kg/t cana"]
[null,null,"Umidade"]
[]
[null,null,"Palha própria"]
[null,null,"Quantidade (base úmida)",null,"kg/t cana"]
[null,null,"Umidade"]
[]
[null,null,"Bagaço de terceiros"]
[null,null,"Quantidade (base úmida)",null,"kg/t cana"]
[null,null,"Umidade"]
[null,null,"Distância de transporte",null," km"]
[]
[null,null,"Palha de terceiros"]
[null,null,"Quantidade (base úmida)",null,"kg/t cana"]
[null,null,"Umidade"]
[null,null,"Distância de transporte",null," km"]
[]
[null,null,"Cavaco de madeira"]
[null,null,"Quantidade (base úmida)",null,"kg/t cana"]
[null,null,"Umidade"]
[null,null,"Distância de transporte",null," km"]
[]
[null,null,"Lenha"]
[null,null,"Quantidade (base úmida)",null,"kg/t cana"]
[null,null,"Umidade"]
[null,null,"Distância de transporte",null," km"]
[]
[null,null,"Resíduos florestais"]
[null,null,"Quantidade (base úmida)",null,"kg/t cana"]
[null,null,"Umidade"]
[null,null,"Distância de transporte",null," km"]
[]
[null,null,"Óleo combustível",null,"L/t cana"]
[null,null,"Etanol hidratado próprio",null,"L/t cana"]
[null,null,"Etanol anidro próprio",null,"L/t cana"]
[null,null,"Biogás próprio",null,"Nm³/t cana","PCI do biogás",null,"MJ/Nm³"]
[null,null,"Biogás de terceiros",null,"Nm³/t cana","PCI do biogás",null,"MJ/Nm³"]
[null,null,"Eletricidade da rede - mix médio",null,"kWh/t cana"]
[null,null,"Eletricidade - PCH",null,"kWh/t cana"]
[null,null,"Eletricidade - biomassa",null,"kWh/t cana"]
[null,null,"Eletricidade - eólica",null,"kWh/t cana"]
[null,null,"Eletricidade - solar",null,"kWh/t cana"]
[]
[]
[null,"Fase de distribuição"]
[]
[null,null,"Etanol anidro"]
[null,null,"Rodoviário",1]
[null,null,"Dutoviário",0,{"$f":"IF((SUM(D156:D158)=1),\"\",\"A soma das porcentagens de distribuição deve ser igual a 100%!\")","v":""}]
[null,null,"Ferroviário",0]
[]
[]
[null,null,"Etanol hidratado"]
[null,null,"Rodoviário",1]
[null,null,"Dutoviário",0,{"$f":"IF((SUM(D162:D164)=1),\"\",\"A soma das porcentagens de distribuição deve ser igual a 100%!\")","v":""}]
[null,null,"Ferroviário",0]

{"sheet":"_E1G2G","index":6,"n_rows":182,"n_cols":9,"rows_kept":182,"cut":false,"hidden":true,"merged":[[154,1,154,5],[1,1,1,5],[2,2,2,3],[2,4,2,5],[3,2,3,3],[3,4,3,5],[10,1,10,5],[10,7,14,7],[10,8,14,8],[88,7,94,7],[88,8,94,8],[88,1,88,5]]}
[]
[null,"Emissões totais - g CO₂ eq"]
[null,null,"Anidro",null,"Hidratado"]
[null,"Total",{"$f":"C5+C6+C7+C8","v":{"$error":"#DIV/0!"}},null,{"$f":"E5+E6+E7+E8","v":{"$error":"#DIV/0!"}}]
[null,"Agrícola",{"$f":"$H$86","v":{"$error":"#DIV/0!"}},{"$f":"C5/$C$4","v":{"$error":"#DIV/0!"}},{"$f":"$I$86","v":{"$error":"#DIV/0!"}},{"$f":"E5/$E$4","v":{"$error":"#DIV/0!"}}]
[null,"Industrial",{"$f":"($H$152-$H$97)","v":{"$error":"#DIV/0!"}},{"$f":"C6/$C$4","v":{"$error":"#DIV/0!"}},{"$f":"($I$152-$I$97)","v":{"$error":"#DIV/0!"}},{"$f":"E6/$E$4","v":{"$error":"#DIV/0!"}}]
[null,"Transporte",{"$f":"$D$182","v":{"$error":"#DIV/0!"}},{"$f":"C7/$C$4","v":{"$error":"#DIV/0!"}},{"$f":"$E$182","v":{"$error":"#DIV/0!"}},{"$f":"E7/$E$4","v":{"$error":"#DIV/0!"}}]
[null,"Uso",{"$f":"'FE''s queima combustíveis'!$I$7","v":0.43899999999999995},{"$f":"C8/$C$4","v":{"$error":"#DIV/0!"}},{"$f":"'FE''s queima combustíveis'!$I$8","v":0.66300000000000003},{"$f":"E8/$E$4","v":{"$error":"#DIV/0!"}}]
[]
[]
[null,"Etapa agrícola - Cana-de-açúcar",null,null,null,null,null,"Emissões por MJ de etanol anidro","Emissões por MJ de etanol hidratado"]
[null,"Produto",null,"1 ha médio","1 t cana"]
[null,"Produção de cana","kg",{"$f":"(E1G2G!V29/E1G2G!V27)*1000","v":{"$error":"#DIV/0!"}},1000]
[null,"Entradas da natureza",null,"1 ha médio","1 t cana"]
[null,"Ocupação total","ha",1,{"$f":"(D15*E13)/D13","v":{"$error":"#DIV/0!"}}]
[null,"Entradas da tecnosfera",null,"1 ha médio","1 t cana","g CO2 eq/t cana",null,"g CO2 eq/MJ","g CO2 eq/MJ"]
[null,"Fertilizantes e corretivos"]
[null,"Calcário calcítico","kg",null,{"$f":"E1G2G!V39","v":0},{"$f":"E18*'Dados auxiliares'!$H$52","v":0},null,{"$f":"(F18/$E$91)*$F$91","v":{"$error":"#DIV/0!"}},{"$f":"(F18/$E$92)*$F$92","v":{"$error":"#DIV/0!"}}]
[null,"Calcário dolomítico","kg",null,{"$f":"E1G2G!V40","v":0},{"$f":"E19*'Dados auxiliares'!$H$53","v":0},null,{"$error":"#DIV/0!"},{"$error":"#DIV/0!"}]
[null,"Gesso","kg",null,{"$f":"E1G2G!V41","v":0},{"$f":"E20*'Dados auxiliares'!$H$54","v":0},null,{"$error":"#DIV/0!"},{"$error":"#DIV/0!"}]
[null,"N - Ureia","kg N",null,{"$f":"E1G2G!V44","v":0},{"$f":"E21*'Dados auxiliares'!$H$55","v":0},null,{"$error":"#DIV/0!"},{"$error":"#DIV/0!"}]
[null,"N - Fosfato monoamônico (MAP)","kg N",null,{"$f":"E1G2G!V45","v":0},{"$f":"E22*'Dados auxiliares'!$H$56","v":0},null,{"$error":"#DIV/0!"},{"$error":"#DIV/0!"}]
[null,"P₂O₅ - Fosfato monoamônico (MAP)","kg P₂O₅",null,{"$f":"E1G2G!V46","v":0},{"$f":"E23*'Dados auxiliares'!$H$57","v":0},null,{"$error":"#DIV/0!"},{"$error":"#DIV/0!"}]
[null,"N - Fosfato diamônico (DAP)","kg N",null,{"$f":"E1G2G!V47","v":0},{"$f":"E24*'Dados auxiliares'!$H$58","v":0},null,{"$error":"#DIV/0!"},{"$error":"#DIV/0!"}]
[null,"P₂O₅ - Fosfato diamônico (DAP)","kg P₂O₅",null,{"$f":"E1G2G!V48","v":0},{"$f":"E25*'Dados auxiliares'!$H$59","v":0},null,{"$error":"#DIV/0!"},{"$error":"#DIV/0!"}]
[null,"N - Nitrato de amônio","kg N",null,{"$f":"E1G2G!V49","v":0},{"$f":"E26*'Dados auxiliares'!$H$60","v":0},null,{"$error":"#DIV/0!"},{"$error":"#DIV/0!"}]
[null,"N - Solução de nitrato de amônio e ureia (UAN)","kg N",null,{"$f":"E1G2G!V50","v":0},{"$f":"E27*'Dados auxiliares'!$H$61","v":0},null,{"$error":"#DIV/0!"},{"$error":"#DIV/0!"}]
[null,"N - Amônia anidra","kg N",null,{"$f":"E1G2G!V51","v":0},{"$f":"E28*'Dados auxiliares'!$H$62","v":0},null,{"$error":"#DIV/0!"},{"$error":"#DIV/0!"}]
[null,"N - Sulfato de amônio","kg N",null,{"$f":"E1G2G!V52","v":0},{"$f":"E29*'Dados auxiliares'!$H$63","v":0},null,{"$error":"#DIV/0!"},{"$error":"#DIV/0!"}]
[null,"N - Nitrato de amônio e cálcio (CAN)","kg N",null,{"$f":"E1G2G!V53","v":0},{"$f":"E30*'Dados auxiliares'!$H$64","v":0},null,{"$error":"#DIV/0!"},{"$error":"#DIV/0!"}]
[null,"P₂O₅ - Superfosfato simples (SSP)","kg P₂O₅",null,{"$f":"E1G2G!V54","v":0},{"$f":"E31*'Dados auxiliares'!$H$66","v":0},null,{"$error":"#DIV/0!"},{"$error":"#DIV/0!"}]
[null,"P₂O₅ - Superfosfato triplo (TSP)","kg P₂O₅",null,{"$f":"E1G2G!V55","v":0},{"$f":"E32*'Dados auxiliares'!$H$67","v":0},null,{"$error":"#DIV/0!"},{"$error":"#DIV/0!"}]
[null,"K₂O - Cloreto de potássio (KCl)","kg K₂O",null,{"$f":"E1G2G!V56","v":0},{"$f":"E33*'Dados auxiliares'!H$68","v":0},null,{"$error":"#DIV/0!"},{"$error":"#DIV/0!"}]
[null,"N - Outros","kg N",null,{"$f":"E1G2G!V57","v":0},{"$f":"E34*'Dados auxiliares'!H$69","v":0},null,{"$error":"#DIV/0!"},{"$error":"#DIV/0!"}]
[null,"P₂O₅ - Outros","kg P₂O₅",null,{"$f":"E1G2G!V58","v":0},{"$f":"E35*'Dados auxiliares'!H$70","v":0},null,{"$error":"#DIV/0!"},{"$error":"#DIV/0!"}]
[null,"K₂O - Outros","kg K₂O",null,{"$f":"E1G2G!V59","v":0},{"$f":"E36*'Dados auxiliares'!H$71","v":0},null,{"$error":"#DIV/0!"},{"$error":"#DIV/0!"}]
[null,"Vinhaça","L",null,{"$f":"E1G2G!V62","v":0},0,null,{"$error":"#DIV/0!"},{"$error":"#DIV/0!"}]
[null,"Torta de filtro","kg",null,{"$f":"E1G2G!V63","v":0},0,null,{"$error":"#DIV/0!"},{"$error":"#DIV/0!"}]
[null,"Cinzas e fuligem","kg",null,{"$f":"E1G2G!V64","v":0},0,null,{"$error":"#DIV/0!"},{"$error":"#DIV/0!"}]
[null,"Outros Fertilizantes Orgânicos/Organominerais","kg",null,{"$f":"E1G2G!V65+E1G2G!V66","v":0},0,null,{"$error":"#DIV/0!"},{"$error":"#DIV/0!"}]
[null,"Agroquímicos"]
[null,"Herbicidas e Inseticidas - Total","kg",{"$f":"SUM(D43:D56)","v":1.0831569385065971},{"$f":"SUM(E43:E56)","v":{"$error":"#DIV/0!"}},{"$f":"SUM(F43:F56)","v":{"$error":"#DIV/0!"}},null,{"$f":"(F42/$E$91)*$F$91","v":{"$error":"#DIV/0!"}},{"$f":"(F42/$E$92)*$F$92","v":{"$error":"#DIV/0!"}}]
[null,"Herbicida, Roundup Ready, como glifosato","kg",0.17411826749021314,{"$f":"D43*$E$15","v":{"$error":"#DIV/0!"}},{"$f":"E43*'Dados auxiliares'!$H$72","v":{"$error":"#DIV/0!"}},null,{"$error":"#DIV/0!"},{"$error":"#DIV/0!"}]
[null,"Herbicida, Boral 500 SC, como sulfentrazone","kg",0.51076802087864281,{"$f":"D44*$E$15","v":{"$error":"#DIV/0!"}},{"$f":"E44*'Dados auxiliares'!$H$74","v":{"$error":"#DIV/0!"}},null,{"$error":"#DIV/0!"},{"$error":"#DIV/0!"}]
[null,"Herbicida, Hexaron, como hexazinona","kg",7.3793224880382789E-3,{"$f":"D45*$E$15","v":{"$error":"#DIV/0!"}},{"$f":"E45*'Dados auxiliares'!$H$74","v":{"$error":"#DIV/0!"}},null,{"$error":"#DIV/0!"},{"$error":"#DIV/0!"}]
[null,"Herbicida, Combine 500 SC, como tebuthiuron","kg",0.17491467014644049,{"$error":"#DIV/0!"},{"$f":"E46*'Dados auxiliares'!$H$74","v":{"$error":"#DIV/0!"}},null,{"$error":"#DIV/0!"},{"$error":"#DIV/0!"}]
[null,"Herbicida, Goal, como oxifluorfen","kg",4.4723166594171377E-3,{"$error":"#DIV/0!"},{"$f":"E47*'Dados auxiliares'!$H$74","v":{"$error":"#DIV/0!"}},null,{"$error":"#DIV/0!"},{"$error":"#DIV/0!"}]
[null,"Herbicida, Diuron, como diuron","kg",9.3173263737857046E-3,{"$error":"#DIV/0!"},{"$f":"E48*'Dados auxiliares'!$H$74","v":{"$error":"#DIV/0!"}},null,{"$error":"#DIV/0!"},{"$error":"#DIV/0!"}]
[null,"Herbicida, Herburon, como diuron","kg",4.6586631868928516E-2,{"$f":"D49*$E$15","v":{"$error":"#DIV/0!"}},{"$f":"E49*'Dados auxiliares'!$H$74","v":{"$error":"#DIV/0!"}},null,{"$error":"#DIV/0!"},{"$error":"#DIV/0!"}]
[null,"Herbicida, Hexaron, como diuron","kg",2.616305245759026E-2,{"$f":"D50*$E$15","v":{"$error":"#DIV/0!"}},{"$f":"E50*'Dados auxiliares'!$H$74","v":{"$error":"#DIV/0!"}},null,{"$error":"#DIV/0!"},{"$error":"#DIV/0!"}]
[null,"Herbicida, Herbipak, como ametrina","kg",4.6586631868928516E-2,{"$error":"#DIV/0!"},{"$f":"E51*'Dados auxiliares'!$H$74","v":{"$error":"#DIV/0!"}},null,{"$error":"#DIV/0!"},{"$error":"#DIV/0!"}]
[null,"Herbicida, Nortox, como 2,4 D","kg",3.7548825286356391E-2,{"$error":"#DIV/0!"},{"$f":"E52*'Dados auxiliares'!$H$73","v":{"$error":"#DIV/0!"}},null,{"$error":"#DIV/0!"},{"$error":"#DIV/0!"}]
[null,"Inseticida, Actara, como thiamethoxan","kg",9.3173263737857046E-3,{"$error":"#DIV/0!"},{"$f":"E53*'Dados auxiliares'!$H$74","v":{"$error":"#DIV/0!"}},null,{"$error":"#DIV/0!"},{"$error":"#DIV/0!"}]
[null,"Inseticida, Mirex, como sulfluramida","kg",6.987994780339279E-5,{"$error":"#DIV/0!"},{"$f":"E54*'Dados auxiliares'!$H$74","v":{"$error":"#DIV/0!"}},null,{"$error":"#DIV/0!"},{"$error":"#DIV/0!"}]
[null,"Inseticida, Regent 800 WG, como fipronil","kg",3.4051201391909529E-2,{"$f":"D55*$E$15","v":{"$error":"#DIV/0!"}},{"$f":"E55*'Dados auxiliares'!$H$74","v":{"$error":"#DIV/0!"}},null,{"$error":"#DIV/0!"},{"$error":"#DIV/0!"}]
[null,"Inseticida, Regent 800 WG, como fipronil","kg",1.8634652747571412E-3,{"$f":"D56*$E$15","v":{"$error":"#DIV/0!"}},{"$f":"E56*'Dados auxiliares'!$H$74","v":{"$error":"#DIV/0!"}},null,{"$error":"#DIV/0!"},{"$error":"#DIV/0!"}]
[null,"Combustíveis e eletricidade"]
[null,"Diesel B0","kg",null,{"$f":"(E1G2G!$V$69*(1-0.08)+E1G2G!$V$70*(1-0.1)+E1G2G!$V$71*(1-E1G2G!$Y$71)+E1G2G!V72*(1-0.2)+E1G2G!$V$73*(1-0.3)+E1G2G!$V$74*(1-1))*('Dados auxiliares'!$D$26)","v":0},{"$f":"E58*'Dados auxiliares'!$H$116","v":0},null,{"$f":"(F58/$E$91)*$F$91","v":{"$error":"#DIV/0!"}},{"$f":"(F58/$E$92)*$F$92","v":{"$error":"#DIV/0!"}}]
[null,"Biodiesel B100","kg",null,{"$f":"(E1G2G!$V$69*(0.08)+E1G2G!$V$70*(0.1)+E1G2G!$V$71*(E1G2G!$Y$71)+E1G2G!V73*(0.2)+E1G2G!$V$73*(0.3)+E1G2G!$V$74*(1))*('Dados auxiliares'!$D$17)","v":0},{"$f":"E59*'Dados auxiliares'!$H$117","v":0},null,{"$error":"#DIV/0!"},{"$error":"#DIV/0!"}]
[null,"Gasolina A","kg",null,{"$f":"E1G2G!V75*(1-'FE''s queima combustíveis'!$D$19)*'Dados auxiliares'!$D$24","v":0},{"$f":"E60*'Dados auxiliares'!$H$120","v":0},null,{"$error":"#DIV/0!"},{"$error":"#DIV/0!"}]
[null,"Etanol anidro","kg",null,{"$f":"E1G2G!V75*('FE''s queima combustíveis'!$D$19)*'Dados auxiliares'!$D$15","v":0},{"$f":"E61*'Dados auxiliares'!$H$121","v":0},null,{"$error":"#DIV/0!"},{"$error":"#DIV/0!"}]
[null,"Etanol hidratado","kg",null,{"$f":"E1G2G!V76*'Dados auxiliares'!$D$16","v":0},{"$f":"E62*'Dados auxiliares'!$H$122","v":0},null,{"$error":"#DIV/0!"},{"$error":"#DIV/0!"}]
[null,"Biometano de terceiros","Nm³",null,{"$f":"E1G2G!V77","v":0},{"$f":"E63*('Dados auxiliares'!$D$18*1000)*'Dados auxiliares'!$F$18*'Dados auxiliares'!$H$125","v":0},null,{"$error":"#DIV/0!"},{"$error":"#DIV/0!"}]
[null,"Eletricidade da rede - mix médio","kWh",null,{"$f":"E1G2G!V79","v":0},{"$f":"E64*'Dados auxiliares'!$H$107","v":0},null,{"$error":"#DIV/0!"},{"$error":"#DIV/0!"}]
[null,"Eletricidade - PCH","kWh",null,{"$f":"E1G2G!V80","v":0},{"$f":"E65*'Dados auxiliares'!$H$108","v":0},null,{"$error":"#DIV/0!"},{"$error":"#DIV/0!"}]
[null,"Eletricidade - biomassa","kWh",null,{"$f":"E1G2G!V81","v":0},{"$f":"E66*'Dados auxiliares'!$H$109","v":0},null,{"$error":"#DIV/0!"},{"$error":"#DIV/0!"}]
[null,"Eletricidade - eólica","kWh",null,{"$f":"E1G2G!V82","v":0},{"$f":"E67*'Dados auxiliares'!$H$110","v":0},null,{"$error":"#DIV/0!"},{"$error":"#DIV/0!"}]
[null,"Eletricidade - solar","kWh",null,{"$f":"E1G2G!V83","v":0},{"$f":"E68*'Dados auxiliares'!$H$111","v":0},null,{"$error":"#DIV/0!"},{"$error":"#DIV/0!"}]
[null,"Emissões",null,"1 ha médio","1 t cana","g CO2 eq/t cana",null,"g CO2 eq/MJ","g CO2 eq/MJ"]
[null,"N2O - Fertilizantes sintéticos","kg",{"$f":"'_Emissões Agrícolas'!$D$54","v":{"$error":"#DIV/0!"}},{"$f":"D70*$E$15","v":{"$error":"#DIV/0!"}},{"$f":"E70*1000*'Dados auxiliares'!$D$9","v":{"$error":"#DIV/0!"}},null,{"$f":"(F70/$E$91)*$F$91","v":{"$error":"#DIV/0!"}},{"$f":"(F70/$E$92)*$F$92","v":{"$error":"#DIV/0!"}}]
[null,"N2O - Fertilizantes organominerais","kg",{"$f":"'_Emissões Agrícolas'!$D$58","v":{"$error":"#DIV/0!"}},{"$f":"D71*$E$15","v":{"$error":"#DIV/0!"}},{"$f":"E71*1000*'Dados auxiliares'!$D$9","v":{"$error":"#DIV/0!"}},null,{"$error":"#DIV/0!"},{"$error":"#DIV/0!"}]
[null,"N2O - Resíduos culturais","kg",{"$f":"'_Emissões Agrícolas'!$D$62","v":{"$error":"#DIV/0!"}},{"$f":"D72*$E$15","v":{"$error":"#DIV/0!"}},{"$f":"E72*1000*'Dados auxiliares'!$D$9","v":{"$error":"#DIV/0!"}},null,{"$error":"#DIV/0!"},{"$error":"#DIV/0!"}]
[null,"CO2 - Calcário ","kg",null,{"$f":"$E$18*'_Emissões Agrícolas'!$E$79+$E$19*'_Emissões Agrícolas'!$E$80","v":0},{"$f":"E73*1000","v":0},null,{"$error":"#DIV/0!"},{"$error":"#DIV/0!"}]
[null,"CO2 - Uréia","kg",null,{"$f":"$E$21*'_Emissões Agrícolas'!$E$81","v":0},{"$f":"E74*1000","v":0},null,{"$error":"#DIV/0!"},{"$error":"#DIV/0!"}]
[null,"N2O - queima palha","kg",{"$f":"'_Emissões Agrícolas'!D73","v":{"$error":"#DIV/0!"}},{"$f":"D75*$E$15","v":{"$error":"#DIV/0!"}},{"$f":"E75*1000*'Dados auxiliares'!$D$9","v":{"$error":"#DIV/0!"}},null,{"$error":"#DIV/0!"},{"$error":"#DIV/0!"}]
[null,"CH4 bio - queima palha","kg",{"$f":"'_Emissões Agrícolas'!D74","v":{"$error":"#DIV/0!"}},{"$f":"D76*$E$15","v":{"$error":"#DIV/0!"}},{"$f":"E76*1000*'Dados auxiliares'!$D$8","v":{"$error":"#DIV/0!"}},null,{"$error":"#DIV/0!"},{"$error":"#DIV/0!"}]
[null,"CO₂ eq - queima do diesel","kg",null,{"$f":"$E$58*'FE''s queima combustíveis'!$I$64/1000","v":0},{"$f":"E77*1000","v":0},null,{"$error":"#DIV/0!"},{"$error":"#DIV/0!"}]
[null,"CO₂ eq - queima do biodiesel","kg",null,{"$f":"$E$59*'FE''s queima combustíveis'!$I$65/1000","v":0},{"$f":"E78*1000","v":0},null,{"$error":"#DIV/0!"},{"$error":"#DIV/0!"}]
[null,"CO₂ eq - queima da gasolina A","kg",null,{"$f":"$E$60*'FE''s queima combustíveis'!$I$9/1000","v":0},0,null,{"$error":"#DIV/0!"},{"$error":"#DIV/0!"}]
[null,"CO₂ eq - queima do etanol anidro","kg",null,{"$f":"$E$61*'FE''s queima combustíveis'!$I$7/1000","v":0},0,null,{"$error":"#DIV/0!"},{"$error":"#DIV/0!"}]
[null,"CO₂ eq - queima do etanol hidratado","kg",null,{"$f":"$E$62*'FE''s queima combustíveis'!$I$8/1000","v":0},0,null,{"$error":"#DIV/0!"},{"$error":"#DIV/0!"}]
[null,"CO₂ eq - queima do biometano","kg",null,{"$f":"($E$63+E1G2G!V78)*'FE''s queima combustíveis'!$I$66/1000","v":0},0,null,{"$error":"#DIV/0!"},{"$error":"#DIV/0!"}]
[]
[null,"Emissões do processo","g CO2 eq/t cana",null,null,{"$f":"SUM(F70:F82)","v":{"$error":"#DIV/0!"}},null,{"$f":"(F84/$E$91)*$F$91","v":{"$error":"#DIV/0!"}},{"$f":"(F84/$E$92)*$F$92","v":{"$error":"#DIV/0!"}}]
[null,"Emissões background","g CO2 eq/t cana",null,null,{"$f":"SUM(F18:F42,F57:F68)","v":{"$error":"#DIV/0!"}},null,{"$f":"(F85/$E$91)*$F$91","v":{"$error":"#DIV/0!"}},{"$error":"#DIV/0!"}]
[null,"Emissões totais","g CO2 eq/t cana",null,null,{"$f":"F84+F85","v":{"$error":"#DIV/0!"}},null,{"$f":"(F86/$E$91)*$F$91","v":{"$error":"#DIV/0!"}},{"$error":"#DIV/0!"}]
[]
[]
[null,"Etapa industrial - Etanol",null,null,null,null,null,"Emissões por MJ de etanol anidro","Emissões por MJ de etanol hidratado"]
[null,"Produtos","Unidade","1 TC","MJ","Alocação"]
[null,"Etanol anidro","kg",{"$f":"E1G2G!D95*'Dados auxiliares'!$D$15","v":0},{"$f":"D91*'Dados auxiliares'!$F$15","v":0},{"$f":"E91/SUM($E$91:$E$95)","v":{"$error":"#DIV/0!"}}]
[null,"Etanol hidratado","kg",{"$f":"E1G2G!D96*'Dados auxiliares'!$D$16","v":0},{"$f":"D92*'Dados auxiliares'!$F$16","v":0},{"$f":"E92/SUM($E$91:$E$95)","v":{"$error":"#DIV/0!"}}]
[null,"Açúcar","kg",{"$f":"E1G2G!D97","v":0},{"$f":"D93*'Dados auxiliares'!D36","v":0},{"$f":"E93/SUM($E$91:$E$95)","v":{"$error":"#DIV/0!"}}]
[null,"Energia elétrica comercializada","kWh",{"$f":"E1G2G!D98","v":0},{"$f":"CONVERT(D94,\"kWh\",\"MJ\")","v":0},{"$f":"E94/SUM($E$91:$E$95)","v":{"$error":"#DIV/0!"}}]
[null,"Bagaço comercializado","kg base úmida",{"$f":"E1G2G!D99","v":0},"-","-","Resíduo"]
[null,"Entradas ","Unidade","1 TC",null,"g CO2 eq/t cana",null,"g CO2 eq/MJ","g CO2 eq/MJ"]
[null,"Cana-de-açúcar","t",1,null,{"$f":"D97*F86","v":{"$error":"#DIV/0!"}},null,{"$f":"(F97/$E$91)*$F$91","v":{"$error":"#DIV/0!"}},{"$f":"(F97/$E$92)*$F$92","v":{"$error":"#DIV/0!"}}]
[null,"Bagaço próprio","kg base seca",{"$f":"(E1G2G!$D$90*1-E1G2G!$G$90)*1000/E1G2G!$D$88","v":{"$error":"#DIV/0!"}},null,0,null,{"$f":"(F98/$E$91)*$F$91","v":{"$error":"#DIV/0!"}},{"$error":"#DIV/0!"}]
[null,"Bagaço de terceiros","kg base seca",{"$f":"(E1G2G!$D$91*1-E1G2G!$G$91)*1000/E1G2G!$D$88","v":{"$error":"#DIV/0!"}},null,0,null,{"$error":"#DIV/0!"},{"$error":"#DIV/0!"}]
[null,"Transporte de bagaço de terceiros","tkm",{"$f":"D99/1000*E1G2G!$D$92","v":{"$error":"#DIV/0!"}},null,{"$f":"D100*'Dados auxiliares'!$H$131","v":{"$error":"#DIV/0!"}},null,{"$error":"#DIV/0!"},{"$error":"#DIV/0!"}]
[null,"Palha de própria","kg base seca",{"$f":"E1G2G!D89*1000/E1G2G!$D$88","v":{"$error":"#DIV/0!"}},null,{"$f":"D101*0","v":{"$error":"#DIV/0!"}},null,{"$error":"#DIV/0!"},{"$error":"#DIV/0!"}]
[null,"Palha de terceiros","kg base seca",{"$f":"E1G2G!$D$93*1000/E1G2G!$D$88","v":{"$error":"#DIV/0!"}},null,{"$f":"D102*'Dados auxiliares'!$H$78","v":{"$error":"#DIV/0!"}},null,{"$error":"#DIV/0!"},{"$error":"#DIV/0!"}]
[null,"Transporte de palha de terceiros","tkm",{"$f":"D102/1000*E1G2G!$D$94","v":{"$error":"#DIV/0!"}},null,{"$f":"D103*'Dados auxiliares'!$H$131","v":{"$error":"#DIV/0!"}},null,{"$error":"#DIV/0!"},{"$error":"#DIV/0!"}]
[null,"Água","kg",2008.2,null,{"$f":"D104*'Dados auxiliares'!$H$83","v":17.675317696958029},null,{"$error":"#DIV/0!"},{"$error":"#DIV/0!"}]
[null,"Cal (CaO)","kg",0.62,null,{"$f":"D105*'Dados auxiliares'!$H$84","v":596.27703828179551},null,{"$error":"#DIV/0!"},{"$error":"#DIV/0!"}]
[null,"Ácido sulfúrico","kg",0.48,null,{"$f":"D106*'Dados auxiliares'!$H$88","v":52.492732656084385},null,{"$error":"#DIV/0!"},{"$error":"#DIV/0!"}]
[null,"Ácido fosfórico","kg",0.2,null,{"$f":"D107*'Dados auxiliares'!$H$89","v":302.58539055259456},null,{"$error":"#DIV/0!"},{"$error":"#DIV/0!"}]
[null,"Floculante ","kg",2.5699999999999998E-3,null,{"$f":"D108*'Dados auxiliares'!$H$91","v":5.5278052807028546},null,{"$error":"#DIV/0!"},{"$error":"#DIV/0!"}]
[null,"Antibióticos","kg",1.41E-3,null,{"$f":"D109*'Dados auxiliares'!$H$92","v":3.0327647648992317},null,{"$error":"#DIV/0!"},{"$error":"#DIV/0!"}]
[null,"Óleo lubrificante","kg",{"$f":"13/1000","v":1.2999999999999999E-2},null,{"$f":"D110*'Dados auxiliares'!$H$93","v":14.708242207038198},null,{"$error":"#DIV/0!"},{"$error":"#DIV/0!"}]
[null,"Zeolita","kg",{"$f":"(D91*0.03)/67.2","v":0},null,{"$f":"D111*'Dados auxiliares'!$H$94","v":0},null,{"$error":"#DIV/0!"},{"$error":"#DIV/0!"}]
[null,"Enzimas","kg",{"$f":"E1G2G!D102","v":0},null,{"$f":"D112*'Dados auxiliares'!$H$99","v":0},null,{"$error":"#DIV/0!"},{"$error":"#DIV/0!"}]
[null,"Ácido sulfúrico","kg",{"$f":"E1G2G!D103","v":0},null,{"$f":"D113*'Dados auxiliares'!$H$88","v":0},null,{"$error":"#DIV/0!"},{"$error":"#DIV/0!"}]
[null,"Amônia","kg",{"$f":"E1G2G!D104","v":0},null,{"$f":"D114*'Dados auxiliares'!$H$95","v":0},null,{"$error":"#DIV/0!"},{"$error":"#DIV/0!"}]
[null,"Hidróxido de sódio","kg",{"$f":"E1G2G!D105","v":0},null,{"$f":"D115*'Dados auxiliares'!$H$97","v":0},null,{"$error":"#DIV/0!"},{"$error":"#DIV/0!"}]
[null,"Combustíveis e eletricidade"]
[null,"Bagaço próprio","kg base seca",{"$f":"E1G2G!$D$109*(1-E1G2G!$D$110)","v":0},null,0,null,{"$error":"#DIV/0!"},{"$f":"(F117/$E$92)*$F$92","v":{"$error":"#DIV/0!"}}]
[null,"Palha própria","kg base seca",{"$f":"E1G2G!$D$113*(1-E1G2G!$D$114)","v":0},null,0,null,{"$error":"#DIV/0!"},{"$error":"#DIV/0!"}]
[null,"Bagaço de terceiros","kg base seca",{"$f":"E1G2G!$D$117*(1-E1G2G!$D$118)","v":0},null,0,null,{"$error":"#DIV/0!"},{"$error":"#DIV/0!"}]
[null,"Transporte de bagaço de terceiros","tkm",{"$f":"((D119/1000)*E1G2G!$D$119)","v":0},null,{"$f":"D120*'Dados auxiliares'!$H$131","v":0},null,{"$error":"#DIV/0!"},{"$error":"#DIV/0!"}]
[null,"Palha de terceiros","kg base seca",{"$f":"E1G2G!$D$122*(1-E1G2G!$D$123)","v":0},null,{"$f":"D121*'Dados auxiliares'!$H$78","v":0},null,{"$error":"#DIV/0!"},{"$error":"#DIV/0!"}]
[null,"Transporte de palha de terceiros","tkm",{"$f":"((D121/1000)*E1G2G!$D$124)","v":0},null,{"$f":"D122*'Dados auxiliares'!$H$131","v":0},null,{"$error":"#DIV/0!"},{"$error":"#DIV/0!"}]
[null,"Cavaco de madeira","kg base seca",{"$f":"E1G2G!$D$127*(1-E1G2G!$D$128)","v":0},null,{"$f":"D123*'Dados auxiliares'!$H$123","v":0},null,{"$error":"#DIV/0!"},{"$error":"#DIV/0!"}]
[null,"Transporte de cavaco de madeira","tkm",{"$f":"((D123/1000)*E1G2G!$D$129)","v":0},null,{"$f":"D124*'Dados auxiliares'!$H$131","v":0},null,{"$error":"#DIV/0!"},{"$error":"#DIV/0!"}]
[null,"Lenha","kg base seca",{"$f":"E1G2G!$D$132*(1-E1G2G!$D$133)","v":0},null,{"$f":"D125*'Dados auxiliares'!$H$124","v":0},null,{"$error":"#DIV/0!"},{"$error":"#DIV/0!"}]
[null,"Transporte de lenha","tkm",{"$f":"((D125/1000)*E1G2G!$D$134)","v":0},null,{"$f":"D126*'Dados auxiliares'!$H$131","v":0},null,{"$error":"#DIV/0!"},{"$error":"#DIV/0!"}]
[null,"Resíduos florestais","kg base seca",{"$f":"E1G2G!$D$137*(1-E1G2G!$D$138)","v":0},null,0,null,{"$error":"#DIV/0!"},{"$error":"#DIV/0!"}]
[null,"Transporte de resíduos florestais","tkm",{"$f":"((D127/1000)*E1G2G!$D$139)","v":0},null,{"$f":"D128*'Dados auxiliares'!$H$131","v":0},null,{"$error":"#DIV/0!"},{"$error":"#DIV/0!"}]
[null,"Óleo combusível","kg",{"$f":"E1G2G!D141*'Dados auxiliares'!$D$30","v":0},null,{"$f":"D129*'Dados auxiliares'!$H$126","v":0},null,{"$error":"#DIV/0!"},{"$error":"#DIV/0!"}]
[null,"Biogás de terceiros","Nm³",{"$f":"E1G2G!D145","v":0},null,{"$f":"D130*E1G2G!G145*'Dados auxiliares'!$H$125","v":0},null,{"$error":"#DIV/0!"},{"$error":"#DIV/0!"}]
[null,"Eletricidade da rede - mix médio","kWh",{"$f":"E1G2G!D146","v":0},null,{"$f":"D131*'Dados auxiliares'!$H$107","v":0},null,{"$error":"#DIV/0!"},{"$error":"#DIV/0!"}]
[null,"Eletricidade - PCH","kWh",{"$f":"E1G2G!D147","v":0},null,{"$f":"D132*'Dados auxiliares'!$H$108","v":0},null,{"$error":"#DIV/0!"},{"$error":"#DIV/0!"}]
[null,"Eletricidade - biomassa","kWh",{"$f":"E1G2G!D148","v":0},null,{"$f":"D133*'Dados auxiliares'!$H$109","v":0},null,{"$error":"#DIV/0!"},{"$error":"#DIV/0!"}]
[null,"Eletricidade - eólica","kWh",{"$f":"E1G2G!D149","v":0},null,{"$f":"D134*'Dados auxiliares'!$H$110","v":0},null,{"$error":"#DIV/0!"},{"$error":"#DIV/0!"}]
[null,"Eletricidade - solar","kWh",{"$f":"E1G2G!D150","v":0},null,{"$f":"D135*'Dados auxiliares'!$H$111","v":0},null,{"$error":"#DIV/0!"},{"$error":"#DIV/0!"}]
[null,"Emissões","Unidade","1 TC",null,"g CO2 eq/t cana",null,"g CO2 eq/MJ","g CO2 eq/MJ"]
[null,"CO₂ eq - queima do bagaço próprio","kg",{"$f":"$D$117*'FE''s queima combustíveis'!$I$36/1000","v":0},null,{"$f":"D137*1000","v":0},null,{"$error":"#DIV/0!"},{"$f":"(F137/$E$92)*$F$92","v":{"$error":"#DIV/0!"}}]
[null,"CO₂ eq - queima da palha própria","kg",{"$f":"$D$118*'FE''s queima combustíveis'!$I$37/1000","v":0},null,{"$f":"D138*1000","v":0},null,{"$error":"#DIV/0!"},{"$error":"#DIV/0!"}]
[null,"CO₂ eq - queima do bagaço de terceiros","kg",{"$f":"$D$119*'FE''s queima combustíveis'!$I$36/1000","v":0},null,0,null,{"$error":"#DIV/0!"},{"$error":"#DIV/0!"}]
[null,"CO₂ eq - queima da palha de terceiros","kg",{"$f":"$D$121*'FE''s queima combustíveis'!$I$37/1000","v":0},null,0,null,{"$error":"#DIV/0!"},{"$error":"#DIV/0!"}]
[null,"CO₂ eq - queima dos cavacos de madeira","kg",{"$f":"$D$123*'FE''s queima combustíveis'!$I$38/1000","v":0},null,0,null,{"$error":"#DIV/0!"},{"$error":"#DIV/0!"}]
[null,"CO₂ eq - queima da lenha","kg",{"$f":"$D$125*'FE''s queima combustíveis'!$I$39/1000","v":0},null,0,null,{"$error":"#DIV/0!"},{"$error":"#DIV/0!"}]
[null,"CO₂ eq - queima dos resíduos florestais","kg",{"$f":"$D$127*'FE''s queima combustíveis'!$I$40/1000","v":0},null,0,null,{"$error":"#DIV/0!"},{"$error":"#DIV/0!"}]
[null,"CO₂ eq - queima do óleo combustível","kg",{"$f":"D129*'FE''s queima combustíveis'!$I$53/1000","v":0},null,0,null,{"$error":"#DIV/0!"},{"$error":"#DIV/0!"}]
[null,"CO₂ eq - queima do etanol hidratado próprio","kg",{"$f":"E1G2G!D142*'Dados auxiliares'!$D$16*'FE''s queima combustíveis'!$I$57/1000","v":0},null,0,null,{"$error":"#DIV/0!"},{"$error":"#DIV/0!"}]
[null,"CO₂ eq - queima do etanol anidro próprio","kg",{"$f":"E1G2G!D143*'Dados auxiliares'!$D$15*'FE''s queima combustíveis'!$I$55/1000","v":0},null,0,null,{"$error":"#DIV/0!"},{"$error":"#DIV/0!"}]
[null,"CO₂ eq - queima do biogás próprio","kg",{"$f":"E1G2G!D144*E1G2G!G144*'FE''s queima combustíveis'!$I$41/1000","v":0},null,0,null,{"$error":"#DIV/0!"},{"$error":"#DIV/0!"}]
[null,"CO₂ eq - queima do biogás de terceiros","kg",{"$f":"E1G2G!D145*E1G2G!G145*'FE''s queima combustíveis'!$I$41/1000","v":0},null,0,null,{"$error":"#DIV/0!"},{"$error":"#DIV/0!"}]
[]
[null,"Emissões do processo","g CO2 eq/t cana",null,null,{"$f":"SUM(F137:F148)","v":0},null,{"$f":"(F150/$E$91)*$F$91","v":{"$error":"#DIV/0!"}},{"$f":"(F150/$E$92)*$F$92","v":{"$error":"#DIV/0!"}}]
[null,"Emissões background","g CO2 eq/t cana",null,null,{"$f":"SUM(F97:F135)","v":{"$error":"#DIV/0!"}},null,{"$f":"(F151/$E$91)*$F$91","v":{"$error":"#DIV/0!"}},{"$error":"#DIV/0!"}]
[null,"Emissões totais","g CO2 eq/t cana",null,null,{"$f":"F150+F151","v":{"$error":"#DIV/0!"}},null,{"$error":"#DIV/0!"},{"$error":"#DIV/0!"}]
[]
[]
[null,"Etapa distribuição"]
[null,"Sistema logístico rodoviário"]
[null,"Parâmetro","Unidade","Etanol anidro","Etanol hidratado"]
[null,"Massa","kg/t cana",{"$f":"$D$91*E1G2G!$D$156","v":0},{"$f":"$D$92*E1G2G!$D$162","v":0}]
[null,"Distância de transporte rodoviário","km",{"$f":"'Dados auxiliares'!C154","v":700},{"$f":"'Dados auxiliares'!C154","v":700}]
[null,"Transporte rodoviário","tkm/t cana",{"$f":"D158/1000*D159","v":0},{"$f":"E158/1000*E159","v":0}]
[null,"Emissões","g CO2 eq/t cana",{"$f":"D160*'Dados auxiliares'!$H$132","v":0},{"$f":"E160*'Dados auxiliares'!$H$132","v":0}]
[null,"Emissões","g CO2 eq/MJ",{"$f":"D161/$E$91","v":{"$error":"#DIV/0!"}},{"$f":"E161/$E$92","v":{"$error":"#DIV/0!"}}]
[null,"Sistema logístico dutoviário"]
[null,"Parâmetro","Unidade","Etanol anidro","Etanol hidratado"]
[null,"Massa","kg/t cana",{"$f":"$D$91*E1G2G!$D$157","v":0},{"$f":"$D$92*E1G2G!$D$163","v":0}]
[null,"Distância de transporte rodoviário","km",{"$f":"'Dados auxiliares'!E154","v":200},{"$f":"'Dados auxiliares'!E154","v":200}]
[null,"Transporte rodoviário","tkm/t cana",{"$f":"D165/1000*D166","v":0},{"$f":"E165/1000*E166","v":0}]
[null,"Distância de transporte dutoviário","km",{"$f":"'Dados auxiliares'!D154","v":500},{"$f":"'Dados auxiliares'!D154","v":500}]
[null,"Transporte dutoviário","tkm/t cana",{"$f":"D165/1000*D168","v":0},{"$f":"E165/1000*E168","v":0}]
[null,"Emissões","g CO2 eq/t cana",{"$f":"D167*'Dados auxiliares'!$H$132+D169*'Dados auxiliares'!$H$136","v":0},{"$f":"E167*'Dados auxiliares'!$H$132+E169*'Dados auxiliares'!$H$136","v":0}]
[null,"Emissões","g CO2 eq/MJ",{"$f":"D170/$E$91","v":{"$error":"#DIV/0!"}},{"$f":"E170/$E$92","v":{"$error":"#DIV/0!"}}]
[null,"Sistema logístico ferroviário"]
[null,"Parâmetro","Unidade","Etanol anidro","Etanol hidratado"]
[null,"Massa","kg/t cana",{"$f":"$D$91*E1G2G!$D$158","v":0},{"$f":"$D$92*E1G2G!$D$164","v":0}]
[null,"Distância de transporte rodoviário","km",{"$f":"'Dados auxiliares'!G154","v":400},{"$f":"'Dados auxiliares'!G154","v":400}]
[null,"Transporte rodoviário","tkm/t cana",{"$f":"D174/1000*D175","v":0},{"$f":"E174/1000*E175","v":0}]
[null,"Distância de transporte ferroviário","km",{"$f":"'Dados auxiliares'!F154","v":300},{"$f":"'Dados auxiliares'!F154","v":300}]
[null,"Transporte ferroviário","tkm/t cana",{"$f":"D174/1000*D177","v":0},{"$f":"E174/1000*E177","v":0}]
[null,"Emissões","g CO2 eq/t cana",{"$f":"D176*'Dados auxiliares'!$H$132+D178*'Dados auxiliares'!$H$135","v":0},{"$f":"E176*'Dados auxiliares'!$H$132+E178*'Dados auxiliares'!$H$135","v":0}]
[null,"Emissões","g CO2 eq/MJ",{"$f":"D179/$E$91","v":{"$error":"#DIV/0!"}},{"$f":"E179/$E$92","v":{"$error":"#DIV/0!"}}]
[]
[null,"Emissões totais","g CO2 eq/MJ",{"$f":"D162+D171+D180","v":{"$error":"#DIV/0!"}},{"$f":"E162+E171+E180","v":{"$error":"#DIV/0!"}}]

{"sheet":"E2G","index":7,"n_rows":93,"n_cols":8,"rows_kept":93,"cut":false,"hidden":false,"merged":[[23,1,23,7],[3,2,3,7],[5,2,5,7],[7,2,7,7],[9,2,9,3],[12,2,12,3],[14,3,14,5],[89,2,89,4],[24,1,24,7],[36,1,36,7],[42,1,42,7],[44,2,44,4],[49,2,49,4],[54,2,54,4],[59,2,59,4],[64,2,64,4],[81,1,81,7],[83,2,83,4],[88,2,88,4]]}
[]
[null,"Etanol combustível de segunda geração"]
[]
[null,"Nome da Usina:","Usina Hipotética"]
[]
[null,"CNPJ","00.000.000/0000-00"]
[]
[null,"Responsável pelo preenchimento:"]
[]
[null,"Telefone :","(00) 0000-0000"]
[]
[]
[null,null,"Etanol Anidro"]
[]
[null,"Intensidade de Carbono\n(g CO₂eq/MJ)",{"$f":"SUM(C17:C20)","v":0.43899999999999995},"Nota de Eficiência Energético-Ambiental\n(g CO₂eq/MJ)",null,null,{"$f":"G18-C15","v":86.961000000000013}]
[]
[null,null,null,null,null,null,"Fóssil substituto: Gasolina"]
[null,"industrial",{"$f":"IFERROR(IF(C13=\"Etanol Anidro\",_E2G!C5,IF(C13=\"Etanol Hidratado\",_E2G!E5,\"\")),0)","v":0},null,null,null,{"$f":"'Dados auxiliares'!F166","v":87.4}]
[null,"transporte",{"$f":"IFERROR(IF(C13=\"Etanol Anidro\",_E2G!C6,IF(C13=\"Etanol Hidratado\",_E2G!E6,\"\")),0)","v":0},null,null,null,"Redução de emissões"]
[null,"uso",{"$f":"IFERROR(IF(C13=\"Etanol Anidro\",_E2G!C7,IF(C13=\"Etanol Hidratado\",_E2G!E7,\"\")),0)","v":0.43899999999999995},null,null,null,{"$f":"(G18-C15)/G18","v":0.9949771167048056}]
[]
[]
[]
[null,"Fase industrial - processamento do etanol"]
[null,"Processamento e rendimentos"]
[null,null,"Quantidade de bagaço de terceiros processada (base úmida)",1,"t bagaço","Umidade",0.5]
[null,null,"Distância de transporte ",1,"km"]
[null,null,"Quantidade de palha de terceiros processada (base seca)",1,"t palha"]
[null,null,"Distância de transporte",1,"km"]
[]
[null,null,"Quantidade de material lignocelulósico (MLC) processado (base seca)",null,"t MLC","Não deve ser preenchido. Cálculo automático"]
[]
[null,null,"Rendimento Etanol Anidro",null,"L/t MLC"]
[null,null,"Rendimento Etanol Hidratado",null,"L/t MLC"]
[null,null,"Rendimento Energia Elétrica Comercializada",null,"kWh/t MLC"]
[]
[null,"Insumos industriais"]
[null,null,"Enzimas",null,"kg/t MLC"]
[null,null,"Ácido sulfúrico",null,"kg/t MLC"]
[null,null,"Amônia",null,"kg/t MLC"]
[null,null,"Hidróxido de sódio",null,"kg/t MLC"]
[]
[null,"Combustíveis e eletricidade"]
[]
[null,null,"Bagaço de terceiros"]
[null,null,"Quantidade (base úmida)",null,"kg/t MLC"]
[null,null,"Umidade"]
[null,null,"Distância de transporte",null," km"]
[]
[null,null,"Palha de terceiros"]
[null,null,"Quantidade (base úmida)",null,"kg/t MLC"]
[null,null,"Umidade"]
[null,null,"Distância de transporte",null," km"]
[]
[null,null,"Cavaco de madeira"]
[null,null,"Quantidade (base úmida)",null,"kg/t MLC"]
[null,null,"Umidade"]
[null,null,"Distância de transporte",null," km"]
[]
[null,null,"Lenha"]
[null,null,"Quantidade (base úmida)",null,"kg/t MLC"]
[null,null,"Umidade"]
[null,null,"Distância de transporte",null," km"]
[]
[null,null,"Resíduos florestais"]
[null,null,"Quantidade (base úmida)",null,"kg/t MLC"]
[null,null,"Umidade"]
[null,null,"Distância de transporte",null," km"]
[]
[null,null,"Óleo combustível",null,"L/t MLC"]
[null,null,"Etanol hidratado próprio",null,"L/t MLC"]
[null,null,"Etanol anidro próprio",null,"L/t MLC"]
[null,null,"Biogás próprio",null,"Nm³/t MLC","PCI do biogás",null,"MJ/Nm³"]
[null,null,"Biogás de terceiros",null,"Nm³/t MLC","PCI do biogás",null,"MJ/Nm³"]
[null,null,"Eletricidade da rede - mix médio",null,"kWh/t MLC"]
[null,null,"Eletricidade - PCH",null,"kWh/t MLC"]
[null,null,"Eletricidade - biomassa",null,"kWh/t MLC"]
[null,null,"Eletricidade - eólica",null,"kWh/t MLC"]
[null,null,"Eletricidade - solar",null,"kWh/t MLC"]
[]
[]
[null,"Fase de distribuição"]
[]
[null,null,"Etanol anidro"]
[null,null,"Rodoviário",1]
[null,null,"Dutoviário",0,{"$f":"IF((SUM(D85:D87)=1),\"\",\"A soma das porcentagens de distribuição deve ser igual a 100%!\")","v":""}]
[null,null,"Ferroviário",0]
[]
[]
[null,null,"Etanol hidratado"]
[null,null,"Rodoviário",1]
[null,null,"Dutoviário",0,{"$f":"IF((SUM(D91:D93)=1),\"\",\"A soma das porcentagens de distribuição deve ser igual a 100%!\")","v":""}]
[null,null,"Ferroviário",0]

{"sheet":"_E2G","index":8,"n_rows":93,"n_cols":9,"rows_kept":93,"cut":false,"hidden":true,"merged":[[10,7,14,7],[10,8,14,8],[65,1,65,5],[1,1,1,5],[2,2,2,3],[2,4,2,5],[3,2,3,3],[3,4,3,5],[10,1,10,5]]}
[]
[null,"Emissões totais - g CO₂ eq"]
[null,null,"Anidro",null,"Hidratado"]
[null,"Total",{"$f":"C5+C6+C7","v":{"$error":"#DIV/0!"}},null,{"$f":"E5+E6+E7","v":{"$error":"#DIV/0!"}}]
[null,"Industrial",{"$f":"($H$63-$H$17)","v":{"$error":"#DIV/0!"}},{"$f":"C5/$C$4","v":{"$error":"#DIV/0!"}},{"$f":"($I$63-$I$17)","v":{"$error":"#DIV/0!"}},{"$f":"E5/$E$4","v":{"$error":"#DIV/0!"}}]
[null,"Transporte",{"$f":"$D$93","v":{"$error":"#DIV/0!"}},{"$f":"C6/$C$4","v":{"$error":"#DIV/0!"}},{"$f":"$E$93","v":{"$error":"#DIV/0!"}},{"$f":"E6/$E$4","v":{"$error":"#DIV/0!"}}]
[null,"Uso",{"$f":"'FE''s queima combustíveis'!$I$7","v":0.43899999999999995},{"$f":"C7/$C$4","v":{"$error":"#DIV/0!"}},{"$f":"'FE''s queima combustíveis'!$I$8","v":0.66300000000000003},{"$f":"E7/$E$4","v":{"$error":"#DIV/0!"}}]
[]
[]
[]
[null,"Etapa industrial - Etanol",null,null,null,null,null,"Emissões por MJ de etanol anidro","Emissões por MJ de etanol hidratado"]
[null,"Produtos","Unidade","1 MLC","MJ","Alocação"]
[null,"Etanol anidro","kg",{"$f":"E2G!D33*'Dados auxiliares'!$D$15","v":0},{"$f":"D13*'Dados auxiliares'!$F$15","v":0},{"$f":"E13/SUM($E$13:$E$15)","v":{"$error":"#DIV/0!"}}]
[null,"Etanol hidratado","kg",{"$f":"E2G!D34*'Dados auxiliares'!$D$16","v":0},{"$f":"D14*'Dados auxiliares'!$F$16","v":0},{"$f":"E14/SUM($E$13:$E$15)","v":{"$error":"#DIV/0!"}}]
[null,"Energia elétrica comercializada","kWh",{"$f":"E2G!D35","v":0},{"$f":"CONVERT(D15,\"kWh\",\"MJ\")","v":0},{"$f":"E15/SUM($E$13:$E$15)","v":{"$error":"#DIV/0!"}}]
[null,"Entradas ","Unidade","1 MLC",null,"g CO2 eq/t MLC",null,"g CO2 eq/MJ","g CO2 eq/MJ"]
[null,"MLC","t",1,null,0,null,{"$f":"(F17/$E$13)*$F$13","v":{"$error":"#DIV/0!"}},{"$f":"(F17/$E$14)*$F$14","v":{"$error":"#DIV/0!"}}]
[null,"Bagaço de terceiros","kg base seca",{"$f":"(E2G!$D$26*1-E2G!$G$26)*1000/E2G!$D$31","v":{"$error":"#DIV/0!"}},null,0,null,{"$f":"(F18/$E$13)*$F$13","v":{"$error":"#DIV/0!"}},{"$f":"(F18/$E$14)*$F$14","v":{"$error":"#DIV/0!"}}]
[null,"Transporte de bagaço de terceiros","tkm",{"$f":"D18/1000*E2G!$D$27","v":{"$error":"#DIV/0!"}},null,{"$f":"D19*'Dados auxiliares'!$H$131","v":{"$error":"#DIV/0!"}},null,{"$error":"#DIV/0!"},{"$error":"#DIV/0!"}]
[null,"Palha de terceiros","kg base seca",{"$f":"E2G!$D$28*1000/E2G!$D$31","v":{"$error":"#DIV/0!"}},null,{"$f":"D20*'Dados auxiliares'!$H$78","v":{"$error":"#DIV/0!"}},null,{"$error":"#DIV/0!"},{"$error":"#DIV/0!"}]
[null,"Transporte de palha de terceiros","tkm",{"$f":"D20/1000*E2G!$D$29","v":{"$error":"#DIV/0!"}},null,{"$f":"D21*'Dados auxiliares'!$H$131","v":{"$error":"#DIV/0!"}},null,{"$error":"#DIV/0!"},{"$error":"#DIV/0!"}]
[null,"Água","kg",4311.6885916272331,null,{"$f":"D22*'Dados auxiliares'!$H$83","v":37.949639312499187},null,{"$error":"#DIV/0!"},{"$error":"#DIV/0!"}]
[null,"Ácido sulfúrico","kg",0.61908314763588068,null,{"$f":"D23*'Dados auxiliares'!$H$88","v":67.702846168203138},null,{"$error":"#DIV/0!"},{"$error":"#DIV/0!"}]
[null,"Amônia","kg",3.7977109730580301,null,{"$f":"D24*'Dados auxiliares'!$H$95","v":11618.480177121233},null,{"$f":"(F24/$E$13)*$F$13","v":{"$error":"#DIV/0!"}},{"$error":"#DIV/0!"}]
[null,"Antibióticos","kg",2.8199479845661701E-3,null,{"$f":"D25*'Dados auxiliares'!$H$92","v":6.0654176499580732},null,{"$f":"(F25/$E$13)*$F$13","v":{"$error":"#DIV/0!"}},{"$error":"#DIV/0!"}]
[null,"Zeolita","kg",{"$f":"(0.4464/1000)*D13","v":0},null,{"$f":"D26*'Dados auxiliares'!$H$94","v":0},null,{"$error":"#DIV/0!"},{"$error":"#DIV/0!"}]
[null,"Enzimas","kg",{"$f":"E2G!D38","v":0},null,{"$f":"D27*'Dados auxiliares'!$H$99","v":0},null,{"$error":"#DIV/0!"},{"$error":"#DIV/0!"}]
[null,"Ácido sulfúrico","kg",{"$f":"E2G!D39","v":0},null,{"$f":"D28*'Dados auxiliares'!$H$88","v":0},null,{"$error":"#DIV/0!"},{"$error":"#DIV/0!"}]
[null,"Amônia","kg",{"$f":"E2G!D40","v":0},null,{"$f":"D29*'Dados auxiliares'!$H$95","v":0},null,{"$error":"#DIV/0!"},{"$error":"#DIV/0!"}]
[null,"Hidróxido de sódio","kg",{"$f":"E2G!D41","v":0},null,{"$f":"D30*'Dados auxiliares'!$H$97","v":0},null,{"$error":"#DIV/0!"},{"$error":"#DIV/0!"}]
[null,"Combustíveis e eletricidade"]
[null,"Bagaço de terceiros","kg base seca",{"$f":"E2G!$D$46*(1-E2G!$D$47)","v":0},null,0,null,{"$f":"(F32/$E$13)*$F$13","v":{"$error":"#DIV/0!"}},{"$error":"#DIV/0!"}]
[null,"Transporte de bagaço de terceiros","tkm",{"$f":"((D32/1000)*E2G!$D$48)","v":0},null,{"$f":"D33*'Dados auxiliares'!$H$131","v":0},null,{"$error":"#DIV/0!"},{"$error":"#DIV/0!"}]
[null,"Palha de terceiros","kg base seca",{"$f":"E2G!$D$51*(1-E2G!$D$52)","v":0},null,{"$f":"D34*'Dados auxiliares'!$H$78","v":0},null,{"$error":"#DIV/0!"},{"$error":"#DIV/0!"}]
[null,"Transporte de palha de terceiros","tkm",{"$f":"((D34/1000)*E2G!$D$53)","v":0},null,{"$f":"D35*'Dados auxiliares'!$H$131","v":0},null,{"$error":"#DIV/0!"},{"$error":"#DIV/0!"}]
[null,"Cavaco de madeira","kg base seca",{"$f":"E2G!$D$56*(1-E2G!$D$57)","v":0},null,{"$f":"D36*'Dados auxiliares'!$H$123","v":0},null,{"$error":"#DIV/0!"},{"$error":"#DIV/0!"}]
[null,"Transporte de cavaco de madeira","tkm",{"$f":"((D36/1000)*E2G!$D$58)","v":0},null,{"$f":"D37*'Dados auxiliares'!$H$131","v":0},null,{"$error":"#DIV/0!"},{"$error":"#DIV/0!"}]
[null,"Lenha","kg base seca",{"$f":"E2G!$D$61*(1-E2G!$D$62)","v":0},null,{"$f":"D38*'Dados auxiliares'!$H$124","v":0},null,{"$error":"#DIV/0!"},{"$error":"#DIV/0!"}]
[null,"Transporte de lenha","tkm",{"$f":"((D38/1000)*E2G!$D$63)","v":0},null,{"$f":"D39*'Dados auxiliares'!$H$131","v":0},null,{"$error":"#DIV/0!"},{"$error":"#DIV/0!"}]
[null,"Resíduos florestais","kg base seca",{"$f":"E2G!$D$66*(1-E2G!$D$67)","v":0},null,0,null,{"$error":"#DIV/0!"},{"$error":"#DIV/0!"}]
[null,"Transporte de resíduos florestais","tkm",{"$f":"((D40/1000)*E2G!$D$68)","v":0},null,{"$f":"D41*'Dados auxiliares'!$H$131","v":0},null,{"$f":"(F41/$E$13)*$F$13","v":{"$error":"#DIV/0!"}},{"$error":"#DIV/0!"}]
[null,"Óleo combusível","kg",{"$f":"E2G!D70*'Dados auxiliares'!$D$30","v":0},null,{"$f":"D42*'Dados auxiliares'!$H$126","v":0},null,{"$f":"(F42/$E$13)*$F$13","v":{"$error":"#DIV/0!"}},{"$f":"(F42/$E$14)*$F$14","v":{"$error":"#DIV/0!"}}]
[null,"Biogás de terceiros","Nm³",{"$f":"E2G!D74","v":0},null,{"$f":"D43*E2G!G74*'Dados auxiliares'!$H$125","v":0},null,{"$f":"(F43/$E$13)*$F$13","v":{"$error":"#DIV/0!"}},{"$f":"(F43/$E$14)*$F$14","v":{"$error":"#DIV/0!"}}]
[null,"Eletricidade da rede - mix médio","kWh",{"$f":"E2G!D75","v":0},null,{"$f":"D44*'Dados auxiliares'!$H$107","v":0},null,{"$error":"#DIV/0!"},{"$error":"#DIV/0!"}]
[null,"Eletricidade - PCH","kWh",{"$f":"E2G!D76","v":0},null,{"$f":"D45*'Dados auxiliares'!$H$108","v":0},null,{"$error":"#DIV/0!"},{"$error":"#DIV/0!"}]
[null,"Eletricidade - biomassa","kWh",{"$f":"E2G!D77","v":0},null,{"$f":"D46*'Dados auxiliares'!$H$109","v":0},null,{"$error":"#DIV/0!"},{"$error":"#DIV/0!"}]
[null,"Eletricidade - eólica","kWh",{"$f":"E2G!D78","v":0},null,{"$f":"D47*'Dados auxiliares'!$H$110","v":0},null,{"$error":"#DIV/0!"},{"$error":"#DIV/0!"}]
[null,"Eletricidade - solar","kWh",{"$f":"E2G!D79","v":0},null,{"$f":"D48*'Dados auxiliares'!$H$111","v":0},null,{"$error":"#DIV/0!"},{"$error":"#DIV/0!"}]
[null,"Emissões","Unidade","1 MLC",null,"g CO2 eq/t cana",null,"g CO2 eq/MJ","g CO2 eq/MJ"]
[null,"CO₂ eq - queima do bagaço de terceiros","kg",{"$f":"$D$32*'FE''s queima combustíveis'!$I$36/1000","v":0},null,{"$f":"D50*1000","v":0},null,{"$f":"(F50/$E$13)*$F$13","v":{"$error":"#DIV/0!"}},{"$error":"#DIV/0!"}]
[null,"CO₂ eq - queima da palha de terceiros","kg",{"$f":"$D$34*'FE''s queima combustíveis'!$I$37/1000","v":0},null,0,null,{"$f":"(F51/$E$13)*$F$13","v":{"$error":"#DIV/0!"}},{"$error":"#DIV/0!"}]
[null,"CO₂ eq - queima dos cavacos de madeira","kg",{"$f":"$D$36*'FE''s queima combustíveis'!$I$38/1000","v":0},null,0,null,{"$f":"(F52/$E$13)*$F$13","v":{"$error":"#DIV/0!"}},{"$error":"#DIV/0!"}]
[null,"CO₂ eq - queima da lenha","kg",{"$f":"$D$38*'FE''s queima combustíveis'!$I$39/1000","v":0},null,0,null,{"$f":"(F53/$E$13)*$F$13","v":{"$error":"#DIV/0!"}},{"$error":"#DIV/0!"}]
[null,"CO₂ eq - queima dos resíduos florestais","kg",{"$f":"$D$40*'FE''s queima combustíveis'!$I$40/1000","v":0},null,0,null,{"$f":"(F54/$E$13)*$F$13","v":{"$error":"#DIV/0!"}},{"$error":"#DIV/0!"}]
[null,"CO₂ eq - queima do óleo combustível","kg",{"$f":"D42*'FE''s queima combustíveis'!$I$53/1000","v":0},null,0,null,{"$f":"(F55/$E$13)*$F$13","v":{"$error":"#DIV/0!"}},{"$f":"(F55/$E$14)*$F$14","v":{"$error":"#DIV/0!"}}]
[null,"CO₂ eq - queima do etanol hidratado próprio","kg",{"$f":"E2G!D71*'Dados auxiliares'!$D$16*'FE''s queima combustíveis'!$I$57/1000","v":0},null,0,null,{"$error":"#DIV/0!"},{"$error":"#DIV/0!"}]
[null,"CO₂ eq - queima do etanol anidro próprio","kg",{"$f":"E2G!D72*'Dados auxiliares'!$D$15*'FE''s queima combustíveis'!$I$55/1000","v":0},null,0,null,{"$error":"#DIV/0!"},{"$error":"#DIV/0!"}]
[null,"CO₂ eq - queima do biogás próprio","kg",{"$f":"E2G!D73*E2G!G73*'FE''s queima combustíveis'!$I$41/1000","v":0},null,0,null,{"$error":"#DIV/0!"},{"$error":"#DIV/0!"}]
[null,"CO₂ eq - queima do biogás de terceiros","kg",{"$f":"E2G!D74*E2G!G74*'FE''s queima combustíveis'!$I$41/1000","v":0},null,{"$f":"D59*1000","v":0},null,{"$error":"#DIV/0!"},{"$error":"#DIV/0!"}]
[]
[null,"Emissões do processo","g CO2 eq/t MLC",null,null,{"$f":"SUM(F50:F59)","v":0},null,{"$f":"(F61/$E$13)*$F$13","v":{"$error":"#DIV/0!"}},{"$error":"#DIV/0!"}]
[null,"Emissões background","g CO2 eq/t MLC",null,null,{"$f":"SUM(F17:F48)","v":{"$error":"#DIV/0!"}},null,{"$f":"(F62/$E$13)*$F$13","v":{"$error":"#DIV/0!"}},{"$error":"#DIV/0!"}]
[null,"Emissões totais","g CO2 eq/t MLC",null,null,{"$f":"F61+F62","v":{"$error":"#DIV/0!"}},null,{"$f":"(F63/$E$13)*$F$13","v":{"$error":"#DIV/0!"}},{"$error":"#DIV/0!"}]
[]
[]
[null,"Etapa distribuição"]
[null,"Sistema logístico rodoviário"]
[null,"Parâmetro","Unidade","Etanol anidro","Etanol hidratado"]
[null,"Massa","kg/t MLC",{"$f":"$D$13*E2G!$D$85","v":0},{"$f":"$D$14*E2G!$D$91","v":0}]
[null,"Distância de transporte rodoviário","km",{"$f":"'Dados auxiliares'!C155","v":700},{"$f":"'Dados auxiliares'!C155","v":700}]
[null,"Transporte rodoviário","tkm/t MLC",{"$f":"D69/1000*D70","v":0},{"$f":"E69/1000*E70","v":0}]
[null,"Emissões","g CO2 eq/t MLC",{"$f":"D71*'Dados auxiliares'!$H$132","v":0},{"$f":"E71*'Dados auxiliares'!$H$132","v":0}]
[null,"Emissões","g CO2 eq/MJ",{"$f":"D72/$E$13","v":{"$error":"#DIV/0!"}},{"$f":"E72/$E$14","v":{"$error":"#DIV/0!"}}]
[null,"Sistema logístico dutoviário"]
[null,"Parâmetro","Unidade","Etanol anidro","Etanol hidratado"]
[null,"Massa","kg/t MLC",{"$f":"$D$13*E2G!$D$86","v":0},{"$f":"$D$14*E2G!$D$92","v":0}]
[null,"Distância de transporte rodoviário","km",{"$f":"'Dados auxiliares'!E155","v":200},{"$f":"'Dados auxiliares'!E155","v":200}]
[null,"Transporte rodoviário","tkm/t MLC",{"$f":"D76/1000*D77","v":0},{"$f":"E76/1000*E77","v":0}]
[null,"Distância de transporte dutoviário","km",{"$f":"'Dados auxiliares'!D155","v":500},{"$f":"'Dados auxiliares'!D155","v":500}]
[null,"Transporte dutoviário","tkm/t MLC",{"$f":"D76/1000*D79","v":0},{"$f":"E76/1000*E79","v":0}]
[null,"Emissões","g CO2 eq/t MLC",{"$f":"D78*'Dados auxiliares'!$H$132+D80*'Dados auxiliares'!$H$136","v":0},{"$f":"E78*'Dados auxiliares'!$H$132+E80*'Dados auxiliares'!$H$136","v":0}]
[null,"Emissões","g CO2 eq/MJ",{"$f":"D81/$E$13","v":{"$error":"#DIV/0!"}},{"$f":"E81/$E$14","v":{"$error":"#DIV/0!"}}]
[null,"Sistema logístico ferroviário"]
[null,"Parâmetro","Unidade","Etanol anidro","Etanol hidratado"]
[null,"Massa","kg/t MLC",{"$f":"$D$13*E2G!$D$87","v":0},{"$f":"$D$14*E2G!$D$93","v":0}]
[null,"Distância de transporte rodoviário","km",{"$f":"'Dados auxiliares'!G155","v":400},{"$f":"'Dados auxiliares'!G155","v":400}]
[null,"Transporte rodoviário","tkm/t MLC",{"$f":"D85/1000*D86","v":0},{"$f":"E85/1000*E86","v":0}]
[null,"Distância de transporte ferroviário","km",{"$f":"'Dados auxiliares'!F155","v":300},{"$f":"'Dados auxiliares'!F155","v":300}]
[null,"Transporte ferroviário","tkm/t MLC",{"$f":"D85/1000*D88","v":0},{"$f":"E85/1000*E88","v":0}]
[null,"Emissões","g CO2 eq/t MLC",{"$f":"D87*'Dados auxiliares'!$H$132+D89*'Dados auxiliares'!$H$135","v":0},{"$f":"E87*'Dados auxiliares'!$H$132+E89*'Dados auxiliares'!$H$135","v":0}]
[null,"Emissões","g CO2 eq/MJ",{"$f":"D90/$E$13","v":{"$error":"#DIV/0!"}},{"$f":"E90/$E$14","v":{"$error":"#DIV/0!"}}]
[]
[null,"Emissões totais","g CO2 eq/MJ",{"$f":"D73+D82+D91","v":{"$error":"#DIV/0!"}},{"$f":"E73+E82+E91","v":{"$error":"#DIV/0!"}}]

{"sheet":"E1G Flex","index":9,"n_rows":230,"n_cols":46,"rows_kept":230,"cut":false,"hidden":false,"merged":[[93,1,93,2],[44,39,44,45],[62,39,62,45],[69,39,69,45],[23,39,23,45],[24,39,24,45],[36,39,36,45],[39,39,39,45],[62,1,62,7],[62,10,62,16],[87,1,87,7],[88,1,88,7],[62,30,62,36],[69,1,69,7],[69,10,69,16],[69,19,69,25],[166,2,166,4],[96,1,96,7],[101,1,101,7],[104,1,104,7],[122,1,122,7],[129,1,129,7],[148,1,148,7],[149,1,149,7],[165,1,165,7],[226,2,226,4],[170,2,170,4],[174,2,174,4],[179,2,179,4],[184,2,184,4],[189,2,189,4],[194,2,194,4],[218,1,218,7],[220,2,220,4],[225,2,225,4],[69,30,69,36],[62,19,62,25],[44,1,44,7],[44,10,44,16],[44,19,44,25],[44,30,44,36],[36,30,36,36],[39,30,39,36],[23,30,23,36],[24,1,24,7],[24,10,24,16],[24,19,24,25],[24,30,24,36],[23,1,23,7],[39,1,39,7],[39,10,39,16],[39,19,39,25],[36,1,36,7],[36,10,36,16],[36,19,36,25],[14,3,14,5],[23,10,23,16],[23,19,23,25],[3,2,3,7],[5,2,5,7],[7,2,7,7],[9,2,9,3],[12,2,12,3]]}
[]
[null,"Etanol combustível de primeira geração produzido a partir de cana-de-açúcar e milho em usina integrada"]
[]
[null,"Nome da Usina:","Usina Hipotetica"]
[]
[null,"CNPJ","00.000.000/0000-00"]
[]
[null,"Responsável pelo preenchimento:"]
[]
[null,"Telefone :","(00) 0000-0000"]
[]
[]
[null,null,"Etanol Anidro"]
[]
[null,"Intensidade de Carbono\n(g CO₂eq/MJ)",{"$f":"SUM(C17:C21)","v":0.43899999999999995},"Nota de Eficiência Energético-Ambiental\n(g CO₂eq/MJ)",null,null,{"$f":"G18-C15","v":86.961000000000013}]
[]
[null,"agrícola - cana-de-açúcar",{"$f":"IFERROR(IF($C$13=\"Etanol Anidro\",'_E1G Flex'!C5,IF($C$13=\"Etanol Hidratado\",'_E1G Flex'!E5,\"\")),0)","v":0},null,null,null,"Fóssil substituto: Gasolina"]
[null,"agrícola - milho",{"$f":"IFERROR(IF($C$13=\"Etanol Anidro\",'_E1G Flex'!C6,IF($C$13=\"Etanol Hidratado\",'_E1G Flex'!E6,\"\")),0)","v":0},null,null,null,{"$f":"'Dados auxiliares'!F166","v":87.4}]
[null,"industrial",{"$f":"IFERROR(IF($C$13=\"Etanol Anidro\",'_E1G Flex'!C7,IF($C$13=\"Etanol Hidratado\",'_E1G Flex'!E7,\"\")),0)","v":0},null,null,null,"Redução de emissões"]
[null,"transporte",{"$f":"IFERROR(IF($C$13=\"Etanol Anidro\",'_E1G Flex'!C8,IF($C$13=\"Etanol Hidratado\",'_E1G Flex'!E8,\"\")),0)","v":0},null,null,null,{"$f":"(G18-C15)/G18","v":0.9949771167048056}]
[null,"uso",{"$f":"IFERROR(IF($C$13=\"Etanol Anidro\",'_E1G Flex'!C9,IF($C$13=\"Etanol Hidratado\",'_E1G Flex'!E9,\"\")),0)","v":0.43899999999999995}]
[]
[]
[null,"Fase agrícola - Produtores de Cana-de-açúcar - Dados Consolidados",null,null,null,null,null,null,null,null,"Fornecedores de cana-de-açúcar- Dados consolidados",null,null,null,null,null,null,null,null,"Média ponderada - RenovaCalc",null,null,null,null,null,null,null,null,null,null,"Default - Cana",null,null,null,null,null,null,null,null,"Guarda dados de preenchimento"]
[null,"Informações gerais",null,null,null,null,null,null,null,null,"Informações gerais",null,null,null,null,null,null,null,null,"Informações gerais",null,null,null,null,null,null,null,null,null,null,"Informações gerais",null,null,null,null,null,null,null,null,"Informações gerais"]
[]
[null,null,"Sistema de plantio","Convencional",null,null,null,null,null,null,null,"Sistema de plantio","Convencional",null,null,null,null,null,null,null,"Sistema de plantio",{"$f":"D27","v":"Convencional"}]
[null,null,"Área total",null,"ha",null,null,null,null,null,null,"Área total",null,"ha",null,null,null,null,null,null,"Área total",{"$f":"D28","v":0},"ha"]
[]
[null,null,"Produção total colhida para moagem",null,"t cana",null,null,null,null,null,null,"Produção total colhida para moagem",null,"t cana",null,null,null,null,null,null,"Produção total colhida para moagem",{"$f":"D30","v":0},"t cana"]
[null,null,"Quantidade comprada pela unidade produtora de biocombustível",null,"t cana"]
[null,null,"Teor de impurezas vegetais (base úmida)",null,"kg/t cana","Umidade",null,null,null,null,null,"Teor de impurezas vegetais (base úmida)",null,"kg/t cana","Umidade",0.5,null,null,null,null,"Teor de impurezas vegetais (base úmida)",{"$f":"D32","v":0},"kg/t cana","Umidade",{"$f":"G32","v":0}]
[null,null,"Teor de impurezas minerais",null,"kg/t cana",null,null,null,null,null,null,"Teor de impurezas minerais",null,"kg/t cana",null,null,null,null,null,null,"Teor de impurezas minerais",{"$f":"D33","v":0},"kg/t cana"]
[null,null,"Palha recolhida (base seca)",null,"t palha",null,null,null,null,null,null,"Palha recolhida (base seca)",null,"t palha",null,null,null,null,null,null,"Palha recolhida (base seca)",{"$f":"D34","v":0},"t palha"]
[]
[]
[null,"Área Queimada",null,null,null,null,null,null,null,null,"Área Queimada",null,null,null,null,null,null,null,null,"Área Queimada",null,null,null,null,null,null,null,null,null,null,"Área Queimada",null,null,null,null,null,null,null,null,"Área Queimada"]
[null,null,"Área queimada",null,"ha",null,null,null,null,null,null,"Área queimada",null,"ha",null,null,null,null,null,null,"Área queimada",{"$f":"D38","v":0},"ha",null,null,null,null,null,null,null,null,"Área queimada",1,"% da área total",null,null,null,null,null,null,"Área queimada",null,"% da área total"]
[]
[null,"Corretivos",null,null,null,null,null,null,null,null,"Corretivos",null,null,null,null,null,null,null,null,"Corretivos",null,null,null,null,null,null,null,null,null,null,"Corretivos",null,null,null,null,null,null,null,null,"Corretivos"]
[null,null,"Calcário calcítico",null,"kg/t cana",null,null,null,null,null,null,"Calcário calcítico",null,"kg/t cana",null,null,null,null,null,null,"Calcário calcítico",{"$f":"D41","v":0},"kg/t cana",null,null,null,null,null,null,null,null,"Calcário calcítico",0,"kg/t cana",null,null,null,null,null,null,"Calcário calcítico",null,"kg/t cana"]
[null,null,"Calcário dolomítico",null,"kg/t cana",null,null,null,null,null,null,"Calcário dolomítico",null,"kg/t cana",null,null,null,null,null,null,"Calcário dolomítico",{"$f":"D42","v":0},"kg/t cana",null,null,null,null,null,null,null,null,"Calcário dolomítico",12,"kg/t cana",null,null,null,null,null,null,"Calcário dolomítico",null,"kg/t cana"]
[null,null,"Gesso",null,"kg/t cana",null,null,null,null,null,null,"Gesso",null,"kg/t cana",null,null,null,null,null,null,"Gesso",{"$f":"D43","v":0},"kg/t cana",null,null,null,null,null,null,null,null,"Gesso",5,"kg/t cana",null,null,null,null,null,null,"Gesso",null,"kg/t cana"]
[]
[null,"Fertilizantes Sintéticos",null,null,null,null,null,null,null,null,"Fertilizantes Sintéticos",null,null,null,null,null,null,null,null,"Fertilizantes Sintéticos",null,null,null,null,null,null,null,null,null,null,"Fertilizantes Sintéticos",null,null,null,null,null,null,null,null,"Fertilizantes Sintéticos"]
[null,null,"Ureia",null,"kg N/t cana",null,null,null,null,null,null,"Ureia",null,"kg N/t cana",null,null,null,null,null,null,"Ureia",{"$f":"D46","v":0},"kg N/t cana",null,null,null,null,null,null,null,null,"Ureia",2,"kg N/t cana",null,null,null,null,null,null,"Ureia",null,"kg N/t cana"]
[null,null,"Fosfato monoamônico (MAP)",null,"kg N/t cana",null,null,null,null,null,null,"Fosfato monoamônico (MAP)",null,"kg N/t cana",null,null,null,null,null,null,"Fosfato monoamônico (MAP)",0,"kg N/t cana",null,null,null,null,null,null,null,null,"Fosfato monoamônico (MAP)",0,"kg N/t cana",null,null,null,null,null,null,"Fosfato monoamônico (MAP)",null,"kg N/t cana"]
[null,null,"Fosfato monoamônico (MAP)",null,"kg P₂O₅/t cana",null,null,null,null,null,null,"Fosfato monoamônico (MAP)",null,"kg P₂O₅/t cana",null,null,null,null,null,null,"Fosfato monoamônico (MAP)",0,"kg P₂O₅/t cana",null,null,null,null,null,null,null,null,"Fosfato monoamônico (MAP)",0,"kg P₂O₅/t cana",null,null,null,null,null,null,"Fosfato monoamônico (MAP)",null,"kg P₂O₅/t cana"]
[null,null,"Fosfato diamônico (DAP)",null,"kg N/t cana",null,null,null,null,null,null,"Fosfato diamônico (DAP)",null,"kg N/t cana",null,null,null,null,null,null,"Fosfato diamônico (DAP)",0,"kg N/t cana",null,null,null,null,null,null,null,null,"Fosfato diamônico (DAP)",0,"kg N/t cana",null,null,null,null,null,null,"Fosfato diamônico (DAP)",null,"kg N/t cana"]
[null,null,"Fosfato diamônico (DAP)",null,"kg P₂O₅/t cana",null,null,null,null,null,null,"Fosfato diamônico (DAP)",null,"kg P₂O₅/t cana",null,null,null,null,null,null,"Fosfato diamônico (DAP)",0,"kg P₂O₅/t cana",null,null,null,null,null,null,null,null,"Fosfato diamônico (DAP)",0,"kg P₂O₅/t cana",null,null,null,null,null,null,"Fosfato diamônico (DAP)",null,"kg P₂O₅/t cana"]
[null,null,"Nitrato de amônio",null,"kg N/t cana",null,null,null,null,null,null,"Nitrato de amônio",null,"kg N/t cana",null,null,null,null,null,null,"Nitrato de amônio",0,"kg N/t cana",null,null,null,null,null,null,null,null,"Nitrato de amônio",0,"kg N/t cana",null,null,null,null,null,null,"Nitrato de amônio",null,"kg N/t cana"]
[null,null,"Solução de nitrato de amônio e ureia (UAN)",null,"kg N/t cana",null,null,null,null,null,null,"Solução de nitrato de amônio e ureia (UAN)",null,"kg N/t cana",null,null,null,null,null,null,"Solução de nitrato de amônio e ureia (UAN)",0,"kg N/t cana",null,null,null,null,null,null,null,null,"Solução de nitrato de amônio e ureia (UAN)",0,"kg N/t cana",null,null,null,null,null,null,"Solução de nitrato de amônio e ureia (UAN)",null,"kg N/t cana"]
[null,null,"Amônia anidra",null,"kg N/t cana",null,null,null,null,null,null,"Amônia anidra",null,"kg N/t cana",null,null,null,null,null,null,"Amônia anidra",0,"kg N/t cana",null,null,null,null,null,null,null,null,"Amônia anidra",0,"kg N/t cana",null,null,null,null,null,null,"Amônia anidra",null,"kg N/t cana"]
[null,null,"Sulfato de amônio",null,"kg N/t cana",null,null,null,null,null,null,"Sulfato de amônio",null,"kg N/t cana",null,null,null,null,null,null,"Sulfato de amônio",0,"kg N/t cana",null,null,null,null,null,null,null,null,"Sulfato de amônio",0,"kg N/t cana",null,null,null,null,null,null,"Sulfato de amônio",null,"kg N/t cana"]
[null,null,"Nitrato de amônio e cálcio (CAN)",null,"kg N/t cana",null,null,null,null,null,null,"Nitrato de amônio e cálcio (CAN)",null,"kg N/t cana",null,null,null,null,null,null,"Nitrato de amônio e cálcio (CAN)",0,"kg N/t cana",null,null,null,null,null,null,null,null,"Nitrato de amônio e cálcio (CAN)",0,"kg N/t cana",null,null,null,null,null,null,"Nitrato de amônio e cálcio (CAN)",null,"kg N/t cana"]
[null,null,"Superfosfato simples (SSP)",null,"kg P₂O₅/t cana",null,null,null,null,null,null,"Superfosfato simples (SSP)",null,"kg P₂O₅/t cana",null,null,null,null,null,null,"Superfosfato simples (SSP)",0,"kg P₂O₅/t cana",null,null,null,null,null,null,null,null,"Superfosfato simples (SSP)",1,"kg P₂O₅/t cana",null,null,null,null,null,null,"Superfosfato simples (SSP)",null,"kg P₂O₅/t cana"]
[null,null,"Superfosfato triplo (TSP)",null,"kg P₂O₅/t cana",null,null,null,null,null,null,"Superfosfato triplo (TSP)",null,"kg P₂O₅/t cana",null,null,null,null,null,null,"Superfosfato triplo (TSP)",0,"kg P₂O₅/t cana",null,null,null,null,null,null,null,null,"Superfosfato triplo (TSP)",0,"kg P₂O₅/t cana",null,null,null,null,null,null,"Superfosfato triplo (TSP)",null,"kg P₂O₅/t cana"]
[null,null,"Cloreto de potássio (KCl)",null,"kg K₂O/t cana",null,null,null,null,null,null,"Cloreto de potássio (KCl)",null,"kg K₂O/t cana",null,null,null,null,null,null,"Cloreto de potássio (KCl)",0,"kg K₂O/t cana",null,null,null,null,null,null,null,null,"Cloreto de potássio (KCl)",2,"kg K₂O/t cana",null,null,null,null,null,null,"Cloreto de potássio (KCl)",null,"kg K₂O/t cana"]
[null,"Outros","especificar",null,"kg N/t cana",null,null,null,null,null,"Outros","especificar",null,"kg N/t cana",null,null,null,null,null,"Outros","especificar",0,"kg N/t cana",null,null,null,null,null,null,null,"Outros ","especificar",0,"kg N/t cana",null,null,null,null,null,"Outros ","especificar",null,"kg N/t cana"]
[null,"Outros","especificar",null,"kg P₂O₅/t cana",null,null,null,null,null,"Outros","especificar",null,"kg P₂O₅/t cana",null,null,null,null,null,"Outros","especificar",0,"kg P₂O₅/t cana",null,null,null,null,null,null,null,"Outros ","especificar",0,"kg P₂O₅/t cana",null,null,null,null,null,"Outros ","especificar",null,"kg P₂O₅/t cana"]
[null,"Outros","especificar",null,"kg K₂O/t cana",null,null,null,null,null,"Outros","especificar",null,"kg K₂O/t cana",null,null,null,null,null,"Outros","especificar",0,"kg K₂O/t cana",null,null,null,null,null,null,null,"Outros ","especificar",0,"kg K₂O/t cana",null,null,null,null,null,"Outros ","especificar",null,"kg K₂O/t cana"]
[]
[null,"Fertilizantes Orgânicos/Organominerais",null,null,null,null,null,null,null,null,"Fertilizantes Orgânicos/Organominerais",null,null,null,null,null,null,null,null,"Fertilizantes Orgânicos/Organominerais",null,null,null,null,null,null,null,null,null,null,"Fertilizantes Orgânicos/Organominerais",null,null,null,null,null,null,null,null,"Fertilizantes Orgânicos/Organominerais"]
[null,null,"Vinhaça",null,"L/t cana","Concentração de N",null,"g N/L",null,null,null,"Vinhaça",null,"L/t cana","Concentração de N",0.375,"g N/L",null,null,null,"Vinhaça",{"$f":"D64","v":0},"L/t cana","Concentração de N",{"$f":"G64","v":0},"g N/L",null,null,null,null,null,"Vinhaça",1000,"L/t cana","Concentração de N",0.375,"g N/L",null,null,null,"Vinhaça",440.2,"L/t cana","Concentração de N",0.375,"g N/L"]
[null,null,"Torta de Filtro (base úmida)",null,"kg/t cana","Concentração de N",null,"g N/kg",null,null,null,"Torta de Filtro (base úmida)",null,"kg/t cana","Concentração de N",2.8,"g N/kg",null,null,null,"Torta de Filtro (base úmida)",{"$f":"D65","v":0},"kg/t cana","Concentração de N",{"$f":"G65","v":0},"g N/kg",null,null,null,null,null,"Torta de Filtro (base úmida)",42.800000000000011,"kg/t cana","Concentração de N",2.8,"g N/kg",null,null,null,"Torta de Filtro (base úmida)",30.571428571428577,"kg/t cana","Concentração de N",2.8,"g N/kg"]
[null,null,"Cinzas e fuligem (base úmida)",null,"kg/t cana","Concentração de N",null,"g N/kg",null,null,null,"Cinzas e fuligem (base úmida)",null,"kg/t cana","Concentração de N",null,"g N/kg",null,null,null,"Cinzas e fuligem (base úmida)",{"$f":"D66","v":0},"kg/t cana","Concentração de N",{"$f":"G66","v":0},"g N/kg",null,null,null,null,null,"Cinzas e fuligem (base úmida)",10.08,"kg/t cana","Concentração de N",null,"g N/kg",null,null,null,"Cinzas e fuligem (base úmida)",7.2,"kg/t cana","Concentração de N",null,"g N/kg"]
[null,"Outros","especificar",null,"kg/t cana","Concentração de N",null,"g N/kg",null,null,"Outros","especificar",null,"kg/t cana","Concentração de N",null,"g N/kg",null,null,"Outros","especificar",{"$f":"D67","v":0},"kg/t cana","Concentração de N",{"$f":"G67","v":0},"g N/kg",null,null,null,null,"Outros","especificar",0,"kg/t cana","Concentração de N",null,"g N/kg",null,null,"Outros","especificar",0,"kg/t cana","Concentração de N",null,"g N/kg"]
[null,"Outros","especificar",null,"kg/t cana","Concentração de N",null,"g N/kg",null,null,"Outros","especificar",null,"kg/t cana","Concentração de N",null,"g N/kg",null,null,"Outros","especificar",{"$f":"D68","v":0},"kg/t cana","Concentração de N",{"$f":"G68","v":0},"g N/kg",null,null,null,null,"Outros","especificar",0,"kg/t cana","Concentração de N",null,"g N/kg",null,null,"Outros","especificar",null,"kg/t cana","Concentração de N",null,"g N/kg"]
[]
[null,"Combustíveis e eletricidade",null,null,null,null,null,null,null,null,"Combustíveis e eletricidade",null,null,null,null,null,null,null,null,"Combustíveis e eletricidade",null,null,null,null,null,null,null,null,null,null,"Combustíveis e eletricidade",null,null,null,null,null,null,null,null,"Combustíveis e eletricidade"]
[null,null,"Diesel - B8",null,"L/t cana",null,null,null,null,null,null,"Diesel - B8",null,"L/t cana",null,null,null,null,null,null,"Diesel - B8",{"$f":"D71","v":0},"L/t cana",null,null,null,null,null,null,null,null,"Diesel - B8",0,"L/t cana",null,null,null,null,null,null,"Diesel - B8",null,"L/t cana"]
[null,null,"Diesel - B10",null,"L/t cana",null,null,null,null,null,null,"Diesel - B10",null,"L/t cana",null,null,null,null,null,null,"Diesel - B10",0,"L/t cana",null,null,null,null,null,null,null,null,"Diesel - B10",6,"L/t cana",null,null,null,null,null,null,"Diesel - B10",null,"L/t cana"]
[null,null,"Diesel - BX",null,"L/t cana","Teor de biodiesel na mistura",null,null,null,null,null,"Diesel - BX",null,"L/t cana","Teor de biodiesel na mistura",0.11,null,null,null,null,"Diesel - BX",0,"L/t cana","Teor médio de biodiesel na mistura",{"$f":"G73","v":0},"%",null,null,null,null,null,"Diesel - BX",0,"L/t cana","Teor médio de biodiesel na mistura",0.11,"%",null,null,null,"Diesel - BX",null,"L/t cana","Teor médio de biodiesel na mistura",0.11,"%"]
[null,null,"Diesel - B20",null,"L/t cana",null,null,null,null,null,null,"Diesel - B20",null,"L/t cana",null,null,null,null,null,null,"Diesel - B20",0,"L/t cana",null,null,null,null,null,null,null,null,"Diesel - B20",0,"L/t cana",null,null,null,null,null,null,"Diesel - B20",null,"L/t cana"]
[null,null,"Diesel - B30",null,"L/t cana",null,null,null,null,null,null,"Diesel - B30",null,"L/t cana",null,null,null,null,null,null,"Diesel - B30",0,"L/t cana",null,null,null,null,null,null,null,null,"Diesel - B30",0,"L/t cana",null,null,null,null,null,null,"Diesel - B30",null,"L/t cana"]
[null,null,"Biodiesel - B100",null,"L/t cana",null,null,null,null,null,null,"Biodiesel - B100",null,"L/t cana",null,null,null,null,null,null,"Biodiesel - B100",0,"L/t cana",null,null,null,null,null,null,null,null,"Biodiesel - B100",0,"L/t cana",null,null,null,null,null,null,"Biodiesel - B100",null,"L/t cana"]
[null,null,"Gasolina C",null,"L/t cana",null,null,null,null,null,null,"Gasolina C",null,"L/t cana",null,null,null,null,null,null,"Gasolina C",0,"L/t cana",null,null,null,null,null,null,null,null,"Gasolina C",0,"L/t cana",null,null,null,null,null,null,"Gasolina C",null,"L/t cana"]
[null,null,"Etanol hidratado",null,"L/t cana",null,null,null,null,null,null,"Etanol hidratado",null,"L/t cana",null,null,null,null,null,null,"Etanol hidratado",0,"L/t cana",null,null,null,null,null,null,null,null,"Etanol hidratado",0,"L/t cana",null,null,null,null,null,null,"Etanol hidratado",null,"L/t cana"]
[null,null,"Biometano de terceiros",null,"Nm³/t cana",null,null,null,null,null,null,"Biometano de terceiros",null,"Nm³/t cana",null,null,null,null,null,null,"Biometano de terceiros",0,"Nm³/t cana",null,null,null,null,null,null,null,null,"Biometano de terceiros",0,"Nm³/t cana",null,null,null,null,null,null,"Biometano de terceiros",null,"Nm³/t cana"]
[null,null,"Biometano próprio",null,"Nm³/t cana",null,null,null,null,null,null,"Biometano próprio",null,"Nm³/t cana",null,null,null,null,null,null,"Biometano próprio",0,"Nm³/t cana",null,null,null,null,null,null,null,null,"Biometano próprio",0,"Nm³/t cana",null,null,null,null,null,null,"Biometano próprio",null,"Nm³/t cana"]
[null,null,"Eletricidade da rede - mix médio",null,"kWh/t cana",null,null,null,null,null,null,"Eletricidade da rede - mix médio",null,"kWh/t cana",null,null,null,null,null,null,"Eletricidade da rede - mix médio",0,"kWh/t cana",null,null,null,null,null,null,null,null,"Eletricidade da rede - mix médio",0,"kWh/t cana",null,null,null,null,null,null,"Eletricidade da rede - mix médio",null,"kWh/t cana"]
[null,null,"Eletricidade - PCH",null,"kWh/t cana",null,null,null,null,null,null,"Eletricidade - PCH",null,"kWh/t cana",null,null,null,null,null,null,"Eletricidade - PCH",0,"kWh/t cana",null,null,null,null,null,null,null,null,"Eletricidade - PCH",0,"kWh/t cana",null,null,null,null,null,null,"Eletricidade - PCH",null,"kWh/t cana"]
[null,null,"Eletricidade - biomassa",null,"kWh/t cana",null,null,null,null,null,null,"Eletricidade - biomassa",null,"kWh/t cana",null,null,null,null,null,null,"Eletricidade - biomassa",0,"kWh/t cana",null,null,null,null,null,null,null,null,"Eletricidade - biomassa",0,"kWh/t cana",null,null,null,null,null,null,"Eletricidade - biomassa",null,"kWh/t cana"]
[null,null,"Eletricidade - eólica",null,"kWh/t cana",null,null,null,null,null,null,"Eletricidade - eólica",null,"kWh/t cana",null,null,null,null,null,null,"Eletricidade - eólica",0,"kWh/t cana",null,null,null,null,null,null,null,null,"Eletricidade - eólica",0,"kWh/t cana",null,null,null,null,null,null,"Eletricidade - eólica",null,"kWh/t cana"]
[null,null,"Eletricidade - solar",null,"kWh/t cana",null,null,null,null,null,null,"Eletricidade - solar",null,"kWh/t cana",null,null,null,null,null,null,"Eletricidade - solar",0,"kWh/t cana",null,null,null,null,null,null,null,null,"Eletricidade - solar",0,"kWh/t cana",null,null,null,null,null,null,"Eletricidade - solar",null,"kWh/t cana"]
[]
[]
[null,"Fase agrícola - Produtores de milho - Dados consolidados"]
[null,"Informações gerais"]
[null,null,"Sistema de plantio","Convencional"]
[null,null,"Área total",null,"ha"]
[]
[null,null,"Produção total (base úmida)",null,"t milho","Umidade"]
[null,"Quantidade comprada pela unidade produtora de biocombustível (base úmida)",null,null,"t milho"]
[null,null,"Palha recolhida (base seca)",null,"t palha"]
[]
[null,"Corretivos"]
[null,null,"Calcário calcítico",null,"kg/t milho"]
[null,null,"Calcário dolomítico",null,"kg/t milho"]
[null,null,"Gesso",null,"kg/t milho"]
[]
[null,"Sementes"]
[null,null,"Sementes",null,"kg/t milho"]
[]
[null,"Fertilizantes Sintéticos"]
[null,null,"Ureia",null,"kg N/t milho"]
[null,null,"Fosfato Monoamônico (MAP)",null,"kg N/t milho"]
[null,null,"Fosfato Monoamônico (MAP)",null,"kg P₂O₅/t milho"]
[null,null,"Fosfato diamônico (DAP)",null,"kg N/t milho"]
[null,null,"Fosfato diamônico (DAP)",null,"kg P₂O₅/t milho"]
[null,null,"Nitrato de amônio",null,"kg N/t milho"]
[null,null,"Solução de nitrato de amônio e ureia (UAN)",null,"kg N/t milho"]
[null,null,"Amônia anidra",null,"kg N/t milho"]
[null,null,"Sulfato de amônio",null,"kg N/t milho"]
[null,null,"Nitrato de amônio e cálcio (CAN)",null,"kg N/t milho"]
[null,null,"Superfosfato simples (SSP)",null,"kg P₂O₅/t milho"]
[null,null,"Superfosfato triplo (TSP)",null,"kg P₂O₅/t milho"]
[null,null,"Cloreto de potássio (KCl)",null,"kg K₂O/t milho"]
[null,"Outros","especificar",null,"kg N/t milho"]
[null,"Outros","especificar",null,"kg P₂O₅/t milho"]
[null,"Outros","especificar",null,"kg K₂O/t milho"]
[]
[null,"              Fertilizantes Orgânicos/Organominerais"]
[null,"Outros","especificar",null,"kg/t milho","Concentração de N",null,"g N/kg"]
[null,"Outros","especificar",null,"kg/t milho","Concentração de N",null,"g N/kg"]
[null,"Outros","especificar",null,"kg/t milho","Concentração de N",null,"g N/kg"]
[null,"Outros","especificar",null,"kg/t milho","Concentração de N",null,"g N/kg"]
[null,"Outros","especificar",null,"kg/t milho","Concentração de N",null,"g N/kg"]
[]
[null,"Combustíveis e eletricidade"]
[null,null,"Diesel - B8",null,"L/t milho"]
[null,null,"Diesel - B10",null,"L/t milho"]
[null,null,"Diesel - BX",null,"L/t milho","Teor de biodiesel na mistura"]
[null,null,"Diesel - B20",null,"L/t milho"]
[null,null,"Diesel - B30",null,"L/t milho"]
[null,null,"Biodiesel - B100",null,"L/t milho"]
[null,null,"Gasolina C",null,"L/t milho"]
[null,null,"Etanol hidratado",null,"L/t milho"]
[null,null,"Biometano de terceiros",null,"Nm³/t milho"]
[null,null,"Biometano próprio",null,"Nm³/t milho"]
[null,null,"Eletricidade da rede - mix médio",null,"kWh/t milho"]
[null,null,"Eletricidade - PCH",null,"kWh/t milho"]
[null,null,"Eletricidade - biomassa",null,"kWh/t milho"]
[null,null,"Eletricidade - eólica",null,"kWh/t milho"]
[null,null,"Eletricidade - solar",null,"kWh/t milho"]
[]
[]
[]
[null,"Fase industrial - processamento do etanol"]
[null,"Processamento e rendimentos"]
[null,null,"Quantidade de cana processada",null,"t cana/ano"]
[null,null,"Quantidade de palha processada (base seca)",null,"t palha/ano"]
[null,null,"Quantidade de milho processado",null,"t milho/ano","Umidade"]
[null,null,"Distância de transporte - milho",null,"km"]
[null,null,"Produção de  Etanol Anidro",null,"L/ano"]
[null,null,"Produção de Etanol Hidratado",null,"L/ano"]
[null,null,"Produção de Açúcar",null,"kg/ano"]
[null,null,"Energia Elétrica Comercializada",null,"kWh/ano"]
[null,null,"Produção de DDG (Distillers Dried Grains) ",null,"kg/ano","Umidade"]
[null,null,"Produção de DDGS (Distillers Dried Grains with Solubles)",null,"kg/ano","Umidade"]
[null,null,"Produção de CGM (Corn Gluten Meal)",null,"kg/ano","Umidade"]
[null,null,"Produção de CGF (Corn Gluten Feed)",null,"kg/ano","Umidade"]
[null,null,"Produção de Óleo de milho",null,"kg/ano"]
[null,null,"Bagaço Comercializado (base úmida)",null,"kg/ano","Umidade"]
[]
[null,"Combustíveis e eletricidade"]
[null,null,"Bagaço próprio"]
[null,null,"Quantidade (base úmida)",null,"kg/ano"]
[null,null,"Umidade"]
[]
[null,null,"Palha própria"]
[null,null,"Quantidade (base úmida)",null,"kg/ano"]
[null,null,"Umidade"]
[]
[null,null,"Bagaço de terceiros"]
[null,null,"Quantidade (base úmida)",null,"kg/ano"]
[null,null,"Umidade"]
[null,null,"Distância de transporte",null," km"]
[]
[null,null,"Palha de terceiros"]
[null,null,"Quantidade (base úmida)",null,"kg/ano"]
[null,null,"Umidade"]
[null,null,"Distância de transporte",null," km"]
[]
[null,null,"Cavaco de madeira"]
[null,null,"Quantidade (base úmida)",null,"kg/ano"]
[null,null,"Umidade"]
[null,null,"Distância de transporte",null," km"]
[]
[null,null,"Lenha"]
[null,null,"Quantidade (base úmida)",null,"kg/ano"]
[null,null,"Umidade"]
[null,null,"Distância de transporte",null," km"]
[]
[null,null,"Resíduos florestais"]
[null,null,"Quantidade (base úmida)",null,"kg/ano"]
[null,null,"Umidade"]
[null,null,"Distância de transporte",null," km"]
[]
[null,null,"Óleo combustível",null,"L/ ano"]
[null,null,"Etanol hidratado próprio",null,"L/ ano"]
[null,null,"Etanol anidro próprio",null,"L/ ano"]
[null,null,"Biogás de terceiros",null,"Nm³/ano","PCI do biogás",null,"MJ/Nm³"]
[null,null,"Biogás próprio",null,"Nm³/ano","PCI do biogás",null,"MJ/Nm³"]
[null,null,"Gás natural",null,"Nm³/ano"]
[null,null,"Diesel - B8",null,"L/ ano"]
[null,null,"Diesel - B10",null,"L/ ano"]
[null,null,"Diesel - BX",null,"L/ ano","Teor de biodiesel na mistura"]
[null,null,"Diesel - B20",null,"L/ ano"]
[null,null,"Diesel - B30",null,"L/ ano"]
[null,null,"Biodiesel - B100",null,"L/ ano"]
[null,null,"Eletricidade da rede - mix médio",null,"kWh/ano"]
[null,null,"Eletricidade - PCH",null,"kWh/ano"]
[null,null,"Eletricidade - biomassa",null,"kWh/ano"]
[null,null,"Eletricidade - eólica",null,"kWh/ano"]
[null,null,"Eletricidade - solar",null,"kWh/ano"]
[]
[]
[null,"Fase de distribuição"]
[]
[null,null,"Etanol anidro"]
[null,null,"Rodoviário",1]
[null,null,"Dutoviário",0,{"$f":"IF((SUM(D222:D224)=1),\"\",\"A soma das porcentagens de distribuição deve ser igual a 100%!\")","v":""}]
[null,null,"Ferroviário",0]
[]
[]
[null,null,"Etanol hidratado"]
[null,null,"Rodoviário",1]
[null,null,"Dutoviário",0,{"$f":"IF((SUM(D228:D230)=1),\"\",\"A soma das porcentagens de distribuição deve ser igual a 100%!\")","v":""}]
[null,null,"Ferroviário",0]

{"sheet":"_E1G Flex","index":10,"n_rows":270,"n_cols":9,"rows_kept":270,"cut":false,"hidden":true,"merged":[[89,1,89,5],[168,1,168,5],[242,1,242,5],[1,1,1,5],[2,2,2,3],[2,4,2,5],[3,2,3,3],[3,4,3,5],[11,1,11,5],[11,7,15,7],[11,8,15,8],[89,7,93,7],[89,8,93,8],[168,7,179,7],[168,8,179,8]]}
[]
[null,"Emissões totais - g CO₂ eq"]
[null,null,"Anidro",null,"Hidratado"]
[null,"Total",{"$f":"SUM(C5:C9)","v":{"$error":"#DIV/0!"}},null,{"$f":"SUM(E5:E9)","v":{"$error":"#DIV/0!"}}]
[null,"Agrícola - Cana",{"$f":"$H$87","v":{"$error":"#DIV/0!"}},{"$f":"C5/$C$4","v":{"$error":"#DIV/0!"}},{"$f":"$I$87","v":{"$error":"#DIV/0!"}},{"$f":"E5/$E$4","v":{"$error":"#DIV/0!"}}]
[null,"Agrícola - Milho",{"$f":"$H$166","v":{"$error":"#DIV/0!"}},{"$f":"C6/$C$4","v":{"$error":"#DIV/0!"}},{"$f":"$I$166","v":{"$error":"#DIV/0!"}},{"$f":"E6/$E$4","v":{"$error":"#DIV/0!"}}]
[null,"Industrial",{"$f":"($H$240-$H$182-$H$183)","v":{"$error":"#DIV/0!"}},{"$f":"C7/$C$4","v":{"$error":"#DIV/0!"}},{"$f":"($I$240-$I$182-$I$183)","v":{"$error":"#DIV/0!"}},{"$error":"#DIV/0!"}]
[null,"Transporte",{"$f":"$D$270","v":{"$error":"#DIV/0!"}},{"$error":"#DIV/0!"},{"$f":"$E$270","v":{"$error":"#DIV/0!"}},{"$f":"E8/$E$4","v":{"$error":"#DIV/0!"}}]
[null,"Uso",{"$f":"'FE''s queima combustíveis'!$I$7","v":0.43899999999999995},{"$error":"#DIV/0!"},{"$f":"'FE''s queima combustíveis'!$I$8","v":0.66300000000000003},{"$f":"E9/$E$4","v":{"$error":"#DIV/0!"}}]
[]
[]
[null,"Etapa agrícola - Cana-de-açúcar",null,null,null,null,null,"Emissões por MJ de etanol anidro","Emissões por MJ de etanol hidratado"]
[null,"Produto",null,"1 ha médio","1 t cana"]
[null,"Produção de cana","kg",{"$f":"('E1G Flex'!V30/'E1G Flex'!V28)*1000","v":{"$error":"#DIV/0!"}},1000]
[null,"Entradas da natureza",null,"1 ha médio","1 t cana"]
[null,"Ocupação total","ha",1,{"$f":"(D16*E14)/D14","v":{"$error":"#DIV/0!"}}]
[null,"Entradas da tecnosfera",null,"1 ha médio","1 t cana","g CO2 eq/t cana",null,"g CO2 eq/MJ","g CO2 eq/MJ"]
[null,"Fertilizantes e corretivos"]
[null,"Calcário calcítico","kg",null,{"$f":"'E1G Flex'!V41","v":0},{"$f":"E19*'Dados auxiliares'!$H$52","v":0},null,{"$f":"(F19/$E$171)*$F$171","v":{"$error":"#DIV/0!"}},{"$f":"(F19/$E$172)*$F$172","v":{"$error":"#DIV/0!"}}]
[null,"Calcário dolomítico","kg",null,{"$f":"'E1G Flex'!V42","v":0},{"$f":"E20*'Dados auxiliares'!$H$53","v":0},null,{"$error":"#DIV/0!"},{"$error":"#DIV/0!"}]
[null,"Gesso","kg",null,{"$f":"'E1G Flex'!V43","v":0},{"$f":"E21*'Dados auxiliares'!$H$54","v":0},null,{"$error":"#DIV/0!"},{"$error":"#DIV/0!"}]
[null,"N - Ureia","kg N",null,{"$f":"'E1G Flex'!V46","v":0},{"$f":"E22*'Dados auxiliares'!$H$55","v":0},null,{"$error":"#DIV/0!"},{"$error":"#DIV/0!"}]
[null,"N - Fosfato monoamônico (MAP)","kg N",null,{"$f":"'E1G Flex'!V47","v":0},{"$f":"E23*'Dados auxiliares'!$H$56","v":0},null,{"$error":"#DIV/0!"},{"$error":"#DIV/0!"}]
[null,"P₂O₅ - Fosfato monoamônico (MAP)","kg P₂O₅",null,{"$f":"'E1G Flex'!V48","v":0},{"$f":"E24*'Dados auxiliares'!$H$57","v":0},null,{"$error":"#DIV/0!"},{"$error":"#DIV/0!"}]
[null,"N - Fosfato diamônico (DAP)","kg N",null,{"$f":"'E1G Flex'!V49","v":0},{"$f":"E25*'Dados auxiliares'!$H$58","v":0},null,{"$error":"#DIV/0!"},{"$error":"#DIV/0!"}]
[null,"P₂O₅ - Fosfato diamônico (DAP)","kg P₂O₅",null,{"$f":"'E1G Flex'!V50","v":0},{"$f":"E26*'Dados auxiliares'!$H$59","v":0},null,{"$error":"#DIV/0!"},{"$error":"#DIV/0!"}]
[null,"N - Nitrato de amônio","kg N",null,{"$f":"'E1G Flex'!V51","v":0},{"$f":"E27*'Dados auxiliares'!$H$60","v":0},null,{"$error":"#DIV/0!"},{"$error":"#DIV/0!"}]
[null,"N - Solução de nitrato de amônio e ureia (UAN)","kg N",null,{"$f":"'E1G Flex'!V52","v":0},{"$f":"E28*'Dados auxiliares'!$H$61","v":0},null,{"$error":"#DIV/0!"},{"$error":"#DIV/0!"}]
[null,"N - Amônia anidra","kg N",null,{"$f":"'E1G Flex'!V53","v":0},{"$f":"E29*'Dados auxiliares'!$H$62","v":0},null,{"$error":"#DIV/0!"},{"$error":"#DIV/0!"}]
[null,"N - Sulfato de amônio","kg N",null,{"$f":"'E1G Flex'!V54","v":0},{"$f":"E30*'Dados auxiliares'!$H$63","v":0},null,{"$error":"#DIV/0!"},{"$error":"#DIV/0!"}]
[null,"N - Nitrato de amônio e cálcio (CAN)","kg N",null,{"$f":"'E1G Flex'!V55","v":0},{"$f":"E31*'Dados auxiliares'!$H$64","v":0},null,{"$error":"#DIV/0!"},{"$error":"#DIV/0!"}]
[null,"P₂O₅ - Superfosfato simples (SSP)","kg P₂O₅",null,{"$f":"'E1G Flex'!V56","v":0},{"$f":"E32*'Dados auxiliares'!$H$66","v":0},null,{"$error":"#DIV/0!"},{"$error":"#DIV/0!"}]
[null,"P₂O₅ - Superfosfato triplo (TSP)","kg P₂O₅",null,{"$f":"'E1G Flex'!V57","v":0},{"$f":"E33*'Dados auxiliares'!$H$67","v":0},null,{"$error":"#DIV/0!"},{"$error":"#DIV/0!"}]
[null,"K₂O - Cloreto de potássio (KCl)","kg K₂O",null,{"$f":"'E1G Flex'!V58","v":0},{"$f":"E34*'Dados auxiliares'!H$68","v":0},null,{"$error":"#DIV/0!"},{"$error":"#DIV/0!"}]
[null,"N - Outros","kg N",null,{"$f":"'E1G Flex'!V59","v":0},{"$f":"E35*'Dados auxiliares'!H$69","v":0},null,{"$error":"#DIV/0!"},{"$error":"#DIV/0!"}]
[null,"P₂O₅ - Outros","kg P₂O₅",null,{"$f":"'E1G Flex'!V60","v":0},{"$f":"E36*'Dados auxiliares'!H$70","v":0},null,{"$error":"#DIV/0!"},{"$error":"#DIV/0!"}]
[null,"K₂O - Outros","kg K₂O",null,{"$f":"'E1G Flex'!V61","v":0},{"$f":"E37*'Dados auxiliares'!H$71","v":0},null,{"$error":"#DIV/0!"},{"$error":"#DIV/0!"}]
[null,"Vinhaça","L",null,{"$f":"'E1G Flex'!V64","v":0},0,null,{"$error":"#DIV/0!"},{"$error":"#DIV/0!"}]
[null,"Torta de filtro","kg",null,{"$f":"'E1G Flex'!V65","v":0},0,null,{"$error":"#DIV/0!"},{"$error":"#DIV/0!"}]
[null,"Cinzas e fuligem","kg",null,{"$f":"'E1G Flex'!V66","v":0},0,null,{"$error":"#DIV/0!"},{"$error":"#DIV/0!"}]
[null,"Outros Fertilizantes Orgânicos/Organominerais","kg",null,{"$f":"'E1G Flex'!V67+'E1G Flex'!V68","v":0},0,null,{"$error":"#DIV/0!"},{"$error":"#DIV/0!"}]
[null,"Agroquímicos"]
[null,"Herbicidas e Inseticidas - Total","kg",{"$f":"SUM(D44:D57)","v":1.0831569385065971},{"$f":"SUM(E44:E57)","v":{"$error":"#DIV/0!"}},{"$f":"SUM(F44:F57)","v":{"$error":"#DIV/0!"}},null,{"$f":"(F43/$E$171)*$F$171","v":{"$error":"#DIV/0!"}},{"$f":"(F43/$E$172)*$F$172","v":{"$error":"#DIV/0!"}}]
[null,"Herbicida, Roundup Ready, como glifosato","kg",0.17411826749021314,{"$f":"D44*$E$16","v":{"$error":"#DIV/0!"}},{"$f":"E44*'Dados auxiliares'!$H$72","v":{"$error":"#DIV/0!"}},null,{"$error":"#DIV/0!"},{"$error":"#DIV/0!"}]
[null,"Herbicida, Boral 500 SC, como sulfentrazone","kg",0.51076802087864281,{"$f":"D45*$E$16","v":{"$error":"#DIV/0!"}},{"$f":"E45*'Dados auxiliares'!$H$74","v":{"$error":"#DIV/0!"}},null,{"$error":"#DIV/0!"},{"$error":"#DIV/0!"}]
[null,"Herbicida, Hexaron, como hexazinona","kg",7.3793224880382789E-3,{"$f":"D46*$E$16","v":{"$error":"#DIV/0!"}},{"$f":"E46*'Dados auxiliares'!$H$74","v":{"$error":"#DIV/0!"}},null,{"$error":"#DIV/0!"},{"$error":"#DIV/0!"}]
[null,"Herbicida, Combine 500 SC, como tebuthiuron","kg",0.17491467014644049,{"$error":"#DIV/0!"},{"$f":"E47*'Dados auxiliares'!$H$74","v":{"$error":"#DIV/0!"}},null,{"$error":"#DIV/0!"},{"$error":"#DIV/0!"}]
[null,"Herbicida, Goal, como oxifluorfen","kg",4.4723166594171377E-3,{"$error":"#DIV/0!"},{"$f":"E48*'Dados auxiliares'!$H$74","v":{"$error":"#DIV/0!"}},null,{"$error":"#DIV/0!"},{"$error":"#DIV/0!"}]
[null,"Herbicida, Diuron, como diuron","kg",9.3173263737857046E-3,{"$error":"#DIV/0!"},{"$f":"E49*'Dados auxiliares'!$H$74","v":{"$error":"#DIV/0!"}},null,{"$error":"#DIV/0!"},{"$error":"#DIV/0!"}]
[null,"Herbicida, Herburon, como diuron","kg",4.6586631868928516E-2,{"$f":"D50*$E$16","v":{"$error":"#DIV/0!"}},{"$f":"E50*'Dados auxiliares'!$H$74","v":{"$error":"#DIV/0!"}},null,{"$error":"#DIV/0!"},{"$error":"#DIV/0!"}]
[null,"Herbicida, Hexaron, como diuron","kg",2.616305245759026E-2,{"$f":"D51*$E$16","v":{"$error":"#DIV/0!"}},{"$f":"E51*'Dados auxiliares'!$H$74","v":{"$error":"#DIV/0!"}},null,{"$error":"#DIV/0!"},{"$error":"#DIV/0!"}]
[null,"Herbicida, Herbipak, como ametrina","kg",4.6586631868928516E-2,{"$error":"#DIV/0!"},{"$f":"E52*'Dados auxiliares'!$H$74","v":{"$error":"#DIV/0!"}},null,{"$error":"#DIV/0!"},{"$error":"#DIV/0!"}]
[null,"Herbicida, Nortox, como 2,4 D","kg",3.7548825286356391E-2,{"$error":"#DIV/0!"},{"$f":"E53*'Dados auxiliares'!$H$73","v":{"$error":"#DIV/0!"}},null,{"$error":"#DIV/0!"},{"$error":"#DIV/0!"}]
[null,"Inseticida, Actara, como thiamethoxan","kg",9.3173263737857046E-3,{"$error":"#DIV/0!"},{"$f":"E54*'Dados auxiliares'!$H$74","v":{"$error":"#DIV/0!"}},null,{"$error":"#DIV/0!"},{"$error":"#DIV/0!"}]
[null,"Inseticida, Mirex, como sulfluramida","kg",6.987994780339279E-5,{"$error":"#DIV/0!"},{"$f":"E55*'Dados auxiliares'!$H$74","v":{"$error":"#DIV/0!"}},null,{"$error":"#DIV/0!"},{"$error":"#DIV/0!"}]
[null,"Inseticida, Regent 800 WG, como fipronil","kg",3.4051201391909529E-2,{"$f":"D56*$E$16","v":{"$error":"#DIV/0!"}},{"$f":"E56*'Dados auxiliares'!$H$74","v":{"$error":"#DIV/0!"}},null,{"$error":"#DIV/0!"},{"$error":"#DIV/0!"}]
[null,"Inseticida, Regent 800 WG, como fipronil","kg",1.8634652747571412E-3,{"$f":"D57*$E$16","v":{"$error":"#DIV/0!"}},{"$f":"E57*'Dados auxiliares'!$H$74","v":{"$error":"#DIV/0!"}},null,{"$error":"#DIV/0!"},{"$error":"#DIV/0!"}]
[null,"Combustíveis e eletricidade"]
[null,"Diesel B0","kg",null,{"$f":"('E1G Flex'!$V$71*(1-0.08)+'E1G Flex'!$V$72*(1-0.1)+'E1G Flex'!$V$73*(1-'E1G Flex'!$Y$73)+'E1G Flex'!V74*(1-0.2)+'E1G Flex'!$V$75*(1-0.3)+'E1G Flex'!$V$76*(1-1))*('Dados auxiliares'!$D$26)","v":0},{"$f":"E59*'Dados auxiliares'!$H$116","v":0},null,{"$f":"(F59/$E$171)*$F$171","v":{"$error":"#DIV/0!"}},{"$f":"(F59/$E$172)*$F$172","v":{"$error":"#DIV/0!"}}]
[null,"Biodiesel B100","kg",null,{"$f":"('E1G Flex'!$V$71*(0.08)+'E1G Flex'!$V$72*(0.1)+'E1G Flex'!$V$73*('E1G Flex'!$Y$73)+'E1G Flex'!V75*(0.2)+'E1G Flex'!$V$75*(0.3)+'E1G Flex'!$V$76*(1))*('Dados auxiliares'!$D$17)","v":0},{"$f":"E60*'Dados auxiliares'!$H$117","v":0},null,{"$f":"(F60/$E$171)*$F$171","v":{"$error":"#DIV/0!"}},{"$f":"(F60/$E$172)*$F$172","v":{"$error":"#DIV/0!"}}]
[null,"Gasolina A","kg",null,{"$f":"'E1G Flex'!V77*(1-'FE''s queima combustíveis'!$D$19)*'Dados auxiliares'!$D$24","v":0},{"$f":"E61*'Dados auxiliares'!$H$120","v":0},null,{"$f":"(F61/$E$171)*$F$171","v":{"$error":"#DIV/0!"}},{"$f":"(F61/$E$172)*$F$172","v":{"$error":"#DIV/0!"}}]
[null,"Etanol anidro","kg",null,{"$f":"'E1G Flex'!V77*('FE''s queima combustíveis'!$D$19)*'Dados auxiliares'!$D$15","v":0},{"$f":"E62*'Dados auxiliares'!$H$121","v":0},null,{"$f":"(F62/$E$171)*$F$171","v":{"$error":"#DIV/0!"}},{"$f":"(F62/$E$172)*$F$172","v":{"$error":"#DIV/0!"}}]
[null,"Etanol hidratado","kg",null,{"$f":"'E1G Flex'!V78*'Dados auxiliares'!$D$16","v":0},{"$f":"E63*'Dados auxiliares'!$H$122","v":0},null,{"$f":"(F63/$E$171)*$F$171","v":{"$error":"#DIV/0!"}},{"$f":"(F63/$E$172)*$F$172","v":{"$error":"#DIV/0!"}}]
[null,"Biometano de terceiros","Nm³",null,{"$f":"'E1G Flex'!V79","v":0},{"$f":"E64*('Dados auxiliares'!$D$18*1000)*'Dados auxiliares'!$F$18*'Dados auxiliares'!$H$125","v":0},null,{"$f":"(F64/$E$171)*$F$171","v":{"$error":"#DIV/0!"}},{"$f":"(F64/$E$172)*$F$172","v":{"$error":"#DIV/0!"}}]
[null,"Eletricidade da rede - mix médio","kWh",null,{"$f":"'E1G Flex'!V81","v":0},{"$f":"E65*'Dados auxiliares'!$H$107","v":0},null,{"$f":"(F65/$E$171)*$F$171","v":{"$error":"#DIV/0!"}},{"$error":"#DIV/0!"}]
[null,"Eletricidade - PCH","kWh",null,{"$f":"'E1G Flex'!V82","v":0},{"$f":"E66*'Dados auxiliares'!$H$108","v":0},null,{"$f":"(F66/$E$171)*$F$171","v":{"$error":"#DIV/0!"}},{"$f":"(F66/$E$172)*$F$172","v":{"$error":"#DIV/0!"}}]
[null,"Eletricidade - biomassa","kWh",null,{"$f":"'E1G Flex'!V83","v":0},{"$f":"E67*'Dados auxiliares'!$H$109","v":0},null,{"$f":"(F67/$E$171)*$F$171","v":{"$error":"#DIV/0!"}},{"$f":"(F67/$E$172)*$F$172","v":{"$error":"#DIV/0!"}}]
[null,"Eletricidade - eólica","kWh",null,{"$f":"'E1G Flex'!V84","v":0},{"$f":"E68*'Dados auxiliares'!$H$110","v":0},null,{"$f":"(F68/$E$171)*$F$171","v":{"$error":"#DIV/0!"}},{"$f":"(F68/$E$172)*$F$172","v":{"$error":"#DIV/0!"}}]
[null,"Eletricidade - solar","kWh",null,{"$f":"'E1G Flex'!V85","v":0},{"$f":"E69*'Dados auxiliares'!$H$111","v":0},null,{"$f":"(F69/$E$171)*$F$171","v":{"$error":"#DIV/0!"}},{"$f":"(F69/$E$172)*$F$172","v":{"$error":"#DIV/0!"}}]
[null,"Emissões",null,"1 ha médio","1 t cana","g CO2 eq/t cana",null,"g CO2 eq/MJ","g CO2 eq/MJ"]
[null,"N2O - Fertilizantes sintéticos","kg",{"$f":"'_Emissões Agrícolas'!$E$54","v":{"$error":"#DIV/0!"}},{"$f":"D71*$E$16","v":{"$error":"#DIV/0!"}},{"$f":"E71*1000*'Dados auxiliares'!$D$9","v":{"$error":"#DIV/0!"}},null,{"$f":"(F71/$E$171)*$F$171","v":{"$error":"#DIV/0!"}},{"$f":"(F71/$E$172)*$F$172","v":{"$error":"#DIV/0!"}}]
[null,"N2O - Fertilizantes organominerais","kg",{"$f":"'_Emissões Agrícolas'!$E$58","v":{"$error":"#DIV/0!"}},{"$f":"D72*$E$16","v":{"$error":"#DIV/0!"}},{"$f":"E72*1000*'Dados auxiliares'!$D$9","v":{"$error":"#DIV/0!"}},null,{"$error":"#DIV/0!"},{"$error":"#DIV/0!"}]
[null,"N2O - Resíduos culturais","kg",{"$f":"'_Emissões Agrícolas'!$E$62","v":{"$error":"#DIV/0!"}},{"$f":"D73*$E$16","v":{"$error":"#DIV/0!"}},{"$f":"E73*1000*'Dados auxiliares'!$D$9","v":{"$error":"#DIV/0!"}},null,{"$error":"#DIV/0!"},{"$error":"#DIV/0!"}]
[null,"CO2 - Calcário ","kg",null,{"$f":"$E$19*'_Emissões Agrícolas'!$E$79+$E$20*'_Emissões Agrícolas'!$E$80","v":0},{"$f":"E74*1000","v":0},null,{"$error":"#DIV/0!"},{"$error":"#DIV/0!"}]
[null,"CO2 - Uréia","kg",null,{"$f":"$E$22*'_Emissões Agrícolas'!$E$81","v":0},{"$f":"E75*1000","v":0},null,{"$error":"#DIV/0!"},{"$error":"#DIV/0!"}]
[null,"N2O - queima palha","kg",{"$f":"'_Emissões Agrícolas'!$E$73","v":{"$error":"#DIV/0!"}},{"$f":"D76*$E$16","v":{"$error":"#DIV/0!"}},{"$f":"E76*1000*'Dados auxiliares'!$D$9","v":{"$error":"#DIV/0!"}},null,{"$error":"#DIV/0!"},{"$error":"#DIV/0!"}]
[null,"CH4 bio - queima palha","kg",{"$f":"'_Emissões Agrícolas'!$E$74","v":{"$error":"#DIV/0!"}},{"$f":"D77*$E$16","v":{"$error":"#DIV/0!"}},{"$f":"E77*1000*'Dados auxiliares'!$D$8","v":{"$error":"#DIV/0!"}},null,{"$error":"#DIV/0!"},{"$error":"#DIV/0!"}]
[null,"CO₂ eq - queima do diesel","kg",null,{"$f":"$E$59*'FE''s queima combustíveis'!$I$64/1000","v":0},{"$f":"E78*1000","v":0},null,{"$error":"#DIV/0!"},{"$error":"#DIV/0!"}]
[null,"CO₂ eq - queima do biodiesel","kg",null,{"$f":"$E$60*'FE''s queima combustíveis'!$I$65/1000","v":0},{"$f":"E79*1000","v":0},null,{"$error":"#DIV/0!"},{"$error":"#DIV/0!"}]
[null,"CO₂ eq - queima da gasolina A","kg",null,{"$f":"$E$61*'FE''s queima combustíveis'!$I$9/1000","v":0},0,null,{"$error":"#DIV/0!"},{"$error":"#DIV/0!"}]
[null,"CO₂ eq - queima do etanol anidro","kg",null,{"$f":"$E$62*'FE''s queima combustíveis'!$I$7/1000","v":0},0,null,{"$error":"#DIV/0!"},{"$error":"#DIV/0!"}]
[null,"CO₂ eq - queima do etanol hidratado","kg",null,{"$f":"$E$63*'FE''s queima combustíveis'!$I$8/1000","v":0},0,null,{"$error":"#DIV/0!"},{"$error":"#DIV/0!"}]
[null,"CO₂ eq - queima do biometano","kg",null,{"$f":"($E$64+'E1G Flex'!V80)*'FE''s queima combustíveis'!$I$66/1000","v":0},0,null,{"$f":"(F83/$E$171)*$F$171","v":{"$error":"#DIV/0!"}},{"$error":"#DIV/0!"}]
[]
[null,"Emissões do processo","g CO2 eq/t cana",null,null,{"$f":"SUM(F71:F83)","v":{"$error":"#DIV/0!"}},null,{"$f":"(F85/$E$171)*$F$171","v":{"$error":"#DIV/0!"}},{"$f":"(F85/$E$172)*$F$172","v":{"$error":"#DIV/0!"}}]
[null,"Emissões background","g CO2 eq/t cana",null,null,{"$f":"SUM(F18:F43,F58:F69)","v":{"$error":"#DIV/0!"}},null,{"$f":"(F86/$E$171)*$F$171","v":{"$error":"#DIV/0!"}},{"$f":"(F86/$E$172)*$F$172","v":{"$error":"#DIV/0!"}}]
[null,"Emissões totais","g CO2 eq/t cana",null,null,{"$f":"F85+F86","v":{"$error":"#DIV/0!"}},null,{"$f":"(F87/$E$171)*$F$171","v":{"$error":"#DIV/0!"}},{"$f":"(F87/$E$172)*$F$172","v":{"$error":"#DIV/0!"}}]
[]
[]
[null,"Etapa agrícola - Milho",null,null,null,null,null,"Emissões por MJ de etanol anidro","Emissões por MJ de etanol hidratado"]
[null,"Produto",null,"1 ha médio","1 t milho"]
[null,"Produção de milho","kg",{"$f":"'E1G Flex'!D93/'E1G Flex'!D91*1000","v":{"$error":"#DIV/0!"}},1000]
[null,"Entradas da natureza",null,"1 ha médio","1 t milho","g CO2 eq/t milho"]
[null,"Ocupação total","ha",1,{"$f":"(D94*E92)/D92","v":{"$error":"#DIV/0!"}},"-"]
[null,"Entradas da tecnosfera",null,"1 ha médio","1 t milho","g CO2 eq/t milho",null,"g CO2 eq/MJ","g CO2 eq/MJ"]
[null,"Sementes de milho","kg",null,{"$f":"'E1G Flex'!D103","v":0},{"$f":"E96*'Dados auxiliares'!$H$75","v":0},null,{"$f":"(F96/$E$171)*$F$171*$D$183","v":{"$error":"#DIV/0!"}},{"$f":"(F96/$E$172)*$F$172*$D$183","v":{"$error":"#DIV/0!"}}]
[null,"Água","kg",602,{"$f":"D97*$E$16/$D$16","v":{"$error":"#DIV/0!"}},{"$f":"E97*'Dados auxiliares'!$H$83","v":{"$error":"#DIV/0!"}},null,{"$f":"(F97/$E$171)*$F$171*$D$183","v":{"$error":"#DIV/0!"}},{"$f":"(F97/$E$172)*$F$172*$D$183","v":{"$error":"#DIV/0!"}}]
[null,"Fertilizantes e corretivos"]
[null,"Calcário calcítico","kg",null,{"$f":"'E1G Flex'!D98","v":0},{"$f":"E99*'Dados auxiliares'!$H$52","v":0},null,{"$f":"(F99/$E$171)*$F$171*$D$183","v":{"$error":"#DIV/0!"}},{"$f":"(F99/$E$172)*$F$172*$D$183","v":{"$error":"#DIV/0!"}}]
[null,"Calcário dolomítico","kg",null,{"$f":"'E1G Flex'!D99","v":0},{"$f":"E100*'Dados auxiliares'!$H$53","v":0},null,{"$error":"#DIV/0!"},{"$error":"#DIV/0!"}]
[null,"Gesso","kg",null,{"$f":"'E1G Flex'!D100","v":0},{"$f":"E101*'Dados auxiliares'!$H$54","v":0},null,{"$error":"#DIV/0!"},{"$error":"#DIV/0!"}]
[null,"N - Ureia","kg N",null,{"$f":"'E1G Flex'!D106","v":0},{"$f":"E102*'Dados auxiliares'!$H$55","v":0},null,{"$error":"#DIV/0!"},{"$error":"#DIV/0!"}]
[null,"N - Fosfato monoamônico (MAP)","kg N",null,{"$f":"'E1G Flex'!D107","v":0},{"$f":"E103*'Dados auxiliares'!$H$56","v":0},null,{"$error":"#DIV/0!"},{"$error":"#DIV/0!"}]
[null,"P₂O₅ - Fosfato monoamônico (MAP)","kg P₂O₅",null,{"$f":"'E1G Flex'!D108","v":0},{"$f":"E104*'Dados auxiliares'!$H$57","v":0},null,{"$error":"#DIV/0!"},{"$error":"#DIV/0!"}]
[null,"N - Fosfato diamônico (DAP)","kg N",null,{"$f":"'E1G Flex'!D109","v":0},{"$f":"E105*'Dados auxiliares'!$H$58","v":0},null,{"$error":"#DIV/0!"},{"$error":"#DIV/0!"}]
[null,"P₂O₅ - Fosfato diamônico (DAP)","kg P₂O₅",null,{"$f":"'E1G Flex'!D110","v":0},{"$f":"E106*'Dados auxiliares'!$H$59","v":0},null,{"$error":"#DIV/0!"},{"$error":"#DIV/0!"}]
[null,"N - Nitrato de amônio","kg N",null,{"$f":"'E1G Flex'!D111","v":0},{"$f":"E107*'Dados auxiliares'!$H$60","v":0},null,{"$error":"#DIV/0!"},{"$error":"#DIV/0!"}]
[null,"N - Solução de nitrato de amônio e ureia (UAN)","kg N",null,{"$f":"'E1G Flex'!D112","v":0},{"$f":"E108*'Dados auxiliares'!$H$61","v":0},null,{"$error":"#DIV/0!"},{"$error":"#DIV/0!"}]
[null,"N - Amônia anidra","kg N",null,{"$f":"'E1G Flex'!D113","v":0},{"$f":"E109*'Dados auxiliares'!$H$62","v":0},null,{"$error":"#DIV/0!"},{"$error":"#DIV/0!"}]
[null,"N - Sulfato de amônio","kg N",null,{"$f":"'E1G Flex'!D114","v":0},{"$f":"E110*'Dados auxiliares'!$H$63","v":0},null,{"$error":"#DIV/0!"},{"$error":"#DIV/0!"}]
[null,"N - Nitrato de amônio e cálcio (CAN)","kg N",null,{"$f":"'E1G Flex'!D115","v":0},{"$f":"E111*'Dados auxiliares'!$H$64","v":0},null,{"$error":"#DIV/0!"},{"$error":"#DIV/0!"}]
[null,"P₂O₅ - Superfosfato simples (SSP)","kg P₂O₅",null,{"$f":"'E1G Flex'!D116","v":0},{"$f":"E112*'Dados auxiliares'!$H$66","v":0},null,{"$error":"#DIV/0!"},{"$error":"#DIV/0!"}]
[null,"P₂O₅ - Superfosfato triplo (TSP)","kg P₂O₅",null,{"$f":"'E1G Flex'!D117","v":0},{"$f":"E113*'Dados auxiliares'!$H$67","v":0},null,{"$error":"#DIV/0!"},{"$error":"#DIV/0!"}]
[null,"K₂O - Cloreto de potássio (KCl)","kg K₂O",null,{"$f":"'E1G Flex'!D118","v":0},{"$f":"E114*'Dados auxiliares'!H$68","v":0},null,{"$error":"#DIV/0!"},{"$error":"#DIV/0!"}]
[null,"N - Outros","kg N",null,{"$f":"'E1G Flex'!D119","v":0},{"$f":"E115*'Dados auxiliares'!H$69","v":0},null,{"$error":"#DIV/0!"},{"$error":"#DIV/0!"}]
[null,"P₂O₅ - Outros","kg P₂O₅",null,{"$f":"'E1G Flex'!D120","v":0},{"$f":"E116*'Dados auxiliares'!H$70","v":0},null,{"$error":"#DIV/0!"},{"$error":"#DIV/0!"}]
[null,"K₂O - Outros","kg K₂O",null,{"$f":"'E1G Flex'!D121","v":0},{"$f":"E117*'Dados auxiliares'!H$71","v":0},null,{"$error":"#DIV/0!"},{"$error":"#DIV/0!"}]
[null,"Outros Fertilizantes Orgânicos/Organominerais","kg",null,{"$f":"SUM('E1G Flex'!D124:D128)","v":0},0,null,{"$error":"#DIV/0!"},{"$error":"#DIV/0!"}]
[null,"Agroquímicos"]
[null,"Herbicidas, Fungicidas, Inseticidas, Adjuvantes","kg",{"$f":"SUM(D121:D138)","v":4.0067465003383447},{"$f":"SUM(E121:E138)","v":{"$error":"#DIV/0!"}},{"$f":"SUM(F121:F138)","v":{"$error":"#DIV/0!"}},null,{"$f":"(F120/$E$171)*$F$171*$D$183","v":{"$error":"#DIV/0!"}},{"$f":"(F120/$E$172)*$F$172*$D$183","v":{"$error":"#DIV/0!"}}]
[null,"Herbicida, como glifosato","kg",0.75187392980081791,{"$f":"D121*$E$94","v":{"$error":"#DIV/0!"}},{"$f":"E121*'Dados auxiliares'!$H$72","v":{"$error":"#DIV/0!"}}]
[null,"Herbicida,como atrazina","kg",2.0932993027155846,{"$f":"D122*$E$94","v":{"$error":"#DIV/0!"}},{"$f":"E122*'Dados auxiliares'!$H$74","v":{"$error":"#DIV/0!"}}]
[null,"Herbicida, como Nicosulfuron","kg",2.36375297890494E-3,{"$error":"#DIV/0!"},{"$f":"E123*'Dados auxiliares'!$H$74","v":{"$error":"#DIV/0!"}}]
[null,"Fungicida, como tebuconazol","kg",1.8326164347288825E-2,{"$error":"#DIV/0!"},{"$f":"E124*'Dados auxiliares'!$H$74","v":{"$error":"#DIV/0!"}}]
[null,"Fungicida, como Fluxapiroxade","kg",5.5545470593427286E-3,{"$error":"#DIV/0!"},{"$f":"E125*'Dados auxiliares'!$H$74","v":{"$error":"#DIV/0!"}}]
[null,"Fungicida, como Piraclostrobina","kg",1.1075833357851068E-2,{"$error":"#DIV/0!"},{"$f":"E126*'Dados auxiliares'!$H$74","v":{"$error":"#DIV/0!"}}]
[null,"Fungicida, como azoxistrobina","kg",3.1056518285327604E-2,{"$error":"#DIV/0!"},{"$f":"E127*'Dados auxiliares'!$H$74","v":{"$error":"#DIV/0!"}}]
[null,"Fungicida, como trifloxistrobina","kg",9.1630821736444126E-3,{"$error":"#DIV/0!"},{"$f":"E128*'Dados auxiliares'!$H$74","v":{"$error":"#DIV/0!"}}]
[null,"Fungicida, como Difeconazol","kg",1.1264232545823649E-2,{"$error":"#DIV/0!"},{"$f":"E129*'Dados auxiliares'!$H$74","v":{"$error":"#DIV/0!"}}]
[null,"Fungicida, como ciproconazole","kg",1.2422607314131043E-2,{"$error":"#DIV/0!"},{"$f":"E130*'Dados auxiliares'!$H$74","v":{"$error":"#DIV/0!"}}]
[null,"Inseticida, como Imidacloprido","kg",0.16669375386154345,{"$error":"#DIV/0!"},{"$f":"E131*'Dados auxiliares'!$H$74","v":{"$error":"#DIV/0!"}}]
[null,"Inseticida, como tiodicarbe","kg",9.9529583100414848E-2,{"$error":"#DIV/0!"},{"$f":"E132*'Dados auxiliares'!$H$74","v":{"$error":"#DIV/0!"}}]
[null,"Inseticida, Connect, como beta-ciflutrina","kg",6.649568978198829E-2,{"$error":"#DIV/0!"},{"$f":"E133*'Dados auxiliares'!$H$74","v":{"$error":"#DIV/0!"}}]
[null,"Inseticida, como teflubenzurom","kg",5.0786136691282468E-3,{"$error":"#DIV/0!"},{"$f":"E134*'Dados auxiliares'!$H$74","v":{"$error":"#DIV/0!"}}]
[null,"Inseticida, como bifentrina","kg",3.9458648386242615E-3,{"$error":"#DIV/0!"},{"$f":"E135*'Dados auxiliares'!$H$74","v":{"$error":"#DIV/0!"}}]
[null,"Inseticida, como lufenuron","kg",1.6362646738650741E-3,{"$error":"#DIV/0!"},{"$f":"E136*'Dados auxiliares'!$H$74","v":{"$error":"#DIV/0!"}}]
[null,"Adjuvante, como óleo mineral","kg",0.14463274588837566,{"$error":"#DIV/0!"},{"$f":"E137*'Dados auxiliares'!$H$74","v":{"$error":"#DIV/0!"}}]
[null,"Adjuvante, como ester metílico","kg",0.57233401394568828,{"$error":"#DIV/0!"},{"$f":"E138*'Dados auxiliares'!$H$74","v":{"$error":"#DIV/0!"}}]
[null,"Combustíveis e eletricidade"]
[null,"Diesel B0","kg",null,{"$f":"('E1G Flex'!$D$131*(1-0.08)+'E1G Flex'!$D$132*(1-0.1)+'E1G Flex'!$D$133*(1-'E1G Flex'!$G$133)+'E1G Flex'!$D$134*(1-0.2)+'E1G Flex'!$D$135*(1-0.3)+'E1G Flex'!$D$136*(1-1))*('Dados auxiliares'!$D$26)","v":0},{"$f":"E140*'Dados auxiliares'!$H$116","v":0},null,{"$f":"(F140/$E$171)*$F$171*$D$183","v":{"$error":"#DIV/0!"}},{"$f":"(F140/$E$172)*$F$172*$D$183","v":{"$error":"#DIV/0!"}}]
[null,"Biodiesel B100","kg",null,{"$f":"('E1G Flex'!$D$131*(0.08)+'E1G Flex'!$D$132*(0.1)+'E1G Flex'!$D$133*('E1G Flex'!$G$133)+'E1G Flex'!$D$134*(0.2)+'E1G Flex'!$D$135*(0.3)+'E1G Flex'!$D$136*(1))*('Dados auxiliares'!$D$17)","v":0},{"$f":"E141*'Dados auxiliares'!$H$117","v":0},null,{"$f":"(F141/$E$171)*$F$171*$D$183","v":{"$error":"#DIV/0!"}},{"$f":"(F141/$E$172)*$F$172*$D$183","v":{"$error":"#DIV/0!"}}]
[null,"Gasolina A","kg",null,{"$f":"'E1G Flex'!$D$137*(1-'FE''s queima combustíveis'!$D$19)*'Dados auxiliares'!$D$24","v":0},{"$f":"E142*'Dados auxiliares'!$H$120","v":0},null,{"$f":"(F142/$E$171)*$F$171*$D$183","v":{"$error":"#DIV/0!"}},{"$f":"(F142/$E$172)*$F$172*$D$183","v":{"$error":"#DIV/0!"}}]
[null,"Etanol anidro","kg",null,{"$f":"'E1G Flex'!$D$137*('FE''s queima combustíveis'!$D$19)*'Dados auxiliares'!$D$15","v":0},{"$f":"E143*'Dados auxiliares'!$H$121","v":0},null,{"$f":"(F143/$E$171)*$F$171*$D$183","v":{"$error":"#DIV/0!"}},{"$f":"(F143/$E$172)*$F$172*$D$183","v":{"$error":"#DIV/0!"}}]
[null,"Etanol hidratado","kg",null,{"$f":"'E1G Flex'!$D$138*'Dados auxiliares'!$D$16","v":0},{"$f":"E144*'Dados auxiliares'!$H$122","v":0},null,{"$f":"(F144/$E$171)*$F$171*$D$183","v":{"$error":"#DIV/0!"}},{"$f":"(F144/$E$172)*$F$172*$D$183","v":{"$error":"#DIV/0!"}}]
[null,"Biometano de terceiros","Nm³",null,{"$f":"'E1G Flex'!D139","v":0},{"$f":"E145*('Dados auxiliares'!$D$18*1000)*'Dados auxiliares'!$F$18*'Dados auxiliares'!$H$125","v":0},null,{"$f":"(F145/$E$171)*$F$171*$D$183","v":{"$error":"#DIV/0!"}},{"$f":"(F145/$E$172)*$F$172*$D$183","v":{"$error":"#DIV/0!"}}]
[null,"Eletricidade da rede - mix médio","kWh",null,{"$f":"'E1G Flex'!D141","v":0},{"$f":"E146*'Dados auxiliares'!$H$107","v":0},null,{"$f":"(F146/$E$171)*$F$171*$D$183","v":{"$error":"#DIV/0!"}},{"$f":"(F146/$E$172)*$F$172*$D$183","v":{"$error":"#DIV/0!"}}]
[null,"Eletricidade - PCH","kWh",null,{"$f":"'E1G Flex'!D142","v":0},{"$f":"E147*'Dados auxiliares'!$H$108","v":0},null,{"$f":"(F147/$E$171)*$F$171*$D$183","v":{"$error":"#DIV/0!"}},{"$f":"(F147/$E$172)*$F$172*$D$183","v":{"$error":"#DIV/0!"}}]
[null,"Eletricidade - biomassa","kWh",null,{"$f":"'E1G Flex'!D143","v":0},{"$f":"E148*'Dados auxiliares'!$H$109","v":0},null,{"$f":"(F148/$E$171)*$F$171*$D$183","v":{"$error":"#DIV/0!"}},{"$f":"(F148/$E$172)*$F$172*$D$183","v":{"$error":"#DIV/0!"}}]
[null,"Eletricidade - eólica","kWh",null,{"$f":"'E1G Flex'!D144","v":0},{"$f":"E149*'Dados auxiliares'!$H$110","v":0},null,{"$f":"(F149/$E$171)*$F$171*$D$183","v":{"$error":"#DIV/0!"}},{"$f":"(F149/$E$172)*$F$172*$D$183","v":{"$error":"#DIV/0!"}}]
[null,"Eletricidade - solar","kWh",null,{"$f":"'E1G Flex'!D145","v":0},{"$f":"E150*'Dados auxiliares'!$H$111","v":0},null,{"$f":"(F150/$E$171)*$F$171*$D$183","v":{"$error":"#DIV/0!"}},{"$f":"(F150/$E$172)*$F$172*$D$183","v":{"$error":"#DIV/0!"}}]
[null,"Emissões",null,"1 ha médio","1 t milho","g CO2 eq/t milho",null,"g CO2 eq/MJ","g CO2 eq/MJ"]
[null,"N2O - Fertilizantes sintéticos","kg",{"$f":"'_Emissões Agrícolas'!$H$54","v":{"$error":"#DIV/0!"}},{"$f":"D152*$E$94","v":{"$error":"#DIV/0!"}},{"$f":"E152*1000*'Dados auxiliares'!$D$9","v":{"$error":"#DIV/0!"}},null,{"$f":"(F152/$E$171)*$F$171*$D$183","v":{"$error":"#DIV/0!"}},{"$f":"(F152/$E$172)*$F$172*$D$183","v":{"$error":"#DIV/0!"}}]
[null,"N2O - Fertilizantes organominerais","kg",{"$f":"'_Emissões Agrícolas'!$H$58","v":{"$error":"#DIV/0!"}},{"$f":"D153*$E$94","v":{"$error":"#DIV/0!"}},{"$f":"E153*1000*'Dados auxiliares'!$D$9","v":{"$error":"#DIV/0!"}},null,{"$error":"#DIV/0!"},{"$error":"#DIV/0!"}]
[null,"N2O - Resíduos culturais","kg",{"$f":"'_Emissões Agrícolas'!$H$62","v":{"$error":"#DIV/0!"}},{"$error":"#DIV/0!"},{"$f":"E154*1000*'Dados auxiliares'!$D$9","v":{"$error":"#DIV/0!"}},null,{"$error":"#DIV/0!"},{"$error":"#DIV/0!"}]
[null,"CO2 - Calcário ","kg",null,{"$f":"E99*'_Emissões Agrícolas'!$E$79+E100*'_Emissões Agrícolas'!$E$80","v":0},{"$f":"E155*1000","v":0},null,{"$error":"#DIV/0!"},{"$error":"#DIV/0!"}]
[null,"CO2 - Uréia","kg",null,{"$f":"E102*'_Emissões Agrícolas'!$E$81","v":0},{"$f":"E156*1000","v":0},null,{"$error":"#DIV/0!"},{"$error":"#DIV/0!"}]
[null,"CO₂ eq - queima do diesel","kg",null,{"$f":"E140*'FE''s queima combustíveis'!$I$64/1000","v":0},{"$f":"E157*1000","v":0},null,{"$error":"#DIV/0!"},{"$error":"#DIV/0!"}]
[null,"CO₂ eq - queima do biodiesel","kg",null,{"$f":"E141*'FE''s queima combustíveis'!$I$65/1000","v":0},{"$f":"E158*1000","v":0},null,{"$error":"#DIV/0!"},{"$error":"#DIV/0!"}]
[null,"CO₂ eq - queima da gasolina A","kg",null,{"$f":"E142*'FE''s queima combustíveis'!$I$9/1000","v":0},0,null,{"$error":"#DIV/0!"},{"$error":"#DIV/0!"}]
[null,"CO₂ eq - queima do etanol anidro","kg",null,{"$f":"E143*'FE''s queima combustíveis'!$I$7/1000","v":0},0,null,{"$error":"#DIV/0!"},{"$error":"#DIV/0!"}]
[null,"CO₂ eq - queima do etanol hidratado","kg",null,{"$f":"E144*'FE''s queima combustíveis'!$I$8/1000","v":0},0,null,{"$error":"#DIV/0!"},{"$error":"#DIV/0!"}]
[null,"CO₂ eq - queima do biometano","kg",null,{"$f":"(E145+'E1G Flex'!D140)*'FE''s queima combustíveis'!$I$66/1000","v":0},0,null,{"$error":"#DIV/0!"},{"$error":"#DIV/0!"}]
[]
[null,"Emissões do processo","g CO2 eq/t milho",null,null,{"$f":"SUM(F152:F162)","v":{"$error":"#DIV/0!"}},null,{"$f":"(F164/$E$171)*$F$171*$D$183","v":{"$error":"#DIV/0!"}},{"$f":"(F164/$E$172)*$F$172*$D$183","v":{"$error":"#DIV/0!"}}]
[null,"Emissões background","g CO2 eq/t milho",null,null,{"$f":"SUM(F96:F120,F139:F150)","v":{"$error":"#DIV/0!"}},null,{"$error":"#DIV/0!"},{"$error":"#DIV/0!"}]
[null,"Emissões totais","g CO2 eq/t milho",null,null,{"$f":"IF(OR('E1G Flex'!$D$91=0,'E1G Flex'!$D$93=0),0,(F164+F165))","v":0},null,{"$f":"(F166/$E$171)*$F$171*$D$183","v":{"$error":"#DIV/0!"}},{"$error":"#DIV/0!"}]
[]
[]
[null,"Etapa industrial - Etanol",null,null,null,null,null,"Emissões por MJ de etanol anidro","Emissões por MJ de etanol hidratado"]
[null,"Produtos","Unidade","1 TC","MJ","Alocação"]
[null,"Etanol anidro","kg",{"$f":"'E1G Flex'!D155*'Dados auxiliares'!$D$15/'E1G Flex'!$D$151","v":{"$error":"#DIV/0!"}},{"$f":"D171*'Dados auxiliares'!$F$15","v":{"$error":"#DIV/0!"}},{"$f":"E171/SUM($E$171:$E$180)","v":{"$error":"#DIV/0!"}}]
[null,"Etanol hidratado","kg",{"$f":"'E1G Flex'!D156*'Dados auxiliares'!$D$16/'E1G Flex'!$D$151","v":{"$error":"#DIV/0!"}},{"$f":"D172*'Dados auxiliares'!$F$16","v":{"$error":"#DIV/0!"}},{"$error":"#DIV/0!"}]
[null,"Açúcar","kg",{"$f":"'E1G Flex'!D157/'E1G Flex'!$D$151","v":{"$error":"#DIV/0!"}},{"$f":"D173*'Dados auxiliares'!D36","v":{"$error":"#DIV/0!"}},{"$error":"#DIV/0!"}]
[null,"Energia elétrica comercializada","kWh",{"$f":"'E1G Flex'!D158/'E1G Flex'!$D$151","v":{"$error":"#DIV/0!"}},{"$f":"CONVERT(D174,\"kWh\",\"MJ\")","v":{"$error":"#DIV/0!"}},{"$error":"#DIV/0!"}]
[null,"DDGS","kg",{"$f":"'E1G Flex'!D160*(1-'E1G Flex'!G160)/'E1G Flex'!$D$151","v":{"$error":"#DIV/0!"}},{"$f":"D175*'Dados auxiliares'!$D$38","v":{"$error":"#DIV/0!"}},{"$error":"#DIV/0!"}]
[null,"DDG","kg",{"$f":"'E1G Flex'!D159*(1-'E1G Flex'!G159)/'E1G Flex'!$D$151","v":{"$error":"#DIV/0!"}},{"$f":"D176*'Dados auxiliares'!$D$37","v":{"$error":"#DIV/0!"}},{"$error":"#DIV/0!"}]
[null,"CGM","kg",{"$f":"'E1G Flex'!D161*(1-'E1G Flex'!G161)/'E1G Flex'!$D$151","v":{"$error":"#DIV/0!"}},{"$f":"D177*'Dados auxiliares'!$D$39","v":{"$error":"#DIV/0!"}},{"$error":"#DIV/0!"}]
[null,"CGF","kg",{"$f":"'E1G Flex'!D162*(1-'E1G Flex'!G162)/'E1G Flex'!$D$151","v":{"$error":"#DIV/0!"}},{"$f":"D178*'Dados auxiliares'!$D$40","v":{"$error":"#DIV/0!"}},{"$error":"#DIV/0!"}]
[null,"Óleo de Milho","kg",{"$f":"'E1G Flex'!D163/'E1G Flex'!$D$151","v":{"$error":"#DIV/0!"}},{"$f":"D179*'Dados auxiliares'!$D$41","v":{"$error":"#DIV/0!"}},{"$error":"#DIV/0!"}]
[null,"Bagaço comercializado","kg base úmida",{"$f":"'E1G Flex'!D164/'E1G Flex'!$D$151","v":{"$error":"#DIV/0!"}},"-","-","Resíduo"]
[null,"Entradas ","Unidade","1 TC",null,"g CO2 eq/t cana",null,"g CO2 eq/MJ","g CO2 eq/MJ"]
[null,"Cana-de-açúcar","t",1,null,{"$f":"D182*F87","v":{"$error":"#DIV/0!"}},null,{"$f":"(F182/$E$171)*$F$171","v":{"$error":"#DIV/0!"}},{"$f":"(F182/$E$172)*$F$172","v":{"$error":"#DIV/0!"}}]
[null,"Milho (grãos)","t",{"$f":"'E1G Flex'!D153/'E1G Flex'!D151","v":{"$error":"#DIV/0!"}},null,{"$f":"D183*F166","v":{"$error":"#DIV/0!"}},null,{"$f":"(F183/$E$171)*$F$171","v":{"$error":"#DIV/0!"}},{"$error":"#DIV/0!"}]
[null,"Transporte do milho em grãos até a usina","tkm",{"$f":"D183*'E1G Flex'!D154","v":{"$error":"#DIV/0!"}},null,{"$f":"D184*'Dados auxiliares'!$H$131","v":{"$error":"#DIV/0!"}},null,{"$f":"(F184/$E$171)*$F$171","v":{"$error":"#DIV/0!"}},{"$error":"#DIV/0!"}]
[null,"Água","kg",1500,null,{"$f":"D185*'Dados auxiliares'!$H$83","v":13.202358602448482},null,{"$error":"#DIV/0!"},{"$error":"#DIV/0!"}]
[null,"Cal (CaO)","kg",0.82,null,{"$f":"D186*'Dados auxiliares'!$H$84","v":788.62446998560051},null,{"$error":"#DIV/0!"},{"$error":"#DIV/0!"}]
[null,"Ácido sulfúrico","kg",0.26500000000000001,null,{"$f":"D187*'Dados auxiliares'!$H$88","v":28.980362820546588},null,{"$error":"#DIV/0!"},{"$error":"#DIV/0!"}]
[null,"Ácido fosfórico","kg",{"$f":"176.5/1000","v":0.17649999999999999},null,{"$f":"D188*'Dados auxiliares'!$H$89","v":267.03160716266467},null,{"$error":"#DIV/0!"},{"$error":"#DIV/0!"}]
[null,"Floculante ","kg",{"$f":"2.555/1000","v":2.555E-3},null,{"$f":"D189*'Dados auxiliares'!$H$91","v":5.495541825757118},null,{"$error":"#DIV/0!"},{"$error":"#DIV/0!"}]
[null,"Antibióticos","kg",{"$f":"0.297/1000","v":2.9700000000000001E-4},null,{"$f":"D190*'Dados auxiliares'!$H$92","v":0.63881640792558292},null,{"$error":"#DIV/0!"},{"$error":"#DIV/0!"}]
[null,"Óleo lubrificante","kg",{"$f":"13/1000","v":1.2999999999999999E-2},null,{"$f":"D191*'Dados auxiliares'!$H$93","v":14.708242207038198},null,{"$error":"#DIV/0!"},{"$error":"#DIV/0!"}]
[null,"Zeolita","kg",{"$f":"(D171*0.03)/67.2","v":{"$error":"#DIV/0!"}},null,{"$f":"D192*'Dados auxiliares'!$H$94","v":{"$error":"#DIV/0!"}},null,{"$error":"#DIV/0!"},{"$error":"#DIV/0!"}]
[null,"Alfa-amilase","kg",{"$f":"(0.0282467716666667/0.131380333333333)*D183","v":{"$error":"#DIV/0!"}},null,{"$f":"D193*'Dados auxiliares'!$H$99","v":{"$error":"#DIV/0!"}},null,{"$error":"#DIV/0!"},{"$error":"#DIV/0!"}]
[null,"Glucoamilase","kg",{"$f":"(0.0564935433333333/0.131380333333333)*D183","v":{"$error":"#DIV/0!"}},null,{"$f":"D194*'Dados auxiliares'!$H$99","v":{"$error":"#DIV/0!"}},null,{"$error":"#DIV/0!"},{"$error":"#DIV/0!"}]
[null,"Ácido sulfúrico","kg",{"$f":"(0.01576564/0.131380333333333)*D183","v":{"$error":"#DIV/0!"}},null,{"$f":"D195*'Dados auxiliares'!$H$88","v":{"$error":"#DIV/0!"}},null,{"$error":"#DIV/0!"},{"$error":"#DIV/0!"}]
[null,"Hidróxido de sódio","kg",{"$f":"(0.02758987/0.131380333333333)*D183","v":{"$error":"#DIV/0!"}},null,{"$f":"D196*'Dados auxiliares'!$H$97","v":{"$error":"#DIV/0!"}},null,{"$error":"#DIV/0!"},{"$error":"#DIV/0!"}]
[null,"Levedura","kg",{"$f":"(0.024436742/0.131380333333333)*D183","v":{"$error":"#DIV/0!"}},null,{"$f":"D197*'Dados auxiliares'!$H$98","v":{"$error":"#DIV/0!"}},null,{"$error":"#DIV/0!"},{"$error":"#DIV/0!"}]
[null,"Zeolita","kg",{"$f":"(0.00814558066666667/0.131380333333333)*D183","v":{"$error":"#DIV/0!"}},null,{"$f":"D198*'Dados auxiliares'!$H$94","v":{"$error":"#DIV/0!"}},null,{"$error":"#DIV/0!"},{"$error":"#DIV/0!"}]
[null,"Bagaço próprio","kg base seca",{"$f":"'E1G Flex'!$D$168*(1-'E1G Flex'!$D$169)/'E1G Flex'!$D$151","v":{"$error":"#DIV/0!"}},null,0,null,{"$error":"#DIV/0!"},{"$error":"#DIV/0!"}]
[null,"Palha própria","kg base seca",{"$f":"'E1G Flex'!$D$172*(1-'E1G Flex'!$D$173)/'E1G Flex'!$D$151","v":{"$error":"#DIV/0!"}},null,0,null,{"$error":"#DIV/0!"},{"$error":"#DIV/0!"}]
[null,"Bagaço de terceiros","kg base seca",{"$f":"'E1G Flex'!$D$176*(1-'E1G Flex'!$D$177)/'E1G Flex'!$D$151","v":{"$error":"#DIV/0!"}},null,0,null,{"$error":"#DIV/0!"},{"$error":"#DIV/0!"}]
[null,"Transporte de bagaço de terceiros","tkm",{"$f":"((D201/1000)*'E1G Flex'!$D$178)","v":{"$error":"#DIV/0!"}},null,{"$f":"D202*'Dados auxiliares'!$H$131","v":{"$error":"#DIV/0!"}},null,{"$error":"#DIV/0!"},{"$error":"#DIV/0!"}]
[null,"Palha de terceiros","kg base seca",{"$f":"'E1G Flex'!$D$181*(1-'E1G Flex'!$D$182)/'E1G Flex'!$D$151","v":{"$error":"#DIV/0!"}},null,{"$f":"D203*'Dados auxiliares'!$H$78","v":{"$error":"#DIV/0!"}},null,{"$error":"#DIV/0!"},{"$error":"#DIV/0!"}]
[null,"Transporte de palha de terceiros","tkm",{"$f":"((D203/1000)*'E1G Flex'!$D$183)","v":{"$error":"#DIV/0!"}},null,{"$f":"D204*'Dados auxiliares'!$H$131","v":{"$error":"#DIV/0!"}},null,{"$error":"#DIV/0!"},{"$error":"#DIV/0!"}]
[null,"Cavaco de madeira","kg base seca",{"$f":"'E1G Flex'!$D$186*(1-'E1G Flex'!$D$187)/'E1G Flex'!$D$151","v":{"$error":"#DIV/0!"}},null,{"$f":"D205*'Dados auxiliares'!$H$123","v":{"$error":"#DIV/0!"}},null,{"$f":"(F205/$E$171)*$F$171","v":{"$error":"#DIV/0!"}},{"$error":"#DIV/0!"}]
[null,"Transporte de cavaco de madeira","tkm",{"$f":"((D205/1000)*'E1G Flex'!$D$188)","v":{"$error":"#DIV/0!"}},null,{"$f":"D206*'Dados auxiliares'!$H$131","v":{"$error":"#DIV/0!"}},null,{"$error":"#DIV/0!"},{"$error":"#DIV/0!"}]
[null,"Lenha","kg base seca",{"$f":"'E1G Flex'!$D$191*(1-'E1G Flex'!$D$192)/'E1G Flex'!$D$151","v":{"$error":"#DIV/0!"}},null,{"$f":"D207*'Dados auxiliares'!$H$124","v":{"$error":"#DIV/0!"}},null,{"$error":"#DIV/0!"},{"$error":"#DIV/0!"}]
[null,"Transporte de lenha","tkm",{"$f":"((D207/1000)*'E1G Flex'!$D$193)","v":{"$error":"#DIV/0!"}},null,{"$f":"D208*'Dados auxiliares'!$H$131","v":{"$error":"#DIV/0!"}},null,{"$error":"#DIV/0!"},{"$error":"#DIV/0!"}]
[null,"Resíduos florestais","kg base seca",{"$f":"'E1G Flex'!$D$196*(1-'E1G Flex'!$D$197)/'E1G Flex'!$D$151","v":{"$error":"#DIV/0!"}},null,0,null,{"$error":"#DIV/0!"},{"$error":"#DIV/0!"}]
[null,"Transporte de resíduos florestais","tkm",{"$f":"((D209/1000)*'E1G Flex'!$D$198)","v":{"$error":"#DIV/0!"}},null,{"$f":"D210*'Dados auxiliares'!$H$131","v":{"$error":"#DIV/0!"}},null,{"$error":"#DIV/0!"},{"$error":"#DIV/0!"}]
[null,"Óleo combusível","kg",{"$f":"('E1G Flex'!D200/'E1G Flex'!$D$151)*'Dados auxiliares'!$D$30","v":{"$error":"#DIV/0!"}},null,{"$f":"D211*'Dados auxiliares'!$H$126","v":{"$error":"#DIV/0!"}},null,{"$f":"(F211/$E$171)*$F$171","v":{"$error":"#DIV/0!"}},{"$f":"(F211/$E$172)*$F$172","v":{"$error":"#DIV/0!"}}]
[null,"Biogás de terceiros","Nm³",{"$f":"'E1G Flex'!D204/'E1G Flex'!$D$151","v":{"$error":"#DIV/0!"}},null,{"$f":"D212*'E1G Flex'!G204*'Dados auxiliares'!$H$125","v":{"$error":"#DIV/0!"}},null,{"$error":"#DIV/0!"},{"$error":"#DIV/0!"}]
[null,"Gás natural","Nm³",{"$f":"'E1G Flex'!D205/'E1G Flex'!$D$151","v":{"$error":"#DIV/0!"}},null,{"$f":"D213*'Dados auxiliares'!$H$115","v":{"$error":"#DIV/0!"}},null,{"$error":"#DIV/0!"},{"$error":"#DIV/0!"}]
[null,"Diesel B0","kg",{"$f":"(('E1G Flex'!D206*(1-0.08)+'E1G Flex'!D207*(1-0.1)+'E1G Flex'!D208*(1-'E1G Flex'!G208)+'E1G Flex'!D209*(1-0.2)+'E1G Flex'!D210*(1-0.3)+'E1G Flex'!D211*(1-1))*('Dados auxiliares'!$D$26))/'E1G Flex'!$D$151","v":{"$error":"#DIV/0!"}},null,{"$f":"D214*'Dados auxiliares'!$H$116","v":{"$error":"#DIV/0!"}},null,{"$error":"#DIV/0!"},{"$error":"#DIV/0!"}]
[null,"Biodiesel B100","kg",{"$f":"(('E1G Flex'!D206*(0.08)+'E1G Flex'!D207*(0.1)+'E1G Flex'!D208*('E1G Flex'!G208)+'E1G Flex'!D209*(0.2)+'E1G Flex'!D210*(0.3)+'E1G Flex'!D211*(1))*('Dados auxiliares'!$D$17))/'E1G Flex'!$D$151","v":{"$error":"#DIV/0!"}},null,{"$f":"D215*'Dados auxiliares'!$H$117","v":{"$error":"#DIV/0!"}},null,{"$error":"#DIV/0!"},{"$error":"#DIV/0!"}]
[null,"Eletricidade da rede - mix médio","kWh",{"$f":"'E1G Flex'!D212/'E1G Flex'!$D$151","v":{"$error":"#DIV/0!"}},null,{"$f":"D216*'Dados auxiliares'!$H$107","v":{"$error":"#DIV/0!"}},null,{"$error":"#DIV/0!"},{"$error":"#DIV/0!"}]
[null,"Eletricidade - PCH","kWh",{"$f":"'E1G Flex'!D213/'E1G Flex'!$D$151","v":{"$error":"#DIV/0!"}},null,{"$f":"D217*'Dados auxiliares'!$H$108","v":{"$error":"#DIV/0!"}},null,{"$error":"#DIV/0!"},{"$error":"#DIV/0!"}]
[null,"Eletricidade - biomassa","kWh",{"$f":"'E1G Flex'!D214/'E1G Flex'!$D$151","v":{"$error":"#DIV/0!"}},null,{"$f":"D218*'Dados auxiliares'!$H$109","v":{"$error":"#DIV/0!"}},null,{"$error":"#DIV/0!"},{"$error":"#DIV/0!"}]
[null,"Eletricidade - eólica","kWh",{"$f":"'E1G Flex'!D215/'E1G Flex'!$D$151","v":{"$error":"#DIV/0!"}},null,{"$f":"D219*'Dados auxiliares'!$H$110","v":{"$error":"#DIV/0!"}},null,{"$error":"#DIV/0!"},{"$error":"#DIV/0!"}]
[null,"Eletricidade - solar","kWh",{"$f":"'E1G Flex'!D216/'E1G Flex'!$D$151","v":{"$error":"#DIV/0!"}},null,{"$f":"D220*'Dados auxiliares'!$H$111","v":{"$error":"#DIV/0!"}},null,{"$error":"#DIV/0!"},{"$error":"#DIV/0!"}]
[null,"Emissões","Unidade","1 TC",null,"g CO2 eq/t cana",null,"g CO2 eq/MJ","g CO2 eq/MJ"]
[null,"CO₂ eq - queima do bagaço próprio","kg",{"$f":"$D$199*'FE''s queima combustíveis'!$I$36/1000","v":{"$error":"#DIV/0!"}},null,{"$f":"D222*1000","v":{"$error":"#DIV/0!"}},null,{"$error":"#DIV/0!"},{"$f":"(F222/$E$172)*$F$172","v":{"$error":"#DIV/0!"}}]
[null,"CO₂ eq - queima da palha própria","kg",{"$f":"$D$200*'FE''s queima combustíveis'!$I$37/1000","v":{"$error":"#DIV/0!"}},null,{"$f":"D223*1000","v":{"$error":"#DIV/0!"}},null,{"$error":"#DIV/0!"},{"$error":"#DIV/0!"}]
[null,"CO₂ eq - queima do bagaço de terceiros","kg",{"$f":"$D$201*'FE''s queima combustíveis'!$I$36/1000","v":{"$error":"#DIV/0!"}},null,{"$error":"#DIV/0!"},null,{"$error":"#DIV/0!"},{"$error":"#DIV/0!"}]
[null,"CO₂ eq - queima da palha de terceiros","kg",{"$f":"$D$203*'FE''s queima combustíveis'!$I$37/1000","v":{"$error":"#DIV/0!"}},null,{"$error":"#DIV/0!"},null,{"$error":"#DIV/0!"},{"$error":"#DIV/0!"}]
[null,"CO₂ eq - queima dos cavacos de madeira","kg",{"$f":"$D$205*'FE''s queima combustíveis'!$I$38/1000","v":{"$error":"#DIV/0!"}},null,{"$error":"#DIV/0!"},null,{"$error":"#DIV/0!"},{"$error":"#DIV/0!"}]
[null,"CO₂ eq - queima da lenha","kg",{"$f":"$D$207*'FE''s queima combustíveis'!$I$39/1000","v":{"$error":"#DIV/0!"}},null,{"$error":"#DIV/0!"},null,{"$error":"#DIV/0!"},{"$error":"#DIV/0!"}]
[null,"CO₂ eq - queima dos resíduos florestais","kg",{"$f":"$D$209*'FE''s queima combustíveis'!$I$40/1000","v":{"$error":"#DIV/0!"}},null,{"$error":"#DIV/0!"},null,{"$error":"#DIV/0!"},{"$error":"#DIV/0!"}]
[null,"CO₂ eq - queima do óleo combustível","kg",{"$f":"D211*'FE''s queima combustíveis'!$I$53/1000","v":{"$error":"#DIV/0!"}},null,{"$error":"#DIV/0!"},null,{"$error":"#DIV/0!"},{"$error":"#DIV/0!"}]
[null,"CO₂ eq - queima do etanol hidratado próprio","kg",{"$f":"('E1G Flex'!D201/'E1G Flex'!$D$151)*'Dados auxiliares'!$D$16*'FE''s queima combustíveis'!$I$57/1000","v":{"$error":"#DIV/0!"}},null,{"$error":"#DIV/0!"},null,{"$error":"#DIV/0!"},{"$error":"#DIV/0!"}]
[null,"CO₂ eq - queima do etanol anidro próprio","kg",{"$f":"('E1G Flex'!D202/'E1G Flex'!$D$151)*'Dados auxiliares'!$D$15*'FE''s queima combustíveis'!$I$55/1000","v":{"$error":"#DIV/0!"}},null,{"$error":"#DIV/0!"},null,{"$error":"#DIV/0!"},{"$error":"#DIV/0!"}]
[null,"CO₂ eq - queima do diesel","kg",{"$f":"D214*'FE''s queima combustíveis'!$I$50/1000","v":{"$error":"#DIV/0!"}},null,{"$error":"#DIV/0!"},null,{"$error":"#DIV/0!"},{"$error":"#DIV/0!"}]
[null,"CO₂ eq - queima do biodiesel","kg",{"$f":"D215*'FE''s queima combustíveis'!$I$51/1000","v":{"$error":"#DIV/0!"}},null,{"$error":"#DIV/0!"},null,{"$error":"#DIV/0!"},{"$error":"#DIV/0!"}]
[null,"CO₂ eq - queima da gás natural","kg",{"$f":"D213*'FE''s queima combustíveis'!$I$46*('Dados auxiliares'!$D$27*1000)/1000","v":{"$error":"#DIV/0!"}},null,{"$error":"#DIV/0!"},null,{"$f":"(F234/$E$171)*$F$171","v":{"$error":"#DIV/0!"}},{"$f":"(F234/$E$172)*$F$172","v":{"$error":"#DIV/0!"}}]
[null,"CO₂ eq - queima do biogás próprio","kg",{"$f":"('E1G Flex'!D203*'E1G Flex'!G203/'E1G Flex'!$D$151)*'FE''s queima combustíveis'!$I$41/1000","v":{"$error":"#DIV/0!"}},null,{"$error":"#DIV/0!"},null,{"$error":"#DIV/0!"},{"$error":"#DIV/0!"}]
[null,"CO₂ eq - queima do biogás de terceiros","kg",{"$f":"('E1G Flex'!D204*'E1G Flex'!G204/'E1G Flex'!$D$151)*'FE''s queima combustíveis'!$I$41/1000","v":{"$error":"#DIV/0!"}},null,{"$f":"D236*1000","v":{"$error":"#DIV/0!"}},null,{"$error":"#DIV/0!"},{"$error":"#DIV/0!"}]
[]
[null,"Emissões do processo","g CO2 eq/t cana",null,null,{"$f":"SUM(F222:F236)","v":{"$error":"#DIV/0!"}},null,{"$error":"#DIV/0!"},{"$f":"(F238/$E$172)*$F$172","v":{"$error":"#DIV/0!"}}]
[null,"Emissões background","g CO2 eq/t cana",null,null,{"$f":"SUM(F182:F220)","v":{"$error":"#DIV/0!"}},null,{"$error":"#DIV/0!"},{"$error":"#DIV/0!"}]
[null,"Emissões totais","g CO2 eq/t cana",null,null,{"$f":"F238+F239","v":{"$error":"#DIV/0!"}},null,{"$error":"#DIV/0!"},{"$error":"#DIV/0!"}]
[]
[]
[null,"Etapa distribuição"]
[null,"Sistema logístico rodoviário"]
[null,"Parâmetro","Unidade","Etanol anidro","Etanol hidratado"]
[null,"Massa","kg/t cana",{"$f":"$D$171*'E1G Flex'!$D$222","v":{"$error":"#DIV/0!"}},{"$f":"$D$172*'E1G Flex'!$D$228","v":{"$error":"#DIV/0!"}}]
[null,"Distância de transporte rodoviário","km",{"$f":"'Dados auxiliares'!C156","v":700},{"$f":"'Dados auxiliares'!C156","v":700}]
[null,"Transporte rodoviário","tkm/t cana",{"$f":"D246/1000*D247","v":{"$error":"#DIV/0!"}},{"$f":"E246/1000*E247","v":{"$error":"#DIV/0!"}}]
[null,"Emissões","g CO2 eq/t cana",{"$f":"D248*'Dados auxiliares'!$H$132","v":{"$error":"#DIV/0!"}},{"$f":"E248*'Dados auxiliares'!$H$132","v":{"$error":"#DIV/0!"}}]
[null,"Emissões","g CO2 eq/MJ",{"$f":"D249/$E$171","v":{"$error":"#DIV/0!"}},{"$f":"E249/$E$172","v":{"$error":"#DIV/0!"}}]
[null,"Sistema logístico dutoviário"]
[null,"Parâmetro","Unidade","Etanol anidro","Etanol hidratado"]
[null,"Massa","kg/t cana",{"$f":"$D$171*'E1G Flex'!$D$223","v":{"$error":"#DIV/0!"}},{"$f":"$D$172*'E1G Flex'!$D$229","v":{"$error":"#DIV/0!"}}]
[null,"Distância de transporte rodoviário","km",{"$f":"'Dados auxiliares'!E156","v":200},{"$f":"'Dados auxiliares'!E156","v":200}]
[null,"Transporte rodoviário","tkm/t cana",{"$f":"D253/1000*D254","v":{"$error":"#DIV/0!"}},{"$f":"E253/1000*E254","v":{"$error":"#DIV/0!"}}]
[null,"Distância de transporte dutoviário","km",{"$f":"'Dados auxiliares'!D156","v":500},{"$f":"'Dados auxiliares'!D156","v":500}]
[null,"Transporte dutoviário","tkm/t cana",{"$f":"D253/1000*D256","v":{"$error":"#DIV/0!"}},{"$f":"E253/1000*E256","v":{"$error":"#DIV/0!"}}]
[null,"Emissões","g CO2 eq/t cana",{"$f":"D255*'Dados auxiliares'!$H$132+D257*'Dados auxiliares'!$H$136","v":{"$error":"#DIV/0!"}},{"$f":"E255*'Dados auxiliares'!$H$132+E257*'Dados auxiliares'!$H$136","v":{"$error":"#DIV/0!"}}]
[null,"Emissões","g CO2 eq/MJ",{"$f":"D258/$E$171","v":{"$error":"#DIV/0!"}},{"$f":"E258/$E$172","v":{"$error":"#DIV/0!"}}]
[null,"Sistema logístico ferroviário"]
[null,"Parâmetro","Unidade","Etanol anidro","Etanol hidratado"]
[null,"Massa","kg/t cana",{"$f":"$D$171*'E1G Flex'!$D$224","v":{"$error":"#DIV/0!"}},{"$f":"$D$172*'E1G Flex'!$D$230","v":{"$error":"#DIV/0!"}}]
[null,"Distância de transporte rodoviário","km",{"$f":"'Dados auxiliares'!G156","v":400},{"$f":"'Dados auxiliares'!G156","v":400}]
[null,"Transporte rodoviário","tkm/t cana",{"$f":"D262/1000*D263","v":{"$error":"#DIV/0!"}},{"$f":"E262/1000*E263","v":{"$error":"#DIV/0!"}}]
[null,"Distância de transporte ferroviário","km",{"$f":"'Dados auxiliares'!F156","v":300},{"$f":"'Dados auxiliares'!F156","v":300}]
[null,"Transporte ferroviário","tkm/t cana",{"$f":"D262/1000*D265","v":{"$error":"#DIV/0!"}},{"$f":"E262/1000*E265","v":{"$error":"#DIV/0!"}}]
[null,"Emissões","g CO2 eq/t cana",{"$f":"D264*'Dados auxiliares'!$H$132+D266*'Dados auxiliares'!$H$135","v":{"$error":"#DIV/0!"}},{"$f":"E264*'Dados auxiliares'!$H$132+E266*'Dados auxiliares'!$H$135","v":{"$error":"#DIV/0!"}}]
[null,"Emissões","g CO2 eq/MJ",{"$f":"D267/$E$171","v":{"$error":"#DIV/0!"}},{"$f":"E267/$E$172","v":{"$error":"#DIV/0!"}}]
[]
[null,"Emissões totais","g CO2 eq/MJ",{"$f":"D250+D259+D268","v":{"$error":"#DIV/0!"}},{"$f":"E250+E259+E268","v":{"$error":"#DIV/0!"}}]

{"sheet":"E1GM","index":11,"n_rows":145,"n_cols":8,"rows_kept":145,"cut":false,"hidden":false,"merged":[[14,3,14,5],[3,2,3,7],[5,2,5,7],[7,2,7,7],[9,2,9,3],[12,2,12,3],[25,22,25,23],[31,1,31,7],[137,2,137,4],[121,2,121,4],[36,1,36,7],[39,1,39,7],[28,1,28,2],[142,2,142,4],[23,1,23,7],[22,1,22,7],[135,1,135,7],[113,2,113,4],[125,2,125,4],[129,2,129,4],[83,1,83,7],[117,2,117,4],[82,1,82,7],[95,1,95,7],[57,1,57,7],[64,1,64,7]]}
[""]
[null,"Etanol combustível de primeira geração produzido a partir de milho"]
[]
[null,"Nome da Usina:","Usina Hipotética"]
[]
[null,"CNPJ","00.000.000/0000-00"]
[]
[null,"Responsável pelo preenchimento:"]
[]
[null,"Telefone :","(00) 0000-0000"]
[]
[]
[null,null,"Etanol Anidro"]
[]
[null,"Intensidade de Carbono\n(g CO₂eq/MJ)",{"$f":"SUM(C17:C20)","v":0.43899999999999995},"Nota de Eficiência Energético-Ambiental\n(g CO₂eq/MJ)",null,null,{"$f":"G18-C15","v":86.961000000000013}]
[]
[null,"agrícola",{"$f":"IFERROR(IF(C13=\"Etanol Anidro\",_E1GM!C5,IF(C13=\"Etanol Hidratado\",_E1GM!E5,\"\")),0)","v":0},null,null,null,"Fóssil substituto: Gasolina"]
[null,"industrial",{"$f":"IFERROR(IF(C13=\"Etanol Anidro\",_E1GM!C6,IF(C13=\"Etanol Hidratado\",_E1GM!E6,\"\")),0)","v":0},null,null,null,{"$f":"'Dados auxiliares'!F166","v":87.4}]
[null,"transporte",{"$f":"IFERROR(IF(C13=\"Etanol Anidro\",_E1GM!C7,IF(C13=\"Etanol Hidratado\",_E1GM!E7,\"\")),0)","v":0},null,null,null,"Redução de emissões"]
[null,"uso",{"$f":"IFERROR(IF(C13=\"Etanol Anidro\",_E1GM!C8,IF(C13=\"Etanol Hidratado\",_E1GM!E8,\"\")),0)","v":0.43899999999999995},null,null,null,{"$f":"(G18-C15)/G18","v":0.9949771167048056}]
[]
[]
[null,"Fase agrícola - Dados consolidados"]
[null,"Informações gerais"]
[null,null,"Sistema de plantio","Convencional"]
[null,null,"Área total",null,"ha"]
[]
[null,null,"Produção total (base úmida)",null,"t milho","Umidade"]
[null,"Quantidade comprada pela unidade produtora de biocombustível (base úmida)",null,null,"t milho"]
[null,null,"Palha recolhida (base seca)",null,"t palha"]
[]
[null,"Corretivos"]
[null,null,"Calcário calcítico",null,"kg/t milho"]
[null,null,"Calcário dolomítico",null,"kg/t milho"]
[null,null,"Gesso",null,"kg/t milho"]
[]
[null,"Sementes"]
[null,null,"Sementes",null,"kg/t milho"]
[]
[null,"Fertilizantes Sintéticos"]
[null,null,"Ureia",null,"kg N/t milho"]
[null,null,"Fosfato Monoamônico (MAP)",null,"kg N/t milho"]
[null,null,"Fosfato Monoamônico (MAP)",null,"kg P₂O₅/t milho"]
[null,null,"Fosfato diamônico (DAP)",null,"kg N/t milho"]
[null,null,"Fosfato diamônico (DAP)",null,"kg P₂O₅/t milho"]
[null,null,"Nitrato de amônio",null,"kg N/t milho"]
[null,null,"Solução de nitrato de amônio e ureia (UAN)",null,"kg N/t milho"]
[null,null,"Amônia anidra",null,"kg N/t milho"]
[null,null,"Sulfato de amônio",null,"kg N/t milho"]
[null,null,"Nitrato de amônio e cálcio (CAN)",null,"kg N/t milho"]
[null,null,"Superfosfato simples (SSP)",null,"kg P₂O₅/t milho"]
[null,null,"Superfosfato triplo (TSP)",null,"kg P₂O₅/t milho"]
[null,null,"Cloreto de potássio (KCl)",null,"kg K₂O/t milho"]
[null,"Outros","especificar",null,"kg N/t milho"]
[null,"Outros","especificar",null,"kg P₂O₅/t milho"]
[null,"Outros","especificar",null,"kg K₂O/t milho"]
[]
[null,"              Fertilizantes Orgânicos/Organominerais"]
[null,"Outros","especificar",null,"kg/t milho","Concentração de N",null,"g N/kg"]
[null,"Outros","especificar",null,"kg/t milho","Concentração de N",null,"g N/kg"]
[null,"Outros","especificar",null,"kg/t milho","Concentração de N",null,"g N/kg"]
[null,"Outros","especificar",null,"kg/t milho","Concentração de N",null,"g N/kg"]
[null,"Outros","especificar",null,"kg/t milho","Concentração de N",null,"g N/kg"]
[]
[null,"              Combustíveis e eletricidade"]
[null,null,"Diesel - B8",null,"L/t milho"]
[null,null,"Diesel - B10",null,"L/t milho"]
[null,null,"Diesel - BX",null,"L/t milho","Teor de biodiesel na mistura"]
[null,null,"Diesel - B20",null,"L/t milho"]
[null,null,"Diesel - B30",null,"L/t milho"]
[null,null,"Biodiesel - B100",null,"L/t milho"]
[null,null,"Gasolina C",null,"L/t milho"]
[null,null,"Etanol hidratado",null,"L/t milho"]
[null,null,"Biometano de terceiros",null,"Nm³/t milho"]
[null,null,"Biometano próprio",null,"Nm³/t milho"]
[null,null,"Eletricidade da rede - mix médio",null,"kWh/t milho"]
[null,null,"Eletricidade - PCH",null,"kWh/t milho"]
[null,null,"Eletricidade - biomassa",null,"kWh/t milho"]
[null,null,"Eletricidade - eólica",null,"kWh/t milho"]
[null,null,"Eletricidade - solar",null,"kWh/t milho"]
[]
[]
[null,"Fase industrial - processamento do etanol"]
[null,"Processamento e rendimentos"]
[null,null,"Quantidade de milho processado",null," t milho/ano","Umidade"]
[null,null,"Distância de transporte - milho",null,"km"]
[null,null,"Rendimento - Etanol anidro",null,"L/ t milho"]
[null,null,"Rendimento - Etanol hidratado",null,"L/ t milho"]
[null,null,"Rendimento Energia elétrica comercializada",null,"kWh/ t milho"]
[null,null," Rendimento - DDG (Distillers Dried Grains) ",null,"kg/ t milho","Umidade"]
[null,null," Rendimento - DDGS (Distillers Dried Grains with Solubles)",null,"kg/ t milho","Umidade"]
[null,null,"Rendimento - CGM (Corn Gluten Meal)",null,"kg/ t milho","Umidade"]
[null,null,"Rendimento - CGF (Corn Gluten Feed)",null,"kg/ t milho","Umidade"]
[null,null,"Rendimento - Óleo de milho",null,"kg/ t milho"]
[]
[null,"Combustíveis e eletricidade"]
[null,null,"Eletricidade da rede - mix médio",null,"kWh/t milho"]
[null,null,"Eletricidade - PCH",null,"kWh/t milho"]
[null,null,"Eletricidade - biomassa",null,"kWh/t milho"]
[null,null,"Eletricidade - eólica",null,"kWh/t milho"]
[null,null,"Eletricidade - solar",null,"kWh/t milho"]
[null,null,"Diesel - B8",null,"L/t milho"]
[null,null,"Diesel - B10",null,"L/t milho"]
[null,null,"Diesel - BX",null,"L/t milho","Teor de biodiesel na mistura"]
[null,null,"Diesel - B20",null,"L/t milho"]
[null,null,"Diesel - B30",null,"L/t milho"]
[null,null,"Biodiesel - B100",null,"L/t milho"]
[null,null,"Óleo combustível",null,"L/t milho"]
[null,null,"Etanol hidratado próprio",null,"L/t milho"]
[null,null,"Etanol anidro próprio",null,"L/t milho"]
[null,null,"Biogás de terceiros",null,"Nm³/t milho","PCI do biogás",null,"MJ/Nm³"]
[null,null,"Biogás próprio",null,"Nm³/t milho","PCI do biogás",null,"MJ/Nm³"]
[null,null,"Gás natural",null,"Nm³/t milho"]
[null,null,"Cavaco de madeira"]
[null,null,"Quantidade (base úmida)",null,"kg/t milho"]
[null,null,"Umidade"]
[null,null,"Distância de transporte",null,"km"]
[null,null," Lenha"]
[null,null,"Quantidade (base úmida)",null,"kg/t milho"]
[null,null,"Umidade"]
[null,null,"Distância de transporte",null,"km"]
[null,null,"Resíduos florestais"]
[null,null,"Quantidade (base úmida)",null,"kg/t milho"]
[null,null,"Umidade"]
[null,null,"Distância de transporte",null,"km"]
[null,null,"Bagaço de cana"]
[null,null,"Quantidade (base úmida)",null,"kg/t milho"]
[null,null,"Umidade"]
[null,null,"Distância de transporte",null,"km"]
[null,null,"Palha de cana"]
[null,null,"Quantidade (base úmida)",null,"kg/t milho"]
[null,null,"Umidade"]
[null,null,"Distância de transporte",null,"km"]
[]
[]
[null,"Fase de distribuição"]
[]
[null,null,"Etanol anidro"]
[null,null,"Rodoviário",1,{"$f":"IF((SUM(D139:D140)=1),\"\",\"A soma das porcentagens de distribuição deve ser igual a 100%!\")","v":""}]
[null,null,"Fluvial",0]
[]
[]
[null,null,"Etanol hidratado"]
[null,null,"Rodoviário",1,{"$f":"IF((SUM(D144:D145)=1),\"\",\"A soma das porcentagens de distribuição deve ser igual a 100%!\")","v":""}]
[null,null,"Fluvial",0]

{"sheet":"_E1GM","index":12,"n_rows":172,"n_cols":9,"rows_kept":172,"cut":false,"hidden":true,"merged":[[10,7,14,7],[10,8,14,8],[89,7,98,7],[89,8,98,8],[1,1,1,5],[10,1,10,5],[89,1,89,5],[153,1,153,5],[2,2,2,3],[2,4,2,5],[3,2,3,3],[3,4,3,5]]}
[]
[null,"Emissões totais - g CO₂ eq"]
[null,null,"Anidro",null,"Hidratado"]
[null,"Total",{"$f":"C5+C6+C7+C8","v":{"$error":"#DIV/0!"}},null,{"$f":"E5+E6+E7+E8","v":{"$error":"#DIV/0!"}}]
[null,"Agrícola",{"$f":"$H$87","v":{"$error":"#DIV/0!"}},{"$f":"C5/$C$4","v":{"$error":"#DIV/0!"}},{"$f":"$I$87","v":{"$error":"#DIV/0!"}},{"$f":"E5/$E$4","v":{"$error":"#DIV/0!"}}]
[null,"Industrial",{"$f":"$H$151-$H$105","v":{"$error":"#DIV/0!"}},{"$f":"C6/$C$4","v":{"$error":"#DIV/0!"}},{"$f":"$I$151-$I$105","v":{"$error":"#DIV/0!"}},{"$f":"E6/$E$4","v":{"$error":"#DIV/0!"}}]
[null,"Transporte",{"$f":"$D$172","v":{"$error":"#DIV/0!"}},{"$error":"#DIV/0!"},{"$f":"$E$172","v":{"$error":"#DIV/0!"}},{"$error":"#DIV/0!"}]
[null,"Uso",{"$f":"'FE''s queima combustíveis'!$I$7","v":0.43899999999999995},{"$error":"#DIV/0!"},{"$f":"'FE''s queima combustíveis'!$I$8","v":0.66300000000000003},{"$error":"#DIV/0!"}]
[]
[]
[null,"Etapa agrícola - Milho",null,null,null,null,null,"Emissões por MJ de etanol anidro","Emissões por MJ de etanol hidratado"]
[null,"Produto",null,"1 ha médio","1 t milho"]
[null,"Produção de milho","kg",{"$f":"E1GM!D28/E1GM!D26*1000","v":{"$error":"#DIV/0!"}},1000]
[null,"Entradas da natureza",null,"1 ha médio","1 t milho","g CO2 eq/t milho"]
[null,"Ocupação total","ha",1,{"$f":"(D15*E13)/D13","v":{"$error":"#DIV/0!"}},"-"]
[null,"Entradas da tecnosfera",null,"1 ha médio","1 t milho","g CO2 eq/t milho",null,"g CO2 eq/MJ","g CO2 eq/MJ"]
[null,"Sementes de milho","kg",null,{"$f":"E1GM!D38","v":0},{"$f":"E17*'Dados auxiliares'!$H$75","v":0},null,{"$f":"(F17/$E$92)*$F$92","v":{"$error":"#DIV/0!"}},{"$f":"(F17/$E$93)*$F$93","v":{"$error":"#DIV/0!"}}]
[null,"Água","kg",602,{"$f":"D18*$E$15/$D$15","v":{"$error":"#DIV/0!"}},{"$f":"E18*'Dados auxiliares'!$H$83","v":{"$error":"#DIV/0!"}},null,{"$f":"(F18/$E$92)*$F$92","v":{"$error":"#DIV/0!"}},{"$f":"(F18/$E$93)*$F$93","v":{"$error":"#DIV/0!"}}]
[null,"Fertilizantes e corretivos"]
[null,"Calcário calcítico","kg",null,{"$f":"E1GM!D33","v":0},{"$f":"E20*'Dados auxiliares'!$H$52","v":0},null,{"$f":"(F20/$E$92)*$F$92","v":{"$error":"#DIV/0!"}},{"$f":"(F20/$E$93)*$F$93","v":{"$error":"#DIV/0!"}}]
[null,"Calcário dolomítico","kg",null,{"$f":"E1GM!D34","v":0},{"$f":"E21*'Dados auxiliares'!$H$53","v":0},null,{"$error":"#DIV/0!"},{"$error":"#DIV/0!"}]
[null,"Gesso","kg",null,{"$f":"E1GM!D35","v":0},{"$f":"E22*'Dados auxiliares'!$H$54","v":0},null,{"$error":"#DIV/0!"},{"$error":"#DIV/0!"}]
[null,"N - Ureia","kg N",null,{"$f":"E1GM!D41","v":0},{"$f":"E23*'Dados auxiliares'!$H$55","v":0},null,{"$error":"#DIV/0!"},{"$error":"#DIV/0!"}]
[null,"N - Fosfato monoamônico (MAP)","kg N",null,{"$f":"E1GM!D42","v":0},{"$f":"E24*'Dados auxiliares'!$H$56","v":0},null,{"$error":"#DIV/0!"},{"$error":"#DIV/0!"}]
[null,"P₂O₅ - Fosfato monoamônico (MAP)","kg P₂O₅",null,{"$f":"E1GM!D43","v":0},{"$f":"E25*'Dados auxiliares'!$H$57","v":0},null,{"$error":"#DIV/0!"},{"$error":"#DIV/0!"}]
[null,"N - Fosfato diamônico (DAP)","kg N",null,{"$f":"E1GM!D44","v":0},{"$f":"E26*'Dados auxiliares'!$H$58","v":0},null,{"$error":"#DIV/0!"},{"$error":"#DIV/0!"}]
[null,"P₂O₅ - Fosfato diamônico (DAP)","kg P₂O₅",null,{"$f":"E1GM!D45","v":0},{"$f":"E27*'Dados auxiliares'!$H$59","v":0},null,{"$error":"#DIV/0!"},{"$error":"#DIV/0!"}]
[null,"N - Nitrato de amônio","kg N",null,{"$f":"E1GM!D46","v":0},{"$f":"E28*'Dados auxiliares'!$H$60","v":0},null,{"$error":"#DIV/0!"},{"$error":"#DIV/0!"}]
[null,"N - Solução de nitrato de amônio e ureia (UAN)","kg N",null,{"$f":"E1GM!D47","v":0},{"$f":"E29*'Dados auxiliares'!$H$61","v":0},null,{"$error":"#DIV/0!"},{"$error":"#DIV/0!"}]
[null,"N - Amônia anidra","kg N",null,{"$f":"E1GM!D48","v":0},{"$f":"E30*'Dados auxiliares'!$H$62","v":0},null,{"$error":"#DIV/0!"},{"$error":"#DIV/0!"}]
[null,"N - Sulfato de amônio","kg N",null,{"$f":"E1GM!D49","v":0},{"$f":"E31*'Dados auxiliares'!$H$63","v":0},null,{"$error":"#DIV/0!"},{"$error":"#DIV/0!"}]
[null,"N - Nitrato de amônio e cálcio (CAN)","kg N",null,{"$f":"E1GM!D50","v":0},{"$f":"E32*'Dados auxiliares'!$H$64","v":0},null,{"$error":"#DIV/0!"},{"$error":"#DIV/0!"}]
[null,"P₂O₅ - Superfosfato simples (SSP)","kg P₂O₅",null,{"$f":"E1GM!D51","v":0},{"$f":"E33*'Dados auxiliares'!$H$66","v":0},null,{"$error":"#DIV/0!"},{"$error":"#DIV/0!"}]
[null,"P₂O₅ - Superfosfato triplo (TSP)","kg P₂O₅",null,{"$f":"E1GM!D52","v":0},{"$f":"E34*'Dados auxiliares'!$H$67","v":0},null,{"$error":"#DIV/0!"},{"$error":"#DIV/0!"}]
[null,"K₂O - Cloreto de potássio (KCl)","kg K₂O",null,{"$f":"E1GM!D53","v":0},{"$f":"E35*'Dados auxiliares'!H$68","v":0},null,{"$error":"#DIV/0!"},{"$error":"#DIV/0!"}]
[null,"N - Outros","kg N",null,{"$f":"E1GM!D54","v":0},{"$f":"E36*'Dados auxiliares'!H$69","v":0},null,{"$error":"#DIV/0!"},{"$error":"#DIV/0!"}]
[null,"P₂O₅ - Outros","kg P₂O₅",null,{"$f":"E1GM!D55","v":0},{"$f":"E37*'Dados auxiliares'!H$70","v":0},null,{"$error":"#DIV/0!"},{"$error":"#DIV/0!"}]
[null,"K₂O - Outros","kg K₂O",null,{"$f":"E1GM!D56","v":0},{"$f":"E38*'Dados auxiliares'!H$71","v":0},null,{"$error":"#DIV/0!"},{"$error":"#DIV/0!"}]
[null,"Outros Fertilizantes Orgânicos/Organominerais","kg",null,{"$f":"SUM(E1GM!D59:D63)","v":0},0,null,{"$error":"#DIV/0!"},{"$error":"#DIV/0!"}]
[null,"Agroquímicos"]
[null,"Herbicidas, Fungicidas, Inseticidas, Adjuvantes","kg",{"$f":"SUM(D42:D59)","v":4.0067465003383447},{"$f":"SUM(E42:E59)","v":{"$error":"#DIV/0!"}},{"$f":"SUM(F42:F59)","v":{"$error":"#DIV/0!"}},null,{"$f":"(F41/$E$92)*$F$92","v":{"$error":"#DIV/0!"}},{"$f":"(F41/$E$93)*$F$93","v":{"$error":"#DIV/0!"}}]
[null,"Herbicida, como glifosato","kg",0.75187392980081791,{"$f":"D42*$E$15","v":{"$error":"#DIV/0!"}},{"$f":"E42*'Dados auxiliares'!$H$72","v":{"$error":"#DIV/0!"}}]
[null,"Herbicida,como atrazina","kg",2.0932993027155846,{"$f":"D43*$E$15","v":{"$error":"#DIV/0!"}},{"$f":"E43*'Dados auxiliares'!$H$74","v":{"$error":"#DIV/0!"}}]
[null,"Herbicida, como Nicosulfuron","kg",2.36375297890494E-3,{"$error":"#DIV/0!"},{"$f":"E44*'Dados auxiliares'!$H$74","v":{"$error":"#DIV/0!"}}]
[null,"Fungicida, como tebuconazol","kg",1.8326164347288825E-2,{"$error":"#DIV/0!"},{"$f":"E45*'Dados auxiliares'!$H$74","v":{"$error":"#DIV/0!"}}]
[null,"Fungicida, como Fluxapiroxade","kg",5.5545470593427286E-3,{"$error":"#DIV/0!"},{"$f":"E46*'Dados auxiliares'!$H$74","v":{"$error":"#DIV/0!"}}]
[null,"Fungicida, como Piraclostrobina","kg",1.1075833357851068E-2,{"$error":"#DIV/0!"},{"$f":"E47*'Dados auxiliares'!$H$74","v":{"$error":"#DIV/0!"}}]
[null,"Fungicida, como azoxistrobina","kg",3.1056518285327604E-2,{"$error":"#DIV/0!"},{"$f":"E48*'Dados auxiliares'!$H$74","v":{"$error":"#DIV/0!"}}]
[null,"Fungicida, como trifloxistrobina","kg",9.1630821736444126E-3,{"$error":"#DIV/0!"},{"$f":"E49*'Dados auxiliares'!$H$74","v":{"$error":"#DIV/0!"}}]
[null,"Fungicida, como Difeconazol","kg",1.1264232545823649E-2,{"$error":"#DIV/0!"},{"$f":"E50*'Dados auxiliares'!$H$74","v":{"$error":"#DIV/0!"}}]
[null,"Fungicida, como ciproconazole","kg",1.2422607314131043E-2,{"$error":"#DIV/0!"},{"$f":"E51*'Dados auxiliares'!$H$74","v":{"$error":"#DIV/0!"}}]
[null,"Inseticida, como Imidacloprido","kg",0.16669375386154345,{"$error":"#DIV/0!"},{"$f":"E52*'Dados auxiliares'!$H$74","v":{"$error":"#DIV/0!"}}]
[null,"Inseticida, como tiodicarbe","kg",9.9529583100414848E-2,{"$error":"#DIV/0!"},{"$f":"E53*'Dados auxiliares'!$H$74","v":{"$error":"#DIV/0!"}}]
[null,"Inseticida, Connect, como beta-ciflutrina","kg",6.649568978198829E-2,{"$error":"#DIV/0!"},{"$f":"E54*'Dados auxiliares'!$H$74","v":{"$error":"#DIV/0!"}}]
[null,"Inseticida, como teflubenzurom","kg",5.0786136691282468E-3,{"$error":"#DIV/0!"},{"$f":"E55*'Dados auxiliares'!$H$74","v":{"$error":"#DIV/0!"}}]
[null,"Inseticida, como bifentrina","kg",3.9458648386242615E-3,{"$error":"#DIV/0!"},{"$f":"E56*'Dados auxiliares'!$H$74","v":{"$error":"#DIV/0!"}}]
[null,"Inseticida, como lufenuron","kg",1.6362646738650741E-3,{"$error":"#DIV/0!"},{"$f":"E57*'Dados auxiliares'!$H$74","v":{"$error":"#DIV/0!"}}]
[null,"Adjuvante, como óleo mineral","kg",0.14463274588837566,{"$error":"#DIV/0!"},{"$f":"E58*'Dados auxiliares'!$H$74","v":{"$error":"#DIV/0!"}}]
[null,"Adjuvante, como ester metílico","kg",0.57233401394568828,{"$f":"D59*$E$15","v":{"$error":"#DIV/0!"}},{"$f":"E59*'Dados auxiliares'!$H$74","v":{"$error":"#DIV/0!"}}]
[null,"Combustíveis e eletricidade"]
[null,"Diesel B0","kg",null,{"$f":"(E1GM!$D$66*(1-0.08)+E1GM!$D$67*(1-0.1)+E1GM!$D$68*(1-E1GM!$G$68)+E1GM!$D$69*(1-0.2)+E1GM!$D$70*(1-0.3)+E1GM!$D$71*(1-1))*('Dados auxiliares'!$D$26)","v":0},{"$f":"E61*'Dados auxiliares'!$H$116","v":0},null,{"$f":"(F61/$E$92)*$F$92","v":{"$error":"#DIV/0!"}},{"$f":"(F61/$E$93)*$F$93","v":{"$error":"#DIV/0!"}}]
[null,"Biodiesel B100","kg",null,{"$f":"(E1GM!$D$66*(0.08)+E1GM!$D$67*(0.1)+E1GM!$D$68*(E1GM!$G$68)+E1GM!$D$69*(0.2)+E1GM!$D$70*(0.3)+E1GM!$D$71*(1))*('Dados auxiliares'!$D$17)","v":0},{"$f":"E62*'Dados auxiliares'!$H$117","v":0},null,{"$error":"#DIV/0!"},{"$error":"#DIV/0!"}]
[null,"Gasolina A","kg",null,{"$f":"E1GM!$D$72*(1-'FE''s queima combustíveis'!$D$19)*'Dados auxiliares'!$D$24","v":0},{"$f":"E63*'Dados auxiliares'!$H$120","v":0},null,{"$error":"#DIV/0!"},{"$error":"#DIV/0!"}]
[null,"Etanol anidro","kg",null,{"$f":"E1GM!$D$72*('FE''s queima combustíveis'!$D$19)*'Dados auxiliares'!$D$15","v":0},{"$f":"E64*'Dados auxiliares'!$H$121","v":0},null,{"$error":"#DIV/0!"},{"$error":"#DIV/0!"}]
[null,"Etanol hidratado","kg",null,{"$f":"E1GM!$D$73*'Dados auxiliares'!$D$16","v":0},{"$f":"E65*'Dados auxiliares'!$H$122","v":0},null,{"$error":"#DIV/0!"},{"$error":"#DIV/0!"}]
[null,"Biometano de terceiros","Nm³",null,{"$f":"E1GM!D74","v":0},{"$f":"E66*('Dados auxiliares'!$D$18*1000)*'Dados auxiliares'!$F$18*'Dados auxiliares'!$H$125","v":0},null,{"$error":"#DIV/0!"},{"$error":"#DIV/0!"}]
[null,"Eletricidade da rede - mix médio","kWh",null,{"$f":"E1GM!D76","v":0},{"$f":"E67*'Dados auxiliares'!$H$107","v":0},null,{"$error":"#DIV/0!"},{"$error":"#DIV/0!"}]
[null,"Eletricidade - PCH","kWh",null,{"$f":"E1GM!D77","v":0},{"$f":"E68*'Dados auxiliares'!$H$108","v":0},null,{"$error":"#DIV/0!"},{"$error":"#DIV/0!"}]
[null,"Eletricidade - biomassa","kWh",null,{"$f":"E1GM!D78","v":0},{"$f":"E69*'Dados auxiliares'!$H$109","v":0},null,{"$error":"#DIV/0!"},{"$error":"#DIV/0!"}]
[null,"Eletricidade - eólica","kWh",null,{"$f":"E1GM!D79","v":0},{"$f":"E70*'Dados auxiliares'!$H$110","v":0},null,{"$error":"#DIV/0!"},{"$error":"#DIV/0!"}]
[null,"Eletricidade - solar","kWh",null,{"$f":"E1GM!D80","v":0},{"$f":"E71*'Dados auxiliares'!$H$111","v":0},null,{"$error":"#DIV/0!"},{"$error":"#DIV/0!"}]
[null,"Emissões",null,"1 ha médio","1 t milho","g CO2 eq/t milho",null,"g CO2 eq/MJ","g CO2 eq/MJ"]
[null,"N2O - Fertilizantes sintéticos","kg",{"$f":"'_Emissões Agrícolas'!$G$54","v":{"$error":"#DIV/0!"}},{"$f":"D73*$E$15","v":{"$error":"#DIV/0!"}},{"$f":"E73*1000*'Dados auxiliares'!$D$9","v":{"$error":"#DIV/0!"}},null,{"$f":"(F73/$E$92)*$F$92","v":{"$error":"#DIV/0!"}},{"$f":"(F73/$E$93)*$F$93","v":{"$error":"#DIV/0!"}}]
[null,"N2O - Fertilizantes organominerais","kg",{"$f":"'_Emissões Agrícolas'!$G$58","v":{"$error":"#DIV/0!"}},{"$f":"D74*$E$15","v":{"$error":"#DIV/0!"}},{"$f":"E74*1000*'Dados auxiliares'!$D$9","v":{"$error":"#DIV/0!"}},null,{"$error":"#DIV/0!"},{"$error":"#DIV/0!"}]
[null,"N2O - Resíduos culturais","kg",{"$f":"'_Emissões Agrícolas'!$G$62","v":{"$error":"#DIV/0!"}},{"$error":"#DIV/0!"},{"$f":"E75*1000*'Dados auxiliares'!$D$9","v":{"$error":"#DIV/0!"}},null,{"$error":"#DIV/0!"},{"$error":"#DIV/0!"}]
[null,"CO2 - Calcário ","kg",null,{"$f":"$E$20*'_Emissões Agrícolas'!$E$79+$E$21*'_Emissões Agrícolas'!$E$80","v":0},{"$f":"E76*1000","v":0},null,{"$error":"#DIV/0!"},{"$error":"#DIV/0!"}]
[null,"CO2 - Uréia","kg",null,{"$f":"$E$23*'_Emissões Agrícolas'!$E$81","v":0},{"$f":"E77*1000","v":0},null,{"$error":"#DIV/0!"},{"$error":"#DIV/0!"}]
[null,"CO₂ eq - queima do diesel","kg",null,{"$f":"$E$61*'FE''s queima combustíveis'!$I$64/1000","v":0},{"$f":"E78*1000","v":0},null,{"$error":"#DIV/0!"},{"$error":"#DIV/0!"}]
[null,"CO₂ eq - queima do biodiesel","kg",null,{"$f":"$E$62*'FE''s queima combustíveis'!$I$65/1000","v":0},{"$f":"E79*1000","v":0},null,{"$error":"#DIV/0!"},{"$error":"#DIV/0!"}]
[null,"CO₂ eq - queima da gasolina A","kg",null,{"$f":"$E$63*'FE''s queima combustíveis'!$I$9/1000","v":0},0,null,{"$error":"#DIV/0!"},{"$error":"#DIV/0!"}]
[null,"CO₂ eq - queima do etanol anidro","kg",null,{"$f":"$E$64*'FE''s queima combustíveis'!$I$7/1000","v":0},0,null,{"$error":"#DIV/0!"},{"$error":"#DIV/0!"}]
[null,"CO₂ eq - queima do etanol hidratado","kg",null,{"$f":"$E$65*'FE''s queima combustíveis'!$I$8/1000","v":0},0,null,{"$error":"#DIV/0!"},{"$error":"#DIV/0!"}]
[null,"CO₂ eq - queima do biometano","kg",null,{"$f":"($E$66+E1GM!D75)*'FE''s queima combustíveis'!$I$66/1000","v":0},0,null,{"$error":"#DIV/0!"},{"$error":"#DIV/0!"}]
[]
[null,"Emissões do processo","g CO2 eq/t milho",null,null,{"$f":"SUM(F73:F83)","v":{"$error":"#DIV/0!"}},null,{"$f":"(F85/$E$92)*$F$92","v":{"$error":"#DIV/0!"}},{"$f":"(F85/$E$93)*$F$93","v":{"$error":"#DIV/0!"}}]
[null,"Emissões background","g CO2 eq/t milho",null,null,{"$f":"SUM(F17:F41,F60:F71)","v":{"$error":"#DIV/0!"}},null,{"$error":"#DIV/0!"},{"$error":"#DIV/0!"}]
[null,"Emissões totais","g CO2 eq/t milho",null,null,{"$f":"F85+F86","v":{"$error":"#DIV/0!"}},null,{"$error":"#DIV/0!"},{"$error":"#DIV/0!"}]
[]
[]
[null,"Etapa industrial - Etanol de milho",null,null,null,null,null,"Emissões por MJ de etanol anidro","Emissões por MJ de etanol hidratado"]
[null,"Produtos","Unidade","1 t milho","MJ","Alocação"]
[null,"Etanol Anidro","kg",{"$f":"E1GM!D87*'Dados auxiliares'!$D$15","v":0},{"$f":"D92*'Dados auxiliares'!$F$15","v":0},{"$f":"E92/SUM($E$92:$E$99)","v":{"$error":"#DIV/0!"}}]
[null,"Etanol Hidratado","kg",{"$f":"E1GM!D88*'Dados auxiliares'!$D$16","v":0},{"$f":"D93*'Dados auxiliares'!$F$16","v":0},{"$f":"E93/SUM($E$92:$E$99)","v":{"$error":"#DIV/0!"}}]
[null,"Eletricidade","kWh",{"$f":"E1GM!D89","v":0},{"$f":"CONVERT(D94,\"kWh\",\"MJ\")","v":0},{"$error":"#DIV/0!"}]
[null,"DDGS","kg",{"$f":"E1GM!D91*(1-E1GM!G91)","v":0},{"$f":"D95*'Dados auxiliares'!D38","v":0},{"$error":"#DIV/0!"}]
[null,"DDG","kg",{"$f":"E1GM!D90*(1-E1GM!G90)","v":0},{"$f":"D96*'Dados auxiliares'!D37","v":0},{"$error":"#DIV/0!"}]
[null,"CGM","kg",{"$f":"E1GM!D92*(1-E1GM!G92)","v":0},{"$f":"D97*'Dados auxiliares'!D39","v":0},{"$error":"#DIV/0!"}]
[null,"CGF","kg",{"$f":"E1GM!D93*(1-E1GM!G93)","v":0},{"$f":"D98*'Dados auxiliares'!D40","v":0},{"$error":"#DIV/0!"}]
[null,"Óleo de Milho","kg",{"$f":"E1GM!D94","v":0},{"$f":"D99*'Dados auxiliares'!D41","v":0},{"$error":"#DIV/0!"}]
[null,"Entradas ","Unidade","1 t milho",null,"g CO2 eq/t milho",null,"g CO2 eq/MJ","g CO2 eq/MJ"]
[null,"Processamento dos grãos"]
[null,"Processamento com secagem","m³",{"$f":"(0.00004878*0.65)","v":3.1707E-5},null,{"$f":"D102*'Dados auxiliares'!$H$81","v":1.018120869909E-6},null,{"$f":"(F102/$E$92)*$F$92","v":{"$error":"#DIV/0!"}},{"$f":"(F102/$E$93)*$F$93","v":{"$error":"#DIV/0!"}}]
[null,"Processamento sem secagem","m³",{"$f":"(0.00004878*0.35)","v":1.7072999999999997E-5},null,{"$f":"D103*'Dados auxiliares'!$H$80","v":2.6994354200100001E-7},null,{"$error":"#DIV/0!"},{"$error":"#DIV/0!"}]
[null,"Insumos"]
[null,"Milho (grãos)","t",1,null,{"$f":"D105*F87","v":{"$error":"#DIV/0!"}},null,{"$f":"(F105/$E$92)*$F$92","v":{"$error":"#DIV/0!"}},{"$f":"(F105/$E$93)*$F$93","v":{"$error":"#DIV/0!"}}]
[null,"Transporte do milho em grãos até a usina","tkm",{"$f":"D105*E1GM!D86","v":0},null,{"$f":"D106*'Dados auxiliares'!$H$131","v":0},null,{"$f":"(F106/$E$92)*$F$92","v":{"$error":"#DIV/0!"}},{"$error":"#DIV/0!"}]
[null,"Enzimas","kg",0.57199999999999995,null,{"$f":"D107*'Dados auxiliares'!$H$99","v":749.31999999999994},null,{"$error":"#DIV/0!"},{"$error":"#DIV/0!"}]
[null,"Ácido sulfúrico","kg",0.90900000000000003,null,{"$f":"D108*'Dados auxiliares'!$H$88","v":99.408112467459816},null,{"$error":"#DIV/0!"},{"$error":"#DIV/0!"}]
[null,"Hidróxido de sódio","kg",0.33300000000000002,null,{"$f":"D109*'Dados auxiliares'!$H$97","v":170.64857799993447},null,{"$error":"#DIV/0!"},{"$error":"#DIV/0!"}]
[null,"Amônia","kg",0.72499999999999998,null,{"$f":"D110*'Dados auxiliares'!$H$95","v":2218.0197988132104},null,{"$error":"#DIV/0!"},{"$error":"#DIV/0!"}]
[null,"Levedura","kg",1E-3,null,{"$f":"D111*'Dados auxiliares'!$H$98","v":1.04970694358414},null,{"$error":"#DIV/0!"},{"$error":"#DIV/0!"}]
[null,"Zeolita","kg",6.2E-2,null,{"$f":"D112*'Dados auxiliares'!$H$94","v":310.64041816017919},null,{"$error":"#DIV/0!"},{"$error":"#DIV/0!"}]
[null,"Combustíveis e eletricidade"]
[null,"Eletricidade da rede - mix médio","kWh",{"$f":"E1GM!D97","v":0},null,{"$f":"D114*'Dados auxiliares'!$H$107","v":0},null,{"$f":"(F114/$E$92)*$F$92","v":{"$error":"#DIV/0!"}},{"$f":"(F114/$E$93)*$F$93","v":{"$error":"#DIV/0!"}}]
[null,"Eletricidade - PCH","kWh",{"$f":"E1GM!D98","v":0},null,{"$f":"D115*'Dados auxiliares'!$H$108","v":0},null,{"$error":"#DIV/0!"},{"$error":"#DIV/0!"}]
[null,"Eletricidade - biomassa","kWh",{"$f":"E1GM!D99","v":0},null,{"$f":"D116*'Dados auxiliares'!$H$109","v":0},null,{"$error":"#DIV/0!"},{"$error":"#DIV/0!"}]
[null,"Eletricidade - eólica","kWh",{"$f":"E1GM!D100","v":0},null,{"$f":"D117*'Dados auxiliares'!$H$110","v":0},null,{"$error":"#DIV/0!"},{"$error":"#DIV/0!"}]
[null,"Eletricidade - solar","kWh",{"$f":"E1GM!D101","v":0},null,{"$f":"D118*'Dados auxiliares'!$H$111","v":0},null,{"$error":"#DIV/0!"},{"$error":"#DIV/0!"}]
[null,"Diesel B0","kg",{"$f":"(E1GM!$D$102*(1-0.08)+E1GM!$D$103*(1-0.1)+E1GM!$D$104*(1-E1GM!$G$104)+E1GM!$D$105*(1-0.2)+E1GM!$D$106*(1-0.3)+E1GM!$D$107*(1-1))*('Dados auxiliares'!$D$26)","v":0},null,{"$f":"D119*'Dados auxiliares'!$H$116","v":0},null,{"$error":"#DIV/0!"},{"$error":"#DIV/0!"}]
[null,"Biodiesel B100","kg",{"$f":"(E1GM!$D$102*(0.08)+E1GM!$D$103*(0.1)+E1GM!$D$104*(E1GM!$G$104)+E1GM!$D$105*(0.2)+E1GM!$D$106*(0.3)+E1GM!$D$107*(1))*('Dados auxiliares'!$D$17)","v":0},null,{"$f":"D120*'Dados auxiliares'!$H$117","v":0},null,{"$error":"#DIV/0!"},{"$error":"#DIV/0!"}]
[null,"Óleo combusível","kg",{"$f":"E1GM!D108*'Dados auxiliares'!$D$30","v":0},null,{"$f":"D121*'Dados auxiliares'!$H$126","v":0},null,{"$error":"#DIV/0!"},{"$error":"#DIV/0!"}]
[null,"Biogás de terceiros","Nm³",{"$f":"E1GM!D111","v":0},null,{"$f":"D122*E1GM!G111*'Dados auxiliares'!$H$125","v":0},null,{"$f":"(F122/$E$92)*$F$92","v":{"$error":"#DIV/0!"}},{"$error":"#DIV/0!"}]
[null,"Gás natural","Nm³",{"$f":"E1GM!D113","v":0},null,{"$f":"D123*'Dados auxiliares'!$H$115","v":0},null,{"$error":"#DIV/0!"},{"$error":"#DIV/0!"}]
[null,"Cavaco de madeira","kg base seca",{"$f":"E1GM!$D$115*(1-E1GM!$D$116)","v":0},null,{"$f":"D124*'Dados auxiliares'!$H$123","v":0},null,{"$error":"#DIV/0!"},{"$error":"#DIV/0!"}]
[null,"Transporte de cavaco de madeira","tkm",{"$f":"((D124/1000)*E1GM!$D$117)","v":0},null,{"$f":"D125*'Dados auxiliares'!$H$131","v":0},null,{"$error":"#DIV/0!"},{"$error":"#DIV/0!"}]
[null,"Lenha","kg base seca",{"$f":"E1GM!$D$119*(1-E1GM!$D$120)","v":0},null,{"$f":"D126*'Dados auxiliares'!$H$124","v":0},null,{"$error":"#DIV/0!"},{"$error":"#DIV/0!"}]
[null,"Transporte de lenha","tkm",{"$f":"((D126/1000)*E1GM!$D$121)","v":0},null,{"$f":"D127*'Dados auxiliares'!$H$131","v":0},null,{"$error":"#DIV/0!"},{"$error":"#DIV/0!"}]
[null,"Resíduos florestais","kg base seca",{"$f":"E1GM!$D$123*(1-E1GM!$D$124)","v":0},null,0,null,{"$error":"#DIV/0!"},{"$error":"#DIV/0!"}]
[null,"Transporte de resíduos florestais","tkm",{"$f":"((D128/1000)*E1GM!$D$125)","v":0},null,{"$f":"D129*'Dados auxiliares'!$H$131","v":0},null,{"$error":"#DIV/0!"},{"$error":"#DIV/0!"}]
[null,"Bagaço de cana-de-açúcar","kg base seca",{"$f":"E1GM!$D$127*(1-E1GM!$D$128)","v":0},null,0,null,{"$error":"#DIV/0!"},{"$error":"#DIV/0!"}]
[null,"Transporte de bagaço de cana-de-açúcar","tkm",{"$f":"((D130/1000)*E1GM!$D$129)","v":0},null,{"$f":"D131*'Dados auxiliares'!$H$131","v":0},null,{"$error":"#DIV/0!"},{"$error":"#DIV/0!"}]
[null,"Palha de cana-de-açúcar","kg base seca",{"$f":"E1GM!$D$131*(1-E1GM!$D$132)","v":0},null,{"$f":"D132*'Dados auxiliares'!$H$78","v":0},null,{"$error":"#DIV/0!"},{"$error":"#DIV/0!"}]
[null,"Transporte de palha de cana-de-açúcar","tkm",{"$f":"((D132/1000)*E1GM!$D$133)","v":0},null,{"$f":"D133*'Dados auxiliares'!$H$131","v":0},null,{"$error":"#DIV/0!"},{"$error":"#DIV/0!"}]
[null,"Emissões","Unidade","1 t milho",null,"g CO2 eq/t milho",null,"g CO2 eq/MJ","g CO2 eq/MJ"]
[null,"CO₂ eq - queima do diesel","kg",{"$f":"D119*'FE''s queima combustíveis'!$I$50/1000","v":0},null,{"$f":"D135*1000","v":0},null,{"$f":"(F135/$E$92)*$F$92","v":{"$error":"#DIV/0!"}},{"$f":"(F135/$E$93)*$F$93","v":{"$error":"#DIV/0!"}}]
[null,"CO₂ eq - queima do biodiesel","kg",{"$f":"D120*'FE''s queima combustíveis'!$I$51/1000","v":0},null,0,null,{"$error":"#DIV/0!"},{"$error":"#DIV/0!"}]
[null,"CO₂ eq - queima do óleo combustível","kg",{"$f":"D121*'FE''s queima combustíveis'!$I$53/1000","v":0},null,{"$f":"D137*1000","v":0},null,{"$error":"#DIV/0!"},{"$error":"#DIV/0!"}]
[null,"CO₂ eq - queima do etanol hidratado próprio","kg",{"$f":"E1GM!D109*'Dados auxiliares'!$D$16*'FE''s queima combustíveis'!$I$57/1000","v":0},null,0,null,{"$error":"#DIV/0!"},{"$error":"#DIV/0!"}]
[null,"CO₂ eq - queima do etanol anidro próprio","kg",{"$f":"E1GM!D110*'Dados auxiliares'!$D$15*'FE''s queima combustíveis'!$I$55/1000","v":0},null,0,null,{"$error":"#DIV/0!"},{"$error":"#DIV/0!"}]
[null,"CO₂ eq - queima do biogás de terceiros","kg",{"$f":"E1GM!D111*E1GM!G111*'FE''s queima combustíveis'!$I$41/1000","v":0},null,{"$f":"D140*1000","v":0},null,{"$f":"(F140/$E$92)*$F$92","v":{"$error":"#DIV/0!"}},{"$error":"#DIV/0!"}]
[null,"CO₂ eq - queima do biogás próprio","kg",{"$f":"E1GM!D112*E1GM!G112*'FE''s queima combustíveis'!$I$41/1000","v":0},null,{"$f":"D141*1000","v":0},null,{"$f":"(F141/$E$92)*$F$92","v":{"$error":"#DIV/0!"}},{"$error":"#DIV/0!"}]
[null,"CO₂ eq - queima da gás natural","kg",{"$f":"D123*'FE''s queima combustíveis'!$I$46*('Dados auxiliares'!$D$27*1000)/1000","v":0},null,0,null,{"$error":"#DIV/0!"},{"$error":"#DIV/0!"}]
[null,"CO₂ eq - queima do bagaço de cana-de-açúcar","kg",{"$f":"D130*'FE''s queima combustíveis'!$I$36/1000","v":0},null,0,null,{"$error":"#DIV/0!"},{"$error":"#DIV/0!"}]
[null,"CO₂ eq - queima da palha de cana-de-açúcar","kg",{"$f":"D132*'FE''s queima combustíveis'!$I$37/1000","v":0},null,0,null,{"$error":"#DIV/0!"},{"$error":"#DIV/0!"}]
[null,"CO₂ eq - queima dos cavacos de madeira","kg",{"$f":"D124*'FE''s queima combustíveis'!$I$38/1000","v":0},null,0,null,{"$error":"#DIV/0!"},{"$error":"#DIV/0!"}]
[null,"CO₂ eq - queima da lenha","kg",{"$f":"D126*'FE''s queima combustíveis'!$I$39/1000","v":0},null,0,null,{"$error":"#DIV/0!"},{"$error":"#DIV/0!"}]
[null,"CO₂ eq - queima dos resíduos florestais","kg",{"$f":"D128*'FE''s queima combustíveis'!$I$40/1000","v":0},null,0,null,{"$error":"#DIV/0!"},{"$error":"#DIV/0!"}]
[]
[null,"Emissões do processo","g CO2 eq/t milho",null,null,{"$f":"SUM(F135:F147)","v":0},null,{"$error":"#DIV/0!"},{"$f":"(F149/$E$93)*$F$93","v":{"$error":"#DIV/0!"}}]
[null,"Emissões background","g CO2 eq/t milho",null,null,{"$f":"SUM(F102:F133)","v":{"$error":"#DIV/0!"}},null,{"$error":"#DIV/0!"},{"$error":"#DIV/0!"}]
[null,"Emissões totais","g CO2 eq/t milho",null,null,{"$f":"F149+F150","v":{"$error":"#DIV/0!"}},null,{"$error":"#DIV/0!"},{"$error":"#DIV/0!"}]
[]
[]
[null,"Etapa distribuição"]
[null,"Sistema logístico rodoviário"]
[null,"Parâmetro","Unidade","Etanol anidro","Etanol hidratado"]
[null,"Massa","kg/t milho",{"$f":"$D$92*E1GM!$D$139","v":0},{"$f":"$D$93*E1GM!$D$144","v":0}]
[null,"Distância de transporte rodoviário","km",{"$f":"'Dados auxiliares'!C157","v":700},{"$f":"'Dados auxiliares'!C157","v":700}]
[null,"Transporte rodoviário","tkm/t milho",{"$f":"D157/1000*D158","v":0},{"$f":"E157/1000*E158","v":0}]
[null,"Emissões","g CO2 eq/t milho",{"$f":"D159*'Dados auxiliares'!$H$132","v":0},{"$f":"E159*'Dados auxiliares'!$H$132","v":0}]
[null,"Emissões","g CO2 eq/MJ",{"$f":"D160/$E$92","v":{"$error":"#DIV/0!"}},{"$f":"E160/$E$93","v":{"$error":"#DIV/0!"}}]
[null,"Sistema logístico fluvial"]
[null,"Parâmetro","Unidade","Etanol anidro","Etanol hidratado"]
[null,"Massa","kg/t milho",{"$f":"$D$92*E1GM!$D$140","v":0},{"$f":"$D$93*E1GM!$D$145","v":0}]
[null,"Distância de transporte rodoviário","km",{"$f":"'Dados auxiliares'!K157","v":1300},{"$f":"'Dados auxiliares'!K157","v":1300}]
[null,"Transporte rodoviário","tkm/t milho",{"$f":"D164/1000*D165","v":0},{"$f":"E164/1000*E165","v":0}]
[null,"Distância de transporte fluvial","km",{"$f":"'Dados auxiliares'!L157","v":1240},{"$f":"'Dados auxiliares'!L157","v":1240}]
[null,"Transporte fluvial","tkm/t milho",{"$f":"D164/1000*D167","v":0},{"$f":"E164/1000*E167","v":0}]
[null,"Emissões","g CO2 eq/t milho",{"$f":"D166*'Dados auxiliares'!$H$132+D168*'Dados auxiliares'!$H$134","v":0},{"$f":"E166*'Dados auxiliares'!$H$132+E168*'Dados auxiliares'!$H$134","v":0}]
[null,"Emissões","g CO2 eq/MJ",{"$f":"D169/$E$92","v":{"$error":"#DIV/0!"}},{"$f":"E169/$E$93","v":{"$error":"#DIV/0!"}}]
[]
[null,"Emissões totais","g CO2 eq/MJ",{"$f":"D161+D170","v":{"$error":"#DIV/0!"}},{"$f":"E161+E170","v":{"$error":"#DIV/0!"}}]

{"sheet":"E1GMI","index":13,"n_rows":130,"n_cols":8,"rows_kept":130,"cut":false,"hidden":false,"merged":[[128,2,128,4],[112,2,112,4],[116,2,116,4],[122,1,122,7],[124,2,124,4],[23,1,23,7],[25,22,25,23],[22,1,22,7],[14,3,14,5],[108,2,108,4],[31,1,31,7],[36,1,36,7],[39,1,39,7],[57,1,57,7],[64,1,64,7],[80,1,80,7],[81,1,81,7],[93,1,93,7],[28,1,28,2],[3,2,3,7],[5,2,5,7],[7,2,7,7],[9,2,9,3],[12,2,12,3]]}
[""]
[null,"Etanol combustível importado de primeira geração produzido a partir de milho"]
[]
[null,"Nome da Usina:","Usina Hipotética"]
[]
[null,"CNPJ","00.000.000/0000-00"]
[]
[null,"Responsável pelo preenchimento:"]
[]
[null,"Telefone :","(00) 0000-0000"]
[]
[]
[null,null,"Etanol Anidro"]
[]
[null,"Intensidade de Carbono\n(g CO₂eq/MJ)",{"$f":"SUM(C17:C20)","v":0.43899999999999995},"Nota de Eficiência Energético-Ambiental\n(g CO₂eq/MJ)",null,null,{"$f":"G18-C15","v":86.961000000000013}]
[]
[null,"agrícola",{"$f":"IFERROR(IF(C13=\"Etanol Anidro\",_E1GMI!C5,IF(C13=\"Etanol Hidratado\",_E1GMI!E5,\"\")),0)","v":0},null,null,null,"Fóssil substituto: Gasolina"]
[null,"industrial",{"$f":"IFERROR(IF(C13=\"Etanol Anidro\",_E1GMI!C6,IF(C13=\"Etanol Hidratado\",_E1GMI!E6,\"\")),0)","v":0},null,null,null,{"$f":"'Dados auxiliares'!F166","v":87.4}]
[null,"transporte",{"$f":"IFERROR(IF(C13=\"Etanol Anidro\",_E1GMI!C7,IF(C13=\"Etanol Hidratado\",_E1GMI!E7,\"\")),0)","v":0},null,null,null,"Redução de emissões"]
[null,"uso",{"$f":"IFERROR(IF(C13=\"Etanol Anidro\",_E1GMI!C8,IF(C13=\"Etanol Hidratado\",_E1GMI!E8,\"\")),0)","v":0.43899999999999995},null,null,null,{"$f":"(G18-C15)/G18","v":0.9949771167048056}]
[]
[]
[null,"Fase agrícola - Dados consolidados"]
[null,"Informações gerais"]
[null,null,"Sistema de plantio","Convencional"]
[null,null,"Área total",null,"ha"]
[]
[null,null,"Produção total (base úmida)",null,"t milho","Umidade"]
[null,"Quantidade comprada pela unidade produtora de biocombustível (base úmida)",null,null,"t milho"]
[null,null,"Palha recolhida (base seca)",null,"t palha"]
[]
[null,"Corretivos"]
[null,null,"Calcário calcítico",null,"kg/t milho"]
[null,null,"Calcário dolomítico",null,"kg/t milho"]
[null,null,"Gesso",null,"kg/t milho"]
[]
[null,"Sementes"]
[null,null,"Sementes",null,"kg/t milho"]
[]
[null,"Fertilizantes Sintéticos"]
[null,null,"Ureia",null,"kg N/t milho"]
[null,null,"Fosfato Monoamônico (MAP)",null,"kg N/t milho"]
[null,null,"Fosfato Monoamônico (MAP)",null,"kg P₂O₅/t milho"]
[null,null,"Fosfato diamônico (DAP)",null,"kg N/t milho"]
[null,null,"Fosfato diamônico (DAP)",null,"kg P₂O₅/t milho"]
[null,null,"Nitrato de amônio",null,"kg N/t milho"]
[null,null,"Solução de nitrato de amônio e ureia (UAN)",null,"kg N/t milho"]
[null,null,"Amônia anidra",null,"kg N/t milho"]
[null,null,"Sulfato de amônio",null,"kg N/t milho"]
[null,null,"Nitrato de amônio e cálcio (CAN)",null,"kg N/t milho"]
[null,null,"Superfosfato simples (SSP)",null,"kg P₂O₅/t milho"]
[null,null,"Superfosfato triplo (TSP)",null,"kg P₂O₅/t milho"]
[null,null,"Cloreto de potássio (KCl)",null,"kg K₂O/t milho"]
[null,"Outros","especificar",null,"kg N/t milho"]
[null,"Outros","especificar",null,"kg P₂O₅/t milho"]
[null,"Outros","especificar",null,"kg K₂O/t milho"]
[]
[null,"              Fertilizantes Orgânicos/Organominerais"]
[null,"Outros","especificar",null,"kg/t milho","Concentração de N",null,"g N/kg"]
[null,"Outros","especificar",null,"kg/t milho","Concentração de N",null,"g N/kg"]
[null,"Outros","especificar",null,"kg/t milho","Concentração de N",null,"g N/kg"]
[null,"Outros","especificar",null,"kg/t milho","Concentração de N",null,"g N/kg"]
[null,"Outros","especificar",null,"kg/t milho","Concentração de N",null,"g N/kg"]
[]
[null,"              Combustíveis e eletricidade"]
[null,null,"Diesel - B8",null,"L/t milho"]
[null,null,"Diesel - B10",null,"L/t milho"]
[null,null,"Diesel - BX",null,"L/t milho","Teor de biodiesel na mistura"]
[null,null,"Diesel - B20",null,"L/t milho"]
[null,null,"Diesel - B30",null,"L/t milho"]
[null,null,"Biodiesel - B100",null,"L/t milho"]
[null,null,"Gasolina C",null,"L/t milho"]
[null,null,"Etanol hidratado",null,"L/t milho"]
[null,null,"Biometano de terceiros",null,"Nm³/t milho"]
[null,null,"Biometano próprio",null,"Nm³/t milho"]
[null,null,"Gás Natural",null,"Nm³/t milho"]
[null,null,"GLP",null,"L/t milho"]
[null,null,"Eletricidade da rede - mix médio EUA",null,"kWh/t milho"]
[]
[]
[null,"Fase industrial - processamento do etanol"]
[null,"Processamento e rendimentos"]
[null,null,"Quantidade de milho processado",null," t milho/ano","Umidade"]
[null,null,"Distância de transporte - milho",null,"km"]
[null,null,"Rendimento - Etanol anidro",null,"L/ t milho"]
[null,null,"Rendimento - Etanol hidratado",null,"L/ t milho"]
[null,null,"Rendimento Energia elétrica comercializada",null,"kWh/ t milho"]
[null,null," Rendimento - DDG (Distillers Dried Grains) ",null,"kg/ t milho","Umidade"]
[null,null," Rendimento - DDGS (Distillers Dried Grains with Solubles)",null,"kg/ t milho","Umidade"]
[null,null,"Rendimento - CGM (Corn Gluten Meal)",null,"kg/ t milho","Umidade"]
[null,null,"Rendimento - CGF (Corn Gluten Feed)",null,"kg/ t milho","Umidade"]
[null,null,"Rendimento - Óleo de milho",null,"kg/ t milho"]
[]
[null,"Combustíveis e eletricidade"]
[null,null,"Eletricidade da rede - mix médio EUA",null,"kWh/t milho"]
[null,null,"Diesel - B8",null,"L/t milho"]
[null,null,"Diesel - B10",null,"L/t milho"]
[null,null,"Diesel - BX",null,"L/t milho","Teor de biodiesel na mistura"]
[null,null,"Diesel - B20",null,"L/t milho"]
[null,null,"Diesel - B30",null,"L/t milho"]
[null,null,"Biodiesel - B100",null,"L/t milho"]
[null,null,"Óleo combustível",null,"L/t milho"]
[null,null,"Etanol hidratado próprio",null,"L/t milho"]
[null,null,"Etanol anidro próprio",null,"L/t milho"]
[null,null,"Biogás de terceiros",null,"Nm³/t milho","PCI do biogás",null,"MJ/Nm³"]
[null,null,"Biogás próprio",null,"Nm³/t milho","PCI do biogás",null,"MJ/Nm³"]
[null,null,"Gás natural",null,"Nm³/t milho"]
[null,null,"Calor (carvão)",null,"MJ/t milho"]
[null,null,"Cavaco de madeira"]
[null,null,"Quantidade (base úmida)",null,"kg/t milho"]
[null,null,"Umidade"]
[null,null,"Distância de transporte",null,"km"]
[null,null," Lenha"]
[null,null,"Quantidade (base úmida)",null,"kg/t milho"]
[null,null,"Umidade"]
[null,null,"Distância de transporte",null,"km"]
[null,null,"Resíduos florestais"]
[null,null,"Quantidade (base úmida)",null,"kg/t milho"]
[null,null,"Umidade"]
[null,null,"Distância de transporte",null,"km"]
[]
[]
[null,"Fase de distribuição"]
[]
[null,null,"Etanol anidro"]
[null,null,"Marítimo",1,{"$f":"IF((D126=1),\"\",\"A porcentagem desta distribuição deve ser igual a 100%!\")","v":""}]
[]
[]
[null,null,"Etanol hidratado"]
[null,null,"Marítimo",1,{"$f":"IF((D130=1),\"\",\"A porcentagem desta distribuição deve ser igual a 100%!\")","v":""}]

{"sheet":"_E1GMI","index":14,"n_rows":159,"n_cols":9,"rows_kept":159,"cut":false,"hidden":true,"merged":[[10,7,14,7],[10,8,14,8],[89,7,98,7],[89,8,98,8],[89,1,89,5],[145,1,145,5],[1,1,1,5],[2,2,2,3],[2,4,2,5],[3,2,3,3],[3,4,3,5],[10,1,10,5]]}
[]
[null,"Emissões totais - g CO₂ eq"]
[null,null,"Anidro",null,"Hidratado"]
[null,"Total",{"$f":"C5+C6+C7+C8","v":{"$error":"#DIV/0!"}},null,{"$f":"E5+E6+E7+E8","v":{"$error":"#DIV/0!"}}]
[null,"Agrícola",{"$f":"$H$87","v":{"$error":"#DIV/0!"}},{"$f":"C5/$C$4","v":{"$error":"#DIV/0!"}},{"$f":"$I$87","v":{"$error":"#DIV/0!"}},{"$f":"E5/$E$4","v":{"$error":"#DIV/0!"}}]
[null,"Industrial",{"$f":"$H$143-$H$105","v":{"$error":"#DIV/0!"}},{"$f":"C6/$C$4","v":{"$error":"#DIV/0!"}},{"$f":"$I$143-$I$105","v":{"$error":"#DIV/0!"}},{"$f":"E6/$E$4","v":{"$error":"#DIV/0!"}}]
[null,"Transporte",{"$f":"$D$159","v":{"$error":"#DIV/0!"}},{"$error":"#DIV/0!"},{"$f":"$E$159","v":{"$error":"#VALUE!"}},{"$error":"#VALUE!"}]
[null,"Uso",{"$f":"'FE''s queima combustíveis'!$I$7","v":0.43899999999999995},{"$error":"#DIV/0!"},{"$f":"'FE''s queima combustíveis'!$I$8","v":0.66300000000000003},{"$error":"#DIV/0!"}]
[]
[]
[null,"Etapa agrícola - Milho",null,null,null,null,null,"Emissões por MJ de etanol anidro","Emissões por MJ de etanol hidratado"]
[null,"Produto",null,"1 ha médio","1 t milho"]
[null,"Produção de milho","kg",{"$f":"E1GMI!D28/E1GMI!D26*1000","v":{"$error":"#DIV/0!"}},1000]
[null,"Entradas da natureza",null,"1 ha médio","1 t milho","g CO2 eq/t milho"]
[null,"Ocupação total","ha",1,{"$f":"(D15*E13)/D13","v":{"$error":"#DIV/0!"}},"-"]
[null,"Entradas da tecnosfera",null,"1 ha médio","1 t milho","g CO2 eq/t milho",null,"g CO2 eq/MJ","g CO2 eq/MJ"]
[null,"Sementes de milho","kg",null,{"$f":"E1GMI!D38","v":0},{"$f":"E17*'Dados auxiliares'!$H$75","v":0},null,{"$f":"(F17/$E$92)*$F$92","v":{"$error":"#DIV/0!"}},{"$f":"(F17/$E$93)*$F$93","v":{"$error":"#DIV/0!"}}]
[null,"Água","kg",602,{"$f":"D18*$E$15/$D$15","v":{"$error":"#DIV/0!"}},{"$f":"E18*'Dados auxiliares'!$H$83","v":{"$error":"#DIV/0!"}},null,{"$f":"(F18/$E$92)*$F$92","v":{"$error":"#DIV/0!"}},{"$f":"(F18/$E$93)*$F$93","v":{"$error":"#DIV/0!"}}]
[null,"Fertilizantes e corretivos"]
[null,"Calcário calcítico","kg",null,{"$f":"E1GMI!D33","v":0},{"$f":"E20*'Dados auxiliares'!$H$52","v":0},null,{"$f":"(F20/$E$92)*$F$92","v":{"$error":"#DIV/0!"}},{"$error":"#DIV/0!"}]
[null,"Calcário dolomítico","kg",null,{"$f":"E1GMI!D34","v":0},{"$f":"E21*'Dados auxiliares'!$H$53","v":0},null,{"$error":"#DIV/0!"},{"$error":"#DIV/0!"}]
[null,"Gesso","kg",null,{"$f":"E1GMI!D35","v":0},{"$f":"E22*'Dados auxiliares'!$H$54","v":0},null,{"$error":"#DIV/0!"},{"$error":"#DIV/0!"}]
[null,"N - Ureia","kg N",null,{"$f":"E1GMI!D41","v":0},{"$f":"E23*'Dados auxiliares'!$H$55","v":0},null,{"$error":"#DIV/0!"},{"$error":"#DIV/0!"}]
[null,"N - Fosfato monoamônico (MAP)","kg N",null,{"$f":"E1GMI!D42","v":0},{"$f":"E24*'Dados auxiliares'!$H$56","v":0},null,{"$error":"#DIV/0!"},{"$error":"#DIV/0!"}]
[null,"P₂O₅ - Fosfato monoamônico (MAP)","kg P₂O₅",null,{"$f":"E1GMI!D43","v":0},{"$f":"E25*'Dados auxiliares'!$H$57","v":0},null,{"$error":"#DIV/0!"},{"$error":"#DIV/0!"}]
[null,"N - Fosfato diamônico (DAP)","kg N",null,{"$f":"E1GMI!D44","v":0},{"$f":"E26*'Dados auxiliares'!$H$58","v":0},null,{"$error":"#DIV/0!"},{"$error":"#DIV/0!"}]
[null,"P₂O₅ - Fosfato diamônico (DAP)","kg P₂O₅",null,{"$f":"E1GMI!D45","v":0},{"$f":"E27*'Dados auxiliares'!$H$59","v":0},null,{"$error":"#DIV/0!"},{"$error":"#DIV/0!"}]
[null,"N - Nitrato de amônio","kg N",null,{"$f":"E1GMI!D46","v":0},{"$f":"E28*'Dados auxiliares'!$H$60","v":0},null,{"$error":"#DIV/0!"},{"$error":"#DIV/0!"}]
[null,"N - Solução de nitrato de amônio e ureia (UAN)","kg N",null,{"$f":"E1GMI!D47","v":0},{"$f":"E29*'Dados auxiliares'!$H$61","v":0},null,{"$error":"#DIV/0!"},{"$error":"#DIV/0!"}]
[null,"N - Amônia anidra","kg N",null,{"$f":"E1GMI!D48","v":0},{"$f":"E30*'Dados auxiliares'!$H$62","v":0},null,{"$error":"#DIV/0!"},{"$error":"#DIV/0!"}]
[null,"N - Sulfato de amônio","kg N",null,{"$f":"E1GMI!D49","v":0},{"$f":"E31*'Dados auxiliares'!$H$63","v":0},null,{"$error":"#DIV/0!"},{"$error":"#DIV/0!"}]
[null,"N - Nitrato de amônio e cálcio (CAN)","kg N",null,{"$f":"E1GMI!D50","v":0},{"$f":"E32*'Dados auxiliares'!$H$64","v":0},null,{"$error":"#DIV/0!"},{"$error":"#DIV/0!"}]
[null,"P₂O₅ - Superfosfato simples (SSP)","kg P₂O₅",null,{"$f":"E1GMI!D51","v":0},{"$f":"E33*'Dados auxiliares'!$H$66","v":0},null,{"$error":"#DIV/0!"},{"$error":"#DIV/0!"}]
[null,"P₂O₅ - Superfosfato triplo (TSP)","kg P₂O₅",null,{"$f":"E1GMI!D52","v":0},{"$f":"E34*'Dados auxiliares'!$H$67","v":0},null,{"$error":"#DIV/0!"},{"$error":"#DIV/0!"}]
[null,"K₂O - Cloreto de potássio (KCl)","kg K₂O",null,{"$f":"E1GMI!D53","v":0},{"$f":"E35*'Dados auxiliares'!H$68","v":0},null,{"$error":"#DIV/0!"},{"$error":"#DIV/0!"}]
[null,"N - Outros","kg N",null,{"$f":"E1GMI!D54","v":0},{"$f":"E36*'Dados auxiliares'!H$69","v":0},null,{"$error":"#DIV/0!"},{"$error":"#DIV/0!"}]
[null,"P₂O₅ - Outros","kg P₂O₅",null,{"$f":"E1GMI!D55","v":0},{"$f":"E37*'Dados auxiliares'!H$70","v":0},null,{"$error":"#DIV/0!"},{"$error":"#DIV/0!"}]
[null,"K₂O - Outros","kg K₂O",null,{"$f":"E1GMI!D56","v":0},{"$f":"E38*'Dados auxiliares'!H$71","v":0},null,{"$error":"#DIV/0!"},{"$error":"#DIV/0!"}]
[null,"Outros Fertilizantes Orgânicos/Organominerais","kg",null,{"$f":"SUM(E1GMI!D59:D63)","v":0},0,null,{"$error":"#DIV/0!"},{"$error":"#DIV/0!"}]
[null,"Agroquímicos"]
[null,"Herbicidas, Fungicidas, Inseticidas, Adjuvantes","kg",{"$f":"SUM(D42:D59)","v":4.0067465003383447},{"$f":"SUM(E42:E59)","v":{"$error":"#DIV/0!"}},{"$f":"SUM(F42:F59)","v":{"$error":"#DIV/0!"}},null,{"$f":"(F41/$E$92)*$F$92","v":{"$error":"#DIV/0!"}},{"$error":"#DIV/0!"}]
[null,"Herbicida, como glifosato","kg",0.75187392980081791,{"$f":"D42*$E$15","v":{"$error":"#DIV/0!"}},{"$f":"E42*'Dados auxiliares'!$H$72","v":{"$error":"#DIV/0!"}}]
[null,"Herbicida,como atrazina","kg",2.0932993027155846,{"$f":"D43*$E$15","v":{"$error":"#DIV/0!"}},{"$f":"E43*'Dados auxiliares'!$H$74","v":{"$error":"#DIV/0!"}}]
[null,"Herbicida, como Nicosulfuron","kg",2.36375297890494E-3,{"$error":"#DIV/0!"},{"$f":"E44*'Dados auxiliares'!$H$74","v":{"$error":"#DIV/0!"}}]
[null,"Fungicida, como tebuconazol","kg",1.8326164347288825E-2,{"$error":"#DIV/0!"},{"$f":"E45*'Dados auxiliares'!$H$74","v":{"$error":"#DIV/0!"}}]
[null,"Fungicida, como Fluxapiroxade","kg",5.5545470593427286E-3,{"$error":"#DIV/0!"},{"$f":"E46*'Dados auxiliares'!$H$74","v":{"$error":"#DIV/0!"}}]
[null,"Fungicida, como Piraclostrobina","kg",1.1075833357851068E-2,{"$error":"#DIV/0!"},{"$f":"E47*'Dados auxiliares'!$H$74","v":{"$error":"#DIV/0!"}}]
[null,"Fungicida, como azoxistrobina","kg",3.1056518285327604E-2,{"$error":"#DIV/0!"},{"$f":"E48*'Dados auxiliares'!$H$74","v":{"$error":"#DIV/0!"}}]
[null,"Fungicida, como trifloxistrobina","kg",9.1630821736444126E-3,{"$error":"#DIV/0!"},{"$f":"E49*'Dados auxiliares'!$H$74","v":{"$error":"#DIV/0!"}}]
[null,"Fungicida, como Difeconazol","kg",1.1264232545823649E-2,{"$error":"#DIV/0!"},{"$f":"E50*'Dados auxiliares'!$H$74","v":{"$error":"#DIV/0!"}}]
[null,"Fungicida, como ciproconazole","kg",1.2422607314131043E-2,{"$error":"#DIV/0!"},{"$f":"E51*'Dados auxiliares'!$H$74","v":{"$error":"#DIV/0!"}}]
[null,"Inseticida, como Imidacloprido","kg",0.16669375386154345,{"$error":"#DIV/0!"},{"$f":"E52*'Dados auxiliares'!$H$74","v":{"$error":"#DIV/0!"}}]
[null,"Inseticida, como tiodicarbe","kg",9.9529583100414848E-2,{"$error":"#DIV/0!"},{"$f":"E53*'Dados auxiliares'!$H$74","v":{"$error":"#DIV/0!"}}]
[null,"Inseticida, Connect, como beta-ciflutrina","kg",6.649568978198829E-2,{"$error":"#DIV/0!"},{"$f":"E54*'Dados auxiliares'!$H$74","v":{"$error":"#DIV/0!"}}]
[null,"Inseticida, como teflubenzurom","kg",5.0786136691282468E-3,{"$error":"#DIV/0!"},{"$f":"E55*'Dados auxiliares'!$H$74","v":{"$error":"#DIV/0!"}}]
[null,"Inseticida, como bifentrina","kg",3.9458648386242615E-3,{"$error":"#DIV/0!"},{"$f":"E56*'Dados auxiliares'!$H$74","v":{"$error":"#DIV/0!"}}]
[null,"Inseticida, como lufenuron","kg",1.6362646738650741E-3,{"$error":"#DIV/0!"},{"$f":"E57*'Dados auxiliares'!$H$74","v":{"$error":"#DIV/0!"}}]
[null,"Adjuvante, como óleo mineral","kg",0.14463274588837566,{"$error":"#DIV/0!"},{"$f":"E58*'Dados auxiliares'!$H$74","v":{"$error":"#DIV/0!"}}]
[null,"Adjuvante, como ester metílico","kg",0.57233401394568828,{"$f":"D59*$E$15","v":{"$error":"#DIV/0!"}},{"$f":"E59*'Dados auxiliares'!$H$74","v":{"$error":"#DIV/0!"}}]
[null,"Combustíveis e eletricidade"]
[null,"Diesel B0","kg",null,{"$f":"(E1GMI!$D$66*(1-0.08)+E1GMI!$D$67*(1-0.1)+E1GMI!$D$68*(1-E1GMI!$G$68)+E1GMI!$D$69*(1-0.2)+E1GMI!$D$70*(1-0.3)+E1GMI!$D$71*(1-1))*('Dados auxiliares'!$D$26)","v":0},{"$f":"E61*'Dados auxiliares'!$H$116","v":0},null,{"$f":"(F61/$E$92)*$F$92","v":{"$error":"#DIV/0!"}},{"$error":"#DIV/0!"}]
[null,"Biodiesel B100","kg",null,{"$f":"(E1GMI!$D$66*(0.08)+E1GMI!$D$67*(0.1)+E1GMI!$D$68*(E1GMI!$G$68)+E1GMI!$D$69*(0.2)+E1GMI!$D$70*(0.3)+E1GMI!$D$71*(1))*('Dados auxiliares'!$D$17)","v":0},{"$f":"E62*'Dados auxiliares'!$H$117","v":0},null,{"$error":"#DIV/0!"},{"$error":"#DIV/0!"}]
[null,"Gasolina A","kg",null,{"$f":"E1GMI!$D$72*(1-'FE''s queima combustíveis'!$D$19)*'Dados auxiliares'!$D$24","v":0},{"$f":"E63*'Dados auxiliares'!$H$120","v":0},null,{"$error":"#DIV/0!"},{"$error":"#DIV/0!"}]
[null,"Etanol anidro","kg",null,{"$f":"E1GMI!$D$72*('FE''s queima combustíveis'!$D$19)*'Dados auxiliares'!$D$15","v":0},{"$f":"E64*'Dados auxiliares'!$H$121","v":0},null,{"$error":"#DIV/0!"},{"$error":"#DIV/0!"}]
[null,"Etanol hidratado","kg",null,{"$f":"E1GMI!$D$73*'Dados auxiliares'!$D$16","v":0},{"$f":"E65*'Dados auxiliares'!$H$122","v":0},null,{"$error":"#DIV/0!"},{"$error":"#DIV/0!"}]
[null,"Biometano de terceiros","Nm³",null,{"$f":"E1GMI!D74","v":0},{"$f":"E66*('Dados auxiliares'!$D$18*1000)*'Dados auxiliares'!$F$18*'Dados auxiliares'!$H$125","v":0},null,{"$error":"#DIV/0!"},{"$error":"#DIV/0!"}]
[null,"Gás Natural","Nm³",null,{"$f":"E1GMI!D76","v":0},{"$f":"E67*'Dados auxiliares'!$H$115","v":0},null,{"$error":"#DIV/0!"},{"$error":"#DIV/0!"}]
[null,"GPL","kg",null,{"$f":"E1GMI!D77*'Dados auxiliares'!$D$29","v":0},{"$f":"E68*'Dados auxiliares'!$H$119","v":0},null,{"$error":"#DIV/0!"},{"$error":"#DIV/0!"}]
[null,"Eletricidade da rede - mix médio EUA","kWh",null,{"$f":"E1GMI!D78","v":0},{"$f":"E69*'Dados auxiliares'!$H$113","v":0},null,{"$error":"#DIV/0!"},{"$error":"#DIV/0!"}]
[null,"Emissões",null,"1 ha médio","1 t milho","g CO2 eq/t milho",null,"g CO2 eq/MJ","g CO2 eq/MJ"]
[null,"N2O - Fertilizantes sintéticos","kg",{"$f":"'_Emissões Agrícolas'!$I$54","v":{"$error":"#DIV/0!"}},{"$f":"D71*$E$15","v":{"$error":"#DIV/0!"}},{"$f":"E71*1000*'Dados auxiliares'!$D$9","v":{"$error":"#DIV/0!"}},null,{"$f":"(F71/$E$92)*$F$92","v":{"$error":"#DIV/0!"}},{"$error":"#DIV/0!"}]
[null,"N2O - Fertilizantes organominerais","kg",{"$f":"'_Emissões Agrícolas'!$I$58","v":{"$error":"#DIV/0!"}},{"$f":"D72*$E$15","v":{"$error":"#DIV/0!"}},{"$f":"E72*1000*'Dados auxiliares'!$D$9","v":{"$error":"#DIV/0!"}},null,{"$error":"#DIV/0!"},{"$error":"#DIV/0!"}]
[null,"N2O - Resíduos culturais","kg",{"$f":"'_Emissões Agrícolas'!$I$62","v":{"$error":"#DIV/0!"}},{"$error":"#DIV/0!"},{"$f":"E73*1000*'Dados auxiliares'!$D$9","v":{"$error":"#DIV/0!"}},null,{"$error":"#DIV/0!"},{"$error":"#DIV/0!"}]
[null,"CO2 - Calcário ","kg",null,{"$f":"$E$20*'_Emissões Agrícolas'!$E$79+$E$21*'_Emissões Agrícolas'!$E$80","v":0},{"$f":"E74*1000","v":0},null,{"$error":"#DIV/0!"},{"$error":"#DIV/0!"}]
[null,"CO2 - Uréia","kg",null,{"$f":"$E$23*'_Emissões Agrícolas'!$E$81","v":0},{"$f":"E75*1000","v":0},null,{"$error":"#DIV/0!"},{"$error":"#DIV/0!"}]
[null,"CO₂ eq - queima do diesel","kg",null,{"$f":"$E$61*'FE''s queima combustíveis'!$I$64/1000","v":0},{"$f":"E76*1000","v":0},null,{"$error":"#DIV/0!"},{"$error":"#DIV/0!"}]
[null,"CO₂ eq - queima do biodiesel","kg",null,{"$f":"$E$62*'FE''s queima combustíveis'!$I$65/1000","v":0},{"$f":"E77*1000","v":0},null,{"$error":"#DIV/0!"},{"$error":"#DIV/0!"}]
[null,"CO₂ eq - queima da gasolina A","kg",null,{"$f":"$E$63*'FE''s queima combustíveis'!$I$9/1000","v":0},0,null,{"$error":"#DIV/0!"},{"$error":"#DIV/0!"}]
[null,"CO₂ eq - queima do etanol anidro","kg",null,{"$f":"$E$64*'FE''s queima combustíveis'!$I$7/1000","v":0},0,null,{"$error":"#DIV/0!"},{"$error":"#DIV/0!"}]
[null,"CO₂ eq - queima do etanol hidratado","kg",null,{"$f":"$E$65*'FE''s queima combustíveis'!$I$8/1000","v":0},0,null,{"$error":"#DIV/0!"},{"$error":"#DIV/0!"}]
[null,"CO₂ eq - queima do biometano","kg",null,{"$f":"($E$66+E1GMI!D75)*'FE''s queima combustíveis'!$I$66/1000","v":0},0,null,{"$error":"#DIV/0!"},{"$error":"#DIV/0!"}]
[null,"CO₂ eq - queima do gás natural","kg",null,{"$f":"$E$67*'FE''s queima combustíveis'!$I$67/1000","v":0},0,null,{"$error":"#DIV/0!"},{"$f":"(F82/$E$93)*$F$93","v":{"$error":"#DIV/0!"}}]
[null,"CO₂ eq - queima do GLP","kg",null,{"$f":"$E$68*'FE''s queima combustíveis'!$I$68/1000","v":0},0,null,{"$error":"#DIV/0!"},{"$error":"#DIV/0!"}]
[]
[null,"Emissões do processo","g CO2 eq/t milho",null,null,{"$f":"SUM(F71:F83)","v":{"$error":"#DIV/0!"}},null,{"$f":"(F85/$E$92)*$F$92","v":{"$error":"#DIV/0!"}},{"$error":"#DIV/0!"}]
[null,"Emissões background","g CO2 eq/t milho",null,null,{"$f":"SUM(F17:F41,F60:F69)","v":{"$error":"#DIV/0!"}},null,{"$error":"#DIV/0!"},{"$error":"#DIV/0!"}]
[null,"Emissões totais","g CO2 eq/t milho",null,null,{"$f":"F85+F86","v":{"$error":"#DIV/0!"}},null,{"$error":"#DIV/0!"},{"$error":"#DIV/0!"}]
[]
[]
[null,"Etapa industrial - Etanol de milho",null,null,null,null,null,"Emissões por MJ de etanol anidro","Emissões por MJ de etanol hidratado"]
[null,"Produtos","Unidade","1 t milho","MJ","Alocação"]
[null,"Etanol Anidro","kg",{"$f":"E1GMI!D85*'Dados auxiliares'!$D$15","v":0},{"$f":"D92*'Dados auxiliares'!$F$15","v":0},{"$f":"E92/SUM($E$92:$E$99)","v":{"$error":"#DIV/0!"}}]
[null,"Etanol Hidratado","kg",{"$f":"E1GMI!D86*'Dados auxiliares'!$D$16","v":0},{"$f":"D93*'Dados auxiliares'!$F$16","v":0},{"$f":"E93/SUM($E$92:$E$99)","v":{"$error":"#DIV/0!"}}]
[null,"Eletricidade","kWh",{"$f":"E1GMI!D87","v":0},{"$f":"CONVERT(D94,\"kWh\",\"MJ\")","v":0},{"$error":"#DIV/0!"}]
[null,"DDGS","kg base seca",{"$f":"E1GMI!D89*(1-E1GMI!G89)","v":0},{"$f":"D95*'Dados auxiliares'!D38","v":0},{"$error":"#DIV/0!"}]
[null,"DDG","kg base seca",{"$f":"E1GMI!D88*(1-E1GMI!G88)","v":0},{"$f":"D96*'Dados auxiliares'!D37","v":0},{"$error":"#DIV/0!"}]
[null,"CGM","kg base seca",{"$f":"E1GMI!D90*(1-E1GMI!G90)","v":0},{"$f":"D97*'Dados auxiliares'!D39","v":0},{"$error":"#DIV/0!"}]
[null,"CGF","kg base seca",{"$f":"E1GMI!D91*(1-E1GMI!G91)","v":0},{"$f":"D98*'Dados auxiliares'!D40","v":0},{"$error":"#DIV/0!"}]
[null,"Óleo de Milho","kg",{"$f":"E1GMI!D92","v":0},{"$f":"D99*'Dados auxiliares'!D41","v":0},{"$error":"#DIV/0!"}]
[null,"Entradas ","Unidade","1 t milho",null,"g CO2 eq/t milho",null,"g CO2 eq/MJ","g CO2 eq/MJ"]
[null,"Processamento dos grãos"]
[null,"Processamento com secagem","m³",{"$f":"(0.00004878*0.65)","v":3.1707E-5},null,{"$f":"D102*'Dados auxiliares'!$H$81","v":1.018120869909E-6},null,{"$f":"(F102/$E$92)*$F$92","v":{"$error":"#DIV/0!"}},{"$f":"(F102/$E$93)*$F$93","v":{"$error":"#DIV/0!"}}]
[null,"Processamento sem secagem","m³",{"$f":"(0.00004878*0.35)","v":1.7072999999999997E-5},null,{"$f":"D103*'Dados auxiliares'!$H$80","v":2.6994354200100001E-7},null,{"$error":"#DIV/0!"},{"$error":"#DIV/0!"}]
[null,"Insumos"]
[null,"Milho (grãos)","t",1,null,{"$f":"D105*F87","v":{"$error":"#DIV/0!"}},null,{"$f":"(F105/$E$92)*$F$92","v":{"$error":"#DIV/0!"}},{"$f":"(F105/$E$93)*$F$93","v":{"$error":"#DIV/0!"}}]
[null,"Transporte do milho em grãos até a usina","tkm",{"$f":"D105*E1GMI!D84","v":0},null,{"$f":"D106*'Dados auxiliares'!$H$131","v":0},null,{"$f":"(F106/$E$92)*$F$92","v":{"$error":"#DIV/0!"}},{"$error":"#DIV/0!"}]
[null,"CaO","kg",1.2023348147999999,null,{"$f":"D107*'Dados auxiliares'!$H$84","v":1156.3300683742502},null,{"$f":"(F107/$E$92)*$F$92","v":{"$error":"#DIV/0!"}},{"$f":"(F107/$E$93)*$F$93","v":{"$error":"#DIV/0!"}}]
[null,"Enzimas","kg",0.9,null,{"$f":"D108*'Dados auxiliares'!$H$99","v":1179},null,{"$error":"#DIV/0!"},{"$f":"(F108/$E$93)*$F$93","v":{"$error":"#DIV/0!"}}]
[null,"Ácido sulfúrico","kg",0.53,null,{"$f":"D109*'Dados auxiliares'!$H$88","v":57.960725641093177},null,{"$error":"#DIV/0!"},{"$error":"#DIV/0!"}]
[null,"Hidróxido de sódio","kg",2.52,null,{"$f":"D110*'Dados auxiliares'!$H$97","v":1291.3946443238285},null,{"$error":"#DIV/0!"},{"$error":"#DIV/0!"}]
[null,"Amônia","kg",2.0099999999999998,null,{"$f":"D111*'Dados auxiliares'!$H$95","v":6149.2686836062794},null,{"$error":"#DIV/0!"},{"$error":"#DIV/0!"}]
[null,"Levedura","kg",0.31,null,{"$f":"D112*'Dados auxiliares'!$H$98","v":325.40915251108339},null,{"$error":"#DIV/0!"},{"$error":"#DIV/0!"}]
[null,"Zeolita","kg",6.2E-2,null,{"$f":"D113*'Dados auxiliares'!$H$94","v":310.64041816017919},null,{"$error":"#DIV/0!"},{"$error":"#DIV/0!"}]
[null,"Combustíveis e eletricidade"]
[null,"Eletricidade da rede - mix médio EUA","kWh",{"$f":"E1GMI!D95","v":0},null,{"$f":"D115*'Dados auxiliares'!$H$113","v":0},null,{"$f":"(F115/$E$92)*$F$92","v":{"$error":"#DIV/0!"}},{"$f":"(F115/$E$93)*$F$93","v":{"$error":"#DIV/0!"}}]
[null,"Diesel B0","kg",{"$f":"(E1GMI!$D$96*(1-0.08)+E1GMI!$D$97*(1-0.1)+E1GMI!$D$98*(1-E1GMI!$G$98)+E1GMI!$D$99*(1-0.2)+E1GMI!$D$100*(1-0.3)+E1GMI!$D$101*(1-1))*('Dados auxiliares'!$D$26)","v":0},null,{"$f":"D116*'Dados auxiliares'!$H$116","v":0},null,{"$error":"#DIV/0!"},{"$error":"#DIV/0!"}]
[null,"Biodiesel B100","kg",{"$f":"(E1GMI!$D$96*(0.08)+E1GMI!$D$97*(0.1)+E1GMI!$D$98*(E1GMI!$G$98)+E1GMI!$D$99*(0.2)+E1GMI!$D$100*(0.3)+E1GMI!$D$101*(1))*('Dados auxiliares'!$D$17)","v":0},null,{"$f":"D117*'Dados auxiliares'!$H$117","v":0},null,{"$error":"#DIV/0!"},{"$error":"#DIV/0!"}]
[null,"Óleo combusível","kg",{"$f":"E1GMI!D102*'Dados auxiliares'!$D$30","v":0},null,{"$f":"D118*'Dados auxiliares'!$H$126","v":0},null,{"$f":"(F118/$E$92)*$F$92","v":{"$error":"#DIV/0!"}},{"$f":"(F118/$E$93)*$F$93","v":{"$error":"#DIV/0!"}}]
[null,"Biogás de terceiros","Nm³",{"$f":"E1GMI!D105","v":0},null,{"$f":"D119*E1GMI!G105*'Dados auxiliares'!$H$125","v":0},null,{"$error":"#DIV/0!"},{"$error":"#DIV/0!"}]
[null,"Gás natural","Nm³",{"$f":"E1GMI!D107","v":0},null,{"$f":"D120*'Dados auxiliares'!$H$115","v":0},null,{"$error":"#DIV/0!"},{"$error":"#DIV/0!"}]
[null,"Calor (carvão)","MJ",{"$f":"E1GMI!D108","v":0},null,{"$f":"D121*'Dados auxiliares'!H127","v":0},null,{"$error":"#DIV/0!"},{"$error":"#DIV/0!"}]
[null,"Cavaco de madeira","kg base seca",{"$f":"E1GMI!$D$110*(1-E1GMI!$D$111)","v":0},null,{"$f":"D122*'Dados auxiliares'!$H$123","v":0},null,{"$error":"#DIV/0!"},{"$error":"#DIV/0!"}]
[null,"Transporte de cavaco de madeira","tkm",{"$f":"((D122/1000)*E1GMI!$D$112)","v":0},null,{"$f":"D123*'Dados auxiliares'!$H$131","v":0},null,{"$error":"#DIV/0!"},{"$error":"#DIV/0!"}]
[null,"Lenha","kg base seca",{"$f":"E1GMI!$D$114*(1-E1GMI!$D$115)","v":0},null,{"$f":"D124*'Dados auxiliares'!$H$124","v":0},null,{"$error":"#DIV/0!"},{"$error":"#DIV/0!"}]
[null,"Transporte de lenha","tkm",{"$f":"((D124/1000)*E1GMI!$D$116)","v":0},null,{"$f":"D125*'Dados auxiliares'!$H$131","v":0},null,{"$error":"#DIV/0!"},{"$error":"#DIV/0!"}]
[null,"Resíduos florestais","kg base seca",{"$f":"E1GMI!$D$118*(1-E1GMI!$D$119)","v":0},null,0,null,{"$error":"#DIV/0!"},{"$error":"#DIV/0!"}]
[null,"Transporte de resíduos florestais","tkm",{"$f":"((D126/1000)*E1GMI!$D$120)","v":0},null,{"$f":"D127*'Dados auxiliares'!$H$131","v":0},null,{"$error":"#DIV/0!"},{"$error":"#DIV/0!"}]
[null,"Emissões","Unidade","1 t milho",null,"g CO2 eq/t milho",null,"g CO2 eq/MJ","g CO2 eq/MJ"]
[null,"CO₂ eq - queima do diesel","kg",{"$f":"D116*'FE''s queima combustíveis'!$I$50/1000","v":0},null,{"$f":"D129*1000","v":0},null,{"$f":"(F129/$E$92)*$F$92","v":{"$error":"#DIV/0!"}},{"$f":"(F129/$E$93)*$F$93","v":{"$error":"#DIV/0!"}}]
[null,"CO₂ eq - queima do biodiesel","kg",{"$f":"D117*'FE''s queima combustíveis'!$I$51/1000","v":0},null,0,null,{"$error":"#DIV/0!"},{"$error":"#DIV/0!"}]
[null,"CO₂ eq - queima do óleo combustível","kg",{"$f":"D118*'FE''s queima combustíveis'!$I$53/1000","v":0},null,0,null,{"$f":"(F131/$E$92)*$F$92","v":{"$error":"#DIV/0!"}},{"$f":"(F131/$E$93)*$F$93","v":{"$error":"#DIV/0!"}}]
[null,"CO₂ eq - queima do etanol hidratado próprio","kg",{"$f":"E1GMI!D103*'Dados auxiliares'!$D$16*'FE''s queima combustíveis'!$I$57/1000","v":0},null,0,null,{"$error":"#DIV/0!"},{"$error":"#DIV/0!"}]
[null,"CO₂ eq - queima do etanol anidro próprio","kg",{"$f":"E1GMI!D104*'Dados auxiliares'!$D$15*'FE''s queima combustíveis'!$I$55/1000","v":0},null,0,null,{"$error":"#DIV/0!"},{"$error":"#DIV/0!"}]
[null,"CO₂ eq - queima do biogás de terceiros","kg",{"$f":"E1GMI!D105*E1GMI!G105*'FE''s queima combustíveis'!$I$41/1000","v":0},null,0,null,{"$error":"#DIV/0!"},{"$error":"#DIV/0!"}]
[null,"CO₂ eq - queima do biogás próprio","kg",{"$f":"E1GMI!D106*E1GMI!G106*'FE''s queima combustíveis'!$I$41/1000","v":0},null,0,null,{"$error":"#DIV/0!"},{"$error":"#DIV/0!"}]
[null,"CO₂ eq - queima da gás natural","kg",{"$f":"D120*'FE''s queima combustíveis'!$I$46*('Dados auxiliares'!$D$27*1000)/1000","v":0},null,0,null,{"$error":"#DIV/0!"},{"$error":"#DIV/0!"}]
[null,"CO₂ eq - queima dos cavacos de madeira","kg",{"$f":"D122*'FE''s queima combustíveis'!$I$38/1000","v":0},null,0,null,{"$error":"#DIV/0!"},{"$error":"#DIV/0!"}]
[null,"CO₂ eq - queima da lenha","kg",{"$f":"D124*'FE''s queima combustíveis'!$I$39/1000","v":0},null,0,null,{"$error":"#DIV/0!"},{"$error":"#DIV/0!"}]
[null,"CO₂ eq - queima dos resíduos florestais","kg",{"$f":"D126*'FE''s queima combustíveis'!$I$40/1000","v":0},null,0,null,{"$error":"#DIV/0!"},{"$error":"#DIV/0!"}]
[]
[null,"Emissões do processo","g CO2 eq/t milho",null,null,{"$f":"SUM(F129:F139)","v":0},null,{"$error":"#DIV/0!"},{"$f":"(F141/$E$93)*$F$93","v":{"$error":"#DIV/0!"}}]
[null,"Emissões background","g CO2 eq/t milho",null,null,{"$f":"SUM(F102:F127)","v":{"$error":"#DIV/0!"}},null,{"$error":"#DIV/0!"},{"$error":"#DIV/0!"}]
[null,"Emissões totais","g CO2 eq/t milho",null,null,{"$f":"F141+F142","v":{"$error":"#DIV/0!"}},null,{"$error":"#DIV/0!"},{"$error":"#DIV/0!"}]
[]
[]
[null,"Etapa distribuição"]
[null,"Sistema logístico marítimo"]
[null,"Parâmetro","Unidade","Etanol anidro","Etanol hidratado"]
[null,"Massa","kg/t milho",{"$f":"$D$92*E1GMI!$D$126","v":0},{"$f":"$D$93*E1GMI!$E$126","v":{"$error":"#VALUE!"}}]
[null,"Distância de transporte rodoviário","km",{"$f":"'Dados auxiliares'!H158","v":600},{"$f":"'Dados auxiliares'!H158","v":600}]
[null,"Transporte rodoviário","tkm/t milho",{"$f":"D149/1000*D150","v":0},{"$f":"E149/1000*E150","v":{"$error":"#VALUE!"}}]
[null,"Distância de transporte marítimo","km",{"$f":"'Dados auxiliares'!J158","v":13000},{"$f":"'Dados auxiliares'!J158","v":13000}]
[null,"Transporte marítimo","tkm/t milho",{"$f":"D149/1000*D152","v":0},{"$f":"E149/1000*E152","v":{"$error":"#VALUE!"}}]
[null,"Distância de transporte ferroviário","km",{"$f":"'Dados auxiliares'!I158","v":1400},{"$f":"'Dados auxiliares'!I158","v":1400}]
[null,"Transporte ferroviário","tkm/t milho",{"$f":"D149/1000*D154","v":0},{"$f":"E149/1000*E154","v":{"$error":"#VALUE!"}}]
[null,"Emissões","g CO2 eq/t milho",{"$f":"D151*'Dados auxiliares'!$H$132+D153*'Dados auxiliares'!$H$133+D155*'Dados auxiliares'!$H$135","v":0},{"$f":"E151*'Dados auxiliares'!$H$132+E153*'Dados auxiliares'!$H$133+E155*'Dados auxiliares'!$H$135","v":{"$error":"#VALUE!"}}]
[null,"Emissões","g CO2 eq/MJ",{"$f":"D156/$E$92","v":{"$error":"#DIV/0!"}},{"$f":"E156/$E$93","v":{"$error":"#VALUE!"}}]
[]
[null,"Emissões totais","g CO2 eq/MJ",{"$f":"D157","v":{"$error":"#DIV/0!"}},{"$f":"E157","v":{"$error":"#VALUE!"}}]

{"sheet":"Biodiesel","index":15,"n_rows":214,"n_cols":8,"rows_kept":214,"cut":false,"hidden":false,"merged":[[30,1,30,2],[209,1,209,7],[32,1,32,7],[37,1,37,7],[83,1,83,7],[195,2,195,4],[199,2,199,4],[203,2,203,4],[187,2,187,4],[191,2,191,4],[128,1,128,7],[129,1,129,7],[25,1,25,7],[58,1,58,7],[65,1,65,7],[40,1,40,7],[171,1,171,7],[118,2,118,4],[122,2,122,4],[84,1,84,7],[90,1,90,7],[135,5,136,5],[135,6,136,6],[135,7,136,7],[110,2,110,4],[106,2,106,4],[114,2,114,4],[166,1,166,7],[24,1,24,7],[3,2,3,7],[5,2,5,7],[7,2,7,7],[9,2,9,3],[12,2,12,3],[14,3,14,5]]}
[]
[null,"Biodiesel"]
[]
[null,"Nome da Usina:","Usina Hipotética"]
[]
[null,"CNPJ","00.000.000/0000-00"]
[]
[null,"Responsável pelo preenchimento:"]
[]
[null,"Telefone :","(00) 0000-0000"]
[]
[]
[null,null,"Biodiesel"]
[]
[null,"Intensidade de Carbono\n(g CO₂eq/MJ)",{"$f":"IFERROR(_Biodiesel!C4,SUM(C17:C22))","v":0.439},"Nota de Eficiência Energético-Ambiental\n(g CO₂eq/MJ)",null,null,{"$f":"G18-C15","v":86.061000000000007}]
[]
[null,"Óleo de soja próprio - agrícola",{"$f":"IFERROR(_Biodiesel!C5,0)","v":0},null,null,null,"Fóssil substituto: Diesel"]
[null,"Óleo de soja próprio - extração",{"$f":"IFERROR(_Biodiesel!C6,0)","v":0},null,null,null,{"$f":"'Dados auxiliares'!F168","v":86.5}]
[null,"Outros óleos",{"$f":"IFERROR(_Biodiesel!C7,0)","v":0}]
[null,"Transesterificação",{"$f":"IFERROR(_Biodiesel!C8,0)","v":0},null,null,null,"Redução de emissões"]
[null,"transporte",{"$f":"IFERROR(_Biodiesel!C9,0)","v":0},null,null,null,{"$f":"(G18-C15)/G18","v":0.99492485549132958}]
[null,"uso",{"$f":"IFERROR(_Biodiesel!C10,0)","v":0.439}]
[]
[]
[null,"Fase agrícola - Dados consolidados"]
[null,"Informações gerais"]
[null,null,"Sistema de plantio","Convencional"]
[null,null,"Área total",null,"ha"]
[]
[null,null,"Produção total (base úmida)",null,"t soja","Umidade"]
[null,"Quantidade comprada pela unidade produtora de biocombustível (base úmida)",null,null,"t soja"]
[]
[null,"Corretivos"]
[null,null,"Calcário calcítico",null,"kg/t soja"]
[null,null,"Calcário dolomítico",null,"kg/t soja"]
[null,null,"Gesso",null,"kg/t soja"]
[]
[null,"Sementes"]
[null,null,"Sementes",null,"kg/t soja"]
[]
[null,"Fertilizantes Sintéticos"]
[null,null,"Ureia",null,"kg N/t soja"]
[null,null,"Fosfato Monoamônico (MAP)",null,"kg N/t soja"]
[null,null,"Fosfato Monoamônico (MAP)",null,"kg P₂O₅/t soja"]
[null,null,"Fosfato diamônico (DAP)",null,"kg N/t soja"]
[null,null,"Fosfato diamônico (DAP)",null,"kg P₂O₅/t soja"]
[null,null,"Nitrato de amônio",null,"kg N/t soja"]
[null,null,"Solução de nitrato de amônio e ureia (UAN)",null,"kg N/t soja"]
[null,null,"Amônia anidra",null,"kg N/t soja"]
[null,null,"Sulfato de amônio",null,"kg N/t soja"]
[null,null,"Nitrato de amônio e cálcio (CAN)",null,"kg N/t soja"]
[null,null,"Superfosfato simples (SSP)",null,"kg P₂O₅/t soja"]
[null,null,"Superfosfato triplo (TSP)",null,"kg P₂O₅/t soja"]
[null,null,"Cloreto de potássio (KCl)",null,"kg K₂O/t soja"]
[null,"Outros","especificar",null,"kg N/t soja"]
[null,"Outros","especificar",null,"kg P₂O₅/t soja"]
[null,"Outros","especificar",null,"kg K₂O/t soja"]
[]
[null,"              Fertilizantes Orgânicos/Organominerais"]
[null,"Outros","especificar",null,"kg/t soja","Concentração de N",null,"g N/kg"]
[null,"Outros","especificar",null,"kg/t soja","Concentração de N",null,"g N/kg"]
[null,"Outros","especificar",null,"kg/t soja","Concentração de N",null,"g N/kg"]
[null,"Outros","especificar",null,"kg/t soja","Concentração de N",null,"g N/kg"]
[null,"Outros","especificar",null,"kg/t soja","Concentração de N",null,"g N/kg"]
[]
[null,"              Combustíveis e eletricidade"]
[null,null,"Diesel - B8",null,"L/t soja"]
[null,null,"Diesel - B10",null,"L/t soja"]
[null,null,"Diesel - BX",null,"L/t soja","Teor de biodiesel na mistura"]
[null,null,"Diesel - B20",null,"L/t soja"]
[null,null,"Diesel - B30",null,"L/t soja"]
[null,null,"Biodiesel - B100",null,"L/t soja"]
[null,null,"Gasolina C",null,"L/t soja"]
[null,null,"Etanol hidratado",null,"L/t soja"]
[null,null,"Biometano de terceiros",null,"Nm³/t soja"]
[null,null,"Biometano próprio",null,"Nm³/t soja"]
[null,null,"Eletricidade da rede - mix médio",null,"kWh/t soja"]
[null,null,"Eletricidade - PCH",null,"kWh/t soja"]
[null,null,"Eletricidade - biomassa",null,"kWh/t soja"]
[null,null,"Eletricidade - eólica",null,"kWh/t soja"]
[null,null,"Eletricidade - solar",null,"kWh/t soja"]
[]
[]
[null,"Fase industrial - extração do óleo de soja"]
[null,"Processamento e rendimentos"]
[null,null,"Processamento efetivo - soja",null,"t soja","Umidade"]
[null,null,"Distância de transporte - soja",null,"km"]
[null,null,"Rendimento Óleo",null,"kg/t soja"]
[null,null,"Rendimento Farelo",null,"kg/t soja"]
[]
[null,"Combustíveis e eletricidade"]
[null,null,"Eletricidade da rede - mix médio",null,"kWh/t soja"]
[null,null,"Eletricidade - PCH",null,"kWh/t soja"]
[null,null,"Eletricidade - biomassa",null,"kWh/t soja"]
[null,null,"Eletricidade - eólica",null,"kWh/t soja"]
[null,null,"Eletricidade - solar",null,"kWh/t soja"]
[null,null,"Diesel - B8",null,"L/t soja"]
[null,null,"Diesel - B10",null,"L/t soja"]
[null,null,"Diesel - BX",null,"L/t soja","Teor de biodiesel na mistura"]
[null,null,"Diesel - B20",null,"L/t soja"]
[null,null,"Diesel - B30",null,"L/t soja"]
[null,null,"Biodiesel - B100",null,"L/t soja"]
[null,null,"Óleo combustível",null,"L/ t soja"]
[null,null,"Biogás de terceiros",null,"Nm³/t soja","PCI do biogás",null,"MJ/Nm³"]
[null,null,"Biogás próprio",null,"Nm³/t soja","PCI do biogás",null,"MJ/Nm³"]
[null,null,"Gás natural",null,"Nm³/t soja"]
[null,null,"Cavaco de madeira"]
[null,null,"Quantidade (base úmida)",null,"kg/t soja"]
[null,null,"Umidade"]
[null,null,"Distância de transporte",null,"km"]
[null,null," Lenha"]
[null,null,"Quantidade (base úmida)",null,"kg/t soja"]
[null,null,"Umidade"]
[null,null,"Distância de transporte",null,"km"]
[null,null,"Resíduos florestais"]
[null,null,"Quantidade (base úmida)",null,"kg/t soja"]
[null,null,"Umidade"]
[null,null,"Distância de transporte",null,"km"]
[null,null,"Bagaço de cana"]
[null,null,"Quantidade (base úmida)",null,"kg/t soja"]
[null,null,"Umidade"]
[null,null,"Distância de transporte",null,"km"]
[null,null,"Palha de cana"]
[null,null,"Quantidade (base úmida)",null,"kg/t soja"]
[null,null,"Umidade"]
[null,null,"Distância de transporte",null,"km"]
[]
[]
[null,"Fase industrial - produção do biodiesel"]
[null,"Processamento e rendimentos"]
[null,null,null,"Óleo de soja próprio"]
[null,null,"Quantidade de óleo de soja processado",null,"t óleo/ano"]
[null,null,"Distância de transporte - óleo de soja",null,"km"]
[null,null,"Alguma fração dessa matéria-prima é elegível?"]
[null,null,null,"Óleo de soja de terceiros"]
[null,null,"Quantidade de óleo de soja processado",null,"t óleo/ano","Intensidade de Carbono média do óleo adquirido pela unidade produtora",null,"g CO₂ eq/kg óleo"]
[null,null,"Distância média de transporte - óleo de soja",null,"km"]
[null,null,"Alguma fração dessa matéria-prima é elegível?"]
[null,null,null,"Óleo de palma"]
[null,null,"Quantidade de óleo de palma processado",null,"t óleo/ano"]
[null,null,"Distância de transporte - óleo de palma",null,"km"]
[null,null,"Alguma fração dessa matéria-prima é elegível?"]
[null,null,null,"Óleo de algodão"]
[null,null,"Quantidade de óleo de algodão processado",null,"t óleo/ano"]
[null,null,"Distância de transporte - óleo de algodão",null,"km"]
[null,null,"Alguma fração dessa matéria-prima é elegível?"]
[null,null,null,"Outros óleos vegetais"]
[null,null,"Quantidade de outros óleos vegetais processado",null,"t óleo/ano"]
[null,null,"Distância de transporte - outros óleos vegetais",null,"km"]
[null,null,"Alguma fração dessa matéria-prima é elegível?"]
[null,null,null,"Óleo de fritura usado"]
[null,null,"Aporte total de óleo de fritura usado processado",null,"t óleo/ano"]
[null,null,"Distância de transporte - óleo de fritura usado ",null,"km"]
[null,null,null,"Gordura animal"]
[null,null,"Aporte total de gordura animal processada",null,"t gordura animal/ano"]
[null,null,"Distância de transporte - gordura animal",null,"km"]
[null,null,null,"Outros óleos residuais"]
[null,null,"Aporte total de outros óleos residuais processado",null,"t óleo/ano"]
[null,null,"Distância de transporte - outros óleos residuais",null,"km"]
[]
[]
[null,null,"Rota de produção"]
[null,null,"Produção de Biodiesel",null,"m³/ano"]
[null,null,"Produção de Glicerina purificada",null,"t/ano"]
[null,null,"Produção de  Glicerina bruta",null,"t/ano"]
[]
[null,"Insumos"]
[null,null,"Metanol",null,"t/ano"]
[null,null,"Metilato de sódio",null,"t/ano"]
[null,null,"Etanol anidro",null,"t/ano"]
[null,null,"Hidróxido de sódio",null,"t/ano"]
[null,"Combustíveis e eletricidade"]
[null,null,"Eletricidade da rede - mix médio",null,"MWh/ano"]
[null,null,"Eletricidade - PCH",null,"MWh/ano"]
[null,null,"Eletricidade - biomassa",null,"MWh/ano"]
[null,null,"Eletricidade - eólica",null,"MWh/ano"]
[null,null,"Eletricidade - solar",null,"MWh/ano"]
[null,null,"Diesel - B8",null,"m³/ano"]
[null,null,"Diesel - B10",null,"m³/ano"]
[null,null,"Diesel - BX",null,"m³/ano","Teor de biodiesel na mistura"]
[null,null,"Diesel - B20",null,"m³/ano"]
[null,null,"Diesel - B30",null,"m³/ano"]
[null,null,"Biodiesel - B100",null,"m³/ano"]
[null,null,"Óleo combustível",null,"m3/ ano"]
[null,null,"Biogás de terceiros",null,"Nm³/ano","PCI do biogás",null,"MJ/Nm³"]
[null,null,"Biogás próprio",null,"Nm³/ano","PCI do biogás",null,"MJ/Nm³"]
[null,null,"Gás natural",null,"Nm³/ano"]
[null,null,"Cavaco de madeira"]
[null,null,"Quantidade (base úmida)",null,"t/ano"]
[null,null,"Umidade"]
[null,null,"Distância de transporte",null,"km"]
[null,null," Lenha"]
[null,null,"Quantidade (base úmida)",null,"t/ano"]
[null,null,"Umidade"]
[null,null,"Distância de transporte",null,"km"]
[null,null,"Resíduos florestais"]
[null,null,"Quantidade (base úmida)",null,"t/ano"]
[null,null,"Umidade"]
[null,null,"Distância de transporte",null,"km"]
[null,null,"Bagaço de cana"]
[null,null,"Quantidade (base úmida)",null,"t/ano"]
[null,null,"Umidade"]
[null,null,"Distância de transporte",null,"km"]
[null,null,"Palha de cana"]
[null,null,"Quantidade (base úmida)",null,"t/ano"]
[null,null,"Umidade"]
[null,null,"Distância de transporte",null,"km"]
[]
[]
[null,"Fase de distribuição"]
[]
[null,null,"Rodoviário",0]
[null,null,"Fluvial",0,{"$f":"IF((SUM(D212:D214)=1),\"\",\"A soma das porcentagens de distribuição deve ser igual a 100%!\")","v":"A soma das porcentagens de distribuição deve ser igual a 100%!"}]
[null,null,"Ferroviário",0]

{"sheet":"_Biodiesel","index":16,"n_rows":226,"n_cols":80,"rows_kept":226,"cut":false,"hidden":true,"merged":[[132,14,133,14],[132,16,133,16],[132,10,133,10],[132,11,133,11],[132,9,133,9],[132,12,133,13],[2,2,2,3],[3,2,3,3],[1,1,1,5],[74,1,74,5],[128,1,128,5],[12,7,16,7],[74,7,77,7],[128,7,132,7],[198,1,198,5],[12,1,12,5]]}
[]
[null,"Emissões totais - g CO₂ eq"]
[null,null,"Biodiesel"]
[null,"Total",{"$f":"H195+C9+C10","v":{"$error":"#DIV/0!"}}]
[null,"Óleo de soja próprio - agrícola",{"$f":"IF($D$77=0,0,(H136*(H72/H124)))","v":0},{"$f":"C5/$C$4","v":{"$error":"#DIV/0!"}}]
[null,"Óleo de soja próprio - extração",{"$f":"H136-C5","v":{"$error":"#DIV/0!"}},{"$f":"C6/$C$4","v":{"$error":"#DIV/0!"}}]
[null,"Outros óleos",{"$f":"H138+H140+H142+H144+H146+H148+H150","v":{"$error":"#DIV/0!"}},{"$f":"C7/$C$4","v":{"$error":"#DIV/0!"}}]
[null,"Transesterificação",{"$f":"H195-C7-C6-C5","v":{"$error":"#DIV/0!"}},{"$f":"C8/$C$4","v":{"$error":"#DIV/0!"}}]
[null,"Transporte",{"$f":"$D$226","v":{"$error":"#DIV/0!"}},{"$error":"#DIV/0!"}]
[null,"Uso",{"$f":"'FE''s queima combustíveis'!$I$6","v":0.439},{"$f":"C10/$C$4","v":{"$error":"#DIV/0!"}}]
[]
[]
[null,"Etapa agrícola - Soja",null,null,null,null,null,"Emissões por MJ de biodiesel"]
[null,"Produto",null,"1 ha médio","1 t soja"]
[null,"Produção de soja","kg",{"$f":"(Biodiesel!D30*1000)/Biodiesel!D28","v":{"$error":"#DIV/0!"}},1000]
[null,"Entradas da natureza",null,"1 ha médio","1 t soja","g CO2 eq/t soja"]
[null,"Ocupação total","ha",1,{"$f":"(D17*E15)/D15","v":{"$error":"#DIV/0!"}}]
[null,"Entradas da tecnosfera",null,"1 ha médio","1 t soja","g CO2 eq/t soja",null,"g CO2 eq/MJ"]
[null,"Sementes de soja","kg",null,{"$f":"Biodiesel!D39","v":0},{"$f":"E19*'Dados auxiliares'!$H$76","v":0},null,{"$f":"(((F19*$F$77)/$D$77)*1000*$F$131)/$E$131","v":{"$error":"#DIV/0!"}}]
[null,"Fertilizantes e corretivos"]
[null,"Calcário calcítico","kg",null,{"$f":"Biodiesel!D34","v":0},{"$f":"E21*'Dados auxiliares'!$H$52","v":0},null,{"$f":"(((F21*$F$77)/$D$77)*1000*$F$131)/$E$131","v":{"$error":"#DIV/0!"}}]
[null,"Calcário dolomítico","kg",null,{"$f":"Biodiesel!D35","v":0},{"$f":"E22*'Dados auxiliares'!$H$53","v":0},null,{"$error":"#DIV/0!"}]
[null,"Gesso","kg",null,{"$f":"Biodiesel!D36","v":0},{"$f":"E23*'Dados auxiliares'!$H$54","v":0},null,{"$error":"#DIV/0!"}]
[null,"N - Ureia","kg N",null,{"$f":"Biodiesel!D42","v":0},{"$f":"E24*'Dados auxiliares'!$H$55","v":0},null,{"$error":"#DIV/0!"}]
[null,"N - Fosfato monoamônico (MAP)","kg N",null,{"$f":"Biodiesel!D43","v":0},{"$f":"E25*'Dados auxiliares'!$H$56","v":0},null,{"$error":"#DIV/0!"}]
[null,"P₂O₅ - Fosfato monoamônico (MAP)","kg P₂O₅",null,{"$f":"Biodiesel!D44","v":0},{"$f":"E26*'Dados auxiliares'!$H$57","v":0},null,{"$error":"#DIV/0!"}]
[null,"N - Fosfato diamônico (DAP)","kg N",null,{"$f":"Biodiesel!D45","v":0},{"$f":"E27*'Dados auxiliares'!$H$58","v":0},null,{"$error":"#DIV/0!"}]
[null,"P₂O₅ - Fosfato diamônico (DAP)","kg P₂O₅",null,{"$f":"Biodiesel!D46","v":0},{"$f":"E28*'Dados auxiliares'!$H$59","v":0},null,{"$error":"#DIV/0!"}]
[null,"N - Nitrato de amônio","kg N",null,{"$f":"Biodiesel!D47","v":0},{"$f":"E29*'Dados auxiliares'!$H$60","v":0},null,{"$error":"#DIV/0!"}]
[null,"N - Solução de nitrato de amônio e ureia (UAN)","kg N",null,{"$f":"Biodiesel!D48","v":0},{"$f":"E30*'Dados auxiliares'!$H$61","v":0},null,{"$error":"#DIV/0!"}]
[null,"N - Amônia anidra","kg N",null,{"$f":"Biodiesel!D49","v":0},{"$f":"E31*'Dados auxiliares'!$H$62","v":0},null,{"$error":"#DIV/0!"}]
[null,"N - Sulfato de amônio","kg N",null,{"$f":"Biodiesel!D50","v":0},{"$f":"E32*'Dados auxiliares'!$H$63","v":0},null,{"$error":"#DIV/0!"}]
[null,"N - Nitrato de amônio e cálcio (CAN)","kg N",null,{"$f":"Biodiesel!D51","v":0},{"$f":"E33*'Dados auxiliares'!$H$64","v":0},null,{"$error":"#DIV/0!"}]
[null,"P₂O₅ - Superfosfato simples (SSP)","kg P₂O₅",null,{"$f":"Biodiesel!D52","v":0},{"$f":"E34*'Dados auxiliares'!$H$66","v":0},null,{"$error":"#DIV/0!"}]
[null,"P₂O₅ - Superfosfato triplo (TSP)","kg P₂O₅",null,{"$f":"Biodiesel!D53","v":0},{"$f":"E35*'Dados auxiliares'!$H$67","v":0},null,{"$error":"#DIV/0!"}]
[null,"K₂O - Cloreto de potássio (KCl)","kg K₂O",null,{"$f":"Biodiesel!D54","v":0},{"$f":"E36*'Dados auxiliares'!H$68","v":0},null,{"$error":"#DIV/0!"}]
[null,"N - Outros","kg N",null,{"$f":"Biodiesel!D55","v":0},{"$f":"E37*'Dados auxiliares'!H$69","v":0},null,{"$error":"#DIV/0!"}]
[null,"P₂O₅ - Outros","kg P₂O₅",null,{"$f":"Biodiesel!D56","v":0},{"$f":"E38*'Dados auxiliares'!H$70","v":0},null,{"$error":"#DIV/0!"}]
[null,"K₂O - Outros","kg K₂O",null,{"$f":"Biodiesel!D57","v":0},{"$f":"E39*'Dados auxiliares'!H$71","v":0},null,{"$error":"#DIV/0!"}]
[null,"Outros Fertilizantes Orgânicos/Organominerais","kg",null,{"$f":"Biodiesel!D60+Biodiesel!D61+Biodiesel!D62+Biodiesel!D63+Biodiesel!D64","v":0},0]
[null,"Agroquímicos"]
[null,"Pesticidas, geral","kg",null,{"$f":"0.000674630945913558*1000","v":0.6746309459135581},{"$f":"E42*'Dados auxiliares'!$H$74","v":7247.2373648256971},null,{"$f":"(((F42*$F$77)/$D$77)*1000*$F$131)/$E$131","v":{"$error":"#DIV/0!"}}]
[null,"Glifosato","kg",null,{"$f":"0.00086569230646321*1000","v":0.86569230646321005},{"$f":"E43*'Dados auxiliares'!$H$72","v":9960.4016469307826},null,{"$f":"(((F43*$F$77)/$D$77)*1000*$F$131)/$E$131","v":{"$error":"#DIV/0!"}}]
[null,"2,4-D","kg",null,{"$f":"0.0000652020791723256*1000","v":6.5202079172325594E-2},{"$f":"E44*'Dados auxiliares'!$H$73","v":331.3355298709476},null,{"$f":"(((F44*$F$77)/$D$77)*1000*$F$131)/$E$131","v":{"$error":"#DIV/0!"}}]
[null,"Combustíveis e eletricidade"]
[null,"Diesel B0","kg",null,{"$f":"(Biodiesel!D67*(1-0.08)+Biodiesel!$D$68*(1-0.1)+Biodiesel!$D$69*(1-Biodiesel!$G$69)+Biodiesel!$D$70*(1-0.2)+Biodiesel!$D$71*(1-0.3)+Biodiesel!$D$72*(1-1))*('Dados auxiliares'!$D$26)","v":0},{"$f":"E46*'Dados auxiliares'!$H$116","v":0},null,{"$f":"(((F46*$F$77)/$D$77)*1000*$F$131)/$E$131","v":{"$error":"#DIV/0!"}}]
[null,"Biodiesel B100","kg",null,{"$f":"(Biodiesel!D67*(0.08)+Biodiesel!$D$68*(0.1)+Biodiesel!$D$69*(Biodiesel!$G$69)+Biodiesel!$D$70*(0.2)+Biodiesel!$D$71*(0.3)+Biodiesel!$D$72*(1))*('Dados auxiliares'!$D$17)","v":0},{"$f":"E47*'Dados auxiliares'!$H$117","v":0},null,{"$error":"#DIV/0!"}]
[null,"Gasolina A","kg",null,{"$f":"Biodiesel!$D$73*(1-'FE''s queima combustíveis'!$D$19)*'Dados auxiliares'!$D$24","v":0},{"$f":"E48*'Dados auxiliares'!$H$120","v":0},null,{"$error":"#DIV/0!"}]
[null,"Etanol anidro","kg",null,{"$f":"Biodiesel!$D$73*('FE''s queima combustíveis'!$D$19)*'Dados auxiliares'!$D$15","v":0},{"$f":"E49*'Dados auxiliares'!$H$121","v":0},null,{"$error":"#DIV/0!"}]
[null,"Etanol hidratado","kg",null,{"$f":"Biodiesel!$D$74*'Dados auxiliares'!$D$16","v":0},{"$f":"E50*'Dados auxiliares'!$H$122","v":0},null,{"$error":"#DIV/0!"}]
[null,"Biometano de terceiros","Nm³",null,{"$f":"Biodiesel!D75","v":0},{"$f":"E51*('Dados auxiliares'!$D$18*1000)*'Dados auxiliares'!$F$18*'Dados auxiliares'!$H$125","v":0},null,{"$error":"#DIV/0!"}]
[null,"Eletricidade da rede - mix médio","kWh",null,{"$f":"Biodiesel!D77","v":0},{"$f":"E52*'Dados auxiliares'!$H$107","v":0},null,{"$error":"#DIV/0!"}]
[null,"Eletricidade - PCH","kWh",null,{"$f":"Biodiesel!D78","v":0},{"$f":"E53*'Dados auxiliares'!$H$108","v":0},null,{"$error":"#DIV/0!"}]
[null,"Eletricidade - biomassa","kWh",null,{"$f":"Biodiesel!D79","v":0},{"$f":"E54*'Dados auxiliares'!$H$109","v":0},null,{"$error":"#DIV/0!"}]
[null,"Eletricidade - eólica","kWh",null,{"$f":"Biodiesel!D80","v":0},{"$f":"E55*'Dados auxiliares'!$H$110","v":0},null,{"$error":"#DIV/0!"}]
[null,"Eletricidade - solar","kWh",null,{"$f":"Biodiesel!D81","v":0},{"$f":"E56*'Dados auxiliares'!$H$111","v":0},null,{"$error":"#DIV/0!"}]
[null,"Emissões",null,"1 ha médio","1 t soja","g CO2 eq/t soja",null,"g CO2 eq/MJ"]
[null,"N2O - Fertilizantes sintéticos","kg",{"$f":"'_Emissões Agrícolas'!$J$54","v":{"$error":"#DIV/0!"}},{"$f":"D58*$E$17","v":{"$error":"#DIV/0!"}},{"$f":"E58*1000*'Dados auxiliares'!$D$9","v":{"$error":"#DIV/0!"}},null,{"$f":"(((F58*$F$77)/$D$77)*1000*$F$131)/$E$131","v":{"$error":"#DIV/0!"}}]
[null,"N2O - Fertilizantes organominerais","kg",{"$f":"'_Emissões Agrícolas'!$J$58","v":{"$error":"#DIV/0!"}},{"$f":"D59*$E$17","v":{"$error":"#DIV/0!"}},{"$f":"E59*1000*'Dados auxiliares'!$D$9","v":{"$error":"#DIV/0!"}},null,{"$error":"#DIV/0!"}]
[null,"N2O - Resíduos culturais","kg",{"$f":"'_Emissões Agrícolas'!$J$62","v":{"$error":"#DIV/0!"}},{"$error":"#DIV/0!"},{"$f":"E60*1000*'Dados auxiliares'!$D$9","v":{"$error":"#DIV/0!"}},null,{"$error":"#DIV/0!"}]
[null,"CO2 - Calcário ","kg",null,{"$f":"$E$21*'_Emissões Agrícolas'!$E$79+$E$22*'_Emissões Agrícolas'!$E$80","v":0},{"$f":"E61*1000","v":0},null,{"$error":"#DIV/0!"}]
[null,"CO2 - Uréia","kg",null,{"$f":"$E$24*'_Emissões Agrícolas'!$E$81","v":0},{"$f":"E62*1000","v":0},null,{"$error":"#DIV/0!"}]
[null,"CO₂ eq - queima do diesel","kg",null,{"$f":"$E$46*'FE''s queima combustíveis'!$I$64/1000","v":0},{"$f":"E63*1000","v":0},null,{"$error":"#DIV/0!"}]
[null,"CO₂ eq - queima do biodiesel","kg",null,{"$f":"$E$47*'FE''s queima combustíveis'!$I$65/1000","v":0},{"$f":"E64*1000","v":0},null,{"$error":"#DIV/0!"}]
[null,"CO₂ eq - queima da gasolina A","kg",null,{"$f":"$E$48*'FE''s queima combustíveis'!$I$9/1000","v":0},0,null,{"$error":"#DIV/0!"}]
[null,"CO₂ eq - queima do etanol anidro","kg",null,{"$f":"$E$49*'FE''s queima combustíveis'!$I$7/1000","v":0},0,null,{"$error":"#DIV/0!"}]
[null,"CO₂ eq - queima do etanol hidratado","kg",null,{"$f":"$E$50*'FE''s queima combustíveis'!$I$8/1000","v":0},0,null,{"$error":"#DIV/0!"}]
[null,"CO₂ eq - queima do biometano","kg",null,{"$f":"($E$51+Biodiesel!$D$76)*'FE''s queima combustíveis'!$I$66/1000","v":0},0,null,{"$error":"#DIV/0!"}]
[]
[null,"Emissões do processo","g CO2 eq/t soja",null,null,{"$f":"SUM(F58:F68)","v":{"$error":"#DIV/0!"}},null,{"$f":"(((F70*$F$77)/$D$77)*1000*$F$131)/$E$131","v":{"$error":"#DIV/0!"}}]
[null,"Emissões background","g CO2 eq/t soja",null,null,{"$f":"SUM(F19:F56)","v":17538.974541627427},null,{"$f":"(((F71*$F$77)/$D$77)*1000*$F$131)/$E$131","v":{"$error":"#DIV/0!"}}]
[null,"Emissões totais","g CO2 eq/t soja",null,null,{"$f":"IF(OR(Biodiesel!$D$28=0,Biodiesel!$D$30=0),0,(F70+F71))","v":0},null,{"$f":"IF(D77=0,0,(((F72*$F$77)/$D$77)*1000*$F$131)/$E$131)","v":0}]
[]
[]
[null,"Etapa industrial - Extração do óleo de soja",null,null,null,null,null,"Emissões por MJ de biodiesel"]
[null,"Produtos","Unidade","1 t soja","MJ","Alocação"]
[null,"Óleo de soja","kg",{"$f":"Biodiesel!D88","v":0},{"$f":"D77*'Dados auxiliares'!$D$42","v":0},{"$f":"E77/SUM($E$77:$E$78)","v":{"$error":"#DIV/0!"}}]
[null,"Farelo de soja","kg",{"$f":"Biodiesel!D89","v":0},{"$f":"D78*'Dados auxiliares'!$D$43","v":0},{"$f":"E78/SUM($E$77:$E$78)","v":{"$error":"#DIV/0!"}}]
[null,"Entradas ","Unidade","1 t soja",null,"g CO2 eq/t soja",null,"g CO2 eq/MJ",null,null,null,null,null,null,null,null,null,null,null,null,null,null,null,null,null,null,null,null,null,null,null,null,null,null,null,null,null,null,null,null,null,null,null,null,null,null,null,null,null,null,null,null,null,null,null,null,null,null,null,null,null,null,null,null,null,null,null,null,null,null,null,null,null,null,null,null,null,{"$f":"(D77+D78)*F77","v":{"$error":"#DIV/0!"}}]
[null,"Processamento dos grãos"]
[null,"Processamento com secagem","m³",{"$f":"0.00004878*0.6","v":2.9267999999999998E-5},null,{"$f":"D81*'Dados auxiliares'!$H$81","v":9.3980387991599993E-7},null,{"$f":"(((F81*$F$77)/$D$77)*1000*$F$131)/$E$131","v":{"$error":"#DIV/0!"}}]
[null,"Processamento sem secagem","m³",{"$f":"0.00004878*0.4","v":1.9511999999999999E-5},null,{"$f":"D82*'Dados auxiliares'!$H$80","v":3.0850690514400005E-7},null,{"$f":"(((F82*$F$77)/$D$77)*1000*$F$131)/$E$131","v":{"$error":"#DIV/0!"}}]
[null,"Insumos"]
[null,"Soja (grãos)","t",1,null,{"$f":"D84*F72","v":0},null,{"$f":"(((F84*$F$77)/$D$77)*1000*$F$131)/$E$131","v":{"$error":"#DIV/0!"}},null,null,null,null,null,null,null,null,null,null,null,null,null,null,null,null,null,null,null,null,null,null,null,null,null,null,null,null,null,null,null,null,null,null,null,null,null,null,null,null,null,null,null,null,null,null,null,null,null,null,null,null,null,null,null,null,null,null,null,null,null,null,null,null,null,null,null,null,null,{"$f":"BZ79*F126","v":{"$error":"#DIV/0!"}},{"$f":"(BZ79*CB159)/1000","v":{"$error":"#DIV/0!"}}]
[null,"Transporte da soja em grãos até a usina","tkm",{"$f":"D84*Biodiesel!D87","v":0},null,{"$f":"D85*'Dados auxiliares'!$H$131","v":0},null,{"$f":"(((F85*$F$77)/$D$77)*1000*$F$131)/$E$131","v":{"$error":"#DIV/0!"}}]
[null,"Hexano","kg",1.1000000000000001,null,{"$f":"D86*'Dados auxiliares'!$H$100","v":339.58162909820237},null,{"$f":"(((F86*$F$77)/$D$77)*1000*$F$131)/$E$131","v":{"$error":"#DIV/0!"}}]
[null,"Água","kg",{"$f":"(2.34*992.3224568)/5.17","v":449.13627638529982},null,{"$f":"D87*'Dados auxiliares'!H83","v":3.9531054548047617},null,{"$f":"(((F87*$F$77)/$D$77)*1000*$F$131)/$E$131","v":{"$error":"#DIV/0!"}}]
[null,"Combustíveis e eletricidade"]
[null,"Eletricidade da rede - mix médio","kWh",{"$f":"Biodiesel!D92","v":0},null,{"$f":"D89*'Dados auxiliares'!$H$107","v":0},null,{"$f":"(((F89*$F$77)/$D$77)*1000*$F$131)/$E$131","v":{"$error":"#DIV/0!"}}]
[null,"Eletricidade - PCH","kWh",{"$f":"Biodiesel!D93","v":0},null,{"$f":"D90*'Dados auxiliares'!$H$108","v":0},null,{"$error":"#DIV/0!"}]
[null,"Eletricidade - biomassa","kWh",{"$f":"Biodiesel!D94","v":0},null,{"$f":"D91*'Dados auxiliares'!$H$109","v":0},null,{"$error":"#DIV/0!"}]
[null,"Eletricidade - eólica","kWh",{"$f":"Biodiesel!D95","v":0},null,{"$f":"D92*'Dados auxiliares'!$H$110","v":0},null,{"$error":"#DIV/0!"}]
[null,"Eletricidade - solar","kWh",{"$f":"Biodiesel!D96","v":0},null,{"$f":"D93*'Dados auxiliares'!$H$111","v":0},null,{"$error":"#DIV/0!"}]
[null,"Diesel B0","kg",{"$f":"(Biodiesel!D97*(1-0.08)+Biodiesel!$D$98*(1-0.1)+Biodiesel!$D$99*(1-Biodiesel!$G$99)+Biodiesel!$D$100*(1-0.2)+Biodiesel!$D$101*(1-0.3)+Biodiesel!$D$102*(1-1))*('Dados auxiliares'!$D$26)","v":0},null,{"$f":"D94*'Dados auxiliares'!$H$116","v":0},null,{"$error":"#DIV/0!"}]
[null,"Biodiesel B100","kg",{"$f":"(Biodiesel!D97*(0.08)+Biodiesel!$D$98*(0.1)+Biodiesel!$D$99*(Biodiesel!$G$99)+Biodiesel!$D$100*(0.2)+Biodiesel!$D$101*(0.3)+Biodiesel!$D$102*(1))*('Dados auxiliares'!$D$17)","v":0},null,{"$f":"D95*'Dados auxiliares'!$H$117","v":0},null,{"$error":"#DIV/0!"}]
[null,"Óleo combusível","kg",{"$f":"Biodiesel!D103*'Dados auxiliares'!$D$30","v":0},null,{"$f":"D96*'Dados auxiliares'!$H$126","v":0},null,{"$error":"#DIV/0!"}]
[null,"Biogás de terceiros","Nm³",{"$f":"Biodiesel!D104","v":0},null,{"$f":"D97*Biodiesel!G104*'Dados auxiliares'!$H$125","v":0},null,{"$error":"#DIV/0!"}]
[null,"Gás natural","Nm³",{"$f":"Biodiesel!D106","v":0},null,{"$f":"D98*'Dados auxiliares'!$H$115","v":0},null,{"$error":"#DIV/0!"}]
[null,"Cavaco de madeira","kg base seca",{"$f":"Biodiesel!$D$108*(1-Biodiesel!$D$109)","v":0},null,{"$f":"D99*'Dados auxiliares'!$H$123","v":0},null,{"$error":"#DIV/0!"}]
[null,"Transporte de cavaco de madeira","tkm",{"$f":"((D99/1000)*Biodiesel!$D$110)","v":0},null,{"$f":"D100*'Dados auxiliares'!$H$131","v":0},null,{"$error":"#DIV/0!"}]
[null,"Lenha","kg base seca",{"$f":"Biodiesel!$D$112*(1-Biodiesel!$D$113)","v":0},null,{"$f":"D101*'Dados auxiliares'!$H$124","v":0},null,{"$error":"#DIV/0!"}]
[null,"Transporte de lenha","tkm",{"$f":"((D101/1000)*Biodiesel!$D$114)","v":0},null,{"$f":"D102*'Dados auxiliares'!$H$131","v":0},null,{"$error":"#DIV/0!"}]
[null,"Resíduos florestais","kg base seca",{"$f":"Biodiesel!$D$116*(1-Biodiesel!$D$117)","v":0},null,0,null,{"$error":"#DIV/0!"}]
[null,"Transporte de resíduos florestais","tkm",{"$f":"((D103/1000)*Biodiesel!$D$118)","v":0},null,{"$f":"D104*'Dados auxiliares'!$H$131","v":0},null,{"$error":"#DIV/0!"}]
[null,"Bagaço de cana-de-açúcar","kg base seca",{"$f":"Biodiesel!$D$120*(1-Biodiesel!$D$121)","v":0},null,0,null,{"$error":"#DIV/0!"}]
[null,"Transporte de bagaço de cana-de-açúcar","tkm",{"$f":"((D105/1000)*Biodiesel!$D$122)","v":0},null,{"$f":"D106*'Dados auxiliares'!$H$131","v":0},null,{"$error":"#DIV/0!"}]
[null,"Palha de cana-de-açúcar","kg base seca",{"$f":"Biodiesel!$D$124*(1-Biodiesel!$D$125)","v":0},null,{"$f":"D107*'Dados auxiliares'!$H$78","v":0},null,{"$error":"#DIV/0!"}]
[null,"Transporte de palha de cana-de-açúcar","tkm",{"$f":"((D107/1000)*Biodiesel!$D$126)","v":0},null,{"$f":"D108*'Dados auxiliares'!$H$131","v":0},null,{"$error":"#DIV/0!"}]
[null,"Emissões","Unidade","1 t soja",null,"g CO2 eq/t soja",null,"g CO2 eq/MJ",null,null,null,null,null,null,null,null,null,null,null,null,null,null,null,null,null,null,null,null,null,null,null,null,null,null,null,null,null,null,null,null,null,null,null,null,null,null,null,null,null,null,null,null,null,null,null,null,null,null,null,null,null,null,null,null,null,null,null,null,null,null,null,null,null,null,null,null,null,null,"Emissão desconsiderada"]
[null,"CO₂ eq - queima do diesel","kg",{"$f":"D94*'FE''s queima combustíveis'!$I$50/1000","v":0},null,{"$f":"D110*1000","v":0},null,{"$f":"(((F110*$F$77)/$D$77)*1000*$F$131)/$E$131","v":{"$error":"#DIV/0!"}}]
[null,"CO₂ eq - queima do biodiesel","kg",{"$f":"D95*'FE''s queima combustíveis'!$I$51/1000","v":0},null,0,null,{"$error":"#DIV/0!"}]
[null,"CO₂ eq - queima do óleo combustível","kg",{"$f":"D96*'FE''s queima combustíveis'!$I$53/1000","v":0},null,0,null,{"$error":"#DIV/0!"}]
[null,"CO₂ eq - queima do biogás de terceiros","kg",{"$f":"Biodiesel!D104*Biodiesel!G104*'FE''s queima combustíveis'!$I$41/1000","v":0},null,0,null,{"$error":"#DIV/0!"}]
[null,"CO₂ eq - queima do biogás próprio","kg",{"$f":"Biodiesel!D105*Biodiesel!G105*'FE''s queima combustíveis'!$I$41/1000","v":0},null,0,null,{"$error":"#DIV/0!"}]
[null,"CO₂ eq - queima da gás natural","kg",{"$f":"D98*'FE''s queima combustíveis'!$I$46*('Dados auxiliares'!$D$27*1000)/1000","v":0},null,0,null,{"$error":"#DIV/0!"}]
[null,"CO₂ eq - queima do bagaço de cana-de-açúcar","kg",{"$f":"D105*'FE''s queima combustíveis'!$I$36/1000","v":0},null,{"$f":"D116*1000","v":0},null,{"$error":"#DIV/0!"}]
[null,"CO₂ eq - queima da palha de cana-de-açúcar","kg",{"$f":"D107*'FE''s queima combustíveis'!$I$37/1000","v":0},null,0,null,{"$error":"#DIV/0!"}]
[null,"CO₂ eq - queima dos cavacos de madeira","kg",{"$f":"D99*'FE''s queima combustíveis'!$I$38/1000","v":0},null,0,null,{"$error":"#DIV/0!"}]
[null,"CO₂ eq - queima da lenha","kg",{"$f":"D101*'FE''s queima combustíveis'!$I$39/1000","v":0},null,0,null,{"$error":"#DIV/0!"}]
[null,"CO₂ eq - queima dos resíduos florestais","kg",{"$f":"D103*'FE''s queima combustíveis'!$I$40/1000","v":0},null,0,null,{"$error":"#DIV/0!"}]
[]
[null,"Emissões do processo","g CO2 eq/t soja",null,null,{"$f":"SUM(F110:F120)","v":0},null,{"$f":"(((F122*$F$77)/$D$77)*1000*$F$131)/$E$131","v":{"$error":"#DIV/0!"}}]
[null,"Emissões background","g CO2 eq/t soja",null,null,{"$f":"SUM(F81:F108)","v":343.53473580131794},null,{"$f":"(((F123*$F$77)/$D$77)*1000*$F$131)/$E$131","v":{"$error":"#DIV/0!"}}]
[null,"Emissões totais","g CO2 eq/t soja",null,null,{"$f":"F122+F123","v":343.53473580131794},null,{"$f":"IF($D$77=0,0,((((F124*$F$77)/$D$77)*1000*$F$131)/$E$131))","v":0}]
[]
[null,"Emissões totais","g CO2 eq/kg óleo de soja",null,null,{"$f":"IF(OR(Biodiesel!$D$86=0,Biodiesel!$D$88=0),0,(F124*F77/$D$77))","v":0}]
[]
[]
[null,"Etapa industrial - Produção de biodiesel",null,null,null,null,null,"Emissões por MJ de biodiesel",null,null,null,null,null,null,null,null,null,null,null,null,null,null,null,null,null,null,null,null,null,null,null,null,null,null,null,null,null,null,null,null,null,null,null,null,null,null,null,null,null,null,null,null,null,null,null,null,null,null,null,null,null,null,null,null,null,null,null,null,null,null,null,null,null,null,null,{"$f":"F126*CB134","v":{"$error":"#DIV/0!"}}]
[null,"Produtos","Unidade","1 t matéria-prima","MJ","Alocação"]
[null,"Biodiesel","kg",{"$f":"(Biodiesel!D163*'Dados auxiliares'!$D$17)*1000/((Biodiesel!$D$132+Biodiesel!$D$136+Biodiesel!$D$140+Biodiesel!$D$144+Biodiesel!$D$148+Biodiesel!$D$152+Biodiesel!$D$155+Biodiesel!$D$158))","v":{"$error":"#DIV/0!"}},{"$f":"D131*'Dados auxiliares'!$F$17","v":{"$error":"#DIV/0!"}},{"$f":"E131/SUM($E$131:$E$133)","v":{"$error":"#DIV/0!"}}]
[null,"Glicerina purificada","kg",{"$f":"Biodiesel!D164*1000/((Biodiesel!$D$132+Biodiesel!$D$136+Biodiesel!$D$140+Biodiesel!$D$144+Biodiesel!$D$148+Biodiesel!$D$152+Biodiesel!$D$155+Biodiesel!$D$158))","v":{"$error":"#DIV/0!"}},{"$f":"D132*'Dados auxiliares'!$D$44","v":{"$error":"#DIV/0!"}},{"$f":"E132/SUM($E$131:$E$133)","v":{"$error":"#DIV/0!"}}]
[null,"Glicerina bruta","kg",{"$f":"Biodiesel!D165*1000/((Biodiesel!$D$132+Biodiesel!$D$136+Biodiesel!$D$140+Biodiesel!$D$144+Biodiesel!$D$148+Biodiesel!$D$152+Biodiesel!$D$155+Biodiesel!$D$158))","v":{"$error":"#DIV/0!"}},{"$f":"D133*'Dados auxiliares'!$D$45","v":{"$error":"#DIV/0!"}},{"$f":"E133/SUM($E$131:$E$133)","v":{"$error":"#DIV/0!"}},null,null,null,"Alguma fração elegível","Intensidade de Carbono da Matéria-prima (referência)","Unidade da Intensidade de Carbono","Quantidade de materia-prima elegível",null,"Intensidade de Carbono da Matéria-prima não elegível",null,"Intensidade de Carbono da Matéria-prima (utilizada)"]
[null,"Entradas ","Unidade","1 t matéria-prima",null,"g CO2 eq/t matéria-prima",null,"g CO2 eq/MJ",null,null,null,null,null,null,null,null,null,null,null,null,null,null,null,null,null,null,null,null,null,null,null,null,null,null,null,null,null,null,null,null,null,null,null,null,null,null,null,null,null,null,null,null,null,null,null,null,null,null,null,null,null,null,null,null,null,null,null,null,null,null,null,null,null,null,null,null,{"$error":"#REF!"},{"$f":"D131/BY134","v":{"$error":"#DIV/0!"}},{"$f":"BZ134*1000","v":{"$error":"#DIV/0!"}},{"$f":"CA134/D131","v":{"$error":"#DIV/0!"}}]
[null,"Matérias-primas",null,null,null,null,null,null,null,null,"g CO2 eq/t óleo especíco",null,"t matéria-prima elegível","% matéria-prima elegível","% materia-prima elegível * IC materia-prima elegível"]
[null,"Óleo de soja próprio","t",{"$f":"Biodiesel!$D$132/((Biodiesel!$D$132+Biodiesel!$D$136+Biodiesel!$D$140+Biodiesel!$D$144+Biodiesel!$D$148+Biodiesel!$D$152+Biodiesel!$D$155+Biodiesel!$D$158))","v":{"$error":"#DIV/0!"}},null,{"$f":"D136*Q136*1000","v":{"$error":"#DIV/0!"}},null,{"$f":"(F136*$F$131)/$E$131","v":{"$error":"#DIV/0!"}},null,{"$f":"Biodiesel!D134","v":0},{"$f":"$F$126","v":0},"g CO2 eq/kg óleo de soja",{"$f":"D136*IF(J136=\"Sim\",1,0)","v":{"$error":"#DIV/0!"}},{"$f":"M136/$M$152","v":{"$error":"#DIV/0!"}},{"$f":"N136*K136","v":{"$error":"#DIV/0!"}},null,{"$f":"IF(J136=\"Sim\",K136,$O$152)","v":{"$error":"#DIV/0!"}}]
[null,"Transporte óleo de soja até a usina","tkm",{"$f":"D136*Biodiesel!$D$133","v":{"$error":"#DIV/0!"}},null,{"$f":"D137*'Dados auxiliares'!$H$132","v":{"$error":"#DIV/0!"}},null,{"$f":"(F137*$F$131)/$E$131","v":{"$error":"#DIV/0!"}}]
[null,"Óleo de soja fornecedores","t",{"$f":"Biodiesel!$D$136/((Biodiesel!$D$132+Biodiesel!$D$136+Biodiesel!$D$140+Biodiesel!$D$144+Biodiesel!$D$148+Biodiesel!$D$152+Biodiesel!$D$155+Biodiesel!$D$158))","v":{"$error":"#DIV/0!"}},null,{"$f":"D138*Q138*1000","v":{"$error":"#DIV/0!"}},null,{"$f":"(F138*$F$131)/$E$131","v":{"$error":"#DIV/0!"}},null,{"$f":"Biodiesel!D138","v":0},{"$f":"Biodiesel!$G$136","v":0},"g CO2 eq/kg óleo de soja de terceiros",{"$f":"D138*IF(J138=\"Sim\",1,0)","v":{"$error":"#DIV/0!"}},{"$f":"M138/$M$152","v":{"$error":"#DIV/0!"}},{"$f":"N138*K138","v":{"$error":"#DIV/0!"}},null,{"$f":"IF(J138=\"Sim\",K138,$O$152)","v":{"$error":"#DIV/0!"}}]
[null,"Transporte óleo de soja até a usina","tkm",{"$f":"D138*Biodiesel!$D$137","v":{"$error":"#DIV/0!"}},null,{"$f":"D139*'Dados auxiliares'!$H$132","v":{"$error":"#DIV/0!"}},null,{"$error":"#DIV/0!"}]
[null,"Óleo de palma","t",{"$f":"Biodiesel!$D$140/((Biodiesel!$D$132+Biodiesel!$D$136+Biodiesel!$D$140+Biodiesel!$D$144+Biodiesel!$D$148+Biodiesel!$D$152+Biodiesel!$D$155+Biodiesel!$D$158))","v":{"$error":"#DIV/0!"}},null,{"$f":"D140*Q140*1000","v":{"$error":"#DIV/0!"}},null,{"$error":"#DIV/0!"},null,{"$f":"Biodiesel!D142","v":0},{"$f":"'Dados auxiliares'!$H$104","v":589.61661054634703},"g CO2 eq/kg óleo de palma",{"$f":"D140*IF(J140=\"Sim\",1,0)","v":{"$error":"#DIV/0!"}},{"$f":"M140/$M$152","v":{"$error":"#DIV/0!"}},{"$f":"N140*K140","v":{"$error":"#DIV/0!"}},null,{"$f":"IF(J140=\"Sim\",K140,$O$152)","v":{"$error":"#DIV/0!"}}]
[null,"Transporte óleo de palma até a usina","tkm",{"$f":"D140*Biodiesel!$D$141","v":{"$error":"#DIV/0!"}},null,{"$f":"D141*'Dados auxiliares'!$H$132","v":{"$error":"#DIV/0!"}},null,{"$error":"#DIV/0!"}]
[null,"Óleo de algodão","t",{"$f":"Biodiesel!$D$144/((Biodiesel!$D$132+Biodiesel!$D$136+Biodiesel!$D$140+Biodiesel!$D$144+Biodiesel!$D$148+Biodiesel!$D$152+Biodiesel!$D$155+Biodiesel!$D$158))","v":{"$error":"#DIV/0!"}},null,{"$f":"D142*Q142*1000","v":{"$error":"#DIV/0!"}},null,{"$error":"#DIV/0!"},null,{"$f":"Biodiesel!D146","v":0},{"$f":"'Dados auxiliares'!$H$103","v":2214.9587956516107},"g CO2 eq/kg óleo de algodão",{"$f":"D142*IF(J142=\"Sim\",1,0)","v":{"$error":"#DIV/0!"}},{"$f":"M142/$M$152","v":{"$error":"#DIV/0!"}},{"$f":"N142*K142","v":{"$error":"#DIV/0!"}},null,{"$f":"IF(J142=\"Sim\",K142,$O$152)","v":{"$error":"#DIV/0!"}}]
[null,"Transporte óleo de algodão até a usina","tkm",{"$f":"D142*Biodiesel!$D$145","v":{"$error":"#DIV/0!"}},null,{"$f":"D143*'Dados auxiliares'!$H$132","v":{"$error":"#DIV/0!"}},null,{"$error":"#DIV/0!"}]
[null,"Outros óleos vegetais","t",{"$f":"Biodiesel!$D$148/((Biodiesel!$D$132+Biodiesel!$D$136+Biodiesel!$D$140+Biodiesel!$D$144+Biodiesel!$D$148+Biodiesel!$D$152+Biodiesel!$D$155+Biodiesel!$D$158))","v":{"$error":"#DIV/0!"}},null,{"$f":"D144*Q144*1000","v":{"$error":"#DIV/0!"}},null,{"$error":"#DIV/0!"},null,{"$f":"Biodiesel!D150","v":0},{"$f":"'Dados auxiliares'!$H$105","v":2214.9587956516107},"g CO2 eq/kg outros óleos vegetais",{"$f":"D144*IF(J144=\"Sim\",1,0)","v":{"$error":"#DIV/0!"}},{"$f":"M144/$M$152","v":{"$error":"#DIV/0!"}},{"$f":"N144*K144","v":{"$error":"#DIV/0!"}},null,{"$f":"IF(J144=\"Sim\",K144,$O$152)","v":{"$error":"#DIV/0!"}}]
[null,"Transporte outros óleos vegetais até a usina","tkm",{"$f":"D144*Biodiesel!$D$149","v":{"$error":"#DIV/0!"}},null,{"$f":"D145*'Dados auxiliares'!$H$132","v":{"$error":"#DIV/0!"}},null,{"$error":"#DIV/0!"}]
[null,"Óleo de fritura usado","t",{"$f":"Biodiesel!$D$152/((Biodiesel!$D$132+Biodiesel!$D$136+Biodiesel!$D$140+Biodiesel!$D$144+Biodiesel!$D$148+Biodiesel!$D$152+Biodiesel!$D$155+Biodiesel!$D$158))","v":{"$error":"#DIV/0!"}},null,0,null,{"$error":"#DIV/0!"},null,"-",{"$f":"F146","v":0},"g CO2 eq/kg  Óleo de fritura",{"$f":"D146","v":{"$error":"#DIV/0!"}},{"$f":"M146/$M$152","v":{"$error":"#DIV/0!"}},{"$f":"N146*K146","v":{"$error":"#DIV/0!"}},null,{"$f":"K146","v":0}]
[null,"Transporte óleo de fritura usado até a usina","tkm",{"$f":"D146*Biodiesel!$D$153","v":{"$error":"#DIV/0!"}},null,{"$f":"D147*'Dados auxiliares'!$H$132","v":{"$error":"#DIV/0!"}},null,{"$error":"#DIV/0!"}]
[null,"Gordura animal","t",{"$f":"Biodiesel!$D$155/((Biodiesel!$D$132+Biodiesel!$D$136+Biodiesel!$D$140+Biodiesel!$D$144+Biodiesel!$D$148+Biodiesel!$D$152+Biodiesel!$D$155+Biodiesel!$D$158))","v":{"$error":"#DIV/0!"}},null,0,null,{"$error":"#DIV/0!"},null,"-",{"$f":"F148","v":0},"g CO2 eq/kg Gordura animal",{"$f":"D148","v":{"$error":"#DIV/0!"}},{"$f":"M148/$M$152","v":{"$error":"#DIV/0!"}},{"$f":"N148*K148","v":{"$error":"#DIV/0!"}},null,{"$f":"K148","v":0}]
[null,"Transporte gordura animal até a usina","tkm",{"$f":"D148*Biodiesel!$D$156","v":{"$error":"#DIV/0!"}},null,{"$f":"D149*'Dados auxiliares'!$H$132","v":{"$error":"#DIV/0!"}},null,{"$error":"#DIV/0!"}]
[null,"Outros óleos residuais","t",{"$f":"Biodiesel!$D$158/((Biodiesel!$D$132+Biodiesel!$D$136+Biodiesel!$D$140+Biodiesel!$D$144+Biodiesel!$D$148+Biodiesel!$D$152+Biodiesel!$D$155+Biodiesel!$D$158))","v":{"$error":"#DIV/0!"}},null,0,null,{"$error":"#DIV/0!"},null,"-",{"$f":"F150","v":0},"g CO2 eq/kg Outros oleos residuais",{"$f":"D150","v":{"$error":"#DIV/0!"}},{"$f":"M150/$M$152","v":{"$error":"#DIV/0!"}},{"$f":"N150*K150","v":{"$error":"#DIV/0!"}},null,{"$f":"K150","v":0}]
[null,"Transporte outros óleos residiais até a usina","tkm",{"$f":"D150*Biodiesel!$D$159","v":{"$error":"#DIV/0!"}},null,{"$f":"D151*'Dados auxiliares'!$H$132","v":{"$error":"#DIV/0!"}},null,{"$error":"#DIV/0!"},null,null,null,null,null,null,"g CO2 eq/kg materia-prima não elegível"]
[null,"Insumos",null,null,null,null,null,null,null,null,null,null,{"$f":"SUM(M136:M150)","v":{"$error":"#DIV/0!"}},{"$f":"SUM(N136:N150)","v":{"$error":"#DIV/0!"}},{"$f":"SUM(O136:O150)","v":{"$error":"#DIV/0!"}}]
[null,"Água","kg",328.63849765258215,null,{"$f":"D153*'Dados auxiliares'!$H$83","v":2.8925355310528755},null,{"$error":"#DIV/0!"}]
[null,"Metanol","kg",{"$f":"Biodiesel!D168*1000/((Biodiesel!$D$132+Biodiesel!$D$136+Biodiesel!$D$140+Biodiesel!$D$144+Biodiesel!$D$148+Biodiesel!$D$152+Biodiesel!$D$155+Biodiesel!$D$158))","v":{"$error":"#DIV/0!"}},null,{"$f":"D154*'Dados auxiliares'!$H$101","v":{"$error":"#DIV/0!"}},null,{"$error":"#DIV/0!"}]
[null,"Metilato de sódio","kg",{"$f":"Biodiesel!D169*1000/((Biodiesel!$D$132+Biodiesel!$D$136+Biodiesel!$D$140+Biodiesel!$D$144+Biodiesel!$D$148+Biodiesel!$D$152+Biodiesel!$D$155+Biodiesel!$D$158))","v":{"$error":"#DIV/0!"}},null,{"$f":"D155*'Dados auxiliares'!$H$90","v":{"$error":"#DIV/0!"}},null,{"$error":"#DIV/0!"}]
[null,"Ácido clorídrico","kg",{"$f":"IF(Biodiesel!$D$162=\"Metílica\",13.0516431924883,0)","v":0},null,{"$f":"D156*'Dados auxiliares'!$H$86","v":0},null,{"$error":"#DIV/0!"}]
[null,"Ácido fosfórico","kg",{"$f":"IF(Biodiesel!$D$162=\"Metílica\",0.5,IF(Biodiesel!$D$162=\"Etílica\",0.0301810865191147,0))","v":0},null,{"$f":"D157*'Dados auxiliares'!$H$89","v":0},null,{"$error":"#DIV/0!"},null,null,null,null,null,null,null,null,null,null,null,null,null,null,null,null,null,null,null,null,null,null,null,null,null,null,null,null,null,null,null,null,null,null,null,null,null,null,null,null,null,null,null,null,null,null,null,null,null,null,null,null,null,null,null,null,null,null,null,null,null,null,null,null,null,null,null,null,null,{"$f":"D131+D132","v":{"$error":"#DIV/0!"}}]
[null,"Etanol anidro","kg",{"$f":"Biodiesel!D170*1000/((Biodiesel!$D$132+Biodiesel!$D$136+Biodiesel!$D$140+Biodiesel!$D$144+Biodiesel!$D$148+Biodiesel!$D$152+Biodiesel!$D$155+Biodiesel!$D$158))","v":{"$error":"#DIV/0!"}},null,{"$f":"D158*'Dados auxiliares'!$H$121","v":{"$error":"#DIV/0!"}},null,{"$error":"#DIV/0!"}]
[null,"Hidróxido de sódio","kg",{"$f":"Biodiesel!D171*1000/((Biodiesel!$D$132+Biodiesel!$D$136+Biodiesel!$D$140+Biodiesel!$D$144+Biodiesel!$D$148+Biodiesel!$D$152+Biodiesel!$D$155+Biodiesel!$D$158))","v":{"$error":"#DIV/0!"}},null,{"$f":"D159*'Dados auxiliares'!$H$97","v":{"$error":"#DIV/0!"}},null,{"$error":"#DIV/0!"},null,null,null,null,null,null,null,null,null,null,null,null,null,null,null,null,null,null,null,null,null,null,null,null,null,null,null,null,null,null,null,null,null,null,null,null,null,null,null,null,null,null,null,null,null,null,null,null,null,null,null,null,null,null,null,null,null,null,null,null,null,null,null,null,null,null,null,null,null,{"$f":"BZ157*#REF!","v":{"$error":"#DIV/0!"}},null,{"$error":"#REF!"}]
[null,"Eletricidade da rede - mix médio","kWh",{"$f":"Biodiesel!D173*1000/((Biodiesel!$D$132+Biodiesel!$D$136+Biodiesel!$D$140+Biodiesel!$D$144+Biodiesel!$D$148+Biodiesel!$D$152+Biodiesel!$D$155+Biodiesel!$D$158))","v":{"$error":"#DIV/0!"}},null,{"$f":"D160*'Dados auxiliares'!$H$107","v":{"$error":"#DIV/0!"}},null,{"$error":"#DIV/0!"}]
[null,"Eletricidade - PCH","kWh",{"$f":"Biodiesel!D174*1000/((Biodiesel!$D$132+Biodiesel!$D$136+Biodiesel!$D$140+Biodiesel!$D$144+Biodiesel!$D$148+Biodiesel!$D$152+Biodiesel!$D$155+Biodiesel!$D$158))","v":{"$error":"#DIV/0!"}},null,{"$f":"D161*'Dados auxiliares'!$H$108","v":{"$error":"#DIV/0!"}},null,{"$error":"#DIV/0!"}]
[null,"Eletricidade - biomassa","kWh",{"$f":"Biodiesel!D175*1000/((Biodiesel!$D$132+Biodiesel!$D$136+Biodiesel!$D$140+Biodiesel!$D$144+Biodiesel!$D$148+Biodiesel!$D$152+Biodiesel!$D$155+Biodiesel!$D$158))","v":{"$error":"#DIV/0!"}},null,{"$f":"D162*'Dados auxiliares'!$H$109","v":{"$error":"#DIV/0!"}},null,{"$error":"#DIV/0!"}]
[null,"Eletricidade - eólica","kWh",{"$f":"Biodiesel!D176*1000/((Biodiesel!$D$132+Biodiesel!$D$136+Biodiesel!$D$140+Biodiesel!$D$144+Biodiesel!$D$148+Biodiesel!$D$152+Biodiesel!$D$155+Biodiesel!$D$158))","v":{"$error":"#DIV/0!"}},null,{"$f":"D163*'Dados auxiliares'!$H$110","v":{"$error":"#DIV/0!"}},null,{"$error":"#DIV/0!"}]
[null,"Eletricidade - solar","kWh",{"$f":"Biodiesel!D177*1000/((Biodiesel!$D$132+Biodiesel!$D$136+Biodiesel!$D$140+Biodiesel!$D$144+Biodiesel!$D$148+Biodiesel!$D$152+Biodiesel!$D$155+Biodiesel!$D$158))","v":{"$error":"#DIV/0!"}},null,{"$f":"D164*'Dados auxiliares'!$H$111","v":{"$error":"#DIV/0!"}},null,{"$error":"#DIV/0!"}]
[null,"Diesel B0","kg",{"$f":"((Biodiesel!D178*(1-0.08)+Biodiesel!$D$179*(1-0.1)+Biodiesel!$D$180*(1-Biodiesel!$G$180)+Biodiesel!$D$181*(1-0.2)+Biodiesel!$D$182*(1-0.3)+Biodiesel!$D$183*(1-1))*('Dados auxiliares'!$D$26))*1000/((Biodiesel!$D$132+Biodiesel!$D$136+Biodiesel!$D$140+Biodiesel!$D$144+Biodiesel!$D$148+Biodiesel!$D$152+Biodiesel!$D$155+Biodiesel!$D$158))","v":{"$error":"#DIV/0!"}},null,{"$f":"D165*'Dados auxiliares'!$H$116","v":{"$error":"#DIV/0!"}},null,{"$error":"#DIV/0!"}]
[null,"Biodiesel B100","kg",{"$f":"((Biodiesel!D178*(0.08)+Biodiesel!$D$179*(0.1)+Biodiesel!$D$180*(Biodiesel!$G$180)+Biodiesel!$D$181*(0.2)+Biodiesel!$D$182*(0.3)+Biodiesel!$D$183*(1))*('Dados auxiliares'!$D$17))*1000/((Biodiesel!$D$132+Biodiesel!$D$136+Biodiesel!$D$140+Biodiesel!$D$144+Biodiesel!$D$148+Biodiesel!$D$152+Biodiesel!$D$155+Biodiesel!$D$158))","v":{"$error":"#DIV/0!"}},null,{"$f":"D166*'Dados auxiliares'!$H$117","v":{"$error":"#DIV/0!"}},null,{"$error":"#DIV/0!"}]
[null,"Óleo combusível","kg",{"$f":"(Biodiesel!D184*1000/((Biodiesel!$D$132+Biodiesel!$D$136+Biodiesel!$D$140+Biodiesel!$D$144+Biodiesel!$D$148+Biodiesel!$D$152+Biodiesel!$D$155+Biodiesel!$D$158)))*'Dados auxiliares'!$D$30","v":{"$error":"#DIV/0!"}},null,{"$f":"D167*'Dados auxiliares'!$H$126","v":{"$error":"#DIV/0!"}},null,{"$error":"#DIV/0!"}]
[null,"Biogás de terceiros","Nm³",{"$f":"Biodiesel!D185/((Biodiesel!$D$132+Biodiesel!$D$136+Biodiesel!$D$140+Biodiesel!$D$144+Biodiesel!$D$148+Biodiesel!$D$152+Biodiesel!$D$155+Biodiesel!$D$158))","v":{"$error":"#DIV/0!"}},null,{"$f":"D168*Biodiesel!G185*'Dados auxiliares'!$H$125","v":{"$error":"#DIV/0!"}},null,{"$error":"#DIV/0!"}]
[null,"Gás natural","Nm³",{"$f":"Biodiesel!D187/((Biodiesel!$D$132+Biodiesel!$D$136+Biodiesel!$D$140+Biodiesel!$D$144+Biodiesel!$D$148+Biodiesel!$D$152+Biodiesel!$D$155+Biodiesel!$D$158))","v":{"$error":"#DIV/0!"}},null,{"$f":"D169*'Dados auxiliares'!$H$115","v":{"$error":"#DIV/0!"}},null,{"$error":"#DIV/0!"}]
[null,"Cavaco de madeira","kg base seca",{"$f":"Biodiesel!$D$189*(1-Biodiesel!$D$190)*1000/((Biodiesel!$D$132+Biodiesel!$D$136+Biodiesel!$D$140+Biodiesel!$D$144+Biodiesel!$D$148+Biodiesel!$D$152+Biodiesel!$D$155+Biodiesel!$D$158))","v":{"$error":"#DIV/0!"}},null,{"$f":"D170*'Dados auxiliares'!$H$123","v":{"$error":"#DIV/0!"}},null,{"$error":"#DIV/0!"}]
[null,"Transporte de cavaco de madeira","tkm",{"$f":"((D170/1000)*Biodiesel!$D$191)","v":{"$error":"#DIV/0!"}},null,{"$f":"D171*'Dados auxiliares'!$H$131","v":{"$error":"#DIV/0!"}},null,{"$error":"#DIV/0!"}]
[null,"Lenha","kg base seca",{"$f":"Biodiesel!$D$193*(1-Biodiesel!$D$194)*1000/((Biodiesel!$D$132+Biodiesel!$D$136+Biodiesel!$D$140+Biodiesel!$D$144+Biodiesel!$D$148+Biodiesel!$D$152+Biodiesel!$D$155+Biodiesel!$D$158))","v":{"$error":"#DIV/0!"}},null,{"$f":"D172*'Dados auxiliares'!$H$124","v":{"$error":"#DIV/0!"}},null,{"$error":"#DIV/0!"}]
[null,"Transporte de lenha","tkm",{"$f":"((D172/1000)*Biodiesel!$D$195)","v":{"$error":"#DIV/0!"}},null,{"$f":"D173*'Dados auxiliares'!$H$131","v":{"$error":"#DIV/0!"}},null,{"$error":"#DIV/0!"}]
[null,"Resíduos florestais","kg base seca",{"$f":"Biodiesel!$D$197*(1-Biodiesel!$D$198)*1000/((Biodiesel!$D$132+Biodiesel!$D$136+Biodiesel!$D$140+Biodiesel!$D$144+Biodiesel!$D$148+Biodiesel!$D$152+Biodiesel!$D$155+Biodiesel!$D$158))","v":{"$error":"#DIV/0!"}},null,0,null,{"$error":"#DIV/0!"}]
[null,"Transporte de resíduos florestais","tkm",{"$f":"((D174/1000)*Biodiesel!$D$199)","v":{"$error":"#DIV/0!"}},null,{"$f":"D175*'Dados auxiliares'!$H$131","v":{"$error":"#DIV/0!"}},null,{"$error":"#DIV/0!"}]
[null,"Bagaço de cana-de-açúcar","kg base seca",{"$f":"Biodiesel!$D$201*(1-Biodiesel!$D$202)*1000/((Biodiesel!$D$132+Biodiesel!$D$136+Biodiesel!$D$140+Biodiesel!$D$144+Biodiesel!$D$148+Biodiesel!$D$152+Biodiesel!$D$155+Biodiesel!$D$158))","v":{"$error":"#DIV/0!"}},null,0,null,{"$error":"#DIV/0!"}]
[null,"Transporte de bagaço de cana-de-açúcar","tkm",{"$f":"((D176/1000)*Biodiesel!$D$203)","v":{"$error":"#DIV/0!"}},null,{"$f":"D177*'Dados auxiliares'!$H$131","v":{"$error":"#DIV/0!"}},null,{"$error":"#DIV/0!"}]
[null,"Palha de cana-de-açúcar","kg base seca",{"$f":"Biodiesel!$D$205*(1-Biodiesel!$D$206)*1000/((Biodiesel!$D$132+Biodiesel!$D$136+Biodiesel!$D$140+Biodiesel!$D$144+Biodiesel!$D$148+Biodiesel!$D$152+Biodiesel!$D$155+Biodiesel!$D$158))","v":{"$error":"#DIV/0!"}},null,{"$f":"D178*'Dados auxiliares'!$H$78","v":{"$error":"#DIV/0!"}},null,{"$error":"#DIV/0!"}]
[null,"Transporte de palha de cana-de-açúcar","tkm",{"$f":"((D178/1000)*Biodiesel!$D$207)","v":{"$error":"#DIV/0!"}},null,{"$f":"D179*'Dados auxiliares'!$H$131","v":{"$error":"#DIV/0!"}},null,{"$error":"#DIV/0!"}]
[null,"Emissões","Unidade","1 t óleo",null,"g CO2 eq/t óleo",null,"g CO2 eq/MJ"]
[null,"CO₂ eq - queima do diesel","kg",{"$f":"D165*'FE''s queima combustíveis'!$I$50/1000","v":{"$error":"#DIV/0!"}},null,{"$f":"D181*1000","v":{"$error":"#DIV/0!"}},null,{"$f":"(F181*$F$131)/$E$131","v":{"$error":"#DIV/0!"}}]
[null,"CO₂ eq - queima do biodiesel","kg",{"$f":"D166*'FE''s queima combustíveis'!$I$51/1000","v":{"$error":"#DIV/0!"}},null,{"$error":"#DIV/0!"},null,{"$error":"#DIV/0!"}]
[null,"CO₂ eq - queima do óleo combustível","kg",{"$f":"D167*'FE''s queima combustíveis'!$I$53/1000","v":{"$error":"#DIV/0!"}},null,{"$f":"D183*1000","v":{"$error":"#DIV/0!"}},null,{"$error":"#DIV/0!"}]
[null,"CO₂ eq - queima do biogás de terceiros","kg",{"$f":"Biodiesel!D185*Biodiesel!G185*'FE''s queima combustíveis'!$I$41/1000","v":0},null,0,null,{"$error":"#DIV/0!"}]
[null,"CO₂ eq - queima do biogás próprio","kg",{"$f":"Biodiesel!D186*Biodiesel!G186*'FE''s queima combustíveis'!$I$41/1000","v":0},null,0,null,{"$error":"#DIV/0!"}]
[null,"CO₂ eq - queima da gás natural","kg",{"$f":"D169*'FE''s queima combustíveis'!$I$46*('Dados auxiliares'!$D$27/1000)/1000","v":{"$error":"#DIV/0!"}},null,{"$error":"#DIV/0!"},null,{"$error":"#DIV/0!"}]
[null,"CO₂ eq - queima do bagaço de cana-de-açúcar","kg",{"$f":"D176*'FE''s queima combustíveis'!$I$36/1000","v":{"$error":"#DIV/0!"}},null,{"$error":"#DIV/0!"},null,{"$error":"#DIV/0!"}]
[null,"CO₂ eq - queima da palha de cana-de-açúcar","kg",{"$f":"D178*'FE''s queima combustíveis'!$I$37/1000","v":{"$error":"#DIV/0!"}},null,{"$error":"#DIV/0!"},null,{"$error":"#DIV/0!"}]
[null,"CO₂ eq - queima dos cavacos de madeira","kg",{"$f":"D170*'FE''s queima combustíveis'!$I$38/1000","v":{"$error":"#DIV/0!"}},null,{"$error":"#DIV/0!"},null,{"$error":"#DIV/0!"}]
[null,"CO₂ eq - queima da lenha","kg",{"$f":"D172*'FE''s queima combustíveis'!$I$39/1000","v":{"$error":"#DIV/0!"}},null,{"$error":"#DIV/0!"},null,{"$error":"#DIV/0!"}]
[null,"CO₂ eq - queima dos resíduos florestais","kg",{"$f":"D174*'FE''s queima combustíveis'!$I$40/1000","v":{"$error":"#DIV/0!"}},null,{"$error":"#DIV/0!"},null,{"$error":"#DIV/0!"}]
[]
[null,"Emissões do processo","g CO2 eq/kg biodiesel",null,null,{"$f":"SUM(F181:F191)","v":{"$error":"#DIV/0!"}},null,{"$f":"(F193*$F$131)/$E$131","v":{"$error":"#DIV/0!"}}]
[null,"Emissões background","g CO2 eq/kg biodiesel",null,null,{"$f":"SUM(F136:F179)","v":{"$error":"#DIV/0!"}},null,{"$f":"(F194*$F$131)/$E$131","v":{"$error":"#DIV/0!"}}]
[null,"Emissões totais","g CO2 eq/kg biodiesel",null,null,{"$f":"F194+F193","v":{"$error":"#DIV/0!"}},null,{"$error":"#DIV/0!"}]
[]
[null,"Emissões totais","g CO2 eq/kg biodiesel"]
[]
[null,"Etapa distribuição"]
[null,"Sistema logístico rodoviário"]
[null,"Parâmetro","Unidade","Biodiesel"]
[null,"Massa","kg/t biodiesel",{"$f":"$D$131*Biodiesel!D212","v":{"$error":"#DIV/0!"}}]
[null,"Distância de transporte rodoviário","km",{"$f":"'Dados auxiliares'!C159","v":700}]
[null,"Transporte rodoviário","tkm/t biodiesel",{"$f":"D202/1000*D203","v":{"$error":"#DIV/0!"}}]
[null,"Emissões","g CO2 eq/t biodiesel",{"$f":"D204*'Dados auxiliares'!$H$132","v":{"$error":"#DIV/0!"}}]
[null,"Emissões","g CO2 eq/MJ",{"$f":"D205/$E$131","v":{"$error":"#DIV/0!"}}]
[null,"Sistema logístico fluvial"]
[null,"Parâmetro","Unidade","Biodiesel"]
[null,"Massa","kg/t biodiesel",{"$f":"$D$131*Biodiesel!$D$213","v":{"$error":"#DIV/0!"}}]
[null,"Distância de transporte rodoviário","km",{"$f":"'Dados auxiliares'!K159","v":1300}]
[null,"Transporte rodoviário","tkm/t biodiesel",{"$f":"D209/1000*D210","v":{"$error":"#DIV/0!"}}]
[null,"Distância de transporte fluvial","km",{"$f":"'Dados auxiliares'!L159","v":1240}]
[null,"Transporte fluvial","tkm/t biodiesel",{"$f":"D209/1000*D212","v":{"$error":"#DIV/0!"}}]
[null,"Emissões","g CO2 eq/t biodiesel",{"$f":"D211*'Dados auxiliares'!$H$132+D213*'Dados auxiliares'!$H$134","v":{"$error":"#DIV/0!"}}]
[null,"Emissões","g CO2 eq/MJ",{"$f":"D214/$E$131","v":{"$error":"#DIV/0!"}}]
[null,"Sistema logístico ferroviário"]
[null,"Parâmetro","Unidade","Biodiesel"]
[null,"Massa","kg/t biodiesel",{"$f":"$D$131*Biodiesel!$D$214","v":{"$error":"#DIV/0!"}}]
[null,"Distância de transporte rodoviário","km",{"$f":"'Dados auxiliares'!G159","v":300}]
[null,"Transporte rodoviário","tkm/t biodiesel",{"$f":"D218/1000*D219","v":{"$error":"#DIV/0!"}}]
[null,"Distância de transporte ferroviário","km",{"$f":"'Dados auxiliares'!F159","v":1200}]
[null,"Transporte ferroviário","tkm/t biodiesel",{"$f":"D218/1000*D221","v":{"$error":"#DIV/0!"}}]
[null,"Emissões","g CO2 eq/t biodiesel",{"$f":"D220*'Dados auxiliares'!$H$132+D222*'Dados auxiliares'!$H$135","v":{"$error":"#DIV/0!"}}]
[null,"Emissões","g CO2 eq/MJ",{"$f":"D223/$E$131","v":{"$error":"#DIV/0!"}}]
[]
[null,"Emissões totais","g CO2 eq/MJ",{"$f":"D206+D215+D224","v":{"$error":"#DIV/0!"}}]

{"sheet":"CombAlterHEFA","index":17,"n_rows":204,"n_cols":8,"rows_kept":204,"cut":false,"hidden":false,"merged":[[200,2,200,4],[186,1,186,7],[164,2,164,4],[168,2,168,4],[172,2,172,4],[176,2,176,4],[180,2,180,4],[188,2,188,4],[194,2,194,4],[3,2,3,7],[5,2,5,7],[7,2,7,7],[9,2,9,3],[12,2,12,3],[121,2,121,4],[127,1,127,7],[128,1,128,7],[147,1,147,7],[117,2,117,4],[145,1,145,7],[134,5,135,5],[134,6,135,6],[134,7,135,7],[14,3,14,5],[31,1,31,7],[23,1,23,7],[24,1,24,7],[113,2,113,4],[36,1,36,7],[39,1,39,7],[83,1,83,7],[89,1,89,7],[105,2,105,4],[109,2,109,4],[57,1,57,7],[64,1,64,7],[82,1,82,7],[28,1,28,2]]}
[]
[null,"Combustíveis alternativos sintetizados por ácidos graxos e ésteres hidroprocessados (HEFA) de soja"]
[]
[null,"Nome da Usina:","Usina Hipotética"]
[]
[null,"CNPJ","00.000.000/0000-00"]
[]
[null,"Responsável pelo preenchimento:"]
[]
[null,"Telefone :","(00) 0000-0000"]
[]
[]
[null,null,"Bioquerosene"]
[]
[null,"Intensidade de Carbono\n(g CO₂eq/MJ)",{"$f":"SUM(C17:C21)","v":0.550962365235796},"Nota de Eficiência Energético-Ambiental\n(g CO₂eq/MJ)",null,null,{"$f":"G18-C15","v":86.94903763476421}]
[]
[null,"agrícola",{"$f":"IFERROR(IF($C$13=Listas!$B$25,_BioQavHEFA!C5,IF($C$13=Listas!$B$26,_BioQavHEFA!E5,IF($C$13=Listas!$B$27,_BioQavHEFA!H5,IF($C$13=Listas!#REF!,_BioQavHEFA!J5,0)))),0)","v":0},null,null,null,{"$f":"CONCATENATE(\"Fóssil substituto: \",IF($C$13=Listas!$B$25,'Dados auxiliares'!$C$170,IF($C$13=Listas!$B$26,'Dados auxiliares'!$C$171,IF($C$13=Listas!$B$27,'Dados auxiliares'!$C$172,IF($C$13=Listas!#REF!,'Dados auxiliares'!$C$173,0)))))","v":"Fóssil substituto: Querosene de aviação"}]
[null,"industrial - extração do óleo",{"$f":"IFERROR(IF($C$13=Listas!$B$25,_BioQavHEFA!C6,IF($C$13=Listas!$B$26,_BioQavHEFA!E6,IF($C$13=Listas!$B$27,_BioQavHEFA!H6,IF($C$13=Listas!#REF!,_BioQavHEFA!J6,0)))),0)","v":0},null,null,null,{"$f":"IF($C$13=Listas!$B$25,'Dados auxiliares'!$F$170,IF($C$13=Listas!$B$26,'Dados auxiliares'!$F$171,IF($C$13=Listas!$B$27,'Dados auxiliares'!$F$172,IF($C$13=Listas!#REF!,'Dados auxiliares'!$F$173,0))))","v":87.5}]
[null,"industrial - transesterificação",{"$f":"IFERROR(IF($C$13=Listas!$B$25,_BioQavHEFA!C7,IF($C$13=Listas!$B$26,_BioQavHEFA!E7,IF($C$13=Listas!$B$27,_BioQavHEFA!H7,IF($C$13=Listas!#REF!,_BioQavHEFA!J7,0)))),0)","v":0},null,null,null,"Redução de emissões"]
[null,"transporte",{"$f":"IFERROR(IF($C$13=Listas!$B$25,_BioQavHEFA!C8,IF($C$13=Listas!$B$26,_BioQavHEFA!E8,IF($C$13=Listas!$B$27,_BioQavHEFA!H8,IF($C$13=Listas!#REF!,_BioQavHEFA!J8,0)))),0)","v":0},null,null,null,{"$f":"(G18-C15)/G18","v":0.99370328725444812}]
[null,"uso",{"$f":"IFERROR(IF($C$13=Listas!$B$25,_BioQavHEFA!C9,IF($C$13=Listas!$B$26,_BioQavHEFA!E9,IF($C$13=Listas!$B$27,_BioQavHEFA!H9,IF($C$13=Listas!#REF!,_BioQavHEFA!J9,0)))),0)","v":0.550962365235796}]
[]
[]
[null,"Fase agrícola - Dados consolidados"]
[null,"Informações gerais"]
[null,null,"Área total",null,"ha"]
[]
[null,null,"Produção total (base úmida)",null,"t soja","Umidade"]
[null,"Quantidade comprada pela unidade produtora de biocombustível (base úmida)",null,null,"t soja"]
[]
[]
[null,"Corretivos"]
[null,null,"Calcário calcítico",null,"kg/t soja"]
[null,null,"Calcário dolomítico",null,"kg/t soja"]
[null,null,"Gesso",null,"kg/t soja"]
[]
[null,"Sementes"]
[null,null,"Sementes",null,"kg/t soja"]
[]
[null,"Fertilizantes Sintéticos"]
[null,null,"Ureia",null,"kg N/t soja"]
[null,null,"Fosfato Monoamônico (MAP)",null,"kg N/t soja"]
[null,null,"Fosfato Monoamônico (MAP)",null,"kg P₂O₅/t soja"]
[null,null,"Fosfato diamônico (DAP)",null,"kg N/t soja"]
[null,null,"Fosfato diamônico (DAP)",null,"kg P₂O₅/t soja"]
[null,null,"Nitrato de amônio",null,"kg N/t soja"]
[null,null,"Solução de nitrato de amônio e ureia (UAN)",null,"kg N/t soja"]
[null,null,"Amônia anidra",null,"kg N/t soja"]
[null,null,"Sulfato de amônio",null,"kg N/t soja"]
[null,null,"Nitrato de amônio e cálcio (CAN)",null,"kg N/t soja"]
[null,null,"Superfosfato simples (SSP)",null,"kg P₂O₅/t soja"]
[null,null,"Superfosfato triplo (TSP)",null,"kg P₂O₅/t soja"]
[null,null,"Cloreto de potássio (KCl)",null,"kg K₂O/t soja"]
[null,"Outros","especificar",null,"kg N/t soja"]
[null,"Outros","especificar",null,"kg P₂O₅/t soja"]
[null,"Outros","especificar",null,"kg K₂O/t soja"]
[]
[null,"              Fertilizantes Orgânicos/Organominerais"]
[null,"Outros","especificar",null,"kg/t soja","Concentração de N",null,"g N/kg"]
[null,"Outros","especificar",null,"kg/t soja","Concentração de N",null,"g N/kg"]
[null,"Outros","especificar",null,"kg/t soja","Concentração de N",null,"g N/kg"]
[null,"Outros","especificar",null,"kg/t soja","Concentração de N",null,"g N/kg"]
[null,"Outros","especificar",null,"kg/t soja","Concentração de N",null,"g N/kg"]
[]
[null,"              Combustíveis e eletricidade"]
[null,null,"Diesel - B8",null,"L/t soja"]
[null,null,"Diesel - B10",null,"L/t soja"]
[null,null,"Diesel - BX",null,"L/t soja","Teor de biodiesel na mistura"]
[null,null,"Diesel - B20",null,"L/t soja"]
[null,null,"Diesel - B30",null,"L/t soja"]
[null,null,"Biodiesel - B100",null,"L/t soja"]
[null,null,"Gasolina C",null,"L/t soja"]
[null,null,"Etanol hidratado",null,"L/t soja"]
[null,null,"Biometano de terceiros",null,"Nm³/t soja"]
[null,null,"Biometano próprio",null,"Nm³/t soja"]
[null,null,"Eletricidade da rede - mix médio",null,"kWh/t soja"]
[null,null,"Eletricidade - PCH",null,"kWh/t soja"]
[null,null,"Eletricidade - biomassa",null,"kWh/t soja"]
[null,null,"Eletricidade - eólica",null,"kWh/t soja"]
[null,null,"Eletricidade - solar",null,"kWh/t soja"]
[]
[]
[null,"Fase industrial - extração do óleo de soja"]
[null,"Processamento e Rendimentos"]
[null,null,"Processamento efetivo - soja",null,"t soja","Umidade"]
[null,null,"Distância de transporte - soja",null,"km"]
[null,null,"Rendimento Óleo",null,"kg/t soja"]
[null,null,"Rendimento Farelo",null,"kg/t soja"]
[]
[null,"Combustíveis e eletricidade"]
[null,null,"Eletricidade da rede - mix médio",null,"kWh/t soja"]
[null,null,"Eletricidade - PCH",null,"kWh/t soja"]
[null,null,"Eletricidade - biomassa",null,"kWh/t soja"]
[null,null,"Eletricidade - eólica",null,"kWh/t soja"]
[null,null,"Eletricidade - solar",null,"kWh/t soja"]
[null,null,"Diesel - B8",null,"L/t soja"]
[null,null,"Diesel - B10",null,"L/t soja"]
[null,null,"Diesel - BX",null,"L/t soja","Teor de biodiesel na mistura"]
[null,null,"Diesel - B20",null,"L/t soja"]
[null,null,"Diesel - B30",null,"L/t soja"]
[null,null,"Biodiesel - B100",null,"L/t soja"]
[null,null,"Óleo combustível",null,"L/ t soja"]
[null,null,"Biogás de terceiros",null,"Nm³/t soja","PCI do biogás",null,"MJ/Nm³"]
[null,null,"Biogás próprio",null,"Nm³/t soja","PCI do biogás",null,"MJ/Nm³"]
[null,null,"Gás natural",null,"Nm³/t soja"]
[null,null,"Cavaco de madeira"]
[null,null,"Quantidade (base úmida)",null,"kg/t soja"]
[null,null,"Umidade"]
[null,null,"Distância de transporte",null,"km"]
[null,null," Lenha"]
[null,null,"Quantidade (base úmida)",null,"kg/t soja"]
[null,null,"Umidade"]
[null,null,"Distância de transporte",null,"km"]
[null,null,"Resíduos florestais"]
[null,null,"Quantidade (base úmida)",null,"kg/t soja"]
[null,null,"Umidade"]
[null,null,"Distância de transporte",null,"km"]
[null,null,"Bagaço de cana"]
[null,null,"Quantidade (base úmida)",null,"kg/t soja"]
[null,null,"Umidade"]
[null,null,"Distância de transporte",null,"km"]
[null,null,"Palha de cana"]
[null,null,"Quantidade (base úmida)",null,"kg/t soja"]
[null,null,"Umidade"]
[null,null,"Distância de transporte",null,"km"]
[]
[]
[null,"Fase industrial - produção dos combustíveis alternativos"]
[null,"Processamento e rendimentos"]
[null,null,null,"Óleo de soja próprio"]
[null,null,"Processamento efetivo - óleo de soja próprio",null,"t óleo"]
[null,null,"Distância de transporte - óleo de soja próprio",null,"km"]
[null,null,"Alguma fração dessa matéria-prima é elegível?"]
[null,null,null,"Óleo de soja de terceiros"]
[null,null,"Processamento efetivo - óleo de soja fornecedores",null,"t óleo","Intensidade de Carbono média do óleo adquirido pela unidade produtora",null,"g CO₂ eq/kg óleo"]
[null,null,"Distância de transporte - óleo de soja fornecedores",null,"km"]
[null,null,"Alguma fração dessa matéria-prima é elegível?"]
[]
[]
[null,null,"Rendimento - Bioquerosene",null,"kg/t óleo"]
[null,null,"Rendimento - Gasolina alternativa",null,"kg/t óleo"]
[null,null,"Rendimento - Diesel alternativa",null,"kg/t óleo"]
[null,null,"Rendimento - Gás combustível alternativa",null,"kg/t óleo"]
[null,null,"Energia elétrica comercializada",null,"kWh/t óleo"]
[]
[null,"Insumos"]
[null,null,"Hidrogênio",null,"kg/t óleo"]
[null,"Combustíveis e energia"]
[null,null,"Eletricidade da rede - mix médio",null,"kWh/t óleo"]
[null,null,"Eletricidade - PCH",null,"kWh/t óleo"]
[null,null,"Eletricidade - biomassa",null,"kWh/t óleo"]
[null,null,"Eletricidade - eólica",null,"kWh/t óleo"]
[null,null,"Eletricidade - solar",null,"kWh/t óleo"]
[null,null,"Diesel - B8",null,"L/t óleo"]
[null,null,"Diesel - B10",null,"L/t óleo"]
[null,null,"Diesel - BX",null,"L/t óleo","Teor de biodiesel na mistura",0.02]
[null,null,"Diesel - B20",null,"L/t óleo"]
[null,null,"Diesel - B30",null,"L/t óleo"]
[null,null,"Biodiesel - B100",null,"L/t óleo"]
[null,null,"Óleo combustível",null,"L/ t óleo"]
[null,null,"Biogás de terceiros",null,"Nm³/t óleo","PCI do biogás",null,"MJ/Nm³"]
[null,null,"Biogás próprio",null,"Nm³/t óleo","PCI do biogás",null,"MJ/Nm³"]
[null,null,"Gás combustível renovável próprio",null,"Nm³/t óleo","PCI do gás combustível renovável",null,"MJ/Nm³"]
[null,null,"Gás natural",null,"Nm³/t óleo"]
[null,null,"Cavaco de madeira"]
[null,null,"Quantidade (base úmida)",null,"kg/t óleo"]
[null,null,"Umidade"]
[null,null,"Distância de transporte",null,"km"]
[null,null," Lenha"]
[null,null,"Quantidade (base úmida)",null,"kg/t óleo"]
[null,null,"Umidade"]
[null,null,"Distância de transporte",null,"km"]
[null,null,"Resíduos florestais"]
[null,null,"Quantidade (base úmida)",null,"kg/t óleo"]
[null,null,"Umidade"]
[null,null,"Distância de transporte",null,"km"]
[null,null,"Bagaço de cana"]
[null,null,"Quantidade (base úmida)",null,"kg/t óleo"]
[null,null,"Umidade"]
[null,null,"Distância de transporte",null,"km"]
[null,null,"Palha de cana"]
[null,null,"Quantidade (base úmida)",null,"kg/t óleo"]
[null,null,"Umidade"]
[null,null,"Distância de transporte",null,"km"]
[]
[]
[null,"Fase de distribuição"]
[]
[null,null,"Querosene alternativo (bioquerosene)"]
[null,null,"Rodoviário",1]
[null,null,"Dutoviário",0,{"$f":"IF((SUM(D190:D192)=1),\"\",\"A soma das porcentagens de distribuição deve ser igual a 100%!\")","v":""}]
[null,null,"Ferroviário",0]
[]
[]
[null,null,"Gasolina alternativa"]
[null,null,"Rodoviário",1]
[null,null,"Dutoviário",0,{"$f":"IF((SUM(D196:D198)=1),\"\",\"A soma das porcentagens de distribuição deve ser igual a 100%!\")","v":""}]
[null,null,"Ferroviário",0]
[]
[]
[null,null,"Diesel alternativo"]
[null,null,"Rodoviário",1]
[null,null,"Dutoviário",0,{"$f":"IF((SUM(D202:D204)=1),\"\",\"A soma das porcentagens de distribuição deve ser igual a 100%!\")","v":""}]
[null,null,"Ferroviário",0]

{"sheet":"_BioQavHEFA","index":18,"n_rows":209,"n_cols":82,"rows_kept":209,"cut":false,"hidden":true,"merged":[[132,18,133,18],[127,7,133,7],[127,8,133,8],[127,9,133,9],[11,7,15,7],[11,8,15,8],[11,9,15,9],[73,7,76,7],[73,8,76,8],[73,9,76,9],[132,11,133,11],[132,12,133,12],[132,13,133,13],[132,14,133,15],[132,16,133,16],[11,1,11,5],[73,1,73,5],[2,4,2,5],[3,4,3,5],[181,1,181,5],[127,1,127,5],[2,7,2,8],[3,7,3,8],[1,1,1,5],[2,2,2,3],[3,2,3,3]]}
[]
[null,"Emissões totais - g CO₂ eq/MJ"]
[null,null,"BioQAV",null,"Gasolina renovável",null,null,"Diesel renovável"]
[null,"Total",{"$f":"SUM(C5:C9)","v":{"$error":"#DIV/0!"}},null,{"$f":"SUM(E5:E9)","v":{"$error":"#DIV/0!"}},null,null,{"$f":"SUM(H5:H9)","v":{"$error":"#DIV/0!"}}]
[null,"Agrícola",{"$f":"H71","v":{"$error":"#DIV/0!"}},{"$f":"C5/$C$4","v":{"$error":"#DIV/0!"}},{"$f":"I71","v":{"$error":"#DIV/0!"}},{"$f":"E5/$E$4","v":{"$error":"#DIV/0!"}},null,{"$f":"J71","v":{"$error":"#DIV/0!"}},{"$f":"H5/$H$4","v":{"$error":"#DIV/0!"}}]
[null,"Industrial - extração do óleo",{"$f":"H123-H83","v":{"$error":"#DIV/0!"}},{"$f":"C6/$C$4","v":{"$error":"#DIV/0!"}},{"$f":"I123-I83","v":{"$error":"#DIV/0!"}},{"$f":"E6/$E$4","v":{"$error":"#DIV/0!"}},null,{"$f":"J123-J83","v":{"$error":"#DIV/0!"}},{"$f":"H6/$H$4","v":{"$error":"#DIV/0!"}}]
[null,"Industrial - HEFA",{"$f":"H178-H136","v":{"$error":"#DIV/0!"}},{"$f":"C7/$C$4","v":{"$error":"#DIV/0!"}},{"$f":"I178-I136","v":{"$error":"#DIV/0!"}},{"$error":"#DIV/0!"},null,{"$f":"J178-J136","v":{"$error":"#DIV/0!"}},{"$error":"#DIV/0!"}]
[null,"Transporte",{"$f":"$D$209","v":{"$error":"#DIV/0!"}},{"$error":"#DIV/0!"},{"$f":"$E$209","v":{"$error":"#DIV/0!"}},{"$error":"#DIV/0!"},null,{"$f":"$F$209","v":{"$error":"#DIV/0!"}},{"$error":"#DIV/0!"}]
[null,"Uso",{"$f":"'FE''s queima combustíveis'!$I$14","v":0.550962365235796},{"$error":"#DIV/0!"},{"$f":"'FE''s queima combustíveis'!$I$15","v":2.7323202136181579},{"$error":"#DIV/0!"},null,{"$f":"'FE''s queima combustíveis'!$I$16","v":1.0987037115961802},{"$error":"#DIV/0!"}]
[]
[]
[null,"Etapa agrícola - Soja",null,null,null,null,null,"Emissões por MJ de bioQAV","Emissões por MJ de gasolina renovável","Emissões por MJ de diesel renovável"]
[null,"Produto",null,"1 ha médio","1 t soja"]
[null,"Produção de soja","kg",{"$f":"(CombAlterHEFA!D28*1000)/CombAlterHEFA!D26","v":{"$error":"#DIV/0!"}},1000]
[null,"Entradas da natureza",null,"1 ha médio","1 t soja","g CO2 eq/t soja"]
[null,"Ocupação total","ha",1,{"$f":"(D16*E14)/D14","v":{"$error":"#DIV/0!"}}]
[null,"Entradas da tecnosfera",null,"1 ha médio","1 t soja","g CO2 eq/t soja",null,"g CO2 eq/MJ","g CO2 eq/MJ","g CO2 eq/MJ"]
[null,"Sementes de soja","kg",null,{"$f":"CombAlterHEFA!D38","v":0},{"$f":"E18*'Dados auxiliares'!$H$76","v":0},null,{"$f":"(((F18*$F$76)/$D$76)*1000*$F$130)/$E$130","v":{"$error":"#DIV/0!"}},{"$f":"(((F18*$F$76)/$D$76)*1000*$F$131)/$E$131","v":{"$error":"#DIV/0!"}},{"$f":"(((F18*$F$76)/$D$76)*1000*$F$132)/$E$132","v":{"$error":"#DIV/0!"}}]
[null,"Fertilizantes e corretivos"]
[null,"Calcário calcítico","kg",null,{"$f":"CombAlterHEFA!D33","v":0},{"$f":"E20*'Dados auxiliares'!$H$52","v":0},null,{"$f":"(((F20*$F$76)/$D$76)*1000*$F$130)/$E$130","v":{"$error":"#DIV/0!"}},{"$f":"(((F20*$F$76)/$D$76)*1000*$F$131)/$E$131","v":{"$error":"#DIV/0!"}},{"$f":"(((F20*$F$76)/$D$76)*1000*$F$132)/$E$132","v":{"$error":"#DIV/0!"}}]
[null,"Calcário dolomítico","kg",null,{"$f":"CombAlterHEFA!D34","v":0},{"$f":"E21*'Dados auxiliares'!$H$53","v":0},null,{"$error":"#DIV/0!"},{"$error":"#DIV/0!"},{"$error":"#DIV/0!"}]
[null,"Gesso","kg",null,{"$f":"CombAlterHEFA!D35","v":0},{"$f":"E22*'Dados auxiliares'!$H$54","v":0},null,{"$error":"#DIV/0!"},{"$error":"#DIV/0!"},{"$error":"#DIV/0!"}]
[null,"N - Ureia","kg N",null,{"$f":"CombAlterHEFA!D41","v":0},{"$f":"E23*'Dados auxiliares'!$H$55","v":0},null,{"$error":"#DIV/0!"},{"$error":"#DIV/0!"},{"$error":"#DIV/0!"}]
[null,"N - Fosfato monoamônico (MAP)","kg N",null,{"$f":"CombAlterHEFA!D42","v":0},{"$f":"E24*'Dados auxiliares'!$H$56","v":0},null,{"$error":"#DIV/0!"},{"$error":"#DIV/0!"},{"$error":"#DIV/0!"}]
[null,"P₂O₅ - Fosfato monoamônico (MAP)","kg P₂O₅",null,{"$f":"CombAlterHEFA!D43","v":0},{"$f":"E25*'Dados auxiliares'!$H$57","v":0},null,{"$error":"#DIV/0!"},{"$error":"#DIV/0!"},{"$error":"#DIV/0!"}]
[null,"N - Fosfato diamônico (DAP)","kg N",null,{"$f":"CombAlterHEFA!D44","v":0},{"$f":"E26*'Dados auxiliares'!$H$58","v":0},null,{"$error":"#DIV/0!"},{"$error":"#DIV/0!"},{"$error":"#DIV/0!"}]
[null,"P₂O₅ - Fosfato diamônico (DAP)","kg P₂O₅",null,{"$f":"CombAlterHEFA!D45","v":0},{"$f":"E27*'Dados auxiliares'!$H$59","v":0},null,{"$error":"#DIV/0!"},{"$error":"#DIV/0!"},{"$error":"#DIV/0!"}]
[null,"N - Nitrato de amônio","kg N",null,{"$f":"CombAlterHEFA!D46","v":0},{"$f":"E28*'Dados auxiliares'!$H$60","v":0},null,{"$error":"#DIV/0!"},{"$error":"#DIV/0!"},{"$error":"#DIV/0!"}]
[null,"N - Solução de nitrato de amônio e ureia (UAN)","kg N",null,{"$f":"CombAlterHEFA!D47","v":0},{"$f":"E29*'Dados auxiliares'!$H$61","v":0},null,{"$error":"#DIV/0!"},{"$error":"#DIV/0!"},{"$error":"#DIV/0!"}]
[null,"N - Amônia anidra","kg N",null,{"$f":"CombAlterHEFA!D48","v":0},{"$f":"E30*'Dados auxiliares'!$H$62","v":0},null,{"$error":"#DIV/0!"},{"$error":"#DIV/0!"},{"$error":"#DIV/0!"}]
[null,"N - Sulfato de amônio","kg N",null,{"$f":"CombAlterHEFA!D49","v":0},{"$f":"E31*'Dados auxiliares'!$H$63","v":0},null,{"$error":"#DIV/0!"},{"$error":"#DIV/0!"},{"$error":"#DIV/0!"}]
[null,"N - Nitrato de amônio e cálcio (CAN)","kg N",null,{"$f":"CombAlterHEFA!D50","v":0},{"$f":"E32*'Dados auxiliares'!$H$64","v":0},null,{"$error":"#DIV/0!"},{"$error":"#DIV/0!"},{"$error":"#DIV/0!"}]
[null,"P₂O₅ - Superfosfato simples (SSP)","kg P₂O₅",null,{"$f":"CombAlterHEFA!D51","v":0},{"$f":"E33*'Dados auxiliares'!$H$66","v":0},null,{"$error":"#DIV/0!"},{"$error":"#DIV/0!"},{"$error":"#DIV/0!"}]
[null,"P₂O₅ - Superfosfato triplo (TSP)","kg P₂O₅",null,{"$f":"CombAlterHEFA!D52","v":0},{"$f":"E34*'Dados auxiliares'!$H$67","v":0},null,{"$error":"#DIV/0!"},{"$error":"#DIV/0!"},{"$error":"#DIV/0!"}]
[null,"K₂O - Cloreto de potássio (KCl)","kg K₂O",null,{"$f":"CombAlterHEFA!D53","v":0},{"$f":"E35*'Dados auxiliares'!H$68","v":0},null,{"$error":"#DIV/0!"},{"$error":"#DIV/0!"},{"$error":"#DIV/0!"}]
[null,"N - Outros","kg N",null,{"$f":"CombAlterHEFA!D54","v":0},{"$f":"E36*'Dados auxiliares'!H$69","v":0},null,{"$error":"#DIV/0!"},{"$error":"#DIV/0!"},{"$error":"#DIV/0!"}]
[null,"P₂O₅ - Outros","kg P₂O₅",null,{"$f":"CombAlterHEFA!D55","v":0},{"$f":"E37*'Dados auxiliares'!H$70","v":0},null,{"$error":"#DIV/0!"},{"$error":"#DIV/0!"},{"$error":"#DIV/0!"}]
[null,"K₂O - Outros","kg K₂O",null,{"$f":"CombAlterHEFA!D56","v":0},{"$f":"E38*'Dados auxiliares'!H$71","v":0},null,{"$error":"#DIV/0!"},{"$error":"#DIV/0!"},{"$error":"#DIV/0!"}]
[null,"Outros Fertilizantes Orgânicos/Organominerais","kg",null,{"$f":"CombAlterHEFA!D59+CombAlterHEFA!D60+CombAlterHEFA!D61+CombAlterHEFA!D62+CombAlterHEFA!D63","v":0},0]
[null,"Agroquímicos"]
[null,"Pesticidas, geral","kg",null,{"$f":"0.000674630945913558*1000","v":0.6746309459135581},{"$f":"E41*'Dados auxiliares'!$H$74","v":7247.2373648256971},null,{"$f":"(((F41*$F$76)/$D$76)*1000*$F$130)/$E$130","v":{"$error":"#DIV/0!"}},{"$f":"(((F41*$F$76)/$D$76)*1000*$F$131)/$E$131","v":{"$error":"#DIV/0!"}},{"$f":"(((F41*$F$76)/$D$76)*1000*$F$132)/$E$132","v":{"$error":"#DIV/0!"}}]
[null,"Glifosato","kg",null,{"$f":"0.00086569230646321*1000","v":0.86569230646321005},{"$f":"E42*'Dados auxiliares'!$H$72","v":9960.4016469307826},null,{"$f":"(((F42*$F$76)/$D$76)*1000*$F$130)/$E$130","v":{"$error":"#DIV/0!"}},{"$f":"(((F42*$F$76)/$D$76)*1000*$F$131)/$E$131","v":{"$error":"#DIV/0!"}},{"$f":"(((F42*$F$76)/$D$76)*1000*$F$132)/$E$132","v":{"$error":"#DIV/0!"}}]
[null,"2,4-D","kg",null,{"$f":"0.0000652020791723256*1000","v":6.5202079172325594E-2},{"$f":"E43*'Dados auxiliares'!$H$73","v":331.3355298709476},null,{"$f":"(((F43*$F$76)/$D$76)*1000*$F$130)/$E$130","v":{"$error":"#DIV/0!"}},{"$f":"(((F43*$F$76)/$D$76)*1000*$F$131)/$E$131","v":{"$error":"#DIV/0!"}},{"$f":"(((F43*$F$76)/$D$76)*1000*$F$132)/$E$132","v":{"$error":"#DIV/0!"}}]
[null,"Combustíveis e eletricidade"]
[null,"Diesel B0","kg",null,{"$f":"(CombAlterHEFA!$D$66*(1-0.08)+CombAlterHEFA!$D$67*(1-0.1)+CombAlterHEFA!$D$68*(1-CombAlterHEFA!$G$68)+CombAlterHEFA!$D$69*(1-0.2)+CombAlterHEFA!$D$70*(1-0.3)+CombAlterHEFA!$D$71*(1-1))*('Dados auxiliares'!$D$26)","v":0},{"$f":"E45*'Dados auxiliares'!$H$116","v":0},null,{"$f":"(((F45*$F$76)/$D$76)*1000*$F$130)/$E$130","v":{"$error":"#DIV/0!"}},{"$f":"(((F45*$F$76)/$D$76)*1000*$F$131)/$E$131","v":{"$error":"#DIV/0!"}},{"$f":"(((F45*$F$76)/$D$76)*1000*$F$132)/$E$132","v":{"$error":"#DIV/0!"}}]
[null,"Biodiesel B100","kg",null,{"$f":"(CombAlterHEFA!$D$66*(0.08)+CombAlterHEFA!$D$67*(0.1)+CombAlterHEFA!$D$68*(CombAlterHEFA!$G$68)+CombAlterHEFA!$D$69*(0.2)+CombAlterHEFA!$D$70*(0.3)+CombAlterHEFA!$D$71*(1))*('Dados auxiliares'!$D$17)","v":0},{"$f":"E46*'Dados auxiliares'!$H$117","v":0},null,{"$error":"#DIV/0!"},{"$error":"#DIV/0!"},{"$error":"#DIV/0!"}]
[null,"Gasolina A","kg",null,{"$f":"CombAlterHEFA!$D$72*(1-'FE''s queima combustíveis'!$D$19)*'Dados auxiliares'!$D$24","v":0},{"$f":"E47*'Dados auxiliares'!$H$120","v":0},null,{"$error":"#DIV/0!"},{"$error":"#DIV/0!"},{"$error":"#DIV/0!"}]
[null,"Etanol anidro","kg",null,{"$f":"CombAlterHEFA!$D$72*('FE''s queima combustíveis'!$D$19)*'Dados auxiliares'!$D$15","v":0},{"$f":"E48*'Dados auxiliares'!$H$121","v":0},null,{"$error":"#DIV/0!"},{"$error":"#DIV/0!"},{"$error":"#DIV/0!"}]
[null,"Etanol hidratado","kg",null,{"$f":"CombAlterHEFA!$D$73*'Dados auxiliares'!$D$16","v":0},{"$f":"E49*'Dados auxiliares'!$H$122","v":0},null,{"$error":"#DIV/0!"},{"$error":"#DIV/0!"},{"$error":"#DIV/0!"}]
[null,"Biometano de terceiros","Nm³",null,{"$f":"CombAlterHEFA!D74","v":0},{"$f":"E50*('Dados auxiliares'!$D$18*1000)*'Dados auxiliares'!$F$18*'Dados auxiliares'!$H$125","v":0},null,{"$error":"#DIV/0!"},{"$error":"#DIV/0!"},{"$error":"#DIV/0!"}]
[null,"Eletricidade da rede - mix médio","kWh",null,{"$f":"CombAlterHEFA!D76","v":0},{"$f":"E51*'Dados auxiliares'!$H$107","v":0},null,{"$error":"#DIV/0!"},{"$error":"#DIV/0!"},{"$error":"#DIV/0!"}]
[null,"Eletricidade - PCH","kWh",null,{"$f":"CombAlterHEFA!D77","v":0},{"$f":"E52*'Dados auxiliares'!$H$108","v":0},null,{"$error":"#DIV/0!"},{"$error":"#DIV/0!"},{"$error":"#DIV/0!"}]
[null,"Eletricidade - biomassa","kWh",null,{"$f":"CombAlterHEFA!D78","v":0},{"$f":"E53*'Dados auxiliares'!$H$109","v":0},null,{"$error":"#DIV/0!"},{"$error":"#DIV/0!"},{"$error":"#DIV/0!"}]
[null,"Eletricidade - eólica","kWh",null,{"$f":"CombAlterHEFA!D79","v":0},{"$f":"E54*'Dados auxiliares'!$H$110","v":0},null,{"$error":"#DIV/0!"},{"$error":"#DIV/0!"},{"$error":"#DIV/0!"}]
[null,"Eletricidade - solar","kWh",null,{"$f":"CombAlterHEFA!D80","v":0},{"$f":"E55*'Dados auxiliares'!$H$111","v":0},null,{"$error":"#DIV/0!"},{"$error":"#DIV/0!"},{"$error":"#DIV/0!"}]
[null,"Emissões",null,"1 ha médio","1 t soja","g CO2 eq/t soja",null,"g CO2 eq/MJ","g CO2 eq/MJ","g CO2 eq/MJ"]
[null,"N2O - Fertilizantes sintéticos","kg",{"$f":"'_Emissões Agrícolas'!$K$54","v":{"$error":"#DIV/0!"}},{"$f":"D57*$E$16","v":{"$error":"#DIV/0!"}},{"$f":"E57*1000*'Dados auxiliares'!$D$9","v":{"$error":"#DIV/0!"}},null,{"$f":"(((F57*$F$76)/$D$76)*1000*$F$130)/$E$130","v":{"$error":"#DIV/0!"}},{"$f":"(((F57*$F$76)/$D$76)*1000*$F$131)/$E$131","v":{"$error":"#DIV/0!"}},{"$f":"(((F57*$F$76)/$D$76)*1000*$F$132)/$E$132","v":{"$error":"#DIV/0!"}}]
[null,"N2O - Fertilizantes organominerais","kg",{"$f":"'_Emissões Agrícolas'!$K$58","v":{"$error":"#DIV/0!"}},{"$f":"D58*$E$16","v":{"$error":"#DIV/0!"}},{"$f":"E58*1000*'Dados auxiliares'!$D$9","v":{"$error":"#DIV/0!"}},null,{"$error":"#DIV/0!"},{"$error":"#DIV/0!"},{"$error":"#DIV/0!"}]
[null,"N2O - Resíduos culturais","kg",{"$f":"'_Emissões Agrícolas'!$K$62","v":{"$error":"#DIV/0!"}},{"$error":"#DIV/0!"},{"$f":"E59*1000*'Dados auxiliares'!$D$9","v":{"$error":"#DIV/0!"}},null,{"$error":"#DIV/0!"},{"$error":"#DIV/0!"},{"$error":"#DIV/0!"}]
[null,"CO2 - Calcário ","kg",null,{"$f":"$E$20*'_Emissões Agrícolas'!$E$79+$E$21*'_Emissões Agrícolas'!$E$80","v":0},{"$f":"E60*1000","v":0},null,{"$error":"#DIV/0!"},{"$error":"#DIV/0!"},{"$error":"#DIV/0!"}]
[null,"CO2 - Uréia","kg",null,{"$f":"$E$23*'_Emissões Agrícolas'!$E$81","v":0},{"$f":"E61*1000","v":0},null,{"$error":"#DIV/0!"},{"$error":"#DIV/0!"},{"$error":"#DIV/0!"}]
[null,"CO₂ eq - queima do diesel","kg",null,{"$f":"$E$45*'FE''s queima combustíveis'!$I$64/1000","v":0},{"$f":"E62*1000","v":0},null,{"$error":"#DIV/0!"},{"$error":"#DIV/0!"},{"$error":"#DIV/0!"}]
[null,"CO₂ eq - queima do biodiesel","kg",null,{"$f":"$E$46*'FE''s queima combustíveis'!$I$65/1000","v":0},{"$f":"E63*1000","v":0},null,{"$error":"#DIV/0!"},{"$error":"#DIV/0!"},{"$error":"#DIV/0!"}]
[null,"CO₂ eq - queima da gasolina A","kg",null,{"$f":"$E$47*'FE''s queima combustíveis'!$I$9/1000","v":0},0,null,{"$error":"#DIV/0!"},{"$error":"#DIV/0!"},{"$error":"#DIV/0!"}]
[null,"CO₂ eq - queima do etanol anidro","kg",null,{"$f":"$E$48*'FE''s queima combustíveis'!$I$7/1000","v":0},0,null,{"$error":"#DIV/0!"},{"$error":"#DIV/0!"},{"$error":"#DIV/0!"}]
[null,"CO₂ eq - queima do etanol hidratado","kg",null,{"$f":"$E$49*'FE''s queima combustíveis'!$I$8/1000","v":0},0,null,{"$error":"#DIV/0!"},{"$error":"#DIV/0!"},{"$error":"#DIV/0!"}]
[null,"CO₂ eq - queima do biometano","kg",null,{"$f":"($E$50+CombAlterHEFA!$D$75)*'FE''s queima combustíveis'!$I$66/1000","v":0},0,null,{"$error":"#DIV/0!"},{"$error":"#DIV/0!"},{"$error":"#DIV/0!"}]
[]
[null,"Emissões do processo","g CO2 eq/t soja",null,null,{"$f":"SUM(F57:F67)","v":{"$error":"#DIV/0!"}},null,{"$f":"(((F69*$F$76)/$D$76)*1000*$F$130)/$E$130","v":{"$error":"#DIV/0!"}},{"$f":"(((F69*$F$76)/$D$76)*1000*$F$131)/$E$131","v":{"$error":"#DIV/0!"}},{"$f":"(((F69*$F$76)/$D$76)*1000*$F$132)/$E$132","v":{"$error":"#DIV/0!"}}]
[null,"Emissões background","g CO2 eq/t soja",null,null,{"$f":"SUM(F18:F55)","v":17538.974541627427},null,{"$f":"(((F70*$F$76)/$D$76)*1000*$F$130)/$E$130","v":{"$error":"#DIV/0!"}},{"$f":"(((F70*$F$76)/$D$76)*1000*$F$131)/$E$131","v":{"$error":"#DIV/0!"}},{"$f":"(((F70*$F$76)/$D$76)*1000*$F$132)/$E$132","v":{"$error":"#DIV/0!"}}]
[null,"Emissões totais","g CO2 eq/t soja",null,null,{"$f":"IF(OR(CombAlterHEFA!$D$26=0,CombAlterHEFA!$D$28=0),0,(F69+F70))","v":0},null,{"$f":"(((F71*$F$76)/$D$76)*1000*$F$130)/$E$130","v":{"$error":"#DIV/0!"}},{"$f":"(((F71*$F$76)/$D$76)*1000*$F$131)/$E$131","v":{"$error":"#DIV/0!"}},{"$f":"(((F71*$F$76)/$D$76)*1000*$F$132)/$E$132","v":{"$error":"#DIV/0!"}}]
[]
[]
[null,"Etapa industrial - Extração do óleo de soja",null,null,null,null,null,"Emissões por MJ de bioQAV","Emissões por MJ de gasolina renovável","Emissões por MJ de diesel renovável"]
[null,"Produtos","Unidade","1 t soja","MJ","Alocação"]
[null,"Óleo de soja","kg",{"$f":"CombAlterHEFA!D87","v":0},{"$f":"D76*'Dados auxiliares'!$D$42","v":0},{"$f":"E76/SUM($E$76:$E$77)","v":{"$error":"#DIV/0!"}}]
[null,"Farelo de soja","kg",{"$f":"CombAlterHEFA!D88","v":0},{"$f":"D77*'Dados auxiliares'!$D$43","v":0},{"$f":"E77/SUM($E$76:$E$77)","v":{"$error":"#DIV/0!"}}]
[null,"Entradas ","Unidade","1 t soja",null,"g CO2 eq/t soja",null,"g CO2 eq/MJ","g CO2 eq/MJ","g CO2 eq/MJ",null,null,null,null,null,null,null,null,null,null,null,null,null,null,null,null,null,null,null,null,null,null,null,null,null,null,null,null,null,null,null,null,null,null,null,null,null,null,null,null,null,null,null,null,null,null,null,null,null,null,null,null,null,null,null,null,null,null,null,null,null,null,null,null,null,null,null,null,null,{"$f":"(D76+D77)*F76","v":{"$error":"#DIV/0!"}}]
[null,"Processamento dos grãos"]
[null,"Processamento com secagem","m³",{"$f":"0.00004878*0.6","v":2.9267999999999998E-5},null,{"$f":"D80*'Dados auxiliares'!$H$81","v":9.3980387991599993E-7},null,{"$f":"(((F80*$F$76)/$D$76)*1000*$F$130)/$E$130","v":{"$error":"#DIV/0!"}},{"$f":"(((F80*$F$76)/$D$76)*1000*$F$131)/$E$131","v":{"$error":"#DIV/0!"}},{"$f":"(((F80*$F$76)/$D$76)*1000*$F$132)/$E$132","v":{"$error":"#DIV/0!"}}]
[null,"Processamento sem secagem","m³",{"$f":"0.00004878*0.4","v":1.9511999999999999E-5},null,{"$f":"D81*'Dados auxiliares'!$H$80","v":3.0850690514400005E-7},null,{"$f":"(((F81*$F$76)/$D$76)*1000*$F$130)/$E$130","v":{"$error":"#DIV/0!"}},{"$f":"(((F81*$F$76)/$D$76)*1000*$F$131)/$E$131","v":{"$error":"#DIV/0!"}},{"$f":"(((F81*$F$76)/$D$76)*1000*$F$132)/$E$132","v":{"$error":"#DIV/0!"}}]
[null,"Insumos"]
[null,"Soja (grãos)","t",1,null,{"$f":"D83*F71","v":0},null,{"$f":"(((F83*$F$76)/$D$76)*1000*$F$130)/$E$130","v":{"$error":"#DIV/0!"}},{"$f":"(((F83*$F$76)/$D$76)*1000*$F$131)/$E$131","v":{"$error":"#DIV/0!"}},{"$f":"(((F83*$F$76)/$D$76)*1000*$F$132)/$E$132","v":{"$error":"#DIV/0!"}},null,null,null,null,null,null,null,null,null,null,null,null,null,null,null,null,null,null,null,null,null,null,null,null,null,null,null,null,null,null,null,null,null,null,null,null,null,null,null,null,null,null,null,null,null,null,null,null,null,null,null,null,null,null,null,null,null,null,null,null,null,null,null,null,null,null,null,null,null,{"$f":"CB78*F125","v":{"$error":"#DIV/0!"}},{"$f":"(CB78*#REF!)/1000","v":{"$error":"#DIV/0!"}}]
[null,"Transporte da soja em grãos até a usina","tkm",{"$f":"D83*CombAlterHEFA!D86","v":0},null,{"$f":"D84*'Dados auxiliares'!$H$131","v":0},null,{"$f":"(((F84*$F$76)/$D$76)*1000*$F$130)/$E$130","v":{"$error":"#DIV/0!"}},{"$f":"(((F84*$F$76)/$D$76)*1000*$F$131)/$E$131","v":{"$error":"#DIV/0!"}},{"$f":"(((F84*$F$76)/$D$76)*1000*$F$132)/$E$132","v":{"$error":"#DIV/0!"}}]
[null,"Hexano","kg",1.1000000000000001,null,{"$f":"D85*'Dados auxiliares'!$H$100","v":339.58162909820237},null,{"$f":"(((F85*$F$76)/$D$76)*1000*$F$130)/$E$130","v":{"$error":"#DIV/0!"}},{"$f":"(((F85*$F$76)/$D$76)*1000*$F$131)/$E$131","v":{"$error":"#DIV/0!"}},{"$f":"(((F85*$F$76)/$D$76)*1000*$F$132)/$E$132","v":{"$error":"#DIV/0!"}}]
[null,"Água","kg",{"$f":"(2.34*992.3224568)/5.17","v":449.13627638529982},null,{"$f":"D86*'Dados auxiliares'!H83","v":3.9531054548047617},null,{"$f":"(((F86*$F$76)/$D$76)*1000*$F$130)/$E$130","v":{"$error":"#DIV/0!"}},{"$f":"(((F86*$F$76)/$D$76)*1000*$F$131)/$E$131","v":{"$error":"#DIV/0!"}},{"$f":"(((F86*$F$76)/$D$76)*1000*$F$132)/$E$132","v":{"$error":"#DIV/0!"}}]
[null,"Combustíveis e eletricidade"]
[null,"Eletricidade da rede - mix médio","kWh",{"$f":"CombAlterHEFA!D91","v":0},null,{"$f":"D88*'Dados auxiliares'!$H$107","v":0},null,{"$f":"(((F88*$F$76)/$D$76)*1000*$F$130)/$E$130","v":{"$error":"#DIV/0!"}},{"$f":"(((F88*$F$76)/$D$76)*1000*$F$131)/$E$131","v":{"$error":"#DIV/0!"}},{"$f":"(((F88*$F$76)/$D$76)*1000*$F$132)/$E$132","v":{"$error":"#DIV/0!"}}]
[null,"Eletricidade - PCH","kWh",{"$f":"CombAlterHEFA!D92","v":0},null,{"$f":"D89*'Dados auxiliares'!$H$108","v":0},null,{"$error":"#DIV/0!"},{"$error":"#DIV/0!"},{"$error":"#DIV/0!"}]
[null,"Eletricidade - biomassa","kWh",{"$f":"CombAlterHEFA!D93","v":0},null,{"$f":"D90*'Dados auxiliares'!$H$109","v":0},null,{"$error":"#DIV/0!"},{"$error":"#DIV/0!"},{"$error":"#DIV/0!"}]
[null,"Eletricidade - eólica","kWh",{"$f":"CombAlterHEFA!D94","v":0},null,{"$f":"D91*'Dados auxiliares'!$H$110","v":0},null,{"$error":"#DIV/0!"},{"$error":"#DIV/0!"},{"$error":"#DIV/0!"}]
[null,"Eletricidade - solar","kWh",{"$f":"CombAlterHEFA!D95","v":0},null,{"$f":"D92*'Dados auxiliares'!$H$111","v":0},null,{"$error":"#DIV/0!"},{"$error":"#DIV/0!"},{"$error":"#DIV/0!"}]
[null,"Diesel B0","kg",{"$f":"(CombAlterHEFA!$D$96*(1-0.08)+CombAlterHEFA!$D$97*(1-0.1)+CombAlterHEFA!$D$98*(1-CombAlterHEFA!$G$98)+CombAlterHEFA!$D$99*(1-0.2)+CombAlterHEFA!$D$100*(1-0.3)+CombAlterHEFA!$D$101*(1-1))*('Dados auxiliares'!$D$26)","v":0},null,{"$f":"D93*'Dados auxiliares'!$H$116","v":0},null,{"$error":"#DIV/0!"},{"$error":"#DIV/0!"},{"$error":"#DIV/0!"}]
[null,"Biodiesel B100","kg",{"$f":"(CombAlterHEFA!$D$96*(0.08)+CombAlterHEFA!$D$97*(0.1)+CombAlterHEFA!$D$98*(CombAlterHEFA!$G$98)+CombAlterHEFA!$D$99*(0.2)+CombAlterHEFA!$D$100*(0.3)+CombAlterHEFA!$D$101*(1))*('Dados auxiliares'!$D$17)","v":0},null,{"$f":"D94*'Dados auxiliares'!$H$117","v":0},null,{"$error":"#DIV/0!"},{"$error":"#DIV/0!"},{"$error":"#DIV/0!"}]
[null,"Óleo combusível","kg",{"$f":"CombAlterHEFA!D102*'Dados auxiliares'!$D$30","v":0},null,{"$f":"D95*'Dados auxiliares'!$H$126","v":0},null,{"$error":"#DIV/0!"},{"$error":"#DIV/0!"},{"$error":"#DIV/0!"}]
[null,"Biogás de terceiros","Nm³",{"$f":"CombAlterHEFA!D103","v":0},null,{"$f":"D96*CombAlterHEFA!G103*'Dados auxiliares'!$H$125","v":0},null,{"$error":"#DIV/0!"},{"$error":"#DIV/0!"},{"$error":"#DIV/0!"}]
[null,"Gás natural","Nm³",{"$f":"CombAlterHEFA!D105","v":0},null,{"$f":"D97*'Dados auxiliares'!$H$115","v":0},null,{"$error":"#DIV/0!"},{"$error":"#DIV/0!"},{"$error":"#DIV/0!"}]
[null,"Cavaco de madeira","kg base seca",{"$f":"CombAlterHEFA!$D$107*(1-CombAlterHEFA!$D$108)","v":0},null,{"$f":"D98*'Dados auxiliares'!$H$123","v":0},null,{"$error":"#DIV/0!"},{"$error":"#DIV/0!"},{"$error":"#DIV/0!"}]
[null,"Transporte de cavaco de madeira","tkm",{"$f":"((D98/1000)*CombAlterHEFA!$D$109)","v":0},null,{"$f":"D99*'Dados auxiliares'!$H$131","v":0},null,{"$error":"#DIV/0!"},{"$error":"#DIV/0!"},{"$error":"#DIV/0!"}]
[null,"Lenha","kg base seca",{"$f":"CombAlterHEFA!$D$111*(1-CombAlterHEFA!$D$112)","v":0},null,{"$f":"D100*'Dados auxiliares'!$H$124","v":0},null,{"$error":"#DIV/0!"},{"$error":"#DIV/0!"},{"$error":"#DIV/0!"}]
[null,"Transporte de lenha","tkm",{"$f":"((D100/1000)*CombAlterHEFA!$D$113)","v":0},null,{"$f":"D101*'Dados auxiliares'!$H$131","v":0},null,{"$error":"#DIV/0!"},{"$error":"#DIV/0!"},{"$error":"#DIV/0!"}]
[null,"Resíduos florestais","kg base seca",{"$f":"CombAlterHEFA!$D$115*(1-CombAlterHEFA!$D$116)","v":0},null,0,null,{"$error":"#DIV/0!"},{"$error":"#DIV/0!"},{"$error":"#DIV/0!"}]
[null,"Transporte de resíduos florestais","tkm",{"$f":"((D102/1000)*CombAlterHEFA!$D$117)","v":0},null,{"$f":"D103*'Dados auxiliares'!$H$131","v":0},null,{"$error":"#DIV/0!"},{"$error":"#DIV/0!"},{"$error":"#DIV/0!"}]
[null,"Bagaço de cana-de-açúcar","kg base seca",{"$f":"CombAlterHEFA!$D$119*(1-CombAlterHEFA!$D$120)","v":0},null,0,null,{"$error":"#DIV/0!"},{"$error":"#DIV/0!"},{"$error":"#DIV/0!"}]
[null,"Transporte de bagaço de cana-de-açúcar","tkm",{"$f":"((D104/1000)*CombAlterHEFA!$D$121)","v":0},null,{"$f":"D105*'Dados auxiliares'!$H$131","v":0},null,{"$error":"#DIV/0!"},{"$error":"#DIV/0!"},{"$error":"#DIV/0!"}]
[null,"Palha de cana-de-açúcar","kg base seca",{"$f":"CombAlterHEFA!$D$123*(1-CombAlterHEFA!$D$124)","v":0},null,{"$f":"D106*'Dados auxiliares'!$H$78","v":0},null,{"$error":"#DIV/0!"},{"$error":"#DIV/0!"},{"$error":"#DIV/0!"}]
[null,"Transporte de palha de cana-de-açúcar","tkm",{"$f":"((D106/1000)*CombAlterHEFA!$D$125)","v":0},null,{"$f":"D107*'Dados auxiliares'!$H$131","v":0},null,{"$error":"#DIV/0!"},{"$error":"#DIV/0!"},{"$error":"#DIV/0!"}]
[null,"Emissões","Unidade","1 t soja",null,"g CO2 eq/t soja",null,"g CO2 eq/MJ","g CO2 eq/MJ","g CO2 eq/MJ",null,null,null,null,null,null,null,null,null,null,null,null,null,null,null,null,null,null,null,null,null,null,null,null,null,null,null,null,null,null,null,null,null,null,null,null,null,null,null,null,null,null,null,null,null,null,null,null,null,null,null,null,null,null,null,null,null,null,null,null,null,null,null,null,null,null,null,null,null,null,"Emissão desconsiderada"]
[null,"CO₂ eq - queima do diesel","kg",{"$f":"D93*'FE''s queima combustíveis'!$I$50/1000","v":0},null,{"$f":"D109*1000","v":0},null,{"$f":"(((F109*$F$76)/$D$76)*1000*$F$130)/$E$130","v":{"$error":"#DIV/0!"}},{"$f":"(((F109*$F$76)/$D$76)*1000*$F$131)/$E$131","v":{"$error":"#DIV/0!"}},{"$f":"(((F109*$F$76)/$D$76)*1000*$F$132)/$E$132","v":{"$error":"#DIV/0!"}}]
[null,"CO₂ eq - queima do biodiesel","kg",{"$f":"D94*'FE''s queima combustíveis'!$I$51/1000","v":0},null,0,null,{"$f":"(((F110*$F$76)/$D$76)*1000*$F$130)/$E$130","v":{"$error":"#DIV/0!"}},{"$f":"(((F110*$F$76)/$D$76)*1000*$F$131)/$E$131","v":{"$error":"#DIV/0!"}},{"$f":"(((F110*$F$76)/$D$76)*1000*$F$132)/$E$132","v":{"$error":"#DIV/0!"}}]
[null,"CO₂ eq - queima do óleo combustível","kg",{"$f":"D95*'FE''s queima combustíveis'!$I$53/1000","v":0},null,{"$f":"D111*1000","v":0},null,{"$f":"(((F111*$F$76)/$D$76)*1000*$F$130)/$E$130","v":{"$error":"#DIV/0!"}},{"$f":"(((F111*$F$76)/$D$76)*1000*$F$131)/$E$131","v":{"$error":"#DIV/0!"}},{"$f":"(((F111*$F$76)/$D$76)*1000*$F$132)/$E$132","v":{"$error":"#DIV/0!"}}]
[null,"CO₂ eq - queima do biogás de terceiros","kg",{"$f":"CombAlterHEFA!D103*CombAlterHEFA!G103*'FE''s queima combustíveis'!$I$41/1000","v":0},null,0,null,{"$f":"(((F112*$F$76)/$D$76)*1000*$F$130)/$E$130","v":{"$error":"#DIV/0!"}},{"$f":"(((F112*$F$76)/$D$76)*1000*$F$131)/$E$131","v":{"$error":"#DIV/0!"}},{"$f":"(((F112*$F$76)/$D$76)*1000*$F$132)/$E$132","v":{"$error":"#DIV/0!"}}]
[null,"CO₂ eq - queima do biogás próprio","kg",{"$f":"CombAlterHEFA!D104*CombAlterHEFA!G104*'FE''s queima combustíveis'!$I$41/1000","v":0},null,0,null,{"$f":"(((F113*$F$76)/$D$76)*1000*$F$130)/$E$130","v":{"$error":"#DIV/0!"}},{"$f":"(((F113*$F$76)/$D$76)*1000*$F$131)/$E$131","v":{"$error":"#DIV/0!"}},{"$f":"(((F113*$F$76)/$D$76)*1000*$F$132)/$E$132","v":{"$error":"#DIV/0!"}}]
[null,"CO₂ eq - queima da gás natural","kg",{"$f":"D97*'FE''s queima combustíveis'!$I$46*('Dados auxiliares'!$D$27/1000)/1000","v":0},null,0,null,{"$f":"(((F114*$F$76)/$D$76)*1000*$F$130)/$E$130","v":{"$error":"#DIV/0!"}},{"$f":"(((F114*$F$76)/$D$76)*1000*$F$131)/$E$131","v":{"$error":"#DIV/0!"}},{"$f":"(((F114*$F$76)/$D$76)*1000*$F$132)/$E$132","v":{"$error":"#DIV/0!"}}]
[null,"CO₂ eq - queima do bagaço de cana-de-açúcar","kg",{"$f":"D104*'FE''s queima combustíveis'!$I$36/1000","v":0},null,0,null,{"$error":"#DIV/0!"},{"$error":"#DIV/0!"},{"$error":"#DIV/0!"}]
[null,"CO₂ eq - queima da palha de cana-de-açúcar","kg",{"$f":"D106*'FE''s queima combustíveis'!$I$37/1000","v":0},null,0,null,{"$error":"#DIV/0!"},{"$error":"#DIV/0!"},{"$error":"#DIV/0!"}]
[null,"CO₂ eq - queima dos cavacos de madeira","kg",{"$f":"D98*'FE''s queima combustíveis'!$I$38/1000","v":0},null,0,null,{"$error":"#DIV/0!"},{"$error":"#DIV/0!"},{"$error":"#DIV/0!"}]
[null,"CO₂ eq - queima da lenha","kg",{"$f":"D100*'FE''s queima combustíveis'!$I$39/1000","v":0},null,0,null,{"$error":"#DIV/0!"},{"$error":"#DIV/0!"},{"$error":"#DIV/0!"}]
[null,"CO₂ eq - queima dos resíduos florestais","kg",{"$f":"D102*'FE''s queima combustíveis'!$I$40/1000","v":0},null,0,null,{"$error":"#DIV/0!"},{"$error":"#DIV/0!"},{"$error":"#DIV/0!"}]
[]
[null,"Emissões do processo","g CO2 eq/t soja",null,null,{"$f":"SUM(F109:F119)","v":0},null,{"$f":"(((F121*$F$76)/$D$76)*1000*$F$130)/$E$130","v":{"$error":"#DIV/0!"}},{"$f":"(((F121*$F$76)/$D$76)*1000*$F$131)/$E$131","v":{"$error":"#DIV/0!"}},{"$f":"(((F121*$F$76)/$D$76)*1000*$F$132)/$E$132","v":{"$error":"#DIV/0!"}}]
[null,"Emissões background","g CO2 eq/t soja",null,null,{"$f":"SUM(F80:F107)","v":343.53473580131794},null,{"$f":"(((F122*$F$76)/$D$76)*1000*$F$130)/$E$130","v":{"$error":"#DIV/0!"}},{"$f":"(((F122*$F$76)/$D$76)*1000*$F$131)/$E$131","v":{"$error":"#DIV/0!"}},{"$f":"(((F122*$F$76)/$D$76)*1000*$F$132)/$E$132","v":{"$error":"#DIV/0!"}}]
[null,"Emissões totais","g CO2 eq/t soja",null,null,{"$f":"F121+F122","v":343.53473580131794},null,{"$f":"(((F123*$F$76)/$D$76)*1000*$F$130)/$E$130","v":{"$error":"#DIV/0!"}},{"$f":"(((F123*$F$76)/$D$76)*1000*$F$131)/$E$131","v":{"$error":"#DIV/0!"}},{"$f":"(((F123*$F$76)/$D$76)*1000*$F$132)/$E$132","v":{"$error":"#DIV/0!"}}]
[]
[null,"Emissões totais","g CO2 eq/kg óleo de soja",null,null,{"$f":"F123*F76/$D$76","v":{"$error":"#DIV/0!"}}]
[]
[]
[null,"Etapa industrial - Produção de bioquerosene",null,null,null,null,null,"Emissões por MJ de bioQAV","Emissões por MJ de gasolina renovável","Emissões por MJ de diesel renovável",null,null,null,null,null,null,null,null,null,null,null,null,null,null,null,null,null,null,null,null,null,null,null,null,null,null,null,null,null,null,null,null,null,null,null,null,null,null,null,null,null,null,null,null,null,null,null,null,null,null,null,null,null,null,null,null,null,null,null,null,null,null,null,null,null,null,null,{"$f":"F125*CD135","v":{"$error":"#DIV/0!"}}]
[null,"Produtos","Unidade","1 t óleo","MJ","Alocação"]
[null,"Bioquerosene","kg",{"$f":"CombAlterHEFA!D140","v":0},{"$f":"D130*'Dados auxiliares'!$F$20","v":0},{"$f":"E130/SUM($E$130:$E$134)","v":{"$error":"#DIV/0!"}}]
[null,"Gasolina renovável","kg",{"$f":"CombAlterHEFA!D141","v":0},{"$f":"D131*'Dados auxiliares'!$F$22","v":0},{"$f":"E131/SUM($E$130:$E$134)","v":{"$error":"#DIV/0!"}}]
[null,"Diesel renovável","kg",{"$f":"CombAlterHEFA!D142","v":0},{"$f":"D132*'Dados auxiliares'!$F$21","v":0},{"$error":"#DIV/0!"}]
[null,"Gás combustível renovável","kg",{"$f":"CombAlterHEFA!D143","v":0},{"$f":"D133*'Dados auxiliares'!$F$23","v":0},{"$error":"#DIV/0!"},null,null,null,null,null,"Alguma fração elegível","Intensidade de Carbono da Matéria-prima (referência)","Unidade da Intensidade de Carbono","Quantidade de materia-prima elegível",null,"Intensidade de Carbono da Matéria-prima não elegível",null,"Intensidade de Carbono da Matéria-prima (utilizada)"]
[null,"Energia elétrica excedente","kWh",{"$f":"CombAlterHEFA!D144","v":0},{"$f":"CONVERT(D134,\"kWh\",\"MJ\")","v":0},{"$error":"#DIV/0!"}]
[null,"Entradas ","Unidade","1 t óleo",null,"g CO2 eq/t óleo",null,"g CO2 eq/MJ","g CO2 eq/MJ","g CO2 eq/MJ",null,null,"g CO2 eq/t óleo especíco",null,"t matéria-prima elegível","% matéria-prima elegível","% materia-prima elegível * IC materia-prima elegível",null,null,null,null,null,null,null,null,null,null,null,null,null,null,null,null,null,null,null,null,null,null,null,null,null,null,null,null,null,null,null,null,null,null,null,null,null,null,null,null,null,null,null,null,null,null,null,null,null,null,null,null,null,null,null,null,null,null,null,null,null,{"$error":"#REF!"},{"$f":"D130/CA135","v":{"$error":"#REF!"}},{"$f":"CB135*1000","v":{"$error":"#REF!"}},{"$f":"CC135/D130","v":{"$error":"#REF!"}}]
[null,"Óleo de soja próprio","kg",{"$f":"CombAlterHEFA!$D$131/(CombAlterHEFA!$D$131+CombAlterHEFA!$D$135)","v":{"$error":"#DIV/0!"}},null,{"$f":"CombAlterHEFA!$D$131*$F$125*1000*D136","v":{"$error":"#DIV/0!"}},null,{"$f":"(F136*$F$130)/$E$130","v":{"$error":"#DIV/0!"}},{"$f":"(F136*$F$131)/$E$131","v":{"$error":"#DIV/0!"}},{"$f":"(F136*$F$132)/$E$132","v":{"$error":"#DIV/0!"}},null,{"$f":"CombAlterHEFA!D133","v":0},{"$f":"$F$125","v":{"$error":"#DIV/0!"}},"g CO2 eq/kg óleo de soja",{"$f":"D136*IF(L136=\"Sim\",1,0)","v":{"$error":"#DIV/0!"}},{"$f":"O136/$O$140","v":{"$error":"#DIV/0!"}},{"$f":"P136*IF(O136>0,M136,0)","v":{"$error":"#DIV/0!"}},null,{"$f":"IF(L136=\"Sim\",M136,$Q$140)","v":{"$error":"#DIV/0!"}}]
[null,"Transporte óleo de soja até a usina","tkm",{"$f":"D136*CombAlterHEFA!$D$132","v":{"$error":"#DIV/0!"}},null,{"$f":"D137*'Dados auxiliares'!$H$132","v":{"$error":"#DIV/0!"}},null,{"$f":"(F137*$F$130)/$E$130","v":{"$error":"#DIV/0!"}},{"$f":"(F137*$F$131)/$E$131","v":{"$error":"#DIV/0!"}},{"$f":"(F137*$F$132)/$E$132","v":{"$error":"#DIV/0!"}}]
[null,"Óleo de soja de terceiros","kg",{"$f":"CombAlterHEFA!$D$135/(CombAlterHEFA!$D$131+CombAlterHEFA!$D$135)","v":{"$error":"#DIV/0!"}},null,{"$f":"(CombAlterHEFA!D135*CombAlterHEFA!G135*1000)*D138","v":{"$error":"#DIV/0!"}},null,{"$error":"#DIV/0!"},{"$f":"(F138*$F$131)/$E$131","v":{"$error":"#DIV/0!"}},{"$f":"(F138*$F$132)/$E$132","v":{"$error":"#DIV/0!"}},null,{"$f":"CombAlterHEFA!D137","v":0},{"$f":"CombAlterHEFA!G135","v":0},"g CO2 eq/kg óleo de soja de terceiros",{"$f":"D138*IF(L138=\"Sim\",1,0)","v":{"$error":"#DIV/0!"}},{"$f":"O138/$O$140","v":{"$error":"#DIV/0!"}},{"$f":"P138*M138","v":{"$error":"#DIV/0!"}},null,{"$f":"IF(L138=\"Sim\",M138,$Q$140)","v":{"$error":"#DIV/0!"}}]
[null,"Transporte óleo de soja até a usina - fornecedores","tkm",{"$f":"(CombAlterHEFA!D135*CombAlterHEFA!D136)/(CombAlterHEFA!$D$131+CombAlterHEFA!$D$135)","v":{"$error":"#DIV/0!"}},null,{"$f":"D139*'Dados auxiliares'!$H$132","v":{"$error":"#DIV/0!"}},null,{"$f":"(F139*$F$130)/$E$130","v":{"$error":"#DIV/0!"}},{"$f":"(F139*$F$131)/$E$131","v":{"$error":"#DIV/0!"}},{"$f":"(F139*$F$132)/$E$132","v":{"$error":"#DIV/0!"}},null,null,null,null,null,null,"g CO2 eq/kg materia-prima não elegível"]
[null,"Água","kg",383.53488372093,null,{"$f":"D140*'Dados auxiliares'!$H$83","v":3.375710047621399},null,{"$error":"#DIV/0!"},{"$error":"#DIV/0!"},{"$error":"#DIV/0!"},null,null,null,null,{"$f":"SUM(O136:O138)","v":{"$error":"#DIV/0!"}},{"$f":"SUM(P136:P138)","v":{"$error":"#DIV/0!"}},{"$f":"SUM(Q136:Q138)","v":{"$error":"#DIV/0!"}}]
[null,"Hidrogênio","kg",{"$f":"CombAlterHEFA!D147","v":0},null,{"$f":"D141*'Dados auxiliares'!$H$102","v":0},null,{"$error":"#DIV/0!"},{"$error":"#DIV/0!"},{"$error":"#DIV/0!"}]
[null,"Eletricidade da rede - mix médio","kWh",{"$f":"CombAlterHEFA!D149","v":0},null,{"$f":"D142*'Dados auxiliares'!$H$107","v":0},null,{"$error":"#DIV/0!"},{"$error":"#DIV/0!"},{"$error":"#DIV/0!"}]
[null,"Eletricidade - PCH","kWh",{"$f":"CombAlterHEFA!D150","v":0},null,{"$f":"D143*'Dados auxiliares'!$H$108","v":0},null,{"$error":"#DIV/0!"},{"$error":"#DIV/0!"},{"$error":"#DIV/0!"}]
[null,"Eletricidade - biomassa","kWh",{"$f":"CombAlterHEFA!D151","v":0},null,{"$f":"D144*'Dados auxiliares'!$H$109","v":0},null,{"$error":"#DIV/0!"},{"$error":"#DIV/0!"},{"$error":"#DIV/0!"}]
[null,"Eletricidade - eólica","kWh",{"$f":"CombAlterHEFA!D152","v":0},null,{"$f":"D145*'Dados auxiliares'!$H$110","v":0},null,{"$error":"#DIV/0!"},{"$error":"#DIV/0!"},{"$error":"#DIV/0!"}]
[null,"Eletricidade - solar","kWh",{"$f":"CombAlterHEFA!D153","v":0},null,{"$f":"D146*'Dados auxiliares'!$H$111","v":0},null,{"$error":"#DIV/0!"},{"$error":"#DIV/0!"},{"$error":"#DIV/0!"}]
[null,"Diesel B0","kg",{"$f":"(CombAlterHEFA!$D$154*(1-0.08)+CombAlterHEFA!$D$155*(1-0.1)+CombAlterHEFA!$D$156*(1-CombAlterHEFA!$G$156)+CombAlterHEFA!$D$157*(1-0.2)+CombAlterHEFA!$D$158*(1-0.3)+CombAlterHEFA!$D$159*(1-1))*('Dados auxiliares'!$D$26)","v":0},null,{"$f":"D147*'Dados auxiliares'!$H$116","v":0},null,{"$error":"#DIV/0!"},{"$error":"#DIV/0!"},{"$error":"#DIV/0!"}]
[null,"Biodiesel B100","kg",{"$f":"(CombAlterHEFA!$D$154*(0.08)+CombAlterHEFA!$D$155*(0.1)+CombAlterHEFA!$D$156*(CombAlterHEFA!$G$156)+CombAlterHEFA!$D$157*(0.2)+CombAlterHEFA!$D$158*(0.3)+CombAlterHEFA!$D$159*(1))*('Dados auxiliares'!$D$17)","v":0},null,{"$f":"D148*'Dados auxiliares'!$H$117","v":0},null,{"$error":"#DIV/0!"},{"$error":"#DIV/0!"},{"$error":"#DIV/0!"}]
[null,"Óleo combusível","kg",{"$f":"CombAlterHEFA!D160*'Dados auxiliares'!$D$30","v":0},null,{"$f":"D149*'Dados auxiliares'!$H$126","v":0},null,{"$f":"(F149*$F$130)/$E$130","v":{"$error":"#DIV/0!"}},{"$f":"(F149*$F$131)/$E$131","v":{"$error":"#DIV/0!"}},{"$f":"(F149*$F$132)/$E$132","v":{"$error":"#DIV/0!"}}]
[null,"Biogás de terceiros","Nm³",{"$f":"CombAlterHEFA!D161","v":0},null,{"$f":"D150*CombAlterHEFA!G161*'Dados auxiliares'!$H$125","v":0},null,{"$error":"#DIV/0!"},{"$error":"#DIV/0!"},{"$error":"#DIV/0!"}]
[null,"Gás natural","Nm³",{"$f":"CombAlterHEFA!D164","v":0},null,{"$f":"D151*'Dados auxiliares'!$H$115","v":0},null,{"$error":"#DIV/0!"},{"$error":"#DIV/0!"},{"$error":"#DIV/0!"}]
[null,"Cavaco de madeira","kg base seca",{"$f":"CombAlterHEFA!$D$166*(1-CombAlterHEFA!$D$167)","v":0},null,{"$f":"D152*'Dados auxiliares'!$H$123","v":0},null,{"$error":"#DIV/0!"},{"$error":"#DIV/0!"},{"$error":"#DIV/0!"}]
[null,"Transporte de cavaco de madeira","tkm",{"$f":"((D152/1000)*CombAlterHEFA!$D$168)","v":0},null,{"$f":"D153*'Dados auxiliares'!$H$131","v":0},null,{"$error":"#DIV/0!"},{"$error":"#DIV/0!"},{"$error":"#DIV/0!"}]
[null,"Lenha","kg base seca",{"$f":"CombAlterHEFA!$D$170*(1-CombAlterHEFA!$D$171)","v":0},null,{"$f":"D154*'Dados auxiliares'!$H$124","v":0},null,{"$error":"#DIV/0!"},{"$error":"#DIV/0!"},{"$error":"#DIV/0!"}]
[null,"Transporte de lenha","tkm",{"$f":"((D154/1000)*CombAlterHEFA!$D$172)","v":0},null,{"$f":"D155*'Dados auxiliares'!$H$131","v":0},null,{"$error":"#DIV/0!"},{"$error":"#DIV/0!"},{"$error":"#DIV/0!"}]
[null,"Resíduos florestais","kg base seca",{"$f":"CombAlterHEFA!$D$174*(1-CombAlterHEFA!$D$175)","v":0},null,0,null,{"$error":"#DIV/0!"},{"$error":"#DIV/0!"},{"$error":"#DIV/0!"}]
[null,"Transporte de resíduos florestais","tkm",{"$f":"((D156/1000)*CombAlterHEFA!$D$176)","v":0},null,{"$f":"D157*'Dados auxiliares'!$H$131","v":0},null,{"$error":"#DIV/0!"},{"$error":"#DIV/0!"},{"$error":"#DIV/0!"}]
[null,"Bagaço de cana-de-açúcar","kg base seca",{"$f":"CombAlterHEFA!$D$178*(1-CombAlterHEFA!$D$179)","v":0},null,0,null,{"$error":"#DIV/0!"},{"$error":"#DIV/0!"},{"$error":"#DIV/0!"}]
[null,"Transporte de bagaço de cana-de-açúcar","tkm",{"$f":"((D158/1000)*CombAlterHEFA!$D$180)","v":0},null,{"$f":"D159*'Dados auxiliares'!$H$131","v":0},null,{"$error":"#DIV/0!"},{"$error":"#DIV/0!"},{"$error":"#DIV/0!"}]
[null,"Palha de cana-de-açúcar","kg base seca",{"$f":"CombAlterHEFA!$D$182*(1-CombAlterHEFA!$D$183)","v":0},null,{"$f":"D160*'Dados auxiliares'!$H$78","v":0},null,{"$error":"#DIV/0!"},{"$error":"#DIV/0!"},{"$error":"#DIV/0!"}]
[null,"Transporte de palha de cana-de-açúcar","tkm",{"$f":"((D160/1000)*CombAlterHEFA!$D$184)","v":0},null,{"$f":"D161*'Dados auxiliares'!$H$131","v":0},null,{"$error":"#DIV/0!"},{"$error":"#DIV/0!"},{"$error":"#DIV/0!"}]
[null,"Emissões","Unidade","1 t óleo",null,"g CO2 eq/t óleo",null,"g CO2 eq/MJ","g CO2 eq/MJ","g CO2 eq/MJ"]
[null,"CO₂ eq - queima do diesel","kg",{"$f":"D147*'FE''s queima combustíveis'!$I$50/1000","v":0},null,{"$f":"D163*1000","v":0},null,{"$f":"(((F163*$F$76)/$D$76)*1000*$F$130)/$E$130","v":{"$error":"#DIV/0!"}},{"$error":"#DIV/0!"},{"$error":"#DIV/0!"}]
[null,"CO₂ eq - queima do biodiesel","kg",{"$f":"D148*'FE''s queima combustíveis'!$I$51/1000","v":0},null,0,null,{"$f":"(((F164*$F$76)/$D$76)*1000*$F$130)/$E$130","v":{"$error":"#DIV/0!"}},{"$error":"#DIV/0!"},{"$error":"#DIV/0!"}]
[null,"CO₂ eq - queima do óleo combustível","kg",{"$f":"D149*'FE''s queima combustíveis'!$I$53/1000","v":0},null,{"$f":"D165*1000","v":0},null,{"$f":"(((F165*$F$76)/$D$76)*1000*$F$130)/$E$130","v":{"$error":"#DIV/0!"}},{"$f":"(F165*$F$131)/$E$131","v":{"$error":"#DIV/0!"}},{"$f":"(F165*$F$132)/$E$132","v":{"$error":"#DIV/0!"}}]
[null,"CO₂ eq - queima do biogás de terceiros","kg",{"$f":"CombAlterHEFA!D161*CombAlterHEFA!G161*'FE''s queima combustíveis'!$I$41/1000","v":0},null,{"$f":"D166*1000","v":0},null,{"$f":"(((F166*$F$76)/$D$76)*1000*$F$130)/$E$130","v":{"$error":"#DIV/0!"}},{"$error":"#DIV/0!"},{"$f":"(F166*$F$132)/$E$132","v":{"$error":"#DIV/0!"}}]
[null,"CO₂ eq - queima do biogás próprio","kg",{"$f":"CombAlterHEFA!D162*CombAlterHEFA!G162*'FE''s queima combustíveis'!$I$41/1000","v":0},null,0,null,{"$error":"#DIV/0!"},{"$error":"#DIV/0!"},{"$error":"#DIV/0!"}]
[null,"CO₂ eq - queima da gás natural","kg",{"$f":"D151*'FE''s queima combustíveis'!$I$46*('Dados auxiliares'!$D$27/1000)/1000","v":0},null,0,null,{"$f":"(((F168*$F$76)/$D$76)*1000*$F$130)/$E$130","v":{"$error":"#DIV/0!"}},{"$error":"#DIV/0!"},{"$error":"#DIV/0!"}]
[null,"CO₂ eq - queima do gás combustível renovável","kg",{"$f":"CombAlterHEFA!D163*CombAlterHEFA!G163*'FE''s queima combustíveis'!$I$44/1000","v":0},null,{"$f":"D169*1000","v":0},null,{"$f":"(((F169*$F$76)/$D$76)*1000*$F$130)/$E$130","v":{"$error":"#DIV/0!"}},{"$f":"(F169*$F$131)/$E$131","v":{"$error":"#DIV/0!"}},{"$f":"(F169*$F$132)/$E$132","v":{"$error":"#DIV/0!"}}]
[null,"CO₂ eq - queima do bagaço de cana-de-açúcar","kg",{"$f":"D158*'FE''s queima combustíveis'!$I$36/1000","v":0},null,0,null,{"$f":"(((F170*$F$76)/$D$76)*1000*$F$130)/$E$130","v":{"$error":"#DIV/0!"}},{"$error":"#DIV/0!"},{"$error":"#DIV/0!"}]
[null,"CO₂ eq - queima da palha de cana-de-açúcar","kg",{"$f":"D160*'FE''s queima combustíveis'!$I$37/1000","v":0},null,0,null,{"$f":"(((F171*$F$76)/$D$76)*1000*$F$130)/$E$130","v":{"$error":"#DIV/0!"}},{"$error":"#DIV/0!"},{"$error":"#DIV/0!"}]
[null,"CO₂ eq - queima dos cavacos de madeira","kg",{"$f":"D152*'FE''s queima combustíveis'!$I$38/1000","v":0},null,0,null,{"$f":"(((F172*$F$76)/$D$76)*1000*$F$130)/$E$130","v":{"$error":"#DIV/0!"}},{"$error":"#DIV/0!"},{"$error":"#DIV/0!"}]
[null,"CO₂ eq - queima da lenha","kg",{"$f":"D154*'FE''s queima combustíveis'!$I$39/1000","v":0},null,0,null,{"$f":"(((F173*$F$76)/$D$76)*1000*$F$130)/$E$130","v":{"$error":"#DIV/0!"}},{"$error":"#DIV/0!"},{"$error":"#DIV/0!"}]
[null,"CO₂ eq - queima dos resíduos florestais","kg",{"$f":"D156*'FE''s queima combustíveis'!$I$40/1000","v":0},null,0,null,{"$f":"(((F174*$F$76)/$D$76)*1000*$F$130)/$E$130","v":{"$error":"#DIV/0!"}},{"$error":"#DIV/0!"},{"$error":"#DIV/0!"}]
[]
[null,"Emissões do processo","g CO2 eq/kg óleo",null,null,{"$f":"SUM(F163:F174)","v":0},null,{"$f":"(F176*$F$130)/$E$130","v":{"$error":"#DIV/0!"}},{"$f":"(F176*$F$131)/$E$131","v":{"$error":"#DIV/0!"}},{"$f":"(F176*$F$132)/$E$132","v":{"$error":"#DIV/0!"}}]
[null,"Emissões background","g CO2 eq/kg óleo",null,null,{"$f":"SUM(F136:F161)","v":{"$error":"#DIV/0!"}},null,{"$error":"#DIV/0!"},{"$error":"#DIV/0!"},{"$error":"#DIV/0!"}]
[null,"Emissões totais","g CO2 eq/kg óleo",null,null,{"$f":"F177+F176","v":{"$error":"#DIV/0!"}},null,{"$error":"#DIV/0!"},{"$error":"#DIV/0!"},{"$error":"#DIV/0!"}]
[]
[]
[]
[null,"Etapa distribuição"]
[null,"Sistema logístico rodoviário"]
[null,"Parâmetro","Unidade","BioQAV","Gasolina renovável","Diesel renovável"]
[null,"Massa","kg/t óleo",{"$f":"$D$130*CombAlterHEFA!$D$190","v":0},{"$f":"$D$131*CombAlterHEFA!$D$196","v":0},{"$f":"$D$132*CombAlterHEFA!$D$202","v":0}]
[null,"Distância de transporte rodoviário","km",{"$f":"'Dados auxiliares'!C160","v":1500},{"$f":"'Dados auxiliares'!C160","v":1500},{"$f":"'Dados auxiliares'!C160","v":1500}]
[null,"Transporte rodoviário","tkm/t óleo",{"$f":"D185/1000*D186","v":0},{"$f":"E185/1000*E186","v":0},0]
[null,"Emissões","g CO2 eq/t óleo",{"$f":"D187*'Dados auxiliares'!$H$132","v":0},{"$f":"E187*'Dados auxiliares'!$H$132","v":0},{"$f":"F187*'Dados auxiliares'!$H$132","v":0}]
[null,"Emissões","g CO2 eq/MJ",{"$f":"D188/$E$130","v":{"$error":"#DIV/0!"}},{"$f":"E188/$E$131","v":{"$error":"#DIV/0!"}},{"$f":"F188/$E$132","v":{"$error":"#DIV/0!"}}]
[null,"Sistema logístico dutoviário"]
[null,"Parâmetro","Unidade","BioQAV","Gasolina renovável","Diesel renovável"]
[null,"Massa","kg/t óleo",{"$f":"$D$130*CombAlterHEFA!D191","v":0},{"$f":"$D$131*CombAlterHEFA!$D$197","v":0},{"$f":"$D$132*CombAlterHEFA!$D$203","v":0}]
[null,"Distância de transporte rodoviário","km",{"$f":"'Dados auxiliares'!E160","v":600},{"$f":"'Dados auxiliares'!E160","v":600},{"$f":"'Dados auxiliares'!E160","v":600}]
[null,"Transporte rodoviário","tkm/t óleo",{"$f":"D192/1000*D193","v":0},{"$f":"E192/1000*E193","v":0},0]
[null,"Distância de transporte dutoviário","km",{"$f":"'Dados auxiliares'!D160","v":900},{"$f":"'Dados auxiliares'!D160","v":900},{"$f":"'Dados auxiliares'!D160","v":900}]
[null,"Transporte dutoviário","tkm/t óleo",{"$f":"D192/1000*D195","v":0},{"$f":"E192/1000*E195","v":0},0]
[null,"Emissões","g CO2 eq/t óleo",{"$f":"D194*'Dados auxiliares'!$H$132+D196*'Dados auxiliares'!$H$136","v":0},{"$f":"E194*'Dados auxiliares'!$H$132+E196*'Dados auxiliares'!$H$136","v":0},{"$f":"F194*'Dados auxiliares'!$H$132+F196*'Dados auxiliares'!$H$136","v":0}]
[null,"Emissões","g CO2 eq/MJ",{"$f":"D197/$E$130","v":{"$error":"#DIV/0!"}},{"$f":"E197/$E$130","v":{"$error":"#DIV/0!"}},{"$error":"#DIV/0!"}]
[null,"Sistema logístico ferroviário"]
[null,"Parâmetro","Unidade","BioQAV","Gasolina renovável","Diesel renovável"]
[null,"Massa","kg/t óleo",{"$f":"$D$130*CombAlterHEFA!D192","v":0},{"$f":"$D$131*CombAlterHEFA!$D$198","v":0},{"$f":"$D$132*CombAlterHEFA!$D$204","v":0}]
[null,"Distância de transporte rodoviário","km",{"$f":"'Dados auxiliares'!G160","v":600},{"$f":"'Dados auxiliares'!G160","v":600},{"$f":"'Dados auxiliares'!G160","v":600}]
[null,"Transporte rodoviário","tkm/t óleo",{"$f":"D201/1000*D202","v":0},{"$f":"E201/1000*E202","v":0},0]
[null,"Distância de transporte ferroviário","km",{"$f":"'Dados auxiliares'!F160","v":900},{"$f":"'Dados auxiliares'!F160","v":900},{"$f":"'Dados auxiliares'!F160","v":900}]
[null,"Transporte ferroviário","tkm/t óleo",{"$f":"D201/1000*D204","v":0},{"$f":"E201/1000*E204","v":0},0]
[null,"Emissões","g CO2 eq/t óleo",{"$f":"D203*'Dados auxiliares'!$H$132+D205*'Dados auxiliares'!$H$135","v":0},{"$f":"E203*'Dados auxiliares'!$H$132+E205*'Dados auxiliares'!$H$135","v":0},{"$f":"F203*'Dados auxiliares'!$H$132+F205*'Dados auxiliares'!$H$135","v":0}]
[null,"Emissões","g CO2 eq/MJ",{"$f":"D206/$E$130","v":{"$error":"#DIV/0!"}},{"$f":"E206/$E$130","v":{"$error":"#DIV/0!"}},{"$error":"#DIV/0!"}]
[]
[null,"Emissões totais","g CO2 eq/MJ",{"$f":"D189+D198+D207","v":{"$error":"#DIV/0!"}},{"$f":"E189+E198+E207","v":{"$error":"#DIV/0!"}},{"$error":"#DIV/0!"}]

{"sheet":"Biometano","index":19,"n_rows":96,"n_cols":8,"rows_kept":96,"cut":false,"hidden":false,"merged":[[22,1,22,7],[23,1,23,7],[25,2,25,4],[3,2,3,7],[5,2,5,7],[7,2,7,7],[9,2,9,3],[12,2,12,3],[14,3,14,5],[82,2,82,4],[86,2,86,4],[92,1,92,7],[49,1,49,7],[54,1,54,7],[70,2,70,4],[74,2,74,4],[30,2,30,4],[35,2,35,4],[40,2,40,4],[45,2,45,4],[78,2,78,4]]}
[]
[null,"Produção de biometano"]
[]
[null,"Nome da Usina:","Usina Hipotética"]
[]
[null,"CNPJ","00.000.000/0000-00"]
[]
[null,"Responsável pelo preenchimento:"]
[]
[null,"Telefone :","(00) 0000-0000"]
[]
[]
[null,null,"Biometano"]
[]
[null,"Intensidade de Carbono\n(g CO₂eq/MJ)",{"$f":"SUM(C18:C20)","v":3.4827055034308922},"Nota de Eficiência Energético-Ambiental\n(g CO₂eq/MJ)",null,null,{"$f":"G18-C15","v":83.21729449656911}]
[]
[null,null,null,null,null,null,"Fóssil substituto: Média entre Gasolina, Diesel e GNV"]
[null,"industrial",{"$f":"IFERROR(_Biometano!C5,0)","v":0},null,null,null,{"$f":"'Dados auxiliares'!F169","v":86.7}]
[null,"transporte",{"$f":"IFERROR(_Biometano!C6,0)","v":0},null,null,null,"Redução de emissões"]
[null,"uso",{"$f":"IFERROR(_Biometano!C7,0)","v":3.4827055034308922},null,null,null,{"$f":"(G18-C15)/G18","v":0.95983038635027806}]
[]
[]
[null,"Fase industrial - produção de biometano"]
[null,"Biomassas"]
[null,null,null,"Biomassa 1"]
[null,null,"Biogás de Aterro Sanitário"]
[null,null,"Quantidade",null,"t/ano"]
[null,null,"Distância de transporte",null," km"]
[]
[null,null,null,"Biomassa 2"]
[null,null,"Especificar"]
[null,null,"Quantidade",null,"t/ano"]
[null,null,"Distância de transporte",null," km"]
[]
[null,null,null,"Biomassa 3"]
[null,null,"Especificar"]
[null,null,"Quantidade",null,"t/ano"]
[null,null,"Distância de transporte",null," km"]
[]
[null,null,null,"Biomassa 4"]
[null,null,"Especificar"]
[null,null,"Quantidade",null,"t/ano"]
[null,null,"Distância de transporte",null," km"]
[]
[null,null,null,"Biomassa 5"]
[null,null,"Especificar"]
[null,null,"Quantidade",null,"t/ano"]
[null,null,"Distância de transporte",null," km"]
[]
[null,"Produtos"]
[null,null,"Produção de biometano",null,"Nm³/ano","Poder calorífico inferior",null,"MJ/Nm³"]
[null,null,null,null,null,"Teor de metano",null,"% molar"]
[null,null,"Eletricidade comercializada",null,"kWh/ano"]
[]
[null,"Combustíveis e eletricidade"]
[null,null,"Eletricidade da rede - mix médio",null,"MWh/ano"]
[null,null,"Eletricidade - PCH",null,"MWh/ano"]
[null,null,"Eletricidade - biomassa",null,"MWh/ano"]
[null,null,"Eletricidade - eólica",null,"MWh/ano"]
[null,null,"Eletricidade - solar",null,"MWh/ano"]
[null,null,"Diesel - B8",null,"m³/ano"]
[null,null,"Diesel - B10",null,"m³/ano"]
[null,null,"Diesel - BX",null,"m³/ano","Teor de biodiesel na mistura"]
[null,null,"Diesel - B20",null,"m³/ano"]
[null,null,"Diesel - B30",null,"m³/ano"]
[null,null,"Biodiesel - B100",null,"m³/ano"]
[null,null,"Óleo combustível",null,"m3/ ano"]
[null,null,"Biogás de terceiros",null,"Nm³/ano","PCI do biogás",null,"MJ/Nm³"]
[null,null,"Biogás próprio",null,"Nm³/ano","PCI do biogás",null,"MJ/Nm³"]
[null,null,"Gás natural",null,"Nm³/ano"]
[null,null,"Cavaco de madeira"]
[null,null,"Quantidade (base úmida)",null,"t/ano"]
[null,null,"Umidade"]
[null,null,"Distância de transporte",null,"km"]
[null,null," Lenha"]
[null,null,"Quantidade (base úmida)",null,"t/ano"]
[null,null,"Umidade"]
[null,null,"Distância de transporte",null,"km"]
[null,null,"Resíduos florestais"]
[null,null,"Quantidade (base úmida)",null,"t/ano"]
[null,null,"Umidade"]
[null,null,"Distância de transporte",null,"km"]
[null,null,"Bagaço de cana"]
[null,null,"Quantidade (base úmida)",null,"t/ano"]
[null,null,"Umidade"]
[null,null,"Distância de transporte",null,"km"]
[null,null,"Palha de cana"]
[null,null,"Quantidade (base úmida)",null,"t/ano"]
[null,null,"Umidade"]
[null,null,"Distância de transporte",null,"km"]
[]
[]
[null,"Fase de distribuição"]
[]
[null,null,"Rodoviário",1,{"$f":"IF((SUM(D95:D96)=1),\"\",\"A soma das porcentagens de distribuição deve ser igual a 100%!\")","v":""}]
[null,null,"Dutoviário",0]

{"sheet":"_Biometano","index":20,"n_rows":82,"n_cols":82,"rows_kept":82,"cut":false,"hidden":true,"merged":[[9,7,12,7],[9,1,9,5],[65,1,65,5],[1,1,1,5],[2,2,2,3],[3,2,3,3]]}
[]
[null,"Emissões totais - g CO₂ eq"]
[null,null,"Biometano"]
[null,"Total",{"$f":"SUM(C5:C7)","v":{"$error":"#DIV/0!"}}]
[null,"Industrial",{"$f":"H62","v":{"$error":"#DIV/0!"}},{"$f":"C5/$C$4","v":{"$error":"#DIV/0!"}}]
[null,"Transporte",{"$f":"D82","v":{"$error":"#DIV/0!"}},{"$error":"#DIV/0!"}]
[null,"Uso",{"$f":"'FE''s queima combustíveis'!$I$12","v":3.4827055034308922},{"$error":"#DIV/0!"}]
[]
[]
[null,"Etapa industrial - Produção de biogás",null,null,null,null,null,"Emissões por MJ de biometano",null,null,null,null,null,null,null,null,null,null,null,null,null,null,null,null,null,null,null,null,null,null,null,null,null,null,null,null,null,null,null,null,null,null,null,null,null,null,null,null,null,null,null,null,null,null,null,null,null,null,null,null,null,null,null,null,null,null,null,null,null,null,null,null,null,null,null,null,null,{"$f":"#REF!*CD14","v":{"$error":"#REF!"}}]
[null,"Produtos","Unidade","Unidade/ano","MJ","Alocação"]
[null,"Biogás","Nm³",{"$f":"Biometano!D51","v":0},{"$f":"D12*Biometano!G51","v":0},{"$f":"E12/SUM($E$12:$E$13)","v":{"$error":"#DIV/0!"}}]
[null,"Eletricidade","kWh",{"$f":"Biometano!D53","v":0},{"$f":"CONVERT(D13,\"kWh\",\"MJ\")","v":0},{"$f":"E13/SUM($E$12:$E$13)","v":{"$error":"#DIV/0!"}}]
[null,"Entradas ","Unidade","Unidade/ano",null,"g CO2 eq/ano",null,"g CO2 eq/MJ",null,null,null,null,null,null,null,null,null,null,null,null,null,null,null,null,null,null,null,null,null,null,null,null,null,null,null,null,null,null,null,null,null,null,null,null,null,null,null,null,null,null,null,null,null,null,null,null,null,null,null,null,null,null,null,null,null,null,null,null,null,null,null,null,null,null,null,null,null,null,{"$error":"#REF!"},{"$f":"D12/CA14","v":{"$error":"#REF!"}},{"$f":"CB14*1000","v":{"$error":"#REF!"}},{"$f":"CC14/D12","v":{"$error":"#REF!"}}]
[null,"Matérias-primas"]
[null,"Matéria-prima 1","t",{"$f":"Biometano!$D$27","v":0},null,0,null,{"$f":"(F16*$F$12)/$E$12","v":{"$error":"#DIV/0!"}}]
[null,"Transporte matéria-prima 1 até a usina","tkm",{"$f":"D16*Biometano!$D$28","v":0},null,{"$f":"D17*'Dados auxiliares'!$H$132","v":0},null,{"$f":"(F17*$F$12)/$E$12","v":{"$error":"#DIV/0!"}}]
[null,"Matéria-prima 2","t",{"$f":"Biometano!$D$32","v":0},null,0,null,{"$error":"#DIV/0!"}]
[null,"Transporte matéria-prima 2 até a usina","tkm",{"$f":"D18*Biometano!$D$33","v":0},null,{"$f":"D19*'Dados auxiliares'!$H$132","v":0},null,{"$error":"#DIV/0!"}]
[null,"Matéria-prima 3","t",{"$f":"Biometano!$D$37","v":0},null,0,null,{"$error":"#DIV/0!"}]
[null,"Transporte matéria-prima 3 até a usina","tkm",{"$f":"D20*Biometano!$D$38","v":0},null,{"$f":"D21*'Dados auxiliares'!$H$132","v":0},null,{"$error":"#DIV/0!"}]
[null,"Matéria-prima 4","t",{"$f":"Biometano!$D$42","v":0},null,0,null,{"$error":"#DIV/0!"}]
[null,"Transporte matéria-prima 4 até a usina","tkm",{"$f":"D22*Biometano!$D$43","v":0},null,{"$f":"D23*'Dados auxiliares'!$H$132","v":0},null,{"$error":"#DIV/0!"}]
[null,"Matéria-prima 5","t",{"$f":"Biometano!$D$47","v":0},null,0,null,{"$error":"#DIV/0!"}]
[null,"Transporte matéria-prima 5 até a usina","tkm",{"$f":"D24*Biometano!$D$48","v":0},null,{"$f":"D25*'Dados auxiliares'!$H$132","v":0},null,{"$error":"#DIV/0!"}]
[null,"Insumos"]
[null,"Eletricidade da rede - mix médio","kWh",{"$f":"Biometano!D56*1000","v":0},null,{"$f":"D27*'Dados auxiliares'!$H$107","v":0},null,{"$error":"#DIV/0!"}]
[null,"Eletricidade - PCH","kWh",{"$f":"Biometano!D57*1000","v":0},null,{"$f":"D28*'Dados auxiliares'!$H$108","v":0},null,{"$error":"#DIV/0!"}]
[null,"Eletricidade - biomassa","kWh",{"$f":"Biometano!D58*1000","v":0},null,{"$f":"D29*'Dados auxiliares'!$H$109","v":0},null,{"$error":"#DIV/0!"}]
[null,"Eletricidade - eólica","kWh",{"$f":"Biometano!D59*1000","v":0},null,{"$f":"D30*'Dados auxiliares'!$H$110","v":0},null,{"$error":"#DIV/0!"}]
[null,"Eletricidade - solar","kWh",{"$f":"Biometano!D60*1000","v":0},null,{"$f":"D31*'Dados auxiliares'!$H$111","v":0},null,{"$error":"#DIV/0!"}]
[null,"Diesel B0","kg",{"$f":"((Biometano!$D$61*(1-0.08)+Biometano!$D$62*(1-0.1)+Biometano!$D$63*(1-Biometano!$G$63)+Biometano!$D$64*(1-0.2)+Biometano!$D$65*(1-0.3)+Biometano!$D$66*(1-1))*('Dados auxiliares'!$D$26))*1000","v":0},null,{"$f":"D32*'Dados auxiliares'!$H$116","v":0},null,{"$error":"#DIV/0!"}]
[null,"Biodiesel B100","kg",{"$f":"((Biometano!$D$61*(0.08)+Biometano!$D$62*(0.1)+Biometano!$D$63*(Biometano!$G$63)+Biometano!$D$64*(0.2)+Biometano!$D$65*(0.3)+Biometano!$D$66*(1))*('Dados auxiliares'!$D$17))*1000","v":0},null,{"$f":"D33*'Dados auxiliares'!$H$117","v":0},null,{"$error":"#DIV/0!"}]
[null,"Óleo combustível","kg",{"$f":"Biometano!D67*'Dados auxiliares'!$D$30*1000","v":0},null,{"$f":"D34*'Dados auxiliares'!$H$126","v":0},null,{"$error":"#DIV/0!"}]
[null,"Biogás de terceiros","Nm³",{"$f":"Biometano!D68","v":0},null,{"$f":"D35*Biometano!G68*'Dados auxiliares'!$H$125","v":0},null,{"$error":"#DIV/0!"}]
[null,"Gás natural","Nm³",{"$f":"Biometano!D70","v":0},null,{"$f":"D36*'Dados auxiliares'!$H$115","v":0},null,{"$error":"#DIV/0!"}]
[null,"Cavaco de madeira","kg base seca",{"$f":"Biometano!$D$72*(1-Biometano!$D$73)*1000","v":0},null,{"$f":"D37*'Dados auxiliares'!$H$123","v":0},null,{"$error":"#DIV/0!"}]
[null,"Transporte de cavaco de madeira","tkm",{"$f":"((D37/1000)*Biometano!$D$74)","v":0},null,{"$f":"D38*'Dados auxiliares'!$H$131","v":0},null,{"$error":"#DIV/0!"}]
[null,"Lenha","kg base seca",{"$f":"Biometano!$D$76*(1-Biometano!$D$77)*1000","v":0},null,{"$f":"D39*'Dados auxiliares'!$H$124","v":0},null,{"$error":"#DIV/0!"}]
[null,"Transporte de lenha","tkm",{"$f":"((D39/1000)*Biometano!$D$78)","v":0},null,{"$f":"D40*'Dados auxiliares'!$H$131","v":0},null,{"$error":"#DIV/0!"}]
[null,"Resíduos florestais","kg base seca",{"$f":"Biometano!$D$80*(1-Biometano!$D$81)*1000","v":0},null,0,null,{"$error":"#DIV/0!"}]
[null,"Transporte de resíduos florestais","tkm",{"$f":"((D41/1000)*Biometano!$D$82)","v":0},null,{"$f":"D42*'Dados auxiliares'!$H$131","v":0},null,{"$error":"#DIV/0!"}]
[null,"Bagaço de cana-de-açúcar","kg base seca",{"$f":"Biometano!$D$84*(1-Biometano!$D$85)*1000","v":0},null,0,null,{"$error":"#DIV/0!"}]
[null,"Transporte de bagaço de cana-de-açúcar","tkm",{"$f":"((D43/1000)*Biometano!$D$86)","v":0},null,{"$f":"D44*'Dados auxiliares'!$H$131","v":0},null,{"$error":"#DIV/0!"}]
[null,"Palha de cana-de-açúcar","kg base seca",{"$f":"Biometano!$D$88*(1-Biometano!$D$89)*1000","v":0},null,{"$f":"D45*'Dados auxiliares'!$H$78","v":0},null,{"$error":"#DIV/0!"}]
[null,"Transporte de palha de cana-de-açúcar","tkm",{"$f":"((D45/1000)*Biometano!$D$90)","v":0},null,{"$f":"D46*'Dados auxiliares'!$H$131","v":0},null,{"$error":"#DIV/0!"}]
[null,"Emissões","Unidade","Unidade/ano",null,"g CO2 eq/t óleo",null,"g CO2 eq/MJ"]
[null,"CO₂ eq - queima do diesel","kg",{"$f":"D32*'FE''s queima combustíveis'!$I$50/1000","v":0},null,{"$f":"D48*1000","v":0},null,{"$error":"#DIV/0!"}]
[null,"CO₂ eq - queima do biodiesel","kg",{"$f":"D33*'FE''s queima combustíveis'!$I$51/1000","v":0},null,0,null,{"$error":"#DIV/0!"}]
[null,"CO₂ eq - queima do óleo combustível","kg",{"$f":"D34*'FE''s queima combustíveis'!$I$53/1000","v":0},null,{"$f":"D50*1000","v":0},null,{"$error":"#DIV/0!"}]
[null,"CO₂ eq - queima do biogás de terceiros","kg",{"$f":"Biometano!D68*Biometano!G68*'FE''s queima combustíveis'!$I$41/1000","v":0},null,0,null,{"$error":"#DIV/0!"}]
[null,"CO₂ eq - queima do biogás próprio","kg",{"$f":"Biometano!D69*Biometano!G69*'FE''s queima combustíveis'!$I$41/1000","v":0},null,0,null,{"$error":"#DIV/0!"}]
[null,"CO₂ eq - queima da gás natural","kg",{"$f":"D36*'FE''s queima combustíveis'!$I$46*('Dados auxiliares'!$D$27/1000)/1000","v":0},null,0,null,{"$error":"#DIV/0!"}]
[null,"CO₂ eq - queima do bagaço de cana-de-açúcar","kg",{"$f":"D43*'FE''s queima combustíveis'!$I$36/1000","v":0},null,0,null,{"$error":"#DIV/0!"}]
[null,"CO₂ eq - queima da palha de cana-de-açúcar","kg",{"$f":"D45*'FE''s queima combustíveis'!$I$37/1000","v":0},null,0,null,{"$error":"#DIV/0!"}]
[null,"CO₂ eq - queima dos cavacos de madeira","kg",{"$f":"D37*'FE''s queima combustíveis'!$I$38/1000","v":0},null,0,null,{"$error":"#DIV/0!"}]
[null,"CO₂ eq - queima da lenha","kg",{"$f":"D39*'FE''s queima combustíveis'!$I$39/1000","v":0},null,0,null,{"$error":"#DIV/0!"}]
[null,"CO₂ eq - queima dos resíduos florestais","kg",{"$f":"D41*'FE''s queima combustíveis'!$I$40/1000","v":0},null,0,null,{"$error":"#DIV/0!"}]
[]
[null,"Emissões do processo","g CO2 eq/kg biometano",null,null,{"$f":"SUM(F48:F58)","v":0},null,{"$error":"#DIV/0!"}]
[null,"Emissões background","g CO2 eq/kg biometano",null,null,{"$f":"SUM(F16:F46)","v":0},null,{"$error":"#DIV/0!"}]
[null,"Emissões totais","g CO2 eq/kg biometano",null,null,{"$f":"F61+F60","v":0},null,{"$error":"#DIV/0!"}]
[]
[null,"Emissões totais","g CO2 eq/kg biometano"]
[]
[null,"Etapa distribuição"]
[null,"Sistema logístico rodoviário"]
[null,"Parâmetro","Unidade","Biometano"]
[null,"Massa","t",{"$f":"$D$12*'Dados auxiliares'!D18*Biometano!$D$95","v":0}]
[null,"Distância de transporte rodoviário","km",{"$f":"'Dados auxiliares'!C161","v":43}]
[null,"Transporte rodoviário","tkm",{"$f":"D69*D70","v":0}]
[null,"Emissões","g CO2 eq",{"$f":"D71*'Dados auxiliares'!$H$132","v":0}]
[null,"Emissões","g CO2 eq/MJ",{"$f":"D72/E12","v":{"$error":"#DIV/0!"}}]
[null,"Sistema logístico dutoviário"]
[null,"Parâmetro","Unidade","Biometano"]
[null,"Massa","t",{"$f":"$D$12*'Dados auxiliares'!D27*Biometano!$D$96","v":0}]
[null,"Distância de transporte dutoviário","km",{"$f":"'Dados auxiliares'!D161","v":24}]
[null,"Transporte dutoviário","tkm/t óleo",{"$f":"D76*D77","v":0}]
[null,"Emissões","g CO2 eq/t óleo",{"$f":"D78*'Dados auxiliares'!$H$136","v":0}]
[null,"Emissões","g CO2 eq/MJ",{"$f":"D79/E12","v":{"$error":"#DIV/0!"}}]
[]
[null,"Emissões totais","g CO2 eq/MJ",{"$f":"D73+D80","v":{"$error":"#DIV/0!"}}]

{"sheet":"Dados auxiliares","index":21,"n_rows":173,"n_cols":12,"rows_kept":173,"cut":false,"hidden":true,"merged":[[150,10,150,11],[172,2,172,4],[172,5,172,7],[169,2,169,4],[169,5,169,7],[170,2,170,4],[170,5,170,7],[171,2,171,4],[171,5,171,7],[166,2,166,4],[166,5,166,7],[167,2,167,4],[167,5,167,7],[168,2,168,4],[168,5,168,7],[164,2,164,4],[3,1,4,1],[12,6,13,6],[33,1,34,1],[3,4,4,4],[33,4,34,4],[12,1,13,1],[12,4,12,5],[48,3,48,6],[48,7,49,7],[48,1,49,1],[164,5,164,7],[165,2,165,4],[165,5,165,7],[150,3,150,4],[150,5,150,6],[150,7,150,9],[48,9,49,9],[48,8,49,8],[48,2,49,2]]}
[]
[]
[null,"Fatores de caracterização dos gases causadores do efeito estufa"]
[null,"Gases de Efeito Estufa",null,"GWP","Referência"]
[null,null,null,"kg CO2eq/kg"]
[null,"CO2 - Dióxido de Carbono Fóssil",null,1,"AR5 (IPCC)"]
[null,"CH4 - Metano Fóssil",null,30,"AR5 (IPCC)"]
[null,"CH4 - biogênico - Metano Biogênico",null,28,"AR5 (IPCC)"]
[null,"N2O - Óxido Nitroso",null,265,"AR5 (IPCC)"]
[]
[]
[null,"Massa específica e poder calorífico inferior dos combustíveis"]
[null,"Combustíveis",null,"Massa específica","PCI",null,"Referência"]
[null,null,null,"kg/L","kcal/kg","MJ/kg"]
[null,"Etanol anidro",null,{"$f":"0.791","v":0.79100000000000004},6750,{"$f":"CONVERT(E15,\"kcal\",\"MJ\")","v":28.260900000000003},"ANP"]
[null,"Etanol hidratado",null,{"$f":"0.809","v":0.80900000000000005},6300,{"$f":"CONVERT(E16,\"kcal\",\"MJ\")","v":26.376840000000001},"ANP"]
[null,"Biodiesel (B100)",null,{"$f":"0.88","v":0.88},9000,{"$f":"CONVERT(E17,\"kcal\",\"MJ\")","v":37.681199999999997},"ANP"]
[null,"Biometano (96,5% metano)",null,7.5760542052289489E-4,{"$f":"CONVERT(F18,\"MJ\",\"kcal\")","v":11524.314512276678},48.25,"RenovaBio"]
[null,"Gás combustível renovável",null,8.0000000000000004E-4,{"$f":"CONVERT(F19,\"MJ\",\"kcal\")","v":10848.380624820866},45.42,"Petrobras"]
[null,"BioQav",null,0.73499999999999999,10400,{"$f":"CONVERT(E20,\"kcal\",\"MJ\")","v":43.542720000000003},"KLEIN et al. (2018) - CTBE"]
[null,"Diesel renovável",null,0.78200000000000003,{"$f":"CONVERT(F21,\"MJ\",\"kcal\")","v":10504.442533677271},43.98,"Petrobras"]
[null,"Gasolina renovável ",null,0.69,{"$f":"CONVERT(F22,\"MJ\",\"kcal\")","v":10733.734594439667},44.94,"Petrobras"]
[null,"GLP renovável",null,{"$f":"0.55","v":0.55000000000000004},{"$f":"CONVERT(F23,\"MJ\",\"kcal\")","v":11130.218782841312},46.6,"Petrobras"]
[null,"Gasolina A",null,0.74199999999999999,10400,{"$f":"CONVERT(E24,\"kcal\",\"MJ\")","v":43.542720000000003},"ANP"]
[null,"Gasolina C",null,0.75424999999999998,9400,39.355919999999998,"ANP"]
[null,"Diesel A",null,{"$f":"0.84","v":0.84},10100,42.286680000000004,"ANP"]
[null,"Gás natural seco",null,7.3999999999999999E-4,8800,36.84384,"ANP"]
[null,"Querosene de Aviação",null,0.79900000000000004,10400,43.542720000000003,"ANP"]
[null,"GLP",null,{"$f":"0.552","v":0.55200000000000005},11100,46.473480000000002,"ANP"]
[null,"Óleo combustível",null,1.0129999999999999,9590,{"$f":"CONVERT(E30,\"kcal\",\"MJ\")","v":40.151412000000001},"ANP"]
[]
[]
[null,"Poder calorífico inferior de outros co-produtos"]
[null,"Produto",null,"PCI","Referência"]
[null,null,null,"MJ/kg"]
[null,"Açúcar",null,16.190000000000001,"TACO (2011)"]
[null,"DDG – “Dried Distillers Grains”",null,20.243178,"Assumido igual ao do DDGS"]
[null,"DDGS – “Dried Distillers Grains with Solubles”",null,20.243178,"Aurora et al (2010) "]
[null,"CGM - \"Corn Gluten Meal\"",null,18.608000000000001,"Shapouri et al (2002)"]
[null,"CGF - \"Corn Gluten Feed\"",null,18.608000000000001,"Shapouri et al (2002)"]
[null,"Óleo de Milho",null,37.216000000000001,"Aurora et al (2010) "]
[null,"Óleo de Soja",null,34.04,"Mourad & Walter (2011)"]
[null,"Farelo de Soja",null,15.4,"Mourad & Walter (2011)"]
[null,"Glicerina purificada",null,16.2,"Mourad & Walter (2011)"]
[null,"Glicerina bruta",null,{"$f":"CONVERT(3491,\"kcal\",\"MJ\")","v":14.616118800000001},"ABIOVE"]
[]
[]
[null,"Emissões do ciclo de vida dos insumos e outros processos à montante"]
[null,"Insumo","Unidade ","Emissões do ciclo de vida [kg/unidade]",null,null,null,"g CO₂ eq/\nunidade","Fonte dos dados","Processo de referência"]
[null,null,null,"CO₂","N₂O","CH₄ biog","CH₄"]
[null,"Insumos agrícolas"]
[null,"Calcário calcítico","kg",3.4001956956061605E-2,1.4506696592221881E-6,1.7868832448844824E-6,7.9974027747571944E-5,{"$f":"(D52+(E52*$D$9)+(F52*$D$8)+(G52*$D$7))*1000","v":36.835637979039404},"Ecoinvent V.3.1","Lime {RoW}| production, milled, loose | Alloc Rec, U"]
[null,"Calcário dolomítico","kg",3.4001956956061605E-2,1.4506696592221881E-6,1.7868832448844824E-6,7.9974027747571944E-5,36.835637979039404,"Ecoinvent V.3.1","Lime {RoW}| production, milled, loose | Alloc Rec, U"]
[null,"Gesso","kg",2.5513589987704206E-3,6.5994415740673157E-7,1.1401762135279207E-7,3.3145878107303334E-6,2.8288743282029922,"Ecoinvent V.3.1","Gypsum, mineral {RoW}| gypsum quarry operation | Alloc Rec, U"]
[null,"N - Ureia","kg",2.9972536696840462,6.4340382247673818E-5,8.1201794828247067E-5,6.4878904803137502E-3,3211.2142356442832,"Ecoinvent V.3.1","Urea, as N {RoW}| production | Alloc Rec, U"]
[null,"N - MAP - Fosfato Monoamônico","kg",3.0738028152895898,9.6078515947296982E-5,2.01624628251585E-4,5.2532096527840274E-3,3262.5054011901889,"Ecoinvent V.3.1","Nitrogen fertiliser, as N {RER}| monoammonium phosphate production | Alloc Rec, U"]
[null,"P₂O₅ - MAP - Fosfato Monoamônico","kg",1.5661447680282488,4.8953323981758722E-5,1.0273051838542736E-4,2.6765824965501112E-3,1662.29132829471,"Ecoinvent V.3.1","Phosphate fertiliser, as P2O5 {RER}| monoammonium phosphate production | Alloc Rec, U"]
[null,"N - DAP - Fosfato diamônico","kg",3.1966140989888623,9.5270908599350679E-5,1.7106250283347176E-4,4.7753829262318611E-3,3369.9121276339833,"Ecoinvent V.3.1","Nitrogen fertiliser, as N {RER}| diammonium phosphate production | Alloc Rec, U"]
[null,"P₂O₅ - DAP - Fosfato diamônico","kg",1.33449,3.8509173E-5,3.5445092999999998E-5,3.3610197351872997E-3,1446.517985504619,"Ecoinvent V.3.1","Phosphate fertiliser, as P2O5 {RoW}| diammonium phosphate production | Alloc Rec, U"]
[null,"N - Nitrato de Amônio","kg",3.0576798378489443,1.8943252038828219E-2,7.7517877805886474E-5,4.8920608798888061E-3,8226.5739551136521,"Ecoinvent V.3.1","Ammonium nitrate, as N {RoW}| ammonium nitrate production | Alloc Rec, U"]
[null,"N - UAN - Nitrato de amônio Ureia ","kg",2.9974455607599757,9.5453685506574487E-3,8.3533288411955886E-5,5.5893788285244165E-3,5696.9885236154669,"Ecoinvent V.3.1","Nitrogen fertiliser, as N {RoW}| urea ammonium nitrate production | Alloc Rec, U"]
[null,"N - Amônia anidra","kg",1.7437522999999999,2.4352647999999999E-5,3.8942147605336001E-3,3.8942147605336001E-3,1976.0702078309487,"Ecoinvent V.3.2","Ammonia, liquid {RoW}| ammonia production, steam reforming, liquid | Alloc Def, U"]
[null,"N - Sulfato de Amônio","kg",1.6494756315000958,4.8249213331641271E-5,6.9597364670926463E-5,4.6377384857821113E-3,1803.3425538172301,"Ecoinvent V.3.1","Ammonium sulfate, as N {RoW}| ammonium sulfate production | Alloc Rec, U"]
[null,"N - CAN - Nitrato de amônio cálcio","kg",3.1372762231640969,1.8946961417427549E-2,8.6070734432031176E-5,5.0843271092914722E-3,8313.1607926252382,"Ecoinvent V.3.1","Nitrogen fertiliser, as N {RoW}| calcium ammonium nitrate production | Alloc Rec, U"]
[null,"N - Nitrato de cálcio","kg",1.203454486665229,5.7485730595355699E-3,3.6583166366284706E-5,1.7502953573364248E-3,2780.3595368205033,"Ecoinvent V.3.1","Ammonium nitrate, as N {RoW}| calcium nitrate production | Alloc Rec, U"]
[null,"P₂O₅ - SSP - Superfosfato Simples","kg",2.1702881457067429,9.8026882815541264E-5,2.7094541453590764E-4,5.4601558645270276E-3,2367.6564171956775,"Ecoinvent V.3.1","Phosphate fertiliser, as P2O5 {RoW}| single superphosphate production | Alloc Rec, U"]
[null,"P₂O₅ - TSP - Superfosfato Triplo","kg",1.7320158482536403,6.8354524896443953E-5,1.764561319969206E-4,4.0437201773484725E-3,1876.382174367566,"Ecoinvent V.3.1","Phosphate fertiliser, as P2O5 {RoW}| triple superphosphate production | Alloc Rec, U"]
[null,"K₂O - KCl - Cloreto de potássio","kg",0.41050074359161015,2.3264394781915301E-5,2.9799838598700586E-5,1.2569185741588918E-3,455.20776091434811,"Ecoinvent V.3.1","Potassium chloride, as K2O {RoW}| potassium chloride production | Alloc Rec, U"]
[null,"N - Outros","kg",2.9972536696840462,6.4340382247673818E-5,8.1201794828247067E-5,6.4878904803137502E-3,3211.2142356442832,"Ecoinvent V.3.2","Urea, as N {RoW}| production | Alloc Rec, U"]
[null,"P₂O₅ - Outros","kg",2.1702881457067429,9.8026882815541264E-5,2.7094541453590764E-4,5.4601558645270276E-3,2367.6564171956775,"Ecoinvent V.3.3","Phosphate fertiliser, as P2O5 {RoW}| single superphosphate production | Alloc Rec, U"]
[null,"K₂O - Outros","kg",0.41050074359161015,2.3264394781915301E-5,2.9799838598700586E-5,1.2569185741588918E-3,455.20776091434811,"Ecoinvent V.3.4","Potassium chloride, as K2O {RoW}| potassium chloride production | Alloc Rec, U"]
[null,"Glifosato","kg",10.400995928933837,3.8841816913328525E-4,9.5282070183273825E-4,3.2503361124152225E-2,11505.706557130039,"Ecoinvent V.3.1","Glyphosate {RoW}| production | Alloc Rec, U"]
[null,"2,4 - D","kg",4.4718389544682751,1.2780451474074059E-4,3.4853443743727646E-4,1.8873503831672141E-2,5081.6712300729796,"Ecoinvent V.3.1","2,4-dichlorophenol {RoW}| production | Alloc Rec, U"]
[null,"Pesticidas, geral","kg",9.2478390548319371,2.0154475450054766E-3,7.6309833994085295E-4,3.1307399308295E-2,10742.521387025583,"Ecoinvent V.3.1","Pesticide, unspecified {RoW}| production | Alloc Rec, U"]
[null,"Sementes de milho","kg",0.97081551958148959,1.9993345595241342E-3,5.5785387986517651E-5,2.1296555375507498E-3,1566.09083484553,"Ecoinvent V.3.1","Maize seed, Swiss integrated production, at farm {CH}| production | Alloc Rec, U"]
[null,"Sementes de soja","kg",1.5489193388251481,9.0294480709330531E-4,3.8261577147934118E-5,4.3822173157851395E-4,1802.4176888123714,"Ecoinvent V.3.1","Soybean seed, for sowing {RoW}| production | Alloc Rec, U"]
[null,"Operações agrícolas"]
[null,"Recolhimento de palha de cana","kg palha (bs)",null,null,null,null,11.953490289161735,"CTBE","Recolhimento de palha enfardada, com 50% de recolhimento"]
[null,"Secagem de grãos","m³",null,null,null,null,1.6299149999999998E-2,"Embrapa","Drying of maize grain sozinho {BR - Renovabio} "]
[null,"Processamento de grãos secos (limpeza e armazenamento)","m³",null,null,null,null,{"$f":"H81-H79","v":1.5811137000000003E-2},"Embrapa"]
[null,"Processamento de grãos incluindo secagem(limpeza, secagem e armazenamento)","m³",null,null,null,null,3.2110287000000001E-2,"Embrapa","Processamento do milho {BR - Renovabio}| limpeza, secagem e armazenamento | Alloc Def, U"]
[null,"Insumos industriais"]
[null,"Água","kg",8.2616105186804199E-6,1.747185929341839E-10,4.7321769206690297E-10,1.6013712014882334E-8,{"$f":"(D83+(E83*$D$9)+(F83*$D$8)+(G83*$D$7))*1000","v":8.8015724016323217E-3},"Ecoinvent V.3.1.","Water, decarbonised, at user {RoW}| water production and supply, decarbonised | Alloc Rec, U"]
[null,"Cal (CaO)","kg",0.95591663687445805,2.6010503032618892E-6,2.0368970883718792E-6,1.6914033985760804E-4,961.73715851902512,"Ecoinvent V.3.1.","Quicklime, milled, loose {RoW}| production | Alloc Rec, U"]
[null,"Ácido cítrico","kg",24.960930596473098,3.2428778815110772E-3,2.0662232456199999E-3,5.3071686581531947E-2,27470.298083396847,"Ecoinvent V.3.1.","Citric acid {RoW}| production | Alloc Def, U"]
[null,"Ácido Clorídrico","kg",1.5235185592071105,6.9803385937266109E-5,1.8990036807667912E-4,4.2780328972758337E-3,1675.674653704908,"Ecoinvent V.3.1.","Hydrochloric acid, without water, in 30% solution state {RoW}| hydrochloric acid production, from the reaction of hydrogen with chlorine | Alloc Def, U"]
[null,"Ácido Clorídrico - solução 30%","kg",0.64867670528474808,4.2266645249333224E-5,2.8469726323438298E-3,1.3569992940037528E-3,780.30257880156125,"Ecoinvent","Hydrochloric acid, 30% in H2O, at plant/BR U"]
[null,"Ácido sulfúrico","kg",9.8405325111341299E-2,3.3632139678386916E-6,2.7678037501366587E-5,3.0960992791063334E-4,109.3598597001758,"Ecoinvent V.3.1.","Sulfuric acid {RoW}| production | Alloc Def, U"]
[null,"Ácido fosfórico","kg",1.4170396172642701,4.1954966084565433E-5,1.1083658523662765E-4,2.7221948366555749E-3,1512.9269527629726,"Ecoinvent V.3.1.","Phosphoric acid, industrial grade, without water, in 85% solution state {RER}| purification of wet-process phosphoric acid to industrial grade, product in 85% solution state | Alloc Def, U"]
[null,"Metilato de sódio","kg",1.625019718411054,6.5893321423716108E-5,1.5218393201020999E-4,6.2918200474016105E-3,1835.4972001066728,"Ecoinvent V.3.1.","Sodium methoxide {GLO}| production | Alloc Def, U"]
[null,"Floculante (flocculant polymer)","kg",1.6618009884267799,1.4144856756223255E-3,2.3403531466476292E-4,3.5901438368374722E-3,2150.8969963824338,"Ecoinvent V.3.1.","Chemical, inorganic {GLO}| production | Alloc Def, U"]
[null,"Antibióticos","kg",1.6618009884267799,1.4144856756223255E-3,2.3403531466476292E-4,3.5901438368374722E-3,2150.8969963824338,"Ecoinvent V.3.1.","Chemical, inorganic {GLO}| production | Alloc Def, U"]
[null,"Óleo lubrificante","kg",1.0258298046052099,2.2500731860214766E-5,3.5629656486758239E-5,3.2871039255149997E-3,1131.403246695246,"Ecoinvent V.3.1.","Lubricating oil {RER}| production | Alloc Def, U"]
[null,"Zeolita","kg",4.6377024416856099,1.4513408487318893E-4,2.7480308646500004E-4,1.0882395485538527E-2,5010.3293251641808,"Ecoinvent V.3.1.","Zeolite, powder {RER}| production | Alloc Def, U"]
[null,"Amonia","kg",2.4252854314612051,3.312128250833601E-5,4.9045357646018532E-4,2.0384746068955444E-2,3059.3376535354628,"CTBE","Ammonia, liquid, at plant, production mix/CTBE BR"]
[null,"Tratamento de água","kg",1.4598769867760539E-4,5.4773940369108725E-9,1.7277566837368383E-7,2.5457972110534304E-7,0.15991431844501022,"CTBE","Water treatment biorefinery/CTBE BR U"]
[null,"Hidróxido de sódio","kg",0.41460283441940904,2.6655102009199964E-5,2.7631848736821879E-3,4.4741930923490277E-4,512.45819219199541,"Ecoinvent V.3.1","Sodium hydroxide, 50% in H2O, market mix, at plant/CTBE BR U"]
[null,"Levedura","kg",null,null,null,null,1049.7069435841399,"Ecoinvent V.3.1","Yeast paste, from whey, at fermentation/CH U"]
[null,"Enzima celulase","kg",null,null,null,null,1310,"CTBE","Enzyme, cellulase/CTBE BR U"]
[null,"Hexano","kg",0.27858008310983945,6.7706024330814438E-6,1.1332471593049646E-5,9.3396566494150825E-4,{"$f":"(D100+(E100*$D$9)+(F100*$D$8)+(G100*$D$7))*1000","v":308.71057190745665},"Ecoinvent","Hexane {RoW}| molecular sieve separation of naphtha | Alloc Def, U"]
[null,"Metanol","kg",0.41246262905771303,1.2815293254944498E-5,1.1021495972158117E-5,4.8027567844755557E-3,560.24998719176028,"Ecoinvent V.3.1.","Methanol {GLO}| production | Alloc Def, U"]
[null,"Hidrogênio","kg",1.7803344000000001,2.1070450999999997E-5,8.2710412000000006E-5,1.9627233586178398E-2,2377.0509686363521,"Ecoinvent V.3","Hydrogen, liquid {RoW}| market for | Alloc Def, U"]
[null,"Óleo de algodão","kg",1.6542555000000001,1.3750658E-3,7.6054719999999994E-4,5.8338512350536997E-3,2214.9587956516107,"Ecoinvent V.3","Cottonseed oil, refined {RoW}| cottonseed oil refinery operation | Alloc Def, U"]
[null,"Óleo de palma","kg",0.32519384000000001,8.0655199999999999E-4,7.5718159000000003E-4,9.8284686754489996E-4,589.61661054634703,"Ecoinvent V.3","Palm oil, refined {GLO}| palm oil refinery operation | Alloc Def, U"]
[null,"Outros óleos vegetais","kg",1.6542555000000001,1.3750658E-3,7.6054719999999994E-4,5.8338512350536997E-3,2214.9587956516107,"Ecoinvent V.3","Cottonseed oil, refined {RoW}| cottonseed oil refinery operation | Alloc Def, U"]
[null,"Eletricidade"]
[null,"Eletricidade BR Mix - Alta Voltagem","kWh",{"$f":"91.2/1000","v":9.1200000000000003E-2},{"$f":"8.12/1000000","v":8.1199999999999985E-6},{"$f":"1.69/1000","v":1.6899999999999999E-3},{"$f":"171/1000000","v":1.7100000000000001E-4},{"$f":"(D107+(E107*$D$9)+(F107*$D$8)+(G107*$D$7))*1000","v":145.80179999999999},"Ecoinvent V.3.1","Electricity, high voltage, production BR, at grid/BR U"]
[null,"Eletricidade - PCH","kWh",4.0244853000000001E-3,7.9806566999999999E-8,6.9980357999999997E-8,6.887307865481801E-6,4.2542127262434546,"Ecoinvent V.3","Electricity, high voltage {RoW}| electricity production, hydro, run-of-river | Alloc Def, U"]
[null,"Eletricidade - biomassa","kWh",4.2743054000000003E-2,6.8079306000000007E-5,5.2857906999999999E-4,1.2359392789795999E-4,79.292101886938809,"Ecoinvent V.3","Electricity, high voltage {BR}| cane sugar production with ethanol by-product | Alloc Def, U"]
[null,"Eletricidade - eólica","kWh",1.2991040000000001E-2,4.5145853000000001E-4,4.7898268000000002E-4,4.4753481809233999E-5,147.38166994427701,"Ecoinvent V.3","Electricity, high voltage {BR}| electricity production, wind, 1-3MW turbine, onshore | Alloc Def, U"]
[null,"Eletricidade - solar","kWh",7.1841185999999987E-2,2.4306162E-6,7.7619164999999995E-6,2.6750424406227002E-4,80.727760276868082,"Ecoinvent V.3","Electricity, low voltage {RoW}| electricity production, photovoltaic, 570kWp open ground installation, multi-Si | Alloc Def, U"]
[null,"Eletricidade BR Mix - Média Voltagem","kWh",{"$f":"93.8/1000","v":9.3799999999999994E-2},{"$f":"8.33/1000000","v":8.3299999999999999E-6},{"$f":"1.73/1000","v":1.73E-3},{"$f":"175/1000000","v":1.75E-4},149.69744999999998,"Ecoinvent V.3.1","Electricity, medium voltage, production BR, at grid/BR U"]
[null,"Eletricidade EUA - Alta Voltagem","kWh",0.71886614346805466,2.3568521582651309E-5,1.7229307717794883E-5,1.1394406063105138E-3,759.77744049287094,"Ecoinvent V.3.1","Electricity, high voltage, at grid/US U"]
[null,"Combustíveis"]
[null,"Gás Natural ","Nm³",0.12020699999999999,1.8228707E-6,2.0969834999999999E-6,5.7767815999999997E-11,{"$f":"(D115+(E115*$D$9)+(F115*$D$8)+(G115*$D$7))*1000","v":120.74877800653448},"Ecoinvent V.3.1","Natural gas, high pressure {RoW}| market for | Alloc Def, U"]
[null,"Diesel (B0)","kg",0.55302594999999999,1.0735005999999999E-5,9.2345760000000007E-6,3.7140826000000002E-10,{"$f":"(D116+(E116*$D$9)+(F116*$D$8)+(G116*$D$7))*1000","v":556.12930586024777},"Ecoinvent V.3.1. BEN 2016","Diesel, low-sulfur {RoW}| market for | Alloc Def, U"]
[null,"Biodiesel (B100)","kg",null,null,null,null,986.89013439250016,"RenovaCalc - Típico","BEN 2016 - Tabela VIII.9 – Densidades e Poderes Caloríficos p.226"]
[null,"Diesel B8","kg",null,null,null,null,{"$f":"(D118+(E118*$D$9)+(F118*$D$8)+(G118*$D$7))*1000","v":0},"Ecoinvent V.3.1 + B0 Soja RenovaCalc"]
[null,"GLP","kg",0.63189465223483021,1.0877841558803793E-5,1.7636996664664968E-5,1.9547826837420807E-3,{"$f":"(D119+(E119*$D$9)+(F119*$D$8)+(G119*$D$7))*1000","v":693.91459666678634},"Ecoinvent V.3.1","Liquefied petroleum gas {RoW}| petroleum refinery operation | Alloc Def, U"]
[null,"Gasolina A","kg",0.76136375999999995,1.1447172E-5,1.0571434999999999E-5,2.4931697025600899E-3,{"$f":"(D120+(E120*$D$9)+(F120*$D$8)+(G120*$D$7))*1000","v":839.48835183680262},"Ecoinvent V.3","Petrol, low-sulfur {RoW}| production | Alloc Def, U"]
[null,"Etanol anidro","kg",null,null,null,null,547.12038383828497,"RenovaCalc"]
[null,"Etanol hidratado","kg",null,null,null,null,null,"RenovaCalc"]
[null,"Cavaco de madeira","kg",3.2039432480895129E-2,1.4039664897291242E-6,2.18166665424795E-6,5.8032504083343049E-5,{"$f":"(D123+(E123*$D$9)+(F123*$D$8)+(G123*$D$7))*1000","v":34.21354538949258},"Ecoinvent V.3.1.","Wood chips, wet, measured as dry mass {RoW}| wood chips production, hardwood, at sawmill | Alloc Def, U  "]
[null,"Lenha","kg",3.2039432480895129E-2,1.4039664897291242E-6,2.18166665424795E-6,5.8032504083343049E-5,{"$f":"(D124+(E124*$D$9)+(F124*$D$8)+(G124*$D$7))*1000","v":34.21354538949258},"Ecoinvent V.3.1.","Wood chips, wet, measured as dry mass {RoW}| wood chips production, hardwood, at sawmill | Alloc Def, U  "]
[null,"Biometano","MJ",null,null,null,null,7.5,"RenovaCalc"]
[null,"Óleo combustível","kg",0.55302594999999999,1.0735005999999999E-5,9.2345760000000007E-6,3.7140826000000002E-10,{"$f":"(D126+(E126*$D$9)+(F126*$D$8)+(G126*$D$7))*1000","v":556.12930586024777},"Ecoinvent V.3.1. BEN 2016","Diesel, low-sulfur {RoW}| market for | Alloc Def, U"]
[null,"Calor, MJ","MJ",null,null,null,null,93.983599999999996,"Ecoinvent V.3.1.","Heat, district or industrial, other than natural gas {RoW}| heat production, at hard coal industrial furnace 1-10MW | Alloc Def, U"]
[null,"Transporte"]
[null,"Transporte, caminhão 7.5-16t","tkm",0.22625397202732001,1.0446082640615269E-5,9.590935909830587E-7,2.4945373127764219E-4,{"$f":"(D129+(E129*$D$9)+(F129*$D$8)+(G129*$D$7))*1000","v":236.53265048595983},"Ecoinvent V.3.1.","Transport, lorry 7.5-16t, EURO3/RER U"]
[null,"Transporte caminhão 16-32t","tkm",0.17599043715055801,6.1974612135689929E-6,6.7839375380078499E-7,2.0393876230481527E-4,{"$f":"(D130+(E130*$D$9)+(F130*$D$8)+(G130*$D$7))*1000","v":183.76992226640468},"Ecoinvent V.3.1.","Transport, freight, lorry 16-32 metric ton, EURO3 {RoW}| transport, freight, lorry 16-32 metric ton, EURO3 | Alloc Def, U"]
[null,"Transporte, caminhão  >32t","tkm",0.115015737672319,3.2911580639616445E-6,4.4637468778886174E-7,1.3948610969341806E-4,{"$f":"(D131+(E131*$D$9)+(F131*$D$8)+(G131*$D$7))*1000","v":120.08497634132947},"Ecoinvent V.3.1.","Transport, lorry >32t, EURO3/RER U"]
[null,"Transporte, caminhão  60m³","tkm",null,null,null,null,{"$f":"G143","v":72.59035723819153},"RenovaBio"]
[null,"Transporte, navio","tkm",null,null,null,null,6.1318000000000001,"Ecoinvent V.3.1.","Transport, freight, sea, transoceanic tanker {GLO}| processing | Alloc Def, U"]
[null,"Transporte, balsa","tkm",null,null,null,null,48.605499999999999,"Ecoinvent V.3.1.","Transport, freight, inland waterways, barge tanker {RoW}| processing | Alloc Def, U"]
[null,"Transporte, ferroviário","tkm",null,null,null,null,{"$f":"G145","v":39.62840930860456}]
[null,"Transporte, dutoviário - Combustíveis líquidos","tkm",null,null,null,null,{"$f":"G144","v":2.7666634280629054}]
[null,"Transporte, dutoviário - Biometano","tkm",null,null,null,null,{"$f":"G146","v":14.390054452799999}]
[]
[]
[null,"Emissões do ciclo de vida dos processos de transporte"]
[null,"Transporte",null,"Diesel (produção)","Emissões da queima do diesel","Consumo de E.E.","CO2eq"]
[null,null,null,"CO2eq","CO2eq","CO2eq","CO2eq"]
[null,"Transporte rodoviário 60 m³","tkm",{"$f":"0.0196*$H$116","v":10.900134394860856},{"$f":"(0.0196*$F$26*'FE''s queima combustíveis'!$I$5)","v":61.690222843330666},0,{"$f":"SUM(D143:F143)","v":72.59035723819153}]
[null,"Transporte dutoviário - Combustíveis Líquidos","tkm",{"$f":"0.000139650451744186*$H$116","v":7.7663708791564187E-2},{"$f":"(0.000139650451744186*$F$26*'FE''s queima combustíveis'!$I$5)","v":0.43954425960564442},{"$f":"0.0154281734496124*$H$107","v":2.2494554596656968},{"$f":"SUM(D144:F144)","v":2.7666634280629054}]
[null,"Transporte ferroviário","tkm",{"$f":"0.0107*$H$116","v":5.9505835727046508},{"$f":"(0.0107*$F$26*'FE''s queima combustíveis'!$I$5)","v":33.677825735899908},0,{"$f":"SUM(D145:F145)","v":39.62840930860456}]
[null,"Transporte dutoviário - Biometano","tkm",0,0,{"$f":"0.098696*$H$107","v":14.390054452799999},{"$f":"SUM(D146:F146)","v":14.390054452799999}]
[null,"Transporte fluvial","tkm",null,null,null,{"$f":"H134","v":48.605499999999999},"Incluir emissões do transporte fluvial de milho"]
[]
[]
[null,"Composição e distâncias médias dos sistemas logísticos de transporte"]
[null,"Biocombustível","Rodoviário","Dutoviário",null,"Ferroviário",null,"Marítimo",null,null,"Fluvial"]
[null,null,"Rodoviário","Dutoviário","Rodoviário","Ferroviário","Rodoviário","Rodoviário","Ferroviário","Marítimo","Rodoviário","Fluvial"]
[null,"E1G C",700,500,200,300,400,"-","- "," -","-","-"]
[null,"E1G2G",700,500,200,300,400,"-","- "," -","-","-"]
[null,"E2G",700,500,200,300,400,"-","- "," -","-","-"]
[null,"E1G Flex",700,500,200,300,400,"-","- "," -","-","-"]
[null,"E1G M",700,"-","-","-","-","-","- "," -",1300,1240]
[null,"E1G MI","-","-","-","-","-",600,1400,13000,"-","-"]
[null,"Biodiesel",700,"-","-",1200,300,"-","- "," -",1300,1240]
[null,"BioQavHEFA",1500,900,600,900,600,"-","- "," -","-","-"]
[null,"Biometano",43,24,"-","- "," -","-","- "," -","-","-"]
[]
[]
[null,"Emissões do ciclo de vida dos combustíveis fósseis substitutos dos biocombustíveis"]
[null,"Biocombustível","Combustível fóssil substiuto",null,null,"Intensidade de carbono do combustível fóssil substiuto (g CO₂ eq/MJ)"]
[null,"Etanol anidro","Gasolina A",null,null,87.4]
[null,"Etanol hidratado","Gasolina A",null,null,87.4]
[null,"Biodiesel","Diesel A",null,null,86.5]
[null,"Biometano","Média ponderada: Diesel A, Gasolina A e GNV",null,null,86.7]
[null,"Bioquerosene de aviação","Querosene de aviação",null,null,87.5]
[null,"Gasolina alternativa","Gasolina A",null,null,87.4]
[null,"Diesel alternativo","Diesel A",null,null,86.5]
[null,"Gás combustível alternativo","GLP",null,null,85]

{"sheet":"FE's queima combustíveis","index":22,"n_rows":68,"n_cols":11,"rows_kept":68,"cut":false,"hidden":true,"merged":[[18,1,18,2]]}
[]
[null,"Fatores de emissão da queima de combustíveis em fontes móveis"]
[null,"Combustível","Unidade","CO2  Fóssil","CO2 Biogênico","CH4 Fóssil","CH4 Biogênico","N2O  ","CO₂ eq/MJ","Referência"]
[null,null,null,"g/unidade","g/unidade","g/unidade","g/unidade","g/unidade","g/MJ"]
[null,"Diesel A (B0)","kg",{"$f":"D24/'Dados auxiliares'!$D$26","v":3098.8095238095239},{"$f":"E24/'Dados auxiliares'!$D$26","v":0},{"$f":"F24/'Dados auxiliares'!$D$26","v":0.16491805200000001},{"$f":"G24/'Dados auxiliares'!$D$26","v":0},{"$f":"H24/'Dados auxiliares'!$D$26","v":0.16491805200000001},{"$f":"(D5+F5*'Dados auxiliares'!$D$7+G5*'Dados auxiliares'!$D$8+H5*'Dados auxiliares'!$D$9)/'Dados auxiliares'!$F$26","v":74.431484078426678}]
[null,"Biodiesel (B100)","kg",{"$f":"D25/'Dados auxiliares'!$D$17","v":0},{"$f":"E25/'Dados auxiliares'!$D$17","v":2762.5},{"$f":"F25/'Dados auxiliares'!$D$17","v":0},{"$f":"G25/'Dados auxiliares'!$D$17","v":0.37681199999999992},{"$f":"H25/'Dados auxiliares'!$D$17","v":2.2608719999999999E-2},{"$f":"(D6+F6*'Dados auxiliares'!$D$7+G6*'Dados auxiliares'!$D$8+H6*'Dados auxiliares'!$D$9)/'Dados auxiliares'!$F$17","v":0.439}]
[null,"Etanol Anidro","kg",{"$f":"D26/'Dados auxiliares'!$D$15","v":0},{"$f":"E26/'Dados auxiliares'!$D$15","v":1929.2035398230087},{"$f":"F26/'Dados auxiliares'!$D$15","v":0},{"$f":"G26/'Dados auxiliares'!$D$15","v":0.28260899999999994},{"$f":"H26/'Dados auxiliares'!$D$15","v":1.6956540000000003E-2},{"$f":"(D7+F7*'Dados auxiliares'!$D$7+G7*'Dados auxiliares'!$D$8+H7*'Dados auxiliares'!$D$9)/'Dados auxiliares'!$F$15","v":0.43899999999999995}]
[null,"Etanol Hidratado","kg",{"$f":"D27/'Dados auxiliares'!$D$16","v":0},{"$f":"E27/'Dados auxiliares'!$D$16","v":1800.9888751545116},{"$f":"F27/'Dados auxiliares'!$D$16","v":0},{"$f":"G27/'Dados auxiliares'!$D$16","v":0.47478312},{"$f":"H27/'Dados auxiliares'!$D$16","v":1.5826104000000001E-2},{"$f":"(D8+F8*'Dados auxiliares'!$D$7+G8*'Dados auxiliares'!$D$8+H8*'Dados auxiliares'!$D$9)/'Dados auxiliares'!$F$16","v":0.66300000000000003}]
[null,"Gasolina A","kg",{"$f":"D28/'Dados auxiliares'!$D$24","v":2981.132075471698},{"$f":"E28/'Dados auxiliares'!$D$24","v":0},{"$f":"F28/'Dados auxiliares'!$D$24","v":1.088568},{"$f":"G28/'Dados auxiliares'!$D$24","v":0},{"$f":"H28/'Dados auxiliares'!$D$24","v":0.34834176000000006},{"$f":"(D9+F9*'Dados auxiliares'!$D$7+G9*'Dados auxiliares'!$D$8+H9*'Dados auxiliares'!$D$9)/'Dados auxiliares'!$F$24","v":71.334534954906303}]
[null,"Gasolina C","kg",{"$f":"($D$19*D26+(1-$D$19)*D28)/'Dados auxiliares'!$D$25","v":2140.8816705336426},{"$f":"($D$19*E26+(1-$D$19)*E28)/'Dados auxiliares'!$D$25","v":546.26450116009289},{"$f":"($D$19*F26+(1-$D$19)*F28)/'Dados auxiliares'!$D$25","v":0.781748416148492},{"$f":"($D$19*G26+(1-$D$19)*G28)/'Dados auxiliares'!$D$25","v":8.0022279257540602E-2},{"$f":"($D$19*H26+(1-$D$19)*H28)/'Dados auxiliares'!$D$25","v":0.25496082992296987},{"$f":"(D10+F10*'Dados auxiliares'!$D$7+G10*'Dados auxiliares'!$D$8+H10*'Dados auxiliares'!$D$9)/'Dados auxiliares'!$F$25","v":56.767555345343105}]
[null,"GNV","kg",{"$f":"D30/('Dados auxiliares'!$D$27*1000)","v":2701.3513513513512},{"$f":"E30/('Dados auxiliares'!$D$27*1000)","v":0},{"$f":"F30/('Dados auxiliares'!$D$27*1000)","v":4.5945945945945947},{"$f":"G30/('Dados auxiliares'!$D$27*1000)","v":0},{"$f":"H30/('Dados auxiliares'!$D$27*1000)","v":0.14864864864864866},{"$f":"(D11+F11*'Dados auxiliares'!$D$7+G11*'Dados auxiliares'!$D$8+H11*'Dados auxiliares'!$D$9)/'Dados auxiliares'!$F$27","v":78.129236287017889}]
[null,"Biometano","Nm³",0,{"$f":"D11","v":2701.3513513513512},0,{"$f":"F11","v":4.5945945945945947},{"$f":"H11","v":0.14864864864864866},{"$f":"(D12+F12*'Dados auxiliares'!$D$7+G12*'Dados auxiliares'!$D$8+H12*'Dados auxiliares'!$D$9)/'Dados auxiliares'!F18","v":3.4827055034308922}]
[null,"Querosene de Aviação","kg",{"$f":"D29/'Dados auxiliares'!$D$28","v":3149.9999999999995},{"$f":"E29/'Dados auxiliares'!$D$28","v":0},{"$f":"F29/'Dados auxiliares'!$D$28","v":2.205E-2},{"$f":"G29/'Dados auxiliares'!$D$28","v":0},{"$f":"H29/'Dados auxiliares'!$D$28","v":8.8200000000000001E-2},{"$f":"(D13+F13*'Dados auxiliares'!$D$7+G13*'Dados auxiliares'!$D$8+H13*'Dados auxiliares'!$D$9)/'Dados auxiliares'!$F$28","v":72.894722699913999}]
[null,"BioQav","kg",0,{"$f":"D13","v":3149.9999999999995},0,{"$f":"F13","v":2.205E-2},{"$f":"H13","v":8.8200000000000001E-2},{"$f":"(D14+F14*'Dados auxiliares'!$D$7+G14*'Dados auxiliares'!$D$8+H14*'Dados auxiliares'!$D$9)/'Dados auxiliares'!$F$20","v":0.550962365235796}]
[null,"Gasolina renovável (HEFA)","kg",0,{"$f":"D9","v":2981.132075471698},0,{"$f":"F9","v":1.088568},{"$f":"H9","v":0.34834176000000006},{"$f":"(D15+F15*'Dados auxiliares'!$D$7+G15*'Dados auxiliares'!$D$8+H15*'Dados auxiliares'!$D$9)/'Dados auxiliares'!$F$22","v":2.7323202136181579}]
[null,"Diesel renovável (HEFA)","kg",0,{"$f":"D5","v":3098.8095238095239},0,{"$f":"F5","v":0.16491805200000001},{"$f":"H5","v":0.16491805200000001},{"$f":"(D16+F16*'Dados auxiliares'!$D$7+G16*'Dados auxiliares'!$D$8+H16*'Dados auxiliares'!$D$9)/'Dados auxiliares'!$F$21","v":1.0987037115961802}]
[null,"Gás combustível renovável (HEFA)","kg",0,{"$f":"D68","v":2701.3513513513512},0,{"$f":"F68","v":4.5945945945945947},{"$f":"H68","v":0.14864864864864866},{"$f":"(D17+F17*'Dados auxiliares'!$D$7+G17*'Dados auxiliares'!$D$8+H17*'Dados auxiliares'!$D$9)/'Dados auxiliares'!$F$23","v":3.6060201832734022}]
[]
[null,"Teor de etanol anidro na gasolina C",null,0.27]
[]
[]
[null,"Combustível","Unidade","CO2  Fóssil","CO2 Biogênico","CH4 Fóssil","CH4 Biogênico","N2O  ",null,"Referência"]
[null,null,null,"g/unidade","g/unidade","g/unidade","g/unidade","g/unidade"]
[null,"Diesel A (B0)","L",2603,0,{"$f":"0.00013853116368*1000","v":0.13853116368000001},0,{"$f":"0.00013853116368*1000","v":0.13853116368000001},null,"GHG Protocol"]
[null,"Biodiesel (B100)","L",0,2431,0,0.33159455999999993,1.98956736E-2,null,"GHG Protocol"]
[null,"Etanol Anidro","L",0,1526,0,0.22354371899999997,1.3412623140000001E-2,null,"GHG Protocol"]
[null,"Etanol Hidratado","L",0,1457,0,0.38409954408000002,1.2803318136000002E-2,null,"GHG Protocol"]
[null,"Gasolina A","L",2212,0,0.807717456,0,0.25846958592000002,null,"GHG Protocol"]
[null,"Querosene de aviação","L",{"$f":"2.51685*1000","v":2516.85},0,{"$f":"1000*0.00001761795","v":1.761795E-2},0,{"$f":"1000*0.0000704718","v":7.0471800000000001E-2},null,"GHG Protocol"]
[null,"GNV","Nm³",1999,0,3.4,0,0.11,null,"GHG Protocol"]
[]
[]
[null,"Fatores de emissão da queima de combustíveis em caldeiras"]
[null,"Combustível","Unidade","CO2  Fóssil","CO2 Biogênico","CH4 Fóssil","CH4 Biogênico","N2O  ","CO₂ eq","Referência"]
[null,null,null,"g/unidade","g/unidade","g/unidade","g/unidade","g/unidade","g/unidade"]
[null,"Bagaço","kg base seca",0,null,0,1.4E-2,2.1999999999999999E-2,{"$f":"D36+E36*0+F36*'Dados auxiliares'!$D$7+G36*'Dados auxiliares'!$D$8+H36*'Dados auxiliares'!$D$9","v":6.2220000000000004},"IPCC (2006)"]
[null,"Palha","kg base seca",0,null,0,1.4E-2,2.1999999999999999E-2,{"$f":"D37+E37*0+F37*'Dados auxiliares'!$D$7+G37*'Dados auxiliares'!$D$8+H37*'Dados auxiliares'!$D$9","v":6.2220000000000004},"IPCC (2006)"]
[null,"Cavacos de madeira","kg base seca",0,null,0,1.4E-2,2.1999999999999999E-2,{"$f":"D38+E38*0+F38*'Dados auxiliares'!$D$7+G38*'Dados auxiliares'!$D$8+H38*'Dados auxiliares'!$D$9","v":6.2220000000000004},"IPCC (2006)"]
[null,"Lenha","kg base seca",0,null,0,1.4E-2,2.1999999999999999E-2,{"$f":"D39+E39*0+F39*'Dados auxiliares'!$D$7+G39*'Dados auxiliares'!$D$8+H39*'Dados auxiliares'!$D$9","v":6.2220000000000004},"IPCC (2006)"]
[null,"Resíduos florestais","kg base seca",0,null,0,1.4E-2,2.1999999999999999E-2,{"$f":"D40+E40*0+F40*'Dados auxiliares'!$D$7+G40*'Dados auxiliares'!$D$8+H40*'Dados auxiliares'!$D$9","v":6.2220000000000004},"IPCC (2006)"]
[null,"Biogás","MJ",0,54.6,0,1E-3,1E-4,{"$f":"D41*'Dados auxiliares'!$D$6+E41*0+F41*'Dados auxiliares'!$D$7+G41*'Dados auxiliares'!$D$8+H41*'Dados auxiliares'!$D$9","v":5.4500000000000007E-2},"(IPCC, 2006 - Capítulo 2 - Combustão Estacionária)"]
[null,"Biogás","kg",0,{"$f":"E43/('Dados auxiliares'!$D$18*1000)","v":3565.6441706645842},0,{"$f":"0.061","v":6.0999999999999999E-2},{"$f":"0.061","v":6.0999999999999999E-2},{"$f":"D42+E42*0+F42*'Dados auxiliares'!$D$7+G42*'Dados auxiliares'!$D$8+H42*'Dados auxiliares'!$D$9","v":17.872999999999998},"Ecoinvet","excluir linhas"]
[null,"Biogás","Nm³",0,{"$f":"$E$66","v":2701.3513513513512},0,{"$f":"G42*('Dados auxiliares'!$D$18*1000)","v":4.6213930651896593E-2},{"$f":"H42*('Dados auxiliares'!$D$18*1000)","v":4.6213930651896593E-2},{"$f":"D43+E43*0+F43*'Dados auxiliares'!$D$7+G43*'Dados auxiliares'!$D$8+H43*'Dados auxiliares'!$D$9","v":13.540681681005701},"Ecoinvet","excluir linhas"]
[null,"Gás combustível renovável","MJ",{"$f":"D41","v":0},{"$f":"E41","v":54.6},0,1E-3,1E-4,5.4500000000000007E-2,"(IPCC, 2006 - Capítulo 2 - Combustão Estacionária)"]
[null,"Gás Natural","MJ",56.1,0,5.0000000000000001E-3,0,1E-4,{"$f":"D45+E45*0+F45*'Dados auxiliares'!$D$7+G45*'Dados auxiliares'!$D$8+H45*'Dados auxiliares'!$D$9","v":56.276499999999999},"(IPCC, 2006 - Capítulo 2 - Combustão Estacionária)"]
[null,"Gás Natural","kg",{"$f":"D45*'Dados auxiliares'!$F$27","v":2066.9394240000001},{"$f":"E45*'Dados auxiliares'!$F$27","v":0},{"$f":"F45*'Dados auxiliares'!$F$27","v":0.1842192},{"$f":"G45*'Dados auxiliares'!$F$27","v":0},{"$f":"H45*'Dados auxiliares'!$F$27","v":3.6843840000000002E-3},{"$f":"D46+E46*0+F46*'Dados auxiliares'!$D$7+G46*'Dados auxiliares'!$D$8+H46*'Dados auxiliares'!$D$9","v":2073.4423617600005},"(IPCC, 2006 - Capítulo 2 - Combustão Estacionária)"]
[null,"GLP","MJ",63.1,0,1.5E-3,0,1E-4,{"$f":"D47+E47*0+F47*'Dados auxiliares'!$D$7+G47*'Dados auxiliares'!$D$8+H47*'Dados auxiliares'!$D$9","v":63.171500000000002},"(IPCC, 2006 - Capítulo 2 - Combustão Estacionária)"]
[null,"GLP","kg",{"$f":"D47*'Dados auxiliares'!$F$29","v":2932.476588},{"$f":"E47*'Dados auxiliares'!$F$29","v":0},{"$f":"F47*'Dados auxiliares'!$F$29","v":6.9710220000000003E-2},{"$f":"G47*'Dados auxiliares'!$F$29","v":0},{"$f":"H47*'Dados auxiliares'!$F$29","v":4.6473480000000008E-3},{"$f":"D48+E48*0+F48*'Dados auxiliares'!$D$7+G48*'Dados auxiliares'!$D$8+H48*'Dados auxiliares'!$D$9","v":2935.7994418199996},"(IPCC, 2006 - Capítulo 2 - Combustão Estacionária)"]
[null,"Carvão de coque","MJ",94.6,0,0.3,0,1.5E-3,{"$f":"D49+E49*0+F49*'Dados auxiliares'!$D$7+G49*'Dados auxiliares'!$D$8+H49*'Dados auxiliares'!$D$9","v":103.99749999999999},"(IPCC, 2006 - Capítulo 2 - Combustão Estacionária)"]
[null,"Diesel A (B0)","kg",3133.7,0,0.127,0,2.5000000000000001E-2,{"$f":"D50+E50*0+F50*'Dados auxiliares'!$D$7+G50*'Dados auxiliares'!$D$8+H50*'Dados auxiliares'!$D$9","v":3144.1349999999998},"(IPCC, 2006 - Capítulo 2 - Combustão Estacionária)"]
[null,"Biodiesel (B100)","kg",0,{"$f":"E65","v":2762.5},0,{"$f":"F50","v":0.127},{"$f":"H50","v":2.5000000000000001E-2},{"$f":"D51+E51*0+F51*'Dados auxiliares'!$D$7+G51*'Dados auxiliares'!$D$8+H51*'Dados auxiliares'!$D$9","v":10.181000000000001},"RenovaBio"]
[null,"Óleo combustível","MJ",77.400000000000006,0,3.0000000000000001E-3,0,5.9999999999999995E-4,{"$f":"D52+E52*0+F52*'Dados auxiliares'!$D$7+G52*'Dados auxiliares'!$D$8+H52*'Dados auxiliares'!$D$9","v":77.649000000000015},"(IPCC, 2006 - Capítulo 2 - Combustão Estacionária)"]
[null,"Óleo combustível","kg",{"$f":"D52*'Dados auxiliares'!$F$30","v":3107.7192888000004},{"$f":"E52*'Dados auxiliares'!$F$30","v":0},{"$f":"F52*'Dados auxiliares'!$F$30","v":0.12045423600000001},{"$f":"G52*'Dados auxiliares'!$F$30","v":0},{"$f":"H52*'Dados auxiliares'!$F$30","v":2.4090847199999998E-2},{"$f":"D53+E53*0+F53*'Dados auxiliares'!$D$7+G53*'Dados auxiliares'!$D$8+H53*'Dados auxiliares'!$D$9","v":3117.7169903880003},"(IPCC, 2006 - Capítulo 2 - Combustão Estacionária)"]
[null,"Etanol anidro","MJ",0,79.599999999999994,0,3.0000000000000001E-3,5.9999999999999995E-4,{"$f":"D54+E54*0+F54*'Dados auxiliares'!$D$7+G54*'Dados auxiliares'!$D$8+H54*'Dados auxiliares'!$D$9","v":0.24299999999999999},"(IPCC, 2006 - Capítulo 2 - Combustão Estacionária)"]
[null,"Etanol anidro","kg",{"$f":"D54*'Dados auxiliares'!$F$15","v":0},{"$f":"E54*'Dados auxiliares'!$F$15","v":2249.5676400000002},{"$f":"F54*'Dados auxiliares'!$F$15","v":0},{"$f":"G54*'Dados auxiliares'!$F$15","v":8.4782700000000016E-2},{"$f":"H54*'Dados auxiliares'!$F$15","v":1.6956539999999999E-2},{"$f":"D55+E55*0+F55*'Dados auxiliares'!$D$7+G55*'Dados auxiliares'!$D$8+H55*'Dados auxiliares'!$D$9","v":6.8673987000000007},"(IPCC, 2006 - Capítulo 2 - Combustão Estacionária)"]
[null,"Etanol hidratado","MJ",0,79.599999999999994,0,3.0000000000000001E-3,5.9999999999999995E-4,{"$f":"D56+E56*0+F56*'Dados auxiliares'!$D$7+G56*'Dados auxiliares'!$D$8+H56*'Dados auxiliares'!$D$9","v":0.24299999999999999},"(IPCC, 2006 - Capítulo 2 - Combustão Estacionária)"]
[null,"Etanol hidratado","kg",{"$f":"D56*'Dados auxiliares'!$F$16","v":0},{"$f":"E56*'Dados auxiliares'!$F$16","v":2099.5964639999997},{"$f":"F56*'Dados auxiliares'!$F$16","v":0},{"$f":"G56*'Dados auxiliares'!$F$16","v":7.913052000000001E-2},{"$f":"H56*'Dados auxiliares'!$F$16","v":1.5826104000000001E-2},{"$f":"D57+E57*0+F57*'Dados auxiliares'!$D$7+G57*'Dados auxiliares'!$D$8+H57*'Dados auxiliares'!$D$9","v":6.40957212},"(IPCC, 2006 - Capítulo 2 - Combustão Estacionária)"]
[]
[]
[]
[null,"Fatores de emissão da queima de combustíveis em caminhões e maquinários agrícolas"]
[null,"Combustível","Unidade","CO2  Fóssil","CO2 Biogênico","CH4 Fóssil","CH4 Biogênico","N2O  ","CO₂ eq","Referência"]
[null,null,null,"g/unidade","g/unidade","g/unidade","g/unidade","g/unidade","g/unidade"]
[null,"Diesel A (B0)","kg",3120,0,0.129,0,0.12,{"$f":"D64+E64*0+F64*'Dados auxiliares'!$D$7+G64*'Dados auxiliares'!$D$8+H64*'Dados auxiliares'!$D$9","v":3155.67},"Ecoinvent (2007) apud CTBE"]
[null,"Biodiesel (B100)","kg",{"$f":"D6","v":0},{"$f":"E6","v":2762.5},{"$f":"F6","v":0},{"$f":"G6","v":0.37681199999999992},{"$f":"H6","v":2.2608719999999999E-2},{"$f":"D65+E65*0+F65*'Dados auxiliares'!$D$7+G65*'Dados auxiliares'!$D$8+H65*'Dados auxiliares'!$D$9","v":16.542046799999998},"GHG protocol"]
[null,"Biometano (Nm³)","Nm³",{"$f":"D12","v":0},{"$f":"E12","v":2701.3513513513512},{"$f":"F12","v":0},{"$f":"G12","v":4.5945945945945947},{"$f":"H12","v":0.14864864864864866},{"$f":"D66+E66*0+F66*'Dados auxiliares'!$D$7+G66*'Dados auxiliares'!$D$8+H66*'Dados auxiliares'!$D$9","v":168.04054054054055},"GHG protocol"]
[null,"Gás Natural","Nm³",{"$f":"D11","v":2701.3513513513512},{"$f":"E11","v":0},4.5945945945945947,0,0.14864864864864866,{"$f":"D67+E67*0+F67*'Dados auxiliares'!$D$7+G67*'Dados auxiliares'!$D$8+H67*'Dados auxiliares'!$D$9","v":2878.5810810810813},"GHG protocol"]
[null,"GLP","kg",{"$f":"D11","v":2701.3513513513512},{"$f":"E11","v":0},4.5945945945945947,0,0.14864864864864866,{"$f":"D68+E68*0+F68*'Dados auxiliares'!$D$7+G68*'Dados auxiliares'!$D$8+H68*'Dados auxiliares'!$D$9","v":2878.5810810810813},"GHG protocol"]

{"sheet":"_Emissões Agrícolas","index":23,"n_rows":82,"n_cols":11,"rows_kept":82,"cut":false,"hidden":true,"merged":[]}
[]
[null,"Emissões de N2O diretas e indiretas "]
[null,"IPCC (2006) V.04 \"Agricultura, floresta e outros usos da terra\""]
[]
[null,"N2O= 44/28*(FE1*(Ntot+Nrc)+FE4*14/17*NH3+FE5*14/62*NO3-)"]
[null,"Onde:"]
[null,"N2O = Emissões de N2O [kg/ha]  "]
[null,"FE1= 0,01"]
[null,"Ntot= Nmin_fert+Norg_fert"]
[null,"Nrc= Quantidade de N em resíduos culturais [kg/ha]"]
[null,"FE4= 0,01"]
[null,"NH3= Perdas de Nitrogênio na forma de amônia [kg/ha]"]
[null,"FE5= 0,0075"]
[null,"NO3-= Perdas de Nitrogênio na forma de nitrato [kg/ha]"]
[]
[null,"NH3= (Nmin_fert*0,1+Norg_fert*0,2)*17/14"]
[null,"NO3= (Nmin_fert+Norg_fert+Nrc)*0,3*62/14"]
[null,"Onde:"]
[null,"Nmin_fert= kg N/ha em fertilizantes minerais"]
[null,"Norg_fert= kg N/ha em fertilizantes orgânicos"]
[null,"0,1= Fração de N em fertilizante mineral (sintético) que volatiliza como NH3 e NOx"]
[null,"0,2= Fração de N em fertilizante orgânico que volatiliza como NH3 e NOx"]
[null,"0,3= Fração de N nos fertilizante minerais e orgânico que é perdida via lixiviação e runnof"]
[null,"Nrc= kg N/ha em resíduos culturais"]
[]
[]
[null,"Resídos culturais"]
[null,"Nrc CANA DE AÇÚCAR =",null,null,null,"Nrc MILHO E SOJA = "]
[null,"[teor de N na raíz * quantidade de raíz)+(teor de N na palha*quantidade de palha*produtividade*(1 - % da área queimada - % de resíduos agrícolas recolhida)]",null,null,null,"[Quantidade de resíduos na parte aérea*1000*Teor de N na parte aérea*(1-Fração de resíduos recolhidos)+(Quantidade de resíduos na parte aérea*1000+Produtividade em massa seca*1000)*Quantidade de raíz*Teor de N na raíz]"]
[null,null,"Cana de açúcar E1G","Cana E1G2G","Cana Flex",null,"Milho BR - Stand Alone","Milho BR - Flex","Milho Importado","Soja","Soja HEFA"]
[null,"Fração de massa seca ",0.3,0.3,0.3,"Fração de massa seca ",{"$f":"(1-E1GM!$G$28)","v":1},{"$f":"1-'E1G Flex'!$G$93","v":1},{"$f":"(1-E1GMI!$G$28)","v":1},{"$f":"(1-Biodiesel!$G$86)","v":1},{"$f":"(1-CombAlterHEFA!$G$85)","v":1}]
[null,"Produtividade (t/ha)",{"$f":"_E1GC!$D$13/1000","v":{"$error":"#DIV/0!"}},{"$f":"_E1G2G!$D$13/1000","v":{"$error":"#DIV/0!"}},{"$f":"'_E1G Flex'!$D$14/1000","v":{"$error":"#DIV/0!"}},"Produtividade (t/ha)",{"$f":"_E1GM!D13/1000","v":{"$error":"#DIV/0!"}},{"$f":"'_E1G Flex'!D92/1000","v":{"$error":"#DIV/0!"}},{"$f":"_E1GMI!D13/1000","v":{"$error":"#DIV/0!"}},{"$f":"_Biodiesel!$D$15/1000","v":{"$error":"#DIV/0!"}},{"$f":"_BioQavHEFA!$D$14/1000","v":{"$error":"#DIV/0!"}}]
[null,"Produtividade em massa seca (t/ha)",{"$f":"C32*C31","v":{"$error":"#DIV/0!"}},{"$f":"D32*D31","v":{"$error":"#DIV/0!"}},{"$f":"E32*E31","v":{"$error":"#DIV/0!"}},"Produtividade em massa seca (t/ha)",{"$f":"G32*G31","v":{"$error":"#DIV/0!"}},{"$f":"H32*H31","v":{"$error":"#DIV/0!"}},{"$f":"I32*I31","v":{"$error":"#DIV/0!"}},{"$f":"J32*J31","v":{"$error":"#DIV/0!"}},{"$f":"K32*K31","v":{"$error":"#DIV/0!"}}]
[null,"Quantidade de palha (tpalha (bs) /tcana )",0.14000000000000001,0.14000000000000001,0.14000000000000001,"Quantidade de resíduos na parte aérea (t bs/ha)",{"$f":"(G33*1.03)+0.61","v":{"$error":"#DIV/0!"}},{"$f":"(H33*1.03)+0.61","v":{"$error":"#DIV/0!"}},{"$f":"(I33*1.03)+0.61","v":{"$error":"#DIV/0!"}},{"$f":"(J33*0.93)+1.35","v":{"$error":"#DIV/0!"}},{"$f":"(K33*0.93)+1.35","v":{"$error":"#DIV/0!"}}]
[null,"Quantidade de resíduos na parte aérea (t bs/ha)",{"$f":"C34*C32","v":{"$error":"#DIV/0!"}},{"$f":"D34*D32","v":{"$error":"#DIV/0!"}},{"$f":"E34*E32","v":{"$error":"#DIV/0!"}},"Teor de N nos resíduos da parte aérea (kgN/kg resíduo bs)",6.0000000000000001E-3,6.0000000000000001E-3,6.0000000000000001E-3,8.0000000000000002E-3,8.0000000000000002E-3]
[null,"Teor de N nos resíduos da parte aérea (kgN/tpalha bs)",4.7699999999999996,4.7699999999999996,4.7699999999999996,"Fração de resíduos recolhidos",{"$f":"(E1GM!$D$30/E1GM!$D$26)/G34","v":{"$error":"#DIV/0!"}},0,{"$f":"(E1GMI!$D$30/E1GMI!$D$26)/I34","v":{"$error":"#DIV/0!"}},0,0]
[null,"Razão entre as raízes e a parte aérea (kgraízes/kgparte aérea)",0.2,0.2,0.2,"Razão entre as raízes e a parte aérea (kgraízes/kgparte aérea)",0.22,0.22,0.22,0.19,0.19]
[null,"Teor de N na raíz (kgN / traíz bs)",5.14,5.14,5.14,"Teor de N na raíz (kgN/kg raíz)",7.0000000000000001E-3,7.0000000000000001E-3,7.0000000000000001E-3,8.0000000000000002E-3,8.0000000000000002E-3]
[null,"Quantidade de raíz (t(bs)/ha/ano)",{"$f":"(C35+C33)*C37","v":{"$error":"#DIV/0!"}},{"$f":"(D35+D33)*D37","v":{"$error":"#DIV/0!"}},{"$f":"(E35+E33)*E37","v":{"$error":"#DIV/0!"}}]
[null,"Fração da área queimada",{"$f":"E1GC!$V$36/E1GC!$V$27","v":{"$error":"#DIV/0!"}},{"$f":"E1G2G!$V$36/E1G2G!$V$27","v":{"$error":"#DIV/0!"}},{"$f":"'E1G Flex'!V$38/'E1G Flex'!V$28","v":{"$error":"#DIV/0!"}}]
[null,"Palha retirada como impureza vegetal (tpalha (bs) /ha )",{"$f":"E1GC!$V$31*(1-E1GC!$Y$31)*C32/1000","v":{"$error":"#DIV/0!"}},{"$f":"E1G2G!$V$31*(1-E1G2G!$Y$31)*D32/1000","v":{"$error":"#DIV/0!"}},{"$f":"'E1G Flex'!$V$32*(1-'E1G Flex'!$Y$32)*E32/1000","v":{"$error":"#DIV/0!"}}]
[null,"Palha recolhida (tpalha (bs) /ha)",{"$f":"E1GC!$V$33/E1GC!$V$27","v":{"$error":"#DIV/0!"}},{"$f":"E1G2G!$V$33/E1G2G!$V$27","v":{"$error":"#DIV/0!"}},{"$f":"'E1G Flex'!$V$34/'E1G Flex'!$V$28","v":{"$error":"#DIV/0!"}}]
[null,"Fração de resíduos recolhidos",{"$f":"(C41+C42)/C35","v":{"$error":"#DIV/0!"}},{"$f":"(D41+D42)/D35","v":{"$error":"#DIV/0!"}},{"$f":"(E41+E42)/E35","v":{"$error":"#DIV/0!"}}]
[]
[]
[null,"Emissões de N2O"]
[null,null,"Cana de açúcar E1G","Cana E1G2G","Cana Flex",null,"Milho BR - Stand Alone","Milho BR - Flex","Milho Importado","Soja B100","Soja HEFA"]
[null,"Nmin_fert (kg N/ha)",{"$f":"SUMIF(_E1GC!$C$21:$C$36,_E1GC!$C$21,_E1GC!$E$21:$E$36)*C32","v":{"$error":"#DIV/0!"}},{"$f":"SUMIF(_E1G2G!$C$21:$C$36,_E1G2G!$C$21,_E1G2G!$E$21:$E$36)*D32","v":{"$error":"#DIV/0!"}},{"$f":"SUMIF('_E1G Flex'!$C$22:$C$37,'_E1G Flex'!$C$22,'_E1G Flex'!$E$22:$E$37)*E32","v":{"$error":"#DIV/0!"}},"Nmin_fert (kg N/ha)",{"$f":"SUMIF(_E1GM!$C$23:$C$39,_E1GM!$C$23,_E1GM!$E$23:$E$39)*G32","v":{"$error":"#DIV/0!"}},{"$f":"SUMIF('_E1G Flex'!$C$102:$C$118,'_E1G Flex'!$C$102,'_E1G Flex'!$E$102:$E$118)*H32","v":{"$error":"#DIV/0!"}},{"$f":"SUMIF(_E1GMI!$C$23:$C$39,_E1GMI!$C$23,_E1GMI!$E$23:$E$39)*I32","v":{"$error":"#DIV/0!"}},{"$f":"SUMIF(_Biodiesel!$C$24:$C$39,_Biodiesel!$C$24,_Biodiesel!$E$24:$E$39)*J32","v":{"$error":"#DIV/0!"}},{"$f":"SUMIF(_BioQavHEFA!$C$23:$C$38,_BioQavHEFA!$C$23,_BioQavHEFA!$E$23:$E$38)*K32","v":{"$error":"#DIV/0!"}}]
[null,"Norg_fert (kg N/ha)",{"$f":"SUMPRODUCT(E1GC!$V$62:$V$66,E1GC!$Y$62:$Y$66)*C32/1000","v":{"$error":"#DIV/0!"}},{"$f":"SUMPRODUCT(E1G2G!$V$62:$V$66,E1G2G!$Y$62:$Y$66)*D32/1000","v":{"$error":"#DIV/0!"}},{"$f":"SUMPRODUCT('E1G Flex'!$V$64:$V$68,'E1G Flex'!$Y$64:$Y$68)*E32/1000","v":{"$error":"#DIV/0!"}},"Norg_fert (kg N/ha)",{"$f":"SUMPRODUCT(E1GM!$D$59:$D$63,E1GM!$G$59:$G$63)*G32/1000","v":{"$error":"#DIV/0!"}},{"$f":"SUMPRODUCT('E1G Flex'!$D$124:$D$128,'E1G Flex'!$G$124:$G$128)*H32/1000","v":{"$error":"#DIV/0!"}},{"$f":"SUMPRODUCT(E1GMI!$D$59:$D$63,E1GMI!$G$59:$G$63)*I32/1000","v":{"$error":"#DIV/0!"}},{"$f":"SUMPRODUCT(Biodiesel!$D$60:$D$64,Biodiesel!$G$60:$G$64)*J32/1000","v":{"$error":"#DIV/0!"}},{"$f":"SUMPRODUCT(CombAlterHEFA!$D$59:$D$63,CombAlterHEFA!$G$59:$G$63)*K32/1000","v":{"$error":"#DIV/0!"}}]
[null,"Nrc (kg N/ha)",{"$f":"(C38*C39)+(C36*C35*(1-C40-C43))","v":{"$error":"#DIV/0!"}},{"$f":"(D38*D39)+(D36*D35*(1-D40-D43))","v":{"$error":"#DIV/0!"}},{"$f":"(E38*E39)+(E36*E35*(1-E40-E43))","v":{"$error":"#DIV/0!"}},"Nrc (kg N/ha)",{"$f":"G34*1000*G35*(1-G36)+(G34*1000+G33*1000)*G37*G38","v":{"$error":"#DIV/0!"}},{"$f":"H34*1000*H35*(1-H36)+(H34*1000+H33*1000)*H37*H38","v":{"$error":"#DIV/0!"}},{"$error":"#DIV/0!"},{"$f":"J34*1000*J35*(1-J36)+(J34*1000+J33*1000)*J37*J38","v":{"$error":"#DIV/0!"}},{"$f":"K34*1000*K35*(1-K36)+(K34*1000+K33*1000)*K37*K38","v":{"$error":"#DIV/0!"}}]
[null,"Emissões fertilizantes minerais",null,null,null,"Emissões fertilizantes minerais"]
[null,"NH3",{"$f":"(C48*0.1)*(17/14)","v":{"$error":"#DIV/0!"}},{"$f":"(D48*0.1)*(17/14)","v":{"$error":"#DIV/0!"}},{"$f":"(E48*0.1)*(17/14)","v":{"$error":"#DIV/0!"}},"NH3",{"$f":"(G48*0.1)*(17/14)","v":{"$error":"#DIV/0!"}},{"$f":"(H48*0.1)*(17/14)","v":{"$error":"#DIV/0!"}},{"$f":"(I48*0.1)*(17/14)","v":{"$error":"#DIV/0!"}},{"$f":"(J48*0.1)*(17/14)","v":{"$error":"#DIV/0!"}},{"$f":"(K48*0.1)*(17/14)","v":{"$error":"#DIV/0!"}}]
[null,"NO3-",{"$f":"C48*0.3*(62/14)","v":{"$error":"#DIV/0!"}},{"$f":"D48*0.3*(62/14)","v":{"$error":"#DIV/0!"}},{"$f":"E48*0.3*(62/14)","v":{"$error":"#DIV/0!"}},"NO3-",{"$f":"G48*0.3*(62/14)","v":{"$error":"#DIV/0!"}},{"$f":"H48*0.3*(62/14)","v":{"$error":"#DIV/0!"}},{"$f":"I48*0.3*(62/14)","v":{"$error":"#DIV/0!"}},{"$f":"J48*0.3*(62/14)","v":{"$error":"#DIV/0!"}},{"$f":"K48*0.3*(62/14)","v":{"$error":"#DIV/0!"}}]
[null,"N2O",{"$f":"(44/28)*(0.01*C48+(0.01*(14/17)*C52+(0.0075*(14/62)*C53)))","v":{"$error":"#DIV/0!"}},{"$f":"(44/28)*(0.01*D48+(0.01*(14/17)*D52+(0.0075*(14/62)*D53)))","v":{"$error":"#DIV/0!"}},{"$f":"(44/28)*(0.01*E48+(0.01*(14/17)*E52+(0.0075*(14/62)*E53)))","v":{"$error":"#DIV/0!"}},"N2O",{"$f":"(44/28)*(0.01*G48+(0.01*(14/17)*G52+(0.0075*(14/62)*G53)))","v":{"$error":"#DIV/0!"}},{"$f":"(44/28)*(0.01*H48+(0.01*(14/17)*H52+(0.0075*(14/62)*H53)))","v":{"$error":"#DIV/0!"}},{"$f":"(44/28)*(0.01*I48+(0.01*(14/17)*I52+(0.0075*(14/62)*I53)))","v":{"$error":"#DIV/0!"}},{"$f":"(44/28)*(0.01*J48+(0.01*(14/17)*J52+(0.0075*(14/62)*J53)))","v":{"$error":"#DIV/0!"}},{"$f":"(44/28)*(0.01*K48+(0.01*(14/17)*K52+(0.0075*(14/62)*K53)))","v":{"$error":"#DIV/0!"}}]
[null,"Emissões fertilizantes orgânicos",null,null,null,"Emissões fertilizantes orgânicos"]
[null,"NH3",{"$f":"(C49*0.2)*(17/14)","v":{"$error":"#DIV/0!"}},{"$f":"(D49*0.2)*(17/14)","v":{"$error":"#DIV/0!"}},{"$f":"(E49*0.2)*(17/14)","v":{"$error":"#DIV/0!"}},"NH3",{"$f":"(G49*0.2)*(17/14)","v":{"$error":"#DIV/0!"}},{"$f":"(H49*0.2)*(17/14)","v":{"$error":"#DIV/0!"}},{"$f":"(I49*0.2)*(17/14)","v":{"$error":"#DIV/0!"}},{"$f":"(J49*0.2)*(17/14)","v":{"$error":"#DIV/0!"}},{"$f":"(K49*0.2)*(17/14)","v":{"$error":"#DIV/0!"}}]
[null,"NO3-",{"$f":"C49*0.3*(62/14)","v":{"$error":"#DIV/0!"}},{"$f":"D49*0.3*(62/14)","v":{"$error":"#DIV/0!"}},{"$f":"E49*0.3*(62/14)","v":{"$error":"#DIV/0!"}},"NO3-",{"$f":"G49*0.3*(62/14)","v":{"$error":"#DIV/0!"}},{"$f":"H49*0.3*(62/14)","v":{"$error":"#DIV/0!"}},{"$f":"I49*0.3*(62/14)","v":{"$error":"#DIV/0!"}},{"$f":"J49*0.3*(62/14)","v":{"$error":"#DIV/0!"}},{"$f":"K49*0.3*(62/14)","v":{"$error":"#DIV/0!"}}]
[null,"N2O",{"$f":"(44/28)*(0.01*(C49)+(0.01*(14/17)*C56+(0.0075*(14/62)*C57)))","v":{"$error":"#DIV/0!"}},{"$f":"(44/28)*(0.01*(D49)+(0.01*(14/17)*D56+(0.0075*(14/62)*D57)))","v":{"$error":"#DIV/0!"}},{"$f":"(44/28)*(0.01*(E49)+(0.01*(14/17)*E56+(0.0075*(14/62)*E57)))","v":{"$error":"#DIV/0!"}},"N2O",{"$f":"(44/28)*(0.01*(G49)+(0.01*(14/17)*G56+(0.0075*(14/62)*G57)))","v":{"$error":"#DIV/0!"}},{"$f":"(44/28)*(0.01*(H49)+(0.01*(14/17)*H56+(0.0075*(14/62)*H57)))","v":{"$error":"#DIV/0!"}},{"$f":"(44/28)*(0.01*(I49)+(0.01*(14/17)*I56+(0.0075*(14/62)*I57)))","v":{"$error":"#DIV/0!"}},{"$f":"(44/28)*(0.01*(J49)+(0.01*(14/17)*J56+(0.0075*(14/62)*J57)))","v":{"$error":"#DIV/0!"}},{"$f":"(44/28)*(0.01*(K49)+(0.01*(14/17)*K56+(0.0075*(14/62)*K57)))","v":{"$error":"#DIV/0!"}}]
[null,"Emissões resíduos culturais",null,null,null,"Emissões resíduos culturais"]
[null,"NH3",null,null,null,"NH3"]
[null,"NO3-",{"$f":"C50*0.3*(62/14)","v":{"$error":"#DIV/0!"}},{"$f":"D50*0.3*(62/14)","v":{"$error":"#DIV/0!"}},{"$f":"E50*0.3*(62/14)","v":{"$error":"#DIV/0!"}},"NO3-",{"$f":"G50*0.3*(62/14)","v":{"$error":"#DIV/0!"}},{"$f":"H50*0.3*(62/14)","v":{"$error":"#DIV/0!"}},{"$f":"I50*0.3*(62/14)","v":{"$error":"#DIV/0!"}},{"$f":"J50*0.3*(62/14)","v":{"$error":"#DIV/0!"}},{"$f":"K50*0.3*(62/14)","v":{"$error":"#DIV/0!"}}]
[null,"N2O",{"$f":"(44/28)*(0.01*(C50)+(0.01*(14/17)*C60+(0.0075*(14/62)*C61)))","v":{"$error":"#DIV/0!"}},{"$f":"(44/28)*(0.01*(D50)+(0.01*(14/17)*D60+(0.0075*(14/62)*D61)))","v":{"$error":"#DIV/0!"}},{"$f":"(44/28)*(0.01*(E50)+(0.01*(14/17)*E60+(0.0075*(14/62)*E61)))","v":{"$error":"#DIV/0!"}},"N2O",{"$f":"(44/28)*(0.01*(G50)+(0.01*(14/17)*G60+(0.0075*(14/62)*G61)))","v":{"$error":"#DIV/0!"}},{"$f":"(44/28)*(0.01*(H50)+(0.01*(14/17)*H60+(0.0075*(14/62)*H61)))","v":{"$error":"#DIV/0!"}},{"$f":"(44/28)*(0.01*(I50)+(0.01*(14/17)*I60+(0.0075*(14/62)*I61)))","v":{"$error":"#DIV/0!"}},{"$f":"(44/28)*(0.01*(J50)+(0.01*(14/17)*J60+(0.0075*(14/62)*J61)))","v":{"$error":"#DIV/0!"}},{"$f":"(44/28)*(0.01*(K50)+(0.01*(14/17)*K60+(0.0075*(14/62)*K61)))","v":{"$error":"#DIV/0!"}}]
[null,"IPCC (2006)"]
[]
[]
[null,"Emissões de N2O e CH4 da palha queimada do campo - Apenas para Cana de Açúcar"]
[null,"Quantidade de palha queimada = quantidade de palha produzida*produtividade*% da área queimada"]
[null,"Fatores de emissão (kg/t palha bs):"]
[null,"N2O",7.0000000000000007E-2]
[null,"CH4 Bio",2.7]
[null,null,"Cana de açúcar E1G","Cana E1G2G","Cana Flex"]
[null,"Quantidade de palha queimada",{"$f":"C34*C32*C40","v":{"$error":"#DIV/0!"}},{"$f":"D34*D32*D40","v":{"$error":"#DIV/0!"}},{"$error":"#DIV/0!"}]
[null,"Emissões de N2O (kg/ha)",{"$f":"C72*$C$69","v":{"$error":"#DIV/0!"}},{"$f":"D72*$C$69","v":{"$error":"#DIV/0!"}},{"$f":"E72*$C$69","v":{"$error":"#DIV/0!"}}]
[null,"Emissões de CH4 (kg/ha)",{"$f":"C72*$C$70","v":{"$error":"#DIV/0!"}},{"$f":"D72*$C$70","v":{"$error":"#DIV/0!"}},{"$f":"E72*$C$70","v":{"$error":"#DIV/0!"}}]
[null,"GREET (2010)"]
[]
[]
[null,"Emissões de CO2 fóssil após aplicação de Calcário e Uréia"]
[null,"Calcário Calcítico (kg C/kg)",0.12,"Calcário Calcítico (kg CO₂/kg)",{"$f":"C79*(44/12)","v":0.43999999999999995}]
[null,"Calcário Dolomítico (kg C/kg)",0.13,"Calcário Dolomítico (kg CO₂/kg)",{"$f":"C80*(44/12)","v":0.47666666666666668}]
[null,"Calcário Ureia (kg C/kg)",0.2,"Ureia (kg CO₂/kg N)",{"$f":"C81*(44/12)/0.47","v":1.5602836879432627}]
[null,"IPCC (2006)"]

{"sheet":"Enderecos","index":24,"n_rows":72,"n_cols":42,"rows_kept":72,"cut":false,"hidden":true,"merged":[]}
["Não alterar posições das informações nessa planilha!"]
[]
[null,"E1GC"]
[null,null,"Usina","Padrão","Guarda valores primários"]
[null,"Coluna valores",{"$f":"COLUMN(E1GC!$D$36)","v":4},{"$f":"COLUMN(E1GC!$AG$36)","v":33},{"$f":"COLUMN(E1GC!$AP$36)","v":42}]
[null,"Coluna Especificar",{"$f":"COLUMN(E1GC!$C$57)","v":3},{"$f":"COLUMN(E1GC!$AF$57)","v":32},{"$f":"COLUMN(E1GC!$AO$57)","v":41}]
[null,"Colunas %",{"$f":"COLUMN(E1GC!$G$62)","v":7},{"$f":"COLUMN(E1GC!$AJ$62)","v":36},{"$f":"COLUMN(E1GC!$AS$62)","v":45}]
[null,"Linha Área queimada",{"$f":"ROW(E1GC!$D$36)","v":36}]
[null,"Linha Corretivos (inicio)",{"$f":"ROW(E1GC!$D$39)","v":39}]
[null,"Linha Corretivos (fim)",{"$f":"ROW(E1GC!$D$41)","v":41}]
[null,"Linha Fertilizantes (inicio)",{"$f":"ROW(E1GC!$D$44)","v":44}]
[null,"Linha Fertilizantes (fim)",{"$f":"ROW(E1GC!$D$59)","v":59}]
[null,"Linha Fertilizantes (\"especificar\" inicio)",{"$f":"ROW(E1GC!$C$57)","v":57}]
[null,"Linha Fertilizantes (\"especificar\" fim)",{"$f":"ROW(E1GC!$C$59)","v":59}]
[null,"Linha Fertilizantes org. (inicio)",{"$f":"ROW(E1GC!$D$62)","v":62}]
[null,"Linha Fertilizantes org. (fim)",{"$f":"ROW(E1GC!$D$66)","v":66}]
[null,"Linha Fertilizantes org. (\"especificar\" inicio)",{"$f":"ROW(E1GC!$C$65)","v":65}]
[null,"Linha Fertilizantes org. (\"especificar\" fim)",{"$f":"ROW(E1GC!$C$66)","v":66}]
[null,"Linha Combust. (inicio)",{"$f":"ROW(E1GC!$D$69)","v":69}]
[null,"Linha Combust. (fim)",{"$f":"ROW(E1GC!$D$83)","v":83}]
[null,"Linha BX",{"$f":"ROW(E1GC!$G$71)","v":71}]
[null,"Linha default/primario",{"$f":"ROW(E1GC!#REF!)","v":{"$error":"#REF!"}}]
[null,"Coluna default/primario",{"$f":"COLUMN(E1GC!#REF!)","v":{"$error":"#REF!"}}]
[null,"Área total",{"$f":"ROW(E1GC!$M$27)","v":27}]
[]
[]
[null,"E1G2G"]
[null,null,"Usina","Padrão","Guarda valores primários"]
[null,"Coluna valores",{"$f":"COLUMN(E1G2G!$D$36)","v":4},{"$f":"COLUMN(E1G2G!$AG$36)","v":33},{"$f":"COLUMN(E1G2G!$AP$36)","v":42}]
[null,"Coluna Especificar",{"$f":"COLUMN(E1G2G!$C$57)","v":3},{"$f":"COLUMN(E1G2G!$AF$57)","v":32},{"$f":"COLUMN(E1G2G!$AO$57)","v":41}]
[null,"Colunas %",{"$f":"COLUMN(E1G2G!$G$62)","v":7},{"$f":"COLUMN(E1G2G!$AJ$62)","v":36},{"$f":"COLUMN(E1G2G!$AS$62)","v":45}]
[null,"Linha Área queimada",{"$f":"ROW(E1G2G!$D$36)","v":36}]
[null,"Linha Corretivos (inicio)",{"$f":"ROW(E1G2G!$D$39)","v":39}]
[null,"Linha Corretivos (fim)",{"$f":"ROW(E1G2G!$D$41)","v":41}]
[null,"Linha Fertilizantes (inicio)",{"$f":"ROW(E1G2G!$D$44)","v":44}]
[null,"Linha Fertilizantes (fim)",{"$f":"ROW(E1G2G!$D$59)","v":59}]
[null,"Linha Fertilizantes (\"especificar\" inicio)",{"$f":"ROW(E1G2G!$C$57)","v":57}]
[null,"Linha Fertilizantes (\"especificar\" fim)",{"$f":"ROW(E1G2G!$C$59)","v":59},null,null,null,null,null,null,null,null,null,null,null,null,null,null,null,null,null,null,null,null,null,null,null,null,null,null,null,null,null,null,null,null,null,null,null,null,null,null,"Padrão"]
[null,"Linha Fertilizantes org. (inicio)",{"$f":"ROW(E1G2G!$D$62)","v":62}]
[null,"Linha Fertilizantes org. (fim)",{"$f":"ROW(E1G2G!$D$66)","v":66}]
[null,"Linha Fertilizantes org. (\"especificar\" inicio)",{"$f":"ROW(E1G2G!$C$65)","v":65}]
[null,"Linha Fertilizantes org. (\"especificar\" fim)",{"$f":"ROW(E1G2G!$C$66)","v":66}]
[null,"Linha Combust. (inicio)",{"$f":"ROW(E1G2G!$D$69)","v":69}]
[null,"Linha Combust. (fim)",{"$f":"ROW(E1G2G!$D$83)","v":83}]
[null,"Linha BX",{"$f":"ROW(E1G2G!$G$71)","v":71}]
[null,"Linha default/primario",{"$f":"ROW(E1G2G!#REF!)","v":{"$error":"#REF!"}}]
[null,"Coluna default/primario",{"$f":"COLUMN(E1G2G!#REF!)","v":{"$error":"#REF!"}}]
[null,"Área total",{"$f":"ROW(E1G2G!$M$27)","v":27}]
[]
[]
[null,"E1G Flex"]
[null,null,"Usina","Padrão","Guarda valores primários"]
[null,"Coluna valores",{"$f":"COLUMN('E1G Flex'!$D$38)","v":4},{"$f":"COLUMN('E1G Flex'!$AG$38)","v":33},{"$f":"COLUMN('E1G Flex'!$AP$38)","v":42}]
[null,"Coluna Especificar",{"$f":"COLUMN('E1G Flex'!$C$59)","v":3},{"$f":"COLUMN('E1G Flex'!$AF$59)","v":32},{"$f":"COLUMN('E1G Flex'!$AO$59)","v":41}]
[null,"Colunas %",{"$f":"COLUMN('E1G Flex'!$G$64)","v":7},{"$f":"COLUMN('E1G Flex'!$AJ$64)","v":36},{"$f":"COLUMN('E1G Flex'!$AS$64)","v":45}]
[null,"Linha Área queimada",{"$f":"ROW('E1G Flex'!$D$38)","v":38}]
[null,"Linha Corretivos (inicio)",{"$f":"ROW('E1G Flex'!$D$41)","v":41}]
[null,"Linha Corretivos (fim)",{"$f":"ROW('E1G Flex'!$D$43)","v":43}]
[null,"Linha Fertilizantes (inicio)",{"$f":"ROW('E1G Flex'!$D$46)","v":46}]
[null,"Linha Fertilizantes (fim)",{"$f":"ROW('E1G Flex'!$D$61)","v":61}]
[null,"Linha Fertilizantes (\"especificar\" inicio)",{"$f":"ROW('E1G Flex'!$C$59)","v":59}]
[null,"Linha Fertilizantes (\"especificar\" fim)",{"$f":"ROW('E1G Flex'!$C$61)","v":61}]
[null,"Linha Fertilizantes org. (inicio)",{"$f":"ROW('E1G Flex'!$D$64)","v":64}]
[null,"Linha Fertilizantes org. (fim)",{"$f":"ROW('E1G Flex'!$D$68)","v":68}]
[null,"Linha Fertilizantes org. (\"especificar\" inicio)",{"$f":"ROW('E1G Flex'!$C$67)","v":67}]
[null,"Linha Fertilizantes org. (\"especificar\" fim)",{"$f":"ROW('E1G Flex'!$C$68)","v":68}]
[null,"Linha Combust. (inicio)",{"$f":"ROW('E1G Flex'!$D$71)","v":71}]
[null,"Linha Combust. (fim)",{"$f":"ROW('E1G Flex'!$D$85)","v":85}]
[null,"Linha BX",{"$f":"ROW('E1G Flex'!$G$73)","v":73}]
[null,"Linha default/primario",{"$f":"ROW('E1G Flex'!#REF!)","v":{"$error":"#REF!"}}]
[null,"Coluna default/primario",{"$f":"COLUMN('E1G Flex'!#REF!)","v":{"$error":"#REF!"}}]
[null,"Área total",{"$f":"ROW('E1G Flex'!$M$28)","v":28}]

{"sheet":"Listas","index":25,"n_rows":101,"n_cols":8,"rows_kept":101,"cut":false,"hidden":true,"merged":[]}
[]
[null,"SN",null,"Residuos"]
[null,"Sim",null,"Especificar"]
[null,"Não",null,"Bagaço de cana-de-açúcar e sorgo"]
[null,null,null,"Biogás de aterro sanitário"]
[null,"CAR",null,"Borras"]
[null,"Ativo",null,"Cama de aviário"]
[null,"Pendente",null,"Cascas de arroz, de noz, de café e similares"," "]
[null,"Cancelado",null,"Cascas, tocos, ramos, folhas, agulhas, copas de árvores, aparas florestais e serragem provenientes de florestas plantadas"," "]
[null,null,null,"Dejetos animais"]
[null,"Sistema_Plantio",null,"Esgoto sanitário e lodo de estação de tratamento de efluentes"," "]
[null,"Convencional",null,"Glicerina bruta"]
[null,"Direto",null,"Gordura animal"]
[null,"Mínimo/Reduzido",null,"Óleo de fritura usado"," "]
[null,null,null,"Outros resíduos de origem animal"]
[null,"Etanol",null,"Palhas de cana-de-açúcar, de milho, de sorgo e de trigo"," "]
[null,"Etanol Anidro",null,"Resíduos de alimentos em geral"," "]
[null,"Etanol Hidratado",null,"Resíduos sólidos orgânicos de processos industriais, de origem biológica"," "]
[null,null,null,"\tSabugo de milho"]
[null,"Rota_Biodiesel",null,"Torta de filtro, cinzas e fuligem"]
[null,"Metílica",null,"Vinhaça e outros efluentes agroindustriais"," "]
[null,"Etílica"]
[]
[null,"Produtos_HEFA"]
[null,"Bioquerosene"]
[null,"Gasolina alternativa"]
[null,"Diesel alternativo"]
[]
[]
[]
[]
[]
[]
[]
[]
[]
[]
[]
[]
[]
[]
[]
[]
[]
[]
[]
[]
[]
[]
[]
[]
[]
[]
[]
[]
[]
[]
[]
[]
[]
[]
[]
[]
[]
[]
[]
[]
[]
[]
[]
[]
[]
[]
[]
[]
[]
[]
[]
[]
[]
[]
[]
[]
[]
[null,null,null,"Emissões uso gasolina pura"]
[]
[null,null,null,"N2O",{"$f":"0.00000231","v":2.3099999999999999E-6},{"$f":"E87*298","v":6.8837999999999994E-4}]
[null,null,null,"CH4",{"$f":"0.00000308","v":3.0800000000000002E-6},{"$f":"E88*36","v":1.1088000000000001E-4}]
[null,null,null,"CO2",6.6000000000000003E-2,{"$f":"E89","v":6.6000000000000003E-2}]
[null,null,null,null,null,{"$f":"SUM(F87:F89)*1000","v":66.799260000000004},"g/MJ","Greet"]
[]
[null,null,"Emissões ciclo de vida gasolina pura (Tab. 4.13)",8.2600000000000007E-2]
[null,null,null,{"$f":"D92*1000","v":82.600000000000009},"g/MJ"]
[]
[null,null,"Wang et al (2012) ","Luo et al (2010)"]
[null,null,"94 g/MJ"]
[]
[null,null,3.5139999999999998,"tCO2eq/tdiesel"]
[null,null,{"$f":"C98*10^6","v":3514000},"gCO2eq/tdiesel"]
[null,null,{"$f":"C99/1000","v":3514},"gCO2eq/kgdiesel"]
[null,null,{"$f":"C100/#REF!","v":{"$error":"#REF!"}},"gCO2eq/MJdiesel"]

{"sheet":"calculos_Anna","index":26,"n_rows":21,"n_cols":14,"rows_kept":21,"cut":false,"hidden":true,"merged":[]}
[]
[]
[]
[]
[]
[]
[null,null,null,null,null,null,null,null,null,null,"Pegada agrícola",null,"Pegada agrícola"]
[null,null,null,null,null,null,null,null,null,null,24010,"g CO2eq/t cana",{"$f":"K8*K14","v":48020000000},"g CO2eq"]
[null,null,null,null,null,null,null,null,null,null,129960,"g CO2eq/t milho",{"$f":"K9*K13","v":7797600000},"g CO2eq"]
[null,null,null,null,null,null,null,null,null,null,null,"total",{"$f":"SUM(M8:M9)","v":55817600000},"g CO2eq/ano"]
[]
[]
[null,null,null,null,null,null,null,null,null,"Total milho",60000,"t milho"]
[null,null,null,null,null,null,null,null,null,"Total cana",2000000,"t cana"]
[null,null,null,null,null,null,null,null,null,"Etano anidro",92000000,"L etanol anidro/ano"]
[null,null,null,null,null,null,null,null,null,"Poder calorif",28.26,"MJ/kg"]
[null,null,null,null,null,null,null,null,null,"M.espec",0.79100000000000004,"kg/L"]
[null,null,null,null,null,null,null,null,null,"Etanol anidro",{"$f":"K15*K17","v":72772000},"kg/ano"]
[null,null,null,null,null,null,null,null,null,null,{"$f":"K18*K16","v":2056536720},"MJ/ano"]
[null,null,null,null,null,null,null,null,null,"Intens carbono cana",{"$f":"M8/K19*46.3%","v":10.811020189321004},"g CO2eq/MJ"]
[null,null,null,null,null,null,null,null,null,"Intens carbono milho",{"$f":"M9/K19*46.3%","v":1.7555187636036955},"g CO2eq/MJ"]