{"text_format":"1","workbook":"xlsx","n_sheets":12,"sheets":["Home","Inputs","Parms","Calc","Table","Reports","FeedLibrary","Optimizer","Stochastic","Save","Batch","Load"],"not_rendered":{"charts":1,"images":1,"macros":1,"external_links":0,"defined_names":821,"comments":6,"pivot_tables":0},"unopened":[],"bounds":{"document_bytes":16777216,"sheet_cells":100000,"rows_first":2000,"rows_last":500,"rows_between":2000,"halvings":0,"cell_chars":16384,"cell_head_chars":4096},"cells_cut":0,"cells_raw":0,"read":"whole","date_system":"1900"}

{"sheet":"Home","index":0,"n_rows":40,"n_cols":32,"rows_kept":40,"cut":false,"hidden":false,"merged":[[35,19,35,20],[35,16,35,18],[33,11,33,14],[22,6,22,9],[4,3,4,4],[4,8,4,11],[25,11,25,14],[4,12,4,14],[18,11,18,14],[29,11,29,14]]}
[null,null,null,null,null,null,null,null,null,null,null,null,null,null,null,null,null,null,null,null,null,false]
[null,"BCNRM simulation file","C:\\Users\\Luis Tedeschi\\Documents\\National Academies\\BCNRM2016\\Feedlot case study 9.bcNRF",null,null,null,null,null,null,null,null,null,null,null,null,null,"",null,""]
[null,"Creator |:| Version |:| Date","Luis Tedeschi |:| ORIGINAL Beef Cattle Nutrient Requirements Model 2016 Version 1.0.37.1 |:| 2016/Jun/15 23:03:11",null,null,null,null,null,null,null,null,null,null,null,null,null,"",null,""]
[null,null,null,null,null,null,null,null,null,null,null,null,null,null,null,null,null,null,null,null,null,null,null,null,null,null,null,null,2,2,1,1]
[null,"Diet",null,{"$f":"IF(parmBasis=1,\"Dry matter\",\"As-fed basis\")","v":"Dry matter"},null,null,"ME & MP summary",null,{"$f":"Reports!D7","v":"Metabolizable Energy (ME)"},null,null,null,{"$f":"Reports!H7","v":"Metabolizable Protein (MP)"},null,null,null,"Items",null,"Supplied","Required","Balance",null,null,null,null,null,null,null,"1 - Empirical Level of Solution","1 - Metric","1 - Dry matter basis",{"$f":"IF(AND(Inputs!F58>0,Inputs!F59>0),\"1 - Growing/Finishing (Grazing)\",\"1 - Growing/Finishing\")","v":"1 - Growing/Finishing"}]
[null,"(ID) Feeds",null,{"$f":"Inputs!AA4","v":"lb/d"},{"$f":"Inputs!AB4","v":"% DM"},null,null,null,{"$f":"Reports!D8","v":"Available"},{"$f":"Reports!E8","v":"Required"},null,{"$f":"Reports!F8","v":"Balance"},{"$f":"Reports!H8","v":"Available"},{"$f":"Reports!I8","v":"Required"},{"$f":"Reports!J8","v":"Balance"},null,"Ca","g/d",{"$f":"Reports!Q30","v":16.102694366324958},{"$f":"Reports!Q37","v":41.597231852931323},{"$f":"Reports!Q38","v":-25.494537486606365},null,null,null,null,null,null,null,"2 - Mechanistic Level of Solution","2 - Imperial (English)","2 - As-fed basis",{"$f":"IF(AND(Inputs!F58>0,Inputs!F59>0),\"2 - Lactating cow (Grazing)\",\"2 - Lactating cow\")","v":"2 - Lactating cow"}]
[null,{"$f":"IF(Reports!C40<>\"\",\"(\"&TEXT(Reports!C40,\"_)####\")&\") \"&Reports!D40,Reports!D40)","v":"( 301) Barley, Silage"},null,5,{"$f":"Inputs!AB5","v":20.576131687242796},null,null,null,{"$f":"Reports!D9","v":"Mcal/d"},{"$f":"Reports!E9","v":"Mcal/d"},null,{"$f":"Reports!F9","v":"Mcal/d"},{"$f":"Reports!H9","v":"lb/d"},{"$f":"Reports!I9","v":"lb/d"},{"$f":"Reports!J9","v":"lb/d"},null,"P","g/d",{"$f":"Reports!R30","v":36.741358976685113},{"$f":"Reports!R37","v":22.134443510371604},{"$f":"Reports!R38","v":14.606915466313509},null,null,null,null,null,null,null,null,null,null,{"$f":"IF(AND(Inputs!F58>0,Inputs!F59>0),\"3 - Dry cow (Grazing)\",\"3 - Dry cow\")","v":"3 - Dry cow"}]
[null,{"$f":"IF(Reports!C41<>\"\",\"(\"&TEXT(Reports!C41,\"_)####\")&\") \"&Reports!D41,Reports!D41)","v":"( 402) Barley Grain, Heavy"},null,19,{"$f":"Inputs!AB6","v":78.189300411522638},null,{"$f":"Reports!B10","v":"Diet"},null,{"$f":"Reports!D10","v":31.281726548990545},{"$f":"Reports!E10","v":31.281726548990548},null,{"$f":"Reports!F10","v":0},{"$f":"Reports!H10","v":2.2361334850813974},{"$f":"Reports!I10","v":1.7055632083348058},{"$f":"Reports!J10","v":0.53057027674659163},null,"Mg","g/d",{"$f":"Reports!S30","v":14.651183888233692},{"$f":"Reports!S37","v":11.022407693005533},{"$f":"Reports!S38","v":3.6287761952281592},null,null,null,null,null,null,null,null,null,null,{"$f":"IF(AND(Inputs!F58>0,Inputs!F59>0),\"4 - Replacement heifer (Grazing)\",\"4 - Replacement heifer\")","v":"4 - Replacement heifer"}]
[null,{"$f":"IF(Reports!C42<>\"\",\"(\"&TEXT(Reports!C42,\"_)####\")&\") \"&Reports!D42,Reports!D42)","v":"( 800) Minerals "},null,0.3,{"$f":"Inputs!AB7","v":1.2345679012345678},null,{"$f":"Reports!B11","v":"Maintenance"},null,{"$f":"Reports!D11","v":31.281726548990545},{"$f":"Reports!E11","v":13.50686176997977},null,{"$f":"Reports!F11","v":17.774864779010777},{"$f":"Reports!H11","v":2.2361334850813974},{"$f":"Reports!I11","v":0.86038684650364217},{"$f":"Reports!J11","v":1.3757466385777553},null,"Cl","g/d",{"$f":"Reports!T30","v":28.395173727660346},{"$f":"Reports!T37","v":0},{"$f":"Reports!T38","v":28.395173727660346}]
[null,{"$f":"IF(Reports!C43<>\"\",\"(\"&TEXT(Reports!C43,\"_)####\")&\") \"&Reports!D43,Reports!D43)","v":""},null,0,{"$f":"Inputs!AB8","v":0},null,{"$f":"Reports!B12","v":"Pregnancy"},null,{"$f":"Reports!D12","v":17.774864779010777},{"$f":"Reports!E12","v":0},null,{"$f":"Reports!F12","v":17.774864779010777},{"$f":"Reports!H12","v":1.3757466385777553},{"$f":"Reports!I12","v":0},{"$f":"Reports!J12","v":1.3757466385777553},null,"K","g/d",{"$f":"Reports!U30","v":107.41177537875352},{"$f":"Reports!U37","v":66.134446158033199},{"$f":"Reports!U38","v":41.277329220720318}]
[null,{"$f":"IF(Reports!C44<>\"\",\"(\"&TEXT(Reports!C44,\"_)####\")&\") \"&Reports!D44,Reports!D44)","v":""},null,0,{"$f":"Inputs!AB9","v":0},null,{"$f":"Reports!B13","v":"Lactation"},null,{"$f":"Reports!D13","v":17.774864779010777},{"$f":"Reports!E13","v":0},null,{"$f":"Reports!F13","v":17.774864779010777},{"$f":"Reports!H13","v":1.3757466385777553},{"$f":"Reports!I13","v":0},{"$f":"Reports!J13","v":1.3757466385777553},null,"Na","g/d",{"$f":"Reports!V30","v":3.5834164927878072},{"$f":"Reports!V37","v":7.7156853851038738},{"$f":"Reports!V38","v":-4.1322688923160662}]
[null,{"$f":"IF(Reports!C45<>\"\",\"(\"&TEXT(Reports!C45,\"_)####\")&\") \"&Reports!D45,Reports!D45)","v":""},null,0,{"$f":"Inputs!AB10","v":0},null,{"$f":"Reports!B14","v":"Growth"},null,{"$f":"Reports!D14","v":17.774864779010777},{"$f":"Reports!E14","v":17.774864779010777},null,{"$f":"Reports!F14","v":0},{"$f":"Reports!H14","v":1.3757466385777553},{"$f":"Reports!I14","v":0.84517636183116363},{"$f":"Reports!J14","v":0.53057027674659163},null,"S","g/d",{"$f":"Reports!W30","v":18.370679488342557},{"$f":"Reports!W37","v":16.5336115395083},{"$f":"Reports!W38","v":1.8370679488342567}]
[null,{"$f":"IF(Reports!C46<>\"\",\"(\"&TEXT(Reports!C46,\"_)####\")&\") \"&Reports!D46,Reports!D46)","v":""},null,0,{"$f":"Inputs!AB11","v":0},null,{"$f":"Reports!B15","v":"Reserves"},null,{"$f":"Reports!D15","v":0},{"$f":"Reports!E15","v":0},null,{"$f":"Reports!F15","v":0},{"$f":"Reports!H15","v":0.53057027674659163},{"$f":"Reports!I15","v":0},{"$f":"Reports!J15","v":0.53057027674659163},null,"Co","mg/d",{"$f":"Reports!X30","v":4.6493695001360793},{"$f":"Reports!X37","v":1.6533611539508299},{"$f":"Reports!X38","v":2.9960083461852491}]
[null,{"$f":"IF(Reports!C47<>\"\",\"(\"&TEXT(Reports!C47,\"_)####\")&\") \"&Reports!D47,Reports!D47)","v":""},null,0,{"$f":"Inputs!AB12","v":0},null,null,null,null,null,null,null,null,null,null,null,"Cu","mg/d",{"$f":"Reports!Y30","v":63.140705796969975},{"$f":"Reports!Y37","v":110.22407693005533},{"$f":"Reports!Y38","v":-47.083371133085357}]
[null,{"$f":"IF(Reports!C48<>\"\",\"(\"&TEXT(Reports!C48,\"_)####\")&\") \"&Reports!D48,Reports!D48)","v":""},null,0,{"$f":"Inputs!AB13","v":0},null,{"$f":"Reports!B16","v":"ME allowable gain"},null,{"$f":"Reports!D16","v":3.4562061739977277},{"$f":"Reports!E16","v":"lb/d"},null,null,{"$f":"Reports!H26","v":"lb/d"},{"$f":"Reports!I26","v":"%CP"},{"$f":"Reports!J26","v":"%DM"},null,"I","mg/d",{"$f":"Reports!Z30","v":0.43091717318334394},{"$f":"Reports!Z37","v":5.5112038465027666},{"$f":"Reports!Z38","v":-5.0802866733194225}]
[null,{"$f":"IF(Reports!C49<>\"\",\"(\"&TEXT(Reports!C49,\"_)####\")&\") \"&Reports!D49,Reports!D49)","v":""},null,0,{"$f":"Inputs!AB14","v":0},null,{"$f":"Reports!B17","v":"MP allowable gain"},null,{"$f":"Reports!D17","v":5.6258838283256578},{"$f":"Reports!E17","v":"lb/d"},null,{"$f":"Reports!G27","v":"RDP"},{"$f":"Reports!H27","v":2.2456788206890006},{"$f":"Reports!I27","v":75.106315073210737},{"$f":"Reports!J27","v":9.2414766283497976},null,"Fe","mg/d",{"$f":"Reports!AA30","v":1363.2858568447791},{"$f":"Reports!AA37","v":551.12038465027672},{"$f":"Reports!AA38","v":812.1654721945024}]
[null,{"$f":"IF(Reports!C50<>\"\",\"(\"&TEXT(Reports!C50,\"_)####\")&\") \"&Reports!D50,Reports!D50)","v":""},null,0,{"$f":"Inputs!AB15","v":0},null,{"$f":"Reports!B18","v":""},null,{"$f":"Reports!D18","v":""},{"$f":"Reports!E18","v":""},null,{"$f":"Reports!G28","v":"RUP"},{"$f":"Reports!H28","v":0.74432117931100006},{"$f":"Reports!I28","v":24.893684926789298},{"$f":"Reports!J28","v":3.0630501206213991},null,"Mn","mg/d",{"$f":"Reports!AB30","v":259.32141885149235},{"$f":"Reports!AB37","v":220.44815386011066},{"$f":"Reports!AB38","v":38.873264991381689}]
[null,{"$f":"IF(Reports!C51<>\"\",\"(\"&TEXT(Reports!C51,\"_)####\")&\") \"&Reports!D51,Reports!D51)","v":""},null,0,{"$f":"Inputs!AB16","v":0},null,{"$f":"Reports!B19","v":""},null,{"$f":"Reports!D19","v":""},{"$f":"Reports!E19","v":""},null,{"$f":"Reports!G29","v":"RDP:RUP"},{"$f":"Reports!H29","v":3.0170830591812137},{"$f":"Reports!I29","v":0},{"$f":"Reports!J29","v":0},null,"Se","mg/d",{"$f":"Reports!AC30","v":1.891499591762678},{"$f":"Reports!AC37","v":1.1022407693005534},{"$f":"Reports!AC38","v":0.78925882246212464}]
[null,{"$f":"IF(Reports!C52<>\"\",\"(\"&TEXT(Reports!C52,\"_)####\")&\") \"&Reports!D52,Reports!D52)","v":""},null,0,{"$f":"Inputs!AB17","v":0},null,{"$f":"Reports!G17","v":"DMI predicted"},null,{"$f":"Reports!I17","v":24.478573185746562},{"$f":"Reports!J17","v":"lb/d"},null,"TDN and RDP allowable MCP",null,null,null,null,"Zn","mg/d",{"$f":"Reports!AD30","v":167.60410051710062},{"$f":"Reports!AD37","v":330.672230790166},{"$f":"Reports!AD38","v":-163.06813027306538}]
[null,{"$f":"IF(Reports!C53<>\"\",\"(\"&TEXT(Reports!C53,\"_)####\")&\") \"&Reports!D53,Reports!D53)","v":""},null,0,{"$f":"Inputs!AB18","v":0},null,{"$f":"Reports!G16","v":"DMI actual"},null,{"$f":"Reports!I16","v":24.3},{"$f":"Reports!J16","v":"lb/d"},null,"TDN allowable MCP",null,{"$f":"Reports!I32","v":2.961842433649553},{"$f":"Reports!J32","v":"lb/d"},null,"Vit A","1000 IU/d",{"$f":"Reports!AE30","v":32.749705161934138},{"$f":"Reports!AE37","v":24.249296924612171},{"$f":"Reports!AE38","v":8.5004082373219667}]
[null,{"$f":"IF(Reports!C54<>\"\",\"(\"&TEXT(Reports!C54,\"_)####\")&\") \"&Reports!D54,Reports!D54)","v":""},null,0,{"$f":"Inputs!AB19","v":0},null,"NDF intake actual",null,{"$f":"IF(SBW>0,Calc!AX84*100/SBW,0)","v":0.57011090991398838},"% SBW",null,"RDP required",null,{"$f":"IF(parmUnit=1,1,2.2046)*IF(parmSolution=1,Calc!BH107,Calc!BC237)","v":2.961842433649553},{"$f":"IF(parmUnit=1,\"kg/d\",\"lb/d\")","v":"lb/d"},null,"Vit D","1000 IU/d",{"$f":"Reports!AF30","v":0},{"$f":"Reports!AF37","v":3.0311621155765214},{"$f":"Reports!AF38","v":-3.0311621155765214}]
[null,{"$f":"IF(Reports!C55<>\"\",\"(\"&TEXT(Reports!C55,\"_)####\")&\") \"&Reports!D55,Reports!D55)","v":""},null,0,{"$f":"Inputs!AB20","v":0},null,"Water intake",null,{"$f":"IF(parmUnit=1,1,1/3.7854)*Calc!D192","v":8.9088399545133061},{"$f":"IF(parmUnit=1,\"L/d\",\"gal/d\")","v":"gal/d"},null,"RDP available",null,{"$f":"IF(parmUnit=1,1,2.2046)*IF(parmSolution=1,Calc!BH108,Calc!BC238)","v":2.2456788206890006},{"$f":"IF(parmUnit=1,\"kg/d\",\"lb/d\")","v":"lb/d"},null,"Vit E","IU/d",{"$f":"Reports!AG30","v":225.80059874807222},{"$f":"Reports!AG37","v":385.78426925519364},{"$f":"Reports!AG38","v":-159.98367050712142}]
[null,{"$f":"IF(Reports!C56<>\"\",\"(\"&TEXT(Reports!C56,\"_)####\")&\") \"&Reports!D56,Reports!D56)","v":""},null,0,{"$f":"Inputs!AB21","v":0},null,"Diet Summary",null,null,null,null,"RDP balance",null,{"$f":"Reports!I33","v":-0.7161636129605522},{"$f":"Reports!J33","v":"lb/d"},null,"ARG","g/d",{"$f":"Reports!Q68","v":62.85420370119207},{"$f":"Reports!Q75","v":25.53006707568202},{"$f":"Reports!Q76","v":37.32413662551005}]
[null,{"$f":"IF(Reports!C57<>\"\",\"(\"&TEXT(Reports!C57,\"_)####\")&\") \"&Reports!D57,Reports!D57)","v":""},null,0,{"$f":"Inputs!AB22","v":0},null,{"$f":"Reports!G18","v":"Cost per day"},null,{"$f":"Reports!I18","v":1.4860139860139863},"$/d",null,"RDP allowable MCP",null,{"$f":"Reports!I34","v":2.2456788206890006},{"$f":"Reports!J34","v":"lb/d"},null,"HIS","g/d",{"$f":"Reports!R68","v":24.887102645750574},{"$f":"Reports!R75","v":19.340959905819712},{"$f":"Reports!R76","v":5.5461427399308612}]
[null,{"$f":"IF(Reports!C58<>\"\",\"(\"&TEXT(Reports!C58,\"_)####\")&\") \"&Reports!D58,Reports!D58)","v":""},null,0,{"$f":"Inputs!AB23","v":0},null,{"$f":"Reports!B21","v":"Dry matter"},null,{"$f":"Reports!D21","v":69.999664260533834},{"$f":"Reports!E21","v":"%AF"},null,null,null,null,null,null,"ILE","g/d",{"$f":"Reports!S68","v":53.032020157701133},{"$f":"Reports!S75","v":21.661875094518077},{"$f":"Reports!S76","v":31.370145063183056}]
[null,{"$f":"IF(Reports!C59<>\"\",\"(\"&TEXT(Reports!C59,\"_)####\")&\") \"&Reports!D59,Reports!D59)","v":""},null,0,{"$f":"Inputs!AB24","v":0},null,{"$f":"Reports!B22","v":"Forage"},null,{"$f":"Reports!D22","v":20.5761316872428},{"$f":"Reports!E22","v":"%DM"},null,{"$f":"Reports!B34","v":"Source of Metabolizable Protein"},null,null,null,null,"LEU","g/d",{"$f":"Reports!T68","v":70.365155621393654},{"$f":"Reports!T75","v":51.833772547596837},{"$f":"Reports!T76","v":18.531383073796817}]
[null,{"$f":"IF(Reports!C60<>\"\",\"(\"&TEXT(Reports!C60,\"_)####\")&\") \"&Reports!D60,Reports!D60)","v":""},null,0,{"$f":"Inputs!AB25","v":0},null,"Crude protein",null,{"$f":"Reports!D23","v":12.304526748971192},{"$f":"Reports!E23","v":"%DM"},null,{"$f":"Reports!B35","v":"Bacteria"},{"$f":"Reports!C35","v":0.794722440339935},{"$f":"Reports!D35","v":1.7771054601897318},{"$f":"Reports!E35","v":"lb/d"},null,"LYS","g/d",{"$f":"Reports!U68","v":70.497088125279433},{"$f":"Reports!U75","v":49.512857358898465},{"$f":"Reports!U76","v":20.984230766380968}]
[null,{"$f":"IF(Reports!C61<>\"\",\"(\"&TEXT(Reports!C61,\"_)####\")&\") \"&Reports!D61,Reports!D61)","v":""},null,0,{"$f":"Inputs!AB26","v":0},null,{"$f":"Reports!B24","v":"Fat"},null,{"$f":"Reports!D24","v":2.2592592592592595},{"$f":"Reports!E24","v":"%DM"},null,{"$f":"Reports!B36","v":"Feed"},{"$f":"Reports!C36","v":0.20527755966006503},{"$f":"Reports!D36","v":0.45902802489166572},{"$f":"Reports!E36","v":"lb/d"},null,"MET","g/d",{"$f":"Reports!V68","v":22.790598532919173},{"$f":"Reports!V75","v":15.47276792465577},{"$f":"Reports!V76","v":7.317830608263403}]
[null,"Total",null,{"$f":"Inputs!AA27","v":24.3},{"$f":"Inputs!AB27","v":100},null,{"$f":"Reports!B25","v":"Ash"},null,{"$f":"Reports!D25","v":5.2263374485596712},{"$f":"Reports!E25","v":"%DM"},null,{"$f":"Reports!B37","v":"Total"},null,{"$f":"Reports!D37","v":2.2361334850813974},{"$f":"Reports!E37","v":"lb/d"},null,"CYS","g/d",{"$f":"Reports!W68","v":0},"––","––"]
[null,null,null,null,null,null,"NDF",null,{"$f":"Reports!D30","v":24.876543209876548},{"$f":"Reports!E30","v":"%DM"},null,"Ruminal Nitrogen Balance",null,null,null,null,"PHE","g/d",{"$f":"Reports!X68","v":49.567216766966034},{"$f":"Reports!X75","v":27.077343868147601},{"$f":"Reports!X76","v":22.489872898818433}]
[null,"Change ration intake to:",null,0,{"$f":"Inputs!AB29","v":"lb/d"},null,{"$f":"Reports!B31","v":"Lignin"},null,{"$f":"Reports!D31","v":2.1292181069958849},{"$f":"Reports!E31","v":"%DM"},null,{"$f":"Reports!G30","v":"Ruminal N balance"},null,{"$f":"Reports!I30","v":-0.11458617807368833},{"$f":"Reports!J30","v":"lb N/d"},null,"TYR","g/d",{"$f":"Reports!Y68","v":34.823077147871004},"––","––"]
[null,"Scale ration intake to:",null,100,"%",null,{"$f":"Reports!B26","v":"Carbohydrate (CHO)"},null,{"$f":"Reports!D26","v":80.209876543209887},{"$f":"Reports!E26","v":"%DM"},null,{"$f":"Reports!G31","v":"Ruminal N balance"},null,{"$f":"Reports!I31","v":-24.179666170765955},{"$f":"Reports!J31","v":"% of req."},null,"THR","g/d",{"$f":"Reports!Z68","v":49.633813624604414},{"$f":"Reports!Z75","v":30.171897453078749},{"$f":"Reports!Z76","v":19.461916171525665}]
[null,null,null,null,null,null,{"$f":"Reports!B27","v":"Nonfiber CHO"},null,{"$f":"Reports!D27","v":55.333333333333343},{"$f":"Reports!E27","v":"%DM"},null,null,null,null,null,null,"TRP","g/d",{"$f":"Reports!AA68","v":14.923622105525606},{"$f":"Reports!AA75","v":4.6418303773967313},{"$f":"Reports!AA76","v":10.281791728128875}]
[null,{"$f":"Inputs!B16","v":"Initial body weight"},"IBW",872,{"$f":"Inputs!E16","v":"lb"},null,{"$f":"Reports!B28","v":"Sugars"},null,{"$f":"Reports!D28","v":0},{"$f":"Reports!E28","v":"%DM"},null,"Diet Energy",null,null,null,null,"VAL","g/d",{"$f":"Reports!AB68","v":56.645085606652216},{"$f":"Reports!AB75","v":30.94553584931154},{"$f":"Reports!AB76","v":25.699549757340677}]
[null,{"$f":"Inputs!B17","v":"Final body weight"},"FBW",1337,{"$f":"Inputs!E17","v":"lb"},null,{"$f":"Reports!B29","v":"Starch"},null,{"$f":"Reports!D29","v":48.000411522633748},{"$f":"Reports!E29","v":"%DM"},null,"Apparent TDN",null,{"$f":"Reports!I20","v":76.716038637600249},{"$f":"Reports!J20","v":"% DM"}]
[null,null,null,null,null,null,"Pectin",null,{"$f":"Calc!BG41","v":7.3329218106995917},{"$f":"Reports!E30","v":"%DM"},null,"Dietary DE",null,{"$f":"IF(parmSolution=1,IF(parmUnit=1,1,1/2.2046)*Calc!AV112,IF(parmUnit=1,1,1/2.2046)*Calc!AM308)","v":1.5345991580868052},{"$f":"IF(parmUnit=1,\"Mcal/kg\",\"Mcal/lb\")","v":"Mcal/lb"},null,"Nitrogen Balance",null,null,"Methane (median)"]
[null,"Solution type",null,null,null,null,"RDP(N):S ratio",null,{"$f":"IF(S12<>0,(M16/16)/S12,0)","v":7.6401597655724853E-3},null,null,"ME:DE",null,{"$f":"IF(parmSolution=1,IF(Calc!AV112>0,Calc!AL112*100/Calc!AV112,0),Calc!AN308)","v":82},"%",null,"Intake",{"$f":"Calc!DF7","v":217.0008164746439},"g/d",{"$f":"Reports!G36","v":4.1308715842378287},{"$f":"Reports!H36","v":"% GE"}]
[null,"Units",null,null,null,null,"Ca:P ratio",null,{"$f":"IF(S7<>0,S6/S7,0)","v":0.43827160493827161},null,null,"Dietary ME",null,{"$f":"Reports!I21","v":1.2873138497526972},{"$f":"Reports!J21","v":"Mcal/lb"},null,"Retained",{"$f":"Calc!DF13","v":30.178845687811481},"g/d",{"$f":"Reports!G37","v":9.0551274773206938},{"$f":"Reports!H37","v":"mol/d"}]
[null,"Feed basis",null,null,null,null,"peNDF",null,{"$f":"Reports!D32","v":11.564403292181073},{"$f":"Reports!E32","v":"%DM"},null,"Dietary NEm",null,{"$f":"Reports!I22","v":0.86028890733155072},{"$f":"Reports!J22","v":"Mcal/lb"},null,"Urinary",{"$f":"IF(parmSolution=1,Calc!DE14,Calc!DF14)","v":113.20911371203722},"g/d",{"$f":"Reports!I36","v":1.9288721305756806},{"$f":"Reports!J36","v":"Mcal/d"}]
[null,"Animal type",null,null,null,null,{"$f":"IF(Inputs!F85>0,\"Ruminal pH (user)\",\"Ruminal pH (calc.)\")","v":"Ruminal pH (calc.)"},null,{"$f":"pH","v":5.8994473251028809},null,null,"Dietary NEg",null,{"$f":"Reports!I23","v":0.57035166233019119},{"$f":"Reports!J23","v":"Mcal/lb"},null,"Fecal",{"$f":"IF(parmSolution=1,Calc!DF26,Calc!DF15)","v":73.612857074795201},"g/d",{"$f":"Reports!I37","v":5.9622238533798813},{"$f":"Reports!J37","v":"g/lb DM"}]

{"sheet":"Inputs","index":1,"n_rows":91,"n_cols":93,"rows_kept":91,"cut":false,"hidden":true,"merged":[[1,74,1,90],[2,28,2,29],[2,30,2,31],[1,49,1,53],[1,54,1,61],[1,62,1,73]]}
[]
[null,"Table 1. Settings",null,null,null,null,null,null,null,null,null,null,null,null,null,null,null,null,null,null,null,"Table 6. Feed imports",null,null,null,"Table 7. Diet",null,null,null,null,null,null,null,"Table 8. Feed composition",null,null,null,null,null,null,null,null,null,null,null,null,null,null,null,"Empirical",null,null,null,null,"Mechanistic",null,null,null,null,null,null,null,"Amino Acids",null,null,null,null,null,null,null,null,null,null,null,"Minerals and vitamins"]
[null,null,"Acronym","User","Unit","Metric","Unit","Description",null,null,false,null,null,null,null,null,null,null,null,null,null,null,null,null,null,"Feed quantity as:",1,null,"As-fed (AF)",null,"Dry Matter (DM)",null,null,"Locked","ID","Feed name","Cost, AF","Forage","DM","CP","SP","ADICP","Sugars","OA","Fat","Ash","Starch","NDF","Lignin","TDN 1x","ME 1x","NEm 1x","NEg 1x","RUP 1x","kd PB","kd CB1","kd CB2","kd CB3","PBID","CB1ID","CB2ID","pef","ARG","HIS","ILE","LEU","LYS","MET","CYS","PHE","TYR","THR","TRP","VAL","Ca","P","Mg","Cl","K","Na","S","Co","Cu","I","Fe","Mn","Se","Zn","VitA","VitD","VitE",null,"Feed"]
[null,"Solution type",null,2,{"$f":"CHOOSE(parmSolution,\"ELS\",\"MLS\")","v":"MLS"},null,null,"1:=Empirical, 2:=Mechanistic",null,null,false,null,null,null,null,null,null,null,null,null,null,"#","ID","Feed library feed's name",null,"Feed name",{"$f":"CHOOSE($AA$3,IF(parmUnit=1,\"kg/d\",\"lb/d\"),IF(parmBasis=1,\"% DM\",\"% AF\"))","v":"lb/d"},{"$f":"CHOOSE($AA$3,IF(parmBasis=1,\"% DM\",\"% AF\"),IF(parmUnit=1,\"kg/d\",\"lb/d\"))","v":"% DM"},"kg/d","%","kg/d","%",null,null,null,null,{"$f":"AK37","v":"$/Ton"},"%DM","%AF","%DM","%CP","%CP","%DM","%DM","%DM","%DM","%DM","%DM","%DM","%DM",{"$f":"AY37","v":"Mcal/lb"},{"$f":"AZ37","v":"Mcal/lb"},{"$f":"BA37","v":"Mcal/lb"},"%CP","%/h","%/h","%/h","%/h","%","%","%","%NDF","%DM","%DM","%DM","%DM","%DM","%DM","%DM","%DM","%DM","%DM","%DM","%DM","%DM","%DM","%DM","%DM","%DM","%DM","%DM","mg/kg","mg/kg","mg/kg","mg/kg","mg/kg","mg/kg","mg/kg","IU/g","IU/g","IU/kg",null,"ID"]
[null,"Unit system",null,2,{"$f":"CHOOSE(parmUnit,\"Metric\",\"Imperial\")","v":"Imperial"},null,null,"1:=Metric, 2:=Imperial (English)",null,null,{"$f":"IF(F25>VLOOKUP(Inputs!F20,Calc!$H$103:$L$106,4),MAX(VLOOKUP(Inputs!F20,Calc!$H$103:$L$106,5),VLOOKUP(Inputs!F20,Calc!$H$103:$L$106,4)-F25),0)","v":0},null,null,null,null,null,null,null,null,null,null,1,301,{"$f":"IF(AH5=TRUE,IF(ISNUMBER(AI5),\"*\"&AJ5&\"*\",\"\"),IF(ISNUMBER($W5),IF($W5<1000,IFERROR(VLOOKUP($W5,FeedLib[#All],2,FALSE),\"!!! Feed not found !!!\"),IFERROR(VLOOKUP($W5,FeedLibUser[#All],2,FALSE),\"!!! Feed not found !!!\")),IF(ISNUMBER(AI5),\"*\"&AJ5&\"*\",\"\")))","v":"*Barley, Silage*"},null,{"$f":"IF(AND(ISNUMBER(AI5),AJ5<>\"\"),AJ5,\"\")","v":"Barley, Silage"},5,{"$f":"IF(AND(AJ5<>\"\",ISNUMBER(AA5),$AA$27>0),IF($AA$3=1,AA5*100/$AA$27,(AA5/100)*$AA$29),0)","v":20.576131687242796},{"$f":"IF(AND(AJ5<>\"\",ISNUMBER(AA5)),IF($AA$3=1,AA5,AB5)*IF(parmUnit=1,1,1/2.2046)*IF(parmBasis=2,1,IF(AND(AM5>0,ISNUMBER(AM5)),1/(AM5/100),0)),0)","v":5.8153464667117927},{"$f":"IF(AND(AJ5<>\"\",ISNUMBER(AA5),$AC$27>0),AC5/$AC$27,0)","v":0.36931341279167362},{"$f":"IF(AND(AJ5<>\"\",ISNUMBER(AA5)),IF($AA$3=1,AA5,AB5)*IF(parmUnit=1,1,1/2.2046)*IF(parmBasis=2,IF(AND(AM5>0,ISNUMBER(AM5)),(AM5/100),0),1),0)","v":2.2679851220175995},{"$f":"IF(AND(AJ5<>\"\",ISNUMBER(AA5),$AE$27>0),AE5/$AE$27,0)","v":0.20576131687242799},null,true,301,"Barley, Silage",25,100,39,10.4,70,6.1,0,0,3,8,14.06,48.7,3.09,60,0.98,0.59,0.33,14,8.27,50,50,4,54,75,75,65,0.15,0.16,0.32,0.56999999999999995,0.32,0.15,0,0.35,0,0.35,0.12,0.49,0.52,0.28999999999999998,0.19,0.15,2.57,0.12,0.24,0.72,7.7,0,375,44.8,0.15,24.5,0,0,0,null,{"$f":"IF($AI5<>\"\",IF(ISNA(MATCH(IF($AI5<1000,$AI5+1000,$AI5),FeedLibUser[ID],0)),0,MATCH(IF($AI5<1000,$AI5+1000,$AI5),FeedLibUser[ID],0)),0)","v":0}]
[null,"Feed basis",null,1,{"$f":"CHOOSE(parmBasis,\"DM\",\"As-fed\")","v":"DM"},null,null,"1:=Dry Matter, 2:=As-Fed",null,null,false,null,null,null,null,null,null,null,null,null,null,2,402,{"$f":"IF(AH6=TRUE,IF(ISNUMBER(AI6),\"*\"&AJ6&\"*\",\"\"),IF(ISNUMBER($W6),IF($W6<1000,IFERROR(VLOOKUP($W6,FeedLib[#All],2,FALSE),\"!!! Feed not found !!!\"),IFERROR(VLOOKUP($W6,FeedLibUser[#All],2,FALSE),\"!!! Feed not found !!!\")),IF(ISNUMBER(AI6),\"*\"&AJ6&\"*\",\"\")))","v":"*Barley Grain, Heavy*"},null,{"$f":"IF(AND(ISNUMBER(AI6),AJ6<>\"\"),AJ6,\"\")","v":"Barley Grain, Heavy"},19,{"$f":"IF(AND(AJ6<>\"\",ISNUMBER(AA6),$AA$27>0),IF($AA$3=1,AA6*100/$AA$27,(AA6/100)*$AA$29),0)","v":78.189300411522638},9.7935721178032722,{"$f":"IF(AND(AJ6<>\"\",ISNUMBER(AA6),$AC$27>0),AC6/$AC$27,0)","v":0.62195736108779598},8.6183434636668785,{"$f":"IF(AND(AJ6<>\"\",ISNUMBER(AA6),$AE$27>0),AE6/$AE$27,0)","v":0.78189300411522644},null,true,402,"Barley Grain, Heavy",120,0,88,13,17,5,0,0,2.1,3,57.69,19,1.91,84,1.38,0.94,0.63,33.07,10.4,30,30,5,79.2,75,75,34,0.43,0.2,0.35,0.61,0.27,7.0000000000000007E-2,0,0.5,0,0.28000000000000003,0.11,0.43,0.05,0.35,0.12,0.28999999999999998,0.56999999999999995,0.01,0.15,0.35,5.3,0.05,59.5,18.3,0.18,13,3.8,0,26.2,null,{"$f":"IF($AI6<>\"\",IF(ISNA(MATCH(IF($AI6<1000,$AI6+1000,$AI6),FeedLibUser[ID],0)),0,MATCH(IF($AI6<1000,$AI6+1000,$AI6),FeedLibUser[ID],0)),0)","v":0}]
[null,"Animal class",null,1,null,null,null,"1:=Grow/Finish, 2:=Lactating, 3:=Dry, 4:=Replacement",null,null,null,null,null,null,null,null,null,null,null,null,null,3,800,{"$f":"IF(AH7=TRUE,IF(ISNUMBER(AI7),\"*\"&AJ7&\"*\",\"\"),IF(ISNUMBER($W7),IF($W7<1000,IFERROR(VLOOKUP($W7,FeedLib[#All],2,FALSE),\"!!! Feed not found !!!\"),IFERROR(VLOOKUP($W7,FeedLibUser[#All],2,FALSE),\"!!! Feed not found !!!\")),IF(ISNUMBER(AI7),\"*\"&AJ7&\"*\",\"\")))","v":"*Minerals *"},null,"Minerals ",0.3,1.2345679012345678,0.13745364375864239,8.7292261205304672E-3,0.13607910732105596,1.2345679012345678E-2,null,true,800,"Minerals ",200,0,99,0,0,0,0,0,0,100,0,0,0,0,0,0,0,100,0,0,0,0,0,0,75,0,0,0,0,0,0,0,0,0,0,0,0,0,0,0,0,0,0,0,0,0,0,0,0,0,0,0,0,0,0,null,{"$f":"IF($AI7<>\"\",IF(ISNA(MATCH(IF($AI7<1000,$AI7+1000,$AI7),FeedLibUser[ID],0)),0,MATCH(IF($AI7<1000,$AI7+1000,$AI7),FeedLibUser[ID],0)),0)","v":0}]
[null,null,null,null,null,null,null,null,null,null,null,null,null,null,null,null,null,null,null,null,null,4,null,{"$f":"IF(AH8=TRUE,IF(ISNUMBER(AI8),\"*\"&AJ8&\"*\",\"\"),IF(ISNUMBER($W8),IF($W8<1000,IFERROR(VLOOKUP($W8,FeedLib[#All],2,FALSE),\"!!! Feed not found !!!\"),IFERROR(VLOOKUP($W8,FeedLibUser[#All],2,FALSE),\"!!! Feed not found !!!\")),IF(ISNUMBER(AI8),\"*\"&AJ8&\"*\",\"\")))","v":""},null,"",0,0,0,0,0,0,null,false,null,null,null,null,null,null,null,null,null,null,null,null,null,null,null,null,null,null,null,null,null,null,null,null,null,null,null,null,null,null,null,null,null,null,null,null,null,null,null,null,null,null,null,null,null,null,null,null,null,null,null,null,null,null,null,null,null,null,{"$f":"IF($AI8<>\"\",IF(ISNA(MATCH(IF($AI8<1000,$AI8+1000,$AI8),FeedLibUser[ID],0)),0,MATCH(IF($AI8<1000,$AI8+1000,$AI8),FeedLibUser[ID],0)),0)","v":0}]
[null,null,null,null,null,null,null,null,null,null,null,null,null,null,null,null,null,null,null,null,null,5,null,{"$f":"IF(AH9=TRUE,IF(ISNUMBER(AI9),\"*\"&AJ9&\"*\",\"\"),IF(ISNUMBER($W9),IF($W9<1000,IFERROR(VLOOKUP($W9,FeedLib[#All],2,FALSE),\"!!! Feed not found !!!\"),IFERROR(VLOOKUP($W9,FeedLibUser[#All],2,FALSE),\"!!! Feed not found !!!\")),IF(ISNUMBER(AI9),\"*\"&AJ9&\"*\",\"\")))","v":""},null,"",0,0,0,0,0,0,null,false,null,null,null,null,null,null,null,null,null,null,null,null,null,null,null,null,null,null,null,null,null,null,null,null,null,null,null,null,null,null,null,null,null,null,null,null,null,null,null,null,null,null,null,null,null,null,null,null,null,null,null,null,null,null,null,null,null,null,{"$f":"IF($AI9<>\"\",IF(ISNA(MATCH(IF($AI9<1000,$AI9+1000,$AI9),FeedLibUser[ID],0)),0,MATCH(IF($AI9<1000,$AI9+1000,$AI9),FeedLibUser[ID],0)),0)","v":0}]
[null,"Table 2. Animal",null,null,null,null,null,null,null,"Table 2.1. Breeds",null,null,null,null,null,null,null,null,null,null,null,6,null,{"$f":"IF(AH10=TRUE,IF(ISNUMBER(AI10),\"*\"&AJ10&\"*\",\"\"),IF(ISNUMBER($W10),IF($W10<1000,IFERROR(VLOOKUP($W10,FeedLib[#All],2,FALSE),\"!!! Feed not found !!!\"),IFERROR(VLOOKUP($W10,FeedLibUser[#All],2,FALSE),\"!!! Feed not found !!!\")),IF(ISNUMBER(AI10),\"*\"&AJ10&\"*\",\"\")))","v":""},null,"",0,0,0,0,0,0,null,false,null,null,null,null,null,null,null,null,null,null,null,null,null,null,null,null,null,null,null,null,null,null,null,null,null,null,null,null,null,null,null,null,null,null,null,null,null,null,null,null,null,null,null,null,null,null,null,null,null,null,null,null,null,null,null,null,null,null,{"$f":"IF($AI10<>\"\",IF(ISNA(MATCH(IF($AI10<1000,$AI10+1000,$AI10),FeedLibUser[ID],0)),0,MATCH(IF($AI10<1000,$AI10+1000,$AI10),FeedLibUser[ID],0)),0)","v":0}]
[null,"Item","Acronym","User","Unit","Metric","Unit","Description",null,"Code","Breed","BE","L",{"$f":"IF(parmUnit=1,\"CBW, kg\",\"CBW, lb\")","v":"CBW, lb"},{"$f":"IF(parmUnit=1,\"PKYD, kg\",\"PKYD, lb\")","v":"PKYD, lb"},"MkFat","MkProt","MkSNF","%FBW",null,null,7,null,{"$f":"IF(AH11=TRUE,IF(ISNUMBER(AI11),\"*\"&AJ11&\"*\",\"\"),IF(ISNUMBER($W11),IF($W11<1000,IFERROR(VLOOKUP($W11,FeedLib[#All],2,FALSE),\"!!! Feed not found !!!\"),IFERROR(VLOOKUP($W11,FeedLibUser[#All],2,FALSE),\"!!! Feed not found !!!\")),IF(ISNUMBER(AI11),\"*\"&AJ11&\"*\",\"\")))","v":""},null,"",0,0,0,0,0,0,null,false,null,null,null,null,null,null,null,null,null,null,null,null,null,null,null,null,null,null,null,null,null,null,null,null,null,null,null,null,null,null,null,null,null,null,null,null,null,null,null,null,null,null,null,null,null,null,null,null,null,null,null,null,null,null,null,null,null,null,{"$f":"IF($AI11<>\"\",IF(ISNA(MATCH(IF($AI11<1000,$AI11+1000,$AI11),FeedLibUser[ID],0)),0,MATCH(IF($AI11<1000,$AI11+1000,$AI11),FeedLibUser[ID],0)),0)","v":0}]
[null,"Age",null,14,null,{"$f":"D12","v":14},"mo","Used to calculate tissue insulation",null,1,"Angus",1,1.2,{"$f":"31*IF(parmUnit=1,1,2.2046)","v":68.342600000000004},{"$f":"8*IF(parmUnit=1,1,2.2046)","v":17.636800000000001},4,3.8,8.3000000000000007,0.6,null,null,8,null,{"$f":"IF(AH12=TRUE,IF(ISNUMBER(AI12),\"*\"&AJ12&\"*\",\"\"),IF(ISNUMBER($W12),IF($W12<1000,IFERROR(VLOOKUP($W12,FeedLib[#All],2,FALSE),\"!!! Feed not found !!!\"),IFERROR(VLOOKUP($W12,FeedLibUser[#All],2,FALSE),\"!!! Feed not found !!!\")),IF(ISNUMBER(AI12),\"*\"&AJ12&\"*\",\"\")))","v":""},null,"",0,0,0,0,0,0,null,false,null,null,null,null,null,null,null,null,null,null,null,null,null,null,null,null,null,null,null,null,null,null,null,null,null,null,null,null,null,null,null,null,null,null,null,null,null,null,null,null,null,null,null,null,null,null,null,null,null,null,null,null,null,null,null,null,null,null,{"$f":"IF($AI12<>\"\",IF(ISNA(MATCH(IF($AI12<1000,$AI12+1000,$AI12),FeedLibUser[ID],0)),0,MATCH(IF($AI12<1000,$AI12+1000,$AI12),FeedLibUser[ID],0)),0)","v":0}]
[null,"Age class (for DMI & WC)",null,2,null,{"$f":"D13","v":2},null,"1:=Calves, 2:=Yearlings",null,2,"Braford",0.95,1.2,{"$f":"36*IF(parmUnit=1,1,2.2046)","v":79.365600000000001},{"$f":"7*IF(parmUnit=1,1,2.2046)","v":15.432200000000002},4,3.8,8.3000000000000007,0.55000000000000004,null,null,9,null,{"$f":"IF(AH13=TRUE,IF(ISNUMBER(AI13),\"*\"&AJ13&\"*\",\"\"),IF(ISNUMBER($W13),IF($W13<1000,IFERROR(VLOOKUP($W13,FeedLib[#All],2,FALSE),\"!!! Feed not found !!!\"),IFERROR(VLOOKUP($W13,FeedLibUser[#All],2,FALSE),\"!!! Feed not found !!!\")),IF(ISNUMBER(AI13),\"*\"&AJ13&\"*\",\"\")))","v":""},null,"",0,0,0,0,0,0,null,false,null,null,null,null,null,null,null,null,null,null,null,null,null,null,null,null,null,null,null,null,null,null,null,null,null,null,null,null,null,null,null,null,null,null,null,null,null,null,null,null,null,null,null,null,null,null,null,null,null,null,null,null,null,null,null,null,null,null,{"$f":"IF($AI13<>\"\",IF(ISNA(MATCH(IF($AI13<1000,$AI13+1000,$AI13),FeedLibUser[ID],0)),0,MATCH(IF($AI13<1000,$AI13+1000,$AI13),FeedLibUser[ID],0)),0)","v":0}]
[null,"Sex",null,2,null,{"$f":"D14","v":2},null,"1:=Bull, 2:=Steer, 3:=Heifer, 4:=Cow",null,3,"Brahman",0.9,1.2,{"$f":"31*IF(parmUnit=1,1,2.2046)","v":68.342600000000004},{"$f":"8*IF(parmUnit=1,1,2.2046)","v":17.636800000000001},4,3.8,8.3000000000000007,0.55000000000000004,null,null,10,null,{"$f":"IF(AH14=TRUE,IF(ISNUMBER(AI14),\"*\"&AJ14&\"*\",\"\"),IF(ISNUMBER($W14),IF($W14<1000,IFERROR(VLOOKUP($W14,FeedLib[#All],2,FALSE),\"!!! Feed not found !!!\"),IFERROR(VLOOKUP($W14,FeedLibUser[#All],2,FALSE),\"!!! Feed not found !!!\")),IF(ISNUMBER(AI14),\"*\"&AJ14&\"*\",\"\")))","v":""},null,"",0,0,0,0,0,0,null,false,null,null,null,null,null,null,null,null,null,null,null,null,null,null,null,null,null,null,null,null,null,null,null,null,null,null,null,null,null,null,null,null,null,null,null,null,null,null,null,null,null,null,null,null,null,null,null,null,null,null,null,null,null,null,null,null,null,null,{"$f":"IF($AI14<>\"\",IF(ISNA(MATCH(IF($AI14<1000,$AI14+1000,$AI14),FeedLibUser[ID],0)),0,MATCH(IF($AI14<1000,$AI14+1000,$AI14),FeedLibUser[ID],0)),0)","v":0}]
[null,"Body condition score","BCS",5,null,{"$f":"D15","v":5},null,"1:=Emaciated, 2:=Very thin,  … , 8:=Fat, 9:=Very fat",null,4,"Brangus",0.95,1.2,{"$f":"33*IF(parmUnit=1,1,2.2046)","v":72.751800000000003},{"$f":"8*IF(parmUnit=1,1,2.2046)","v":17.636800000000001},4,3.8,8.3000000000000007,0.62,null,null,11,null,{"$f":"IF(AH15=TRUE,IF(ISNUMBER(AI15),\"*\"&AJ15&\"*\",\"\"),IF(ISNUMBER($W15),IF($W15<1000,IFERROR(VLOOKUP($W15,FeedLib[#All],2,FALSE),\"!!! Feed not found !!!\"),IFERROR(VLOOKUP($W15,FeedLibUser[#All],2,FALSE),\"!!! Feed not found !!!\")),IF(ISNUMBER(AI15),\"*\"&AJ15&\"*\",\"\")))","v":""},null,"",0,0,0,0,0,0,null,false,null,null,null,null,null,null,null,null,null,null,null,null,null,null,null,null,null,null,null,null,null,null,null,null,null,null,null,null,null,null,null,null,null,null,null,null,null,null,null,null,null,null,null,null,null,null,null,null,null,null,null,null,null,null,null,null,null,null,{"$f":"IF($AI15<>\"\",IF(ISNA(MATCH(IF($AI15<1000,$AI15+1000,$AI15),FeedLibUser[ID],0)),0,MATCH(IF($AI15<1000,$AI15+1000,$AI15),FeedLibUser[ID],0)),0)","v":0}]
[null,"Initial body weight","IBW",872,{"$f":"CHOOSE(parmUnit,\"kg\",\"lb\")","v":"lb"},{"$f":"D16*IF(parmUnit=1,1,1/2.2046)","v":395.53660527986938},"kg","Live or full (unshrunk) initial BW of the feeding period",null,5,"Braunvieh",1.2,1,{"$f":"39*IF(parmUnit=1,1,2.2046)","v":85.979399999999998},{"$f":"12*IF(parmUnit=1,1,2.2046)","v":26.455200000000001},4,3.8,8.3000000000000007,0.62,null,null,12,null,{"$f":"IF(AH16=TRUE,IF(ISNUMBER(AI16),\"*\"&AJ16&\"*\",\"\"),IF(ISNUMBER($W16),IF($W16<1000,IFERROR(VLOOKUP($W16,FeedLib[#All],2,FALSE),\"!!! Feed not found !!!\"),IFERROR(VLOOKUP($W16,FeedLibUser[#All],2,FALSE),\"!!! Feed not found !!!\")),IF(ISNUMBER(AI16),\"*\"&AJ16&\"*\",\"\")))","v":""},null,"",0,0,0,0,0,0,null,false,null,null,null,null,null,null,null,null,null,null,null,null,null,null,null,null,null,null,null,null,null,null,null,null,null,null,null,null,null,null,null,null,null,null,null,null,null,null,null,null,null,null,null,null,null,null,null,null,null,null,null,null,null,null,null,null,null,null,{"$f":"IF($AI16<>\"\",IF(ISNA(MATCH(IF($AI16<1000,$AI16+1000,$AI16),FeedLibUser[ID],0)),0,MATCH(IF($AI16<1000,$AI16+1000,$AI16),FeedLibUser[ID],0)),0)","v":0}]
[null,"Final body weight","FBW",1337,{"$f":"CHOOSE(parmUnit,\"kg\",\"lb\")","v":"lb"},{"$f":"D17*IF(parmUnit=1,1,1/2.2046)","v":606.45922162750605},"kg","Live or full (unshrunk) final BW of the feeding period",null,6,"Canchim",0.9,1.2,{"$f":"32*IF(parmUnit=1,1,2.2046)","v":70.547200000000004},{"$f":"6*IF(parmUnit=1,1,2.2046)","v":13.227600000000001},4,3.8,8.3000000000000007,0.62,null,null,13,null,{"$f":"IF(AH17=TRUE,IF(ISNUMBER(AI17),\"*\"&AJ17&\"*\",\"\"),IF(ISNUMBER($W17),IF($W17<1000,IFERROR(VLOOKUP($W17,FeedLib[#All],2,FALSE),\"!!! Feed not found !!!\"),IFERROR(VLOOKUP($W17,FeedLibUser[#All],2,FALSE),\"!!! Feed not found !!!\")),IF(ISNUMBER(AI17),\"*\"&AJ17&\"*\",\"\")))","v":""},null,"",0,0,0,0,0,0,null,false,null,null,null,null,null,null,null,null,null,null,null,null,null,null,null,null,null,null,null,null,null,null,null,null,null,null,null,null,null,null,null,null,null,null,null,null,null,null,null,null,null,null,null,null,null,null,null,null,null,null,null,null,null,null,null,null,null,null,{"$f":"IF($AI17<>\"\",IF(ISNA(MATCH(IF($AI17<1000,$AI17+1000,$AI17),FeedLibUser[ID],0)),0,MATCH(IF($AI17<1000,$AI17+1000,$AI17),FeedLibUser[ID],0)),0)","v":0}]
[null,"Mature body weight","MW",1337,{"$f":"CHOOSE(parmUnit,\"kg\",\"lb\")","v":"lb"},{"$f":"D18*IF(parmUnit=1,1,1/2.2046)","v":606.45922162750605},"kg","Current animal's full BW at reference animal's EBF",null,7,"Charolais",1,1.2,{"$f":"39*IF(parmUnit=1,1,2.2046)","v":85.979399999999998},{"$f":"9*IF(parmUnit=1,1,2.2046)","v":19.8414},4,3.8,8.3000000000000007,0.56999999999999995,null,null,14,null,{"$f":"IF(AH18=TRUE,IF(ISNUMBER(AI18),\"*\"&AJ18&\"*\",\"\"),IF(ISNUMBER($W18),IF($W18<1000,IFERROR(VLOOKUP($W18,FeedLib[#All],2,FALSE),\"!!! Feed not found !!!\"),IFERROR(VLOOKUP($W18,FeedLibUser[#All],2,FALSE),\"!!! Feed not found !!!\")),IF(ISNUMBER(AI18),\"*\"&AJ18&\"*\",\"\")))","v":""},null,"",0,0,0,0,0,0,null,false,null,null,null,null,null,null,null,null,null,null,null,null,null,null,null,null,null,null,null,null,null,null,null,null,null,null,null,null,null,null,null,null,null,null,null,null,null,null,null,null,null,null,null,null,null,null,null,null,null,null,null,null,null,null,null,null,null,null,{"$f":"IF($AI18<>\"\",IF(ISNA(MATCH(IF($AI18<1000,$AI18+1000,$AI18),FeedLibUser[ID],0)),0,MATCH(IF($AI18<1000,$AI18+1000,$AI18),FeedLibUser[ID],0)),0)","v":0}]
[null,"Reference animal's EBF",null,3,null,{"$f":"D19","v":3},null,"EBF: 1:=22%, 2:=25% (Std), 3:=27% (Sel), 4:=28% (Ch-)",null,8,"Chianina",1,1.2,{"$f":"41*IF(parmUnit=1,1,2.2046)","v":90.388600000000011},{"$f":"6*IF(parmUnit=1,1,2.2046)","v":13.227600000000001},4,3.8,8.3000000000000007,0.65,null,null,15,null,{"$f":"IF(AH19=TRUE,IF(ISNUMBER(AI19),\"*\"&AJ19&\"*\",\"\"),IF(ISNUMBER($W19),IF($W19<1000,IFERROR(VLOOKUP($W19,FeedLib[#All],2,FALSE),\"!!! Feed not found !!!\"),IFERROR(VLOOKUP($W19,FeedLibUser[#All],2,FALSE),\"!!! Feed not found !!!\")),IF(ISNUMBER(AI19),\"*\"&AJ19&\"*\",\"\")))","v":""},null,"",0,0,0,0,0,0,null,false,null,null,null,null,null,null,null,null,null,null,null,null,null,null,null,null,null,null,null,null,null,null,null,null,null,null,null,null,null,null,null,null,null,null,null,null,null,null,null,null,null,null,null,null,null,null,null,null,null,null,null,null,null,null,null,null,null,null,{"$f":"IF($AI19<>\"\",IF(ISNA(MATCH(IF($AI19<1000,$AI19+1000,$AI19),FeedLibUser[ID],0)),0,MATCH(IF($AI19<1000,$AI19+1000,$AI19),FeedLibUser[ID],0)),0)","v":0}]
[null,"Breed type",null,2,null,2,null,"1:=Dual-purpose, 2:=Bos taurus, 3:=Bos indicus, 4:=Dairy",null,9,"Devon",1,1,32,8,3.5,3.3,8.3000000000000007,0.6,null,null,16,null,{"$f":"IF(AH20=TRUE,IF(ISNUMBER(AI20),\"*\"&AJ20&\"*\",\"\"),IF(ISNUMBER($W20),IF($W20<1000,IFERROR(VLOOKUP($W20,FeedLib[#All],2,FALSE),\"!!! Feed not found !!!\"),IFERROR(VLOOKUP($W20,FeedLibUser[#All],2,FALSE),\"!!! Feed not found !!!\")),IF(ISNUMBER(AI20),\"*\"&AJ20&\"*\",\"\")))","v":""},null,{"$f":"IF(AND(ISNUMBER(AI20),AJ20<>\"\"),AJ20,\"\")","v":""},0,0,0,{"$f":"IF(AND(AJ20<>\"\",ISNUMBER(AA20),$AC$27>0),AC20/$AC$27,0)","v":0},0,{"$f":"IF(AND(AJ20<>\"\",ISNUMBER(AA20),$AE$27>0),AE20/$AE$27,0)","v":0},null,false,null,null,null,null,null,null,null,null,null,null,null,null,null,null,null,null,null,null,null,null,null,null,null,null,null,null,null,null,null,null,null,null,null,null,null,null,null,null,null,null,null,null,null,null,null,null,null,null,null,null,null,null,null,null,null,null,null,null,{"$f":"IF($AI20<>\"\",IF(ISNA(MATCH(IF($AI20<1000,$AI20+1000,$AI20),FeedLibUser[ID],0)),0,MATCH(IF($AI20<1000,$AI20+1000,$AI20),FeedLibUser[ID],0)),0)","v":0}]
[null,"Breeding system",null,2,null,2,null,"1:=Straightbred, 2:=2-Way X, 3:=3-Way X",null,10,"Galloway",1,1.2,{"$f":"36*IF(parmUnit=1,1,2.2046)","v":79.365600000000001},{"$f":"8*IF(parmUnit=1,1,2.2046)","v":17.636800000000001},4,3.8,8.3000000000000007,0.6,null,null,17,null,{"$f":"IF(AH21=TRUE,IF(ISNUMBER(AI21),\"*\"&AJ21&\"*\",\"\"),IF(ISNUMBER($W21),IF($W21<1000,IFERROR(VLOOKUP($W21,FeedLib[#All],2,FALSE),\"!!! Feed not found !!!\"),IFERROR(VLOOKUP($W21,FeedLibUser[#All],2,FALSE),\"!!! Feed not found !!!\")),IF(ISNUMBER(AI21),\"*\"&AJ21&\"*\",\"\")))","v":""},null,"",0,0,0,0,0,0,null,false,null,null,null,null,null,null,null,null,null,null,null,null,null,null,null,null,null,null,null,null,null,null,null,null,null,null,null,null,null,null,null,null,null,null,null,null,null,null,null,null,null,null,null,null,null,null,null,null,null,null,null,null,null,null,null,null,null,null,{"$f":"IF($AI21<>\"\",IF(ISNA(MATCH(IF($AI21<1000,$AI21+1000,$AI21),FeedLibUser[ID],0)),0,MATCH(IF($AI21<1000,$AI21+1000,$AI21),FeedLibUser[ID],0)),0)","v":0}]
[null,{"$f":"CHOOSE(F21,\"   Breed\",\"   Dam's breed\", \"   Sire's breed\")","v":"   Dam's breed"},null,14,null,14,null,{"$f":"VLOOKUP(F22,$J$12:$K$42,2)","v":"Hereford"},null,11,"Gelbvieh",1,1,{"$f":"39*IF(parmUnit=1,1,2.2046)","v":85.979399999999998},{"$f":"11.5*IF(parmUnit=1,1,2.2046)","v":25.352900000000002},4,3.8,8.3000000000000007,0.55000000000000004,null,null,18,null,{"$f":"IF(AH22=TRUE,IF(ISNUMBER(AI22),\"*\"&AJ22&\"*\",\"\"),IF(ISNUMBER($W22),IF($W22<1000,IFERROR(VLOOKUP($W22,FeedLib[#All],2,FALSE),\"!!! Feed not found !!!\"),IFERROR(VLOOKUP($W22,FeedLibUser[#All],2,FALSE),\"!!! Feed not found !!!\")),IF(ISNUMBER(AI22),\"*\"&AJ22&\"*\",\"\")))","v":""},null,"",0,0,0,0,0,0,null,false,null,null,null,null,null,null,null,null,null,null,null,null,null,null,null,null,null,null,null,null,null,null,null,null,null,null,null,null,null,null,null,null,null,null,null,null,null,null,null,null,null,null,null,null,null,null,null,null,null,null,null,null,null,null,null,null,null,null,{"$f":"IF($AI22<>\"\",IF(ISNA(MATCH(IF($AI22<1000,$AI22+1000,$AI22),FeedLibUser[ID],0)),0,MATCH(IF($AI22<1000,$AI22+1000,$AI22),FeedLibUser[ID],0)),0)","v":0}]
[null,{"$f":"CHOOSE(F21,\"   *N/A*\",\"   Sire's breed\", \"   Maternal grandsire's breed\")","v":"   Sire's breed"},null,7,null,7,null,{"$f":"IF(OR(F21=2,F21=3),VLOOKUP(F23,$J$12:$K$42,2),\"*N/A*\")","v":"Charolais"},null,12,"Gir",0.9,1.2,{"$f":"32*IF(parmUnit=1,1,2.2046)","v":70.547200000000004},{"$f":"10*IF(parmUnit=1,1,2.2046)","v":22.045999999999999},4,3.8,8.3000000000000007,0.65,null,null,19,null,{"$f":"IF(AH23=TRUE,IF(ISNUMBER(AI23),\"*\"&AJ23&\"*\",\"\"),IF(ISNUMBER($W23),IF($W23<1000,IFERROR(VLOOKUP($W23,FeedLib[#All],2,FALSE),\"!!! Feed not found !!!\"),IFERROR(VLOOKUP($W23,FeedLibUser[#All],2,FALSE),\"!!! Feed not found !!!\")),IF(ISNUMBER(AI23),\"*\"&AJ23&\"*\",\"\")))","v":""},null,"",0,0,0,0,0,0,null,false,null,null,null,null,null,null,null,null,null,null,null,null,null,null,null,null,null,null,null,null,null,null,null,null,null,null,null,null,null,null,null,null,null,null,null,null,null,null,null,null,null,null,null,null,null,null,null,null,null,null,null,null,null,null,null,null,null,null,{"$f":"IF($AI23<>\"\",IF(ISNA(MATCH(IF($AI23<1000,$AI23+1000,$AI23),FeedLibUser[ID],0)),0,MATCH(IF($AI23<1000,$AI23+1000,$AI23),FeedLibUser[ID],0)),0)","v":0}]
[null,{"$f":"CHOOSE(F21,\"   *N/A*\",\"   *N/A*\", \"   Maternal granddam's breed\")","v":"   *N/A*"},null,1,null,1,null,{"$f":"IF(F21=3,VLOOKUP(F24,$J$12:$K$42,2),\"*N/A*\")","v":"*N/A*"},null,13,"Guzerat",0.9,1.2,{"$f":"32*IF(parmUnit=1,1,2.2046)","v":70.547200000000004},{"$f":"5*IF(parmUnit=1,1,2.2046)","v":11.023},4,3.8,8.3000000000000007,0.65,null,null,20,null,{"$f":"IF(AH24=TRUE,IF(ISNUMBER(AI24),\"*\"&AJ24&\"*\",\"\"),IF(ISNUMBER($W24),IF($W24<1000,IFERROR(VLOOKUP($W24,FeedLib[#All],2,FALSE),\"!!! Feed not found !!!\"),IFERROR(VLOOKUP($W24,FeedLibUser[#All],2,FALSE),\"!!! Feed not found !!!\")),IF(ISNUMBER(AI24),\"*\"&AJ24&\"*\",\"\")))","v":""},null,"",0,0,0,0,0,0,null,false,null,null,null,null,null,null,null,null,null,null,null,null,null,null,null,null,null,null,null,null,null,null,null,null,null,null,null,null,null,null,null,null,null,null,null,null,null,null,null,null,null,null,null,null,null,null,null,null,null,null,null,null,null,null,null,null,null,null,{"$f":"IF($AI24<>\"\",IF(ISNA(MATCH(IF($AI24<1000,$AI24+1000,$AI24),FeedLibUser[ID],0)),0,MATCH(IF($AI24<1000,$AI24+1000,$AI24),FeedLibUser[ID],0)),0)","v":0}]
[null,"Days pregnant","DP",0,null,0,"days",{"$f":"IF(OR(F14=3,F14=4),\"Estimated DP is \"&TEXT(IF(F27>F31*365/12-VLOOKUP(Inputs!F20,Calc!$H$103:$L$106,4),MIN(VLOOKUP(Inputs!F20,Calc!$H$103:$L$106,4),F27-(F31*365/12-VLOOKUP(Inputs!F20,Calc!$H$103:$L$106,4))),\"*N/A*\"),\"##0\")&\" days\",\"*N/A*\")","v":"*N/A*"},null,14,"Hereford",1,1,{"$f":"36*IF(parmUnit=1,1,2.2046)","v":79.365600000000001},{"$f":"7*IF(parmUnit=1,1,2.2046)","v":15.432200000000002},4,3.8,8.3000000000000007,0.6,null,null,21,null,{"$f":"IF(AH25=TRUE,IF(ISNUMBER(AI25),\"*\"&AJ25&\"*\",\"\"),IF(ISNUMBER($W25),IF($W25<1000,IFERROR(VLOOKUP($W25,FeedLib[#All],2,FALSE),\"!!! Feed not found !!!\"),IFERROR(VLOOKUP($W25,FeedLibUser[#All],2,FALSE),\"!!! Feed not found !!!\")),IF(ISNUMBER(AI25),\"*\"&AJ25&\"*\",\"\")))","v":""},null,"",0,0,0,0,0,0,null,false,null,null,null,null,null,null,null,null,null,null,null,null,null,null,null,null,null,null,null,null,null,null,null,null,null,null,null,null,null,null,null,null,null,null,null,null,null,null,null,null,null,null,null,null,null,null,null,null,null,null,null,null,null,null,null,null,null,null,{"$f":"IF($AI25<>\"\",IF(ISNA(MATCH(IF($AI25<1000,$AI25+1000,$AI25),FeedLibUser[ID],0)),0,MATCH(IF($AI25<1000,$AI25+1000,$AI25),FeedLibUser[ID],0)),0)","v":0}]
[null,"Calf birth weight","CBW",0,{"$f":"CHOOSE(parmUnit,\"kg\",\"lb\")","v":"lb"},{"$f":"D26*IF(parmUnit=1,1,1/2.2046)","v":0},"kg",{"$f":"IF(OR(F14=3,F14=4),\"Recommended is \" & TEXT(N49,\"#0.0\") & IF(parmUnit=1,\" kg \",\" lb \"),\"*N/A*\")","v":"*N/A*"},null,15,"Holstein",1.2,1,{"$f":"43*IF(parmUnit=1,1,2.2046)","v":94.797800000000009},{"$f":"43*IF(parmUnit=1,1,2.2046)","v":94.797800000000009},3.5,3.3,8.3000000000000007,0.55000000000000004,null,null,22,null,{"$f":"IF(AH26=TRUE,IF(ISNUMBER(AI26),\"*\"&AJ26&\"*\",\"\"),IF(ISNUMBER($W26),IF($W26<1000,IFERROR(VLOOKUP($W26,FeedLib[#All],2,FALSE),\"!!! Feed not found !!!\"),IFERROR(VLOOKUP($W26,FeedLibUser[#All],2,FALSE),\"!!! Feed not found !!!\")),IF(ISNUMBER(AI26),\"*\"&AJ26&\"*\",\"\")))","v":""},null,"",0,0,0,0,0,0,null,false,null,null,null,null,null,null,null,null,null,null,null,null,null,null,null,null,null,null,null,null,null,null,null,null,null,null,null,null,null,null,null,null,null,null,null,null,null,null,null,null,null,null,null,null,null,null,null,null,null,null,null,null,null,null,null,null,null,null,{"$f":"IF($AI26<>\"\",IF(ISNA(MATCH(IF($AI26<1000,$AI26+1000,$AI26),FeedLibUser[ID],0)),0,MATCH(IF($AI26<1000,$AI26+1000,$AI26),FeedLibUser[ID],0)),0)","v":0}]
[null,"Days since calving","DIM",0,null,{"$f":"D27","v":0},"days",{"$f":"IF(F14=4,\"Estimated DIM is \"&TEXT(IF(F25<VLOOKUP(Inputs!F20,Calc!$H$103:$L$106,4),IF(F25+F31*365/12-VLOOKUP(Inputs!F20,Calc!$H$103:$L$106,4)<=VLOOKUP(Inputs!F20,Calc!$H$103:$L$106,5),F25+F31*365/12-VLOOKUP(Inputs!F20,Calc!$H$103:$L$106,4),0),F25-VLOOKUP(Inputs!F20,Calc!$H$103:$L$106,4)),\"##0\") & \" days\",\"*N/A*\")","v":"*N/A*"},null,16,"Jersey",1.2,1,{"$f":"32*IF(parmUnit=1,1,2.2046)","v":70.547200000000004},{"$f":"34*IF(parmUnit=1,1,2.2046)","v":74.956400000000002},5.2,3.9,8.3000000000000007,0.55000000000000004,null,null,"Count",{"$f":"COUNTIF(W5:W26,\"<>\")-COUNTIF(X5:X26,\"=!!! Feed not found !!!\")","v":3},null,null,"Diet (sum or average)",{"$f":"SUMIF(Z5:Z26,\"><\",AA5:AA26)","v":24.3},{"$f":"SUM(AB5:AB26)","v":100},{"$f":"SUM(AC5:AC26)","v":15.746372228273707},{"$f":"SUM(AD5:AD26)","v":1},{"$f":"SUM(AE5:AE26)","v":11.022407693005533},{"$f":"SUM(AF5:AF26)","v":1.0000000000000002},null,"Diet (sum or average)",null,null,{"$f":"SUMPRODUCT($AD$5:$AD$26,AK5:AK26)","v":85.613563874433453},{"$f":"SUMPRODUCT($AF$5:$AF$26,AL5:AL26)","v":20.5761316872428},{"$f":"SUMPRODUCT($AD$5:$AD$26,AM5:AM26)","v":69.99966426053382},{"$f":"SUMPRODUCT($AF$5:$AF$26,AN5:AN26)","v":12.304526748971195},{"$f":"SUMPRODUCT($AF$5:$AF$26,$AN$5:$AN$26,AO5:AO26)/$AN$27","v":26.217391304347824},{"$f":"SUMPRODUCT($AF$5:$AF$26,$AN$5:$AN$26,AP5:AP26)/$AN$27","v":5.1913043478260859},{"$f":"SUMPRODUCT($AF$5:$AF$26,AQ5:AQ26)","v":0},{"$f":"SUMPRODUCT($AF$5:$AF$26,AR5:AR26)","v":0},2.2592592592592595,{"$f":"SUMPRODUCT($AF$5:$AF$26,AT5:AT26)","v":5.2263374485596712},48.000411522633755,24.876543209876544,2.1292181069958849,78.024691358024711,{"$f":"SUMPRODUCT($AF$5:$AF$26,AY5:AY26)","v":1.2806584362139919},{"$f":"SUMPRODUCT($AF$5:$AF$26,AZ5:AZ26)","v":0.8563786008230454},{"$f":"SUMPRODUCT($AF$5:$AF$26,BA5:BA26)","v":0.5604938271604939},{"$f":"SUMPRODUCT($AF$5:$AF$26,$AN$5:$AN$26,BB5:BB26)/$AN$27","v":29.753478260869564},"—","—","—","—","—","—","—",{"$f":"SUMPRODUCT($AF$5:$AF$26,$AV$5:$AV$26,BJ5:BJ26)/$AV$27","v":46.487179487179489},{"$f":"SUMPRODUCT($AF$5:$AF$26,BK5:BK26)","v":0.36707818930041158},0.18930041152263377,0.33950617283950624,0.59423868312757211,0.27695473251028813,8.5596707818930057E-2,0,0.46296296296296302,0,0.29094650205761319,0.11069958847736626,0.43703703703703706,0.1460905349794239,0.33333333333333337,0.13292181069958847,0.25761316872427986,0.97448559670781898,3.2510288065843621E-2,0.16666666666666669,0.42181069958847739,5.7283950617283956,3.9094650205761326E-2,123.68312757201647,23.526748971193417,0.17160493827160495,15.205761316872429,2.9711934156378605,0,20.485596707818932]
[null,"Relative milk yield","RMY",5,null,{"$f":"D28","v":5},null,{"$f":"IF(OR(F14=3,F14=4),\"1:=Low, …, 5:=Average, …, 9:=High\",\"*N/A*\")","v":"*N/A*"},null,17,"Limousin",1,1.2,{"$f":"37*IF(parmUnit=1,1,2.2046)","v":81.5702},{"$f":"9*IF(parmUnit=1,1,2.2046)","v":19.8414},4,3.8,8.3000000000000007,0.6]
[null,"Milk production","MY",0,{"$f":"CHOOSE(parmUnit,\"kg/d\",\"lb/d\")","v":"lb/d"},{"$f":"D29*IF(parmUnit=1,1,1/2.2046)","v":0},"kg/d",{"$f":"IF(OR(F14=3,F14=4),\"User-inputted milk yield (MY)\",\"*N/A*\")","v":"*N/A*"},null,18,"Longhorn",1,1.2,{"$f":"33*IF(parmUnit=1,1,2.2046)","v":72.751800000000003},{"$f":"5*IF(parmUnit=1,1,2.2046)","v":11.023},4,3.8,8.3000000000000007,0.6,null,null,null,null,null,null,"Change ration intake to:",0,{"$f":"IF(parmUnit=1,\"kg/d\",\"lb/d\")","v":"lb/d"}]
[null,"Target calving age","TCA",0,null,{"$f":"D30","v":0},"mo",{"$f":"IF(OR(F14=3,F14=4),\"Age at first calving\",\"*N/A*\")","v":"*N/A*"},null,19,"Maine Anjou",1,1.2,{"$f":"40*IF(parmUnit=1,1,2.2046)","v":88.183999999999997},{"$f":"9*IF(parmUnit=1,1,2.2046)","v":19.8414},4,3.8,8.3000000000000007,0.6,null,null,null,null,null,null,"Scale ration intake to:",100,"%"]
[null,"Target calving interval","TCI",0,null,{"$f":"D31","v":0},"mo",{"$f":"IF(OR(F14=3,F14=4),\"Herd calving interval\",\"*N/A*\")","v":"*N/A*"},null,20,"Nellore",1,1.2,{"$f":"32*IF(parmUnit=1,1,2.2046)","v":70.547200000000004},{"$f":"7*IF(parmUnit=1,1,2.2046)","v":15.432200000000002},4,3.8,8.3000000000000007,0.65]
[null,null,null,null,null,null,null,"",null,21,"Piedmontese",1,1.2,{"$f":"38*IF(parmUnit=1,1,2.2046)","v":83.774799999999999},{"$f":"7*IF(parmUnit=1,1,2.2046)","v":15.432200000000002},4,3.8,8.3000000000000007,0.6]
[null,null,null,null,null,null,null,null,null,22,"Pinzgauer",1,1.2,{"$f":"38*IF(parmUnit=1,1,2.2046)","v":83.774799999999999},{"$f":"11*IF(parmUnit=1,1,2.2046)","v":24.250600000000002},4,3.8,8.3000000000000007,0.6]
[null,"Table 2.2. Prediction of empty body fat (EBF) and mature full (unshrunk) body weight (MW) from carcass traits",null,null,null,null,null,null,null,23,"Polled Hereford",1,1.2,{"$f":"33*IF(parmUnit=1,1,2.2046)","v":72.751800000000003},{"$f":"7*IF(parmUnit=1,1,2.2046)","v":15.432200000000002},4,3.8,8.3000000000000007,0.6]
[null,"Item","Acronym","User","Unit","Metric","Unit","Description",null,24,"Red Poll",1,1.2,{"$f":"36*IF(parmUnit=1,1,2.2046)","v":79.365600000000001},{"$f":"10*IF(parmUnit=1,1,2.2046)","v":22.045999999999999},4,3.8,8.3000000000000007,0.6]
[null,"Hot carcass weight","HCW",0,{"$f":"CHOOSE(parmUnit,\"kg\",\"lb\")","v":"lb"},{"$f":"D36*IF(parmUnit=1,1,1/2.2046)","v":0},"kg",null,null,25,"Sahiwal",0.9,1.2,{"$f":"38*IF(parmUnit=1,1,2.2046)","v":83.774799999999999},{"$f":"8*IF(parmUnit=1,1,2.2046)","v":17.636800000000001},4,3.8,8.3000000000000007,0.65,null,null,null,null,null,null,null,null,null,null,null,null,null,null,null,"ID","Name","Cost, AF","Forage","DM","CP","SP","ADICP","Sugars","OA","Fat","Ash","Starch","NDF","Lignin","TDN 1x","ME 1x","NEm 1x","NEg 1x","RUP 1x","kd PB","kd CB1","kd CB2","kd CB3","PBID","CB1ID","CB2ID","pef","ARG","HIS","ILE","LEU","LYS","MET","CYS","PHE","TYR","THR","TRP","VAL","Ca","P","Mg","Cl","K","Na","S","Co","Cu","I","Fe","Mn","Se","Zn","VitA","VitD","VitE"]
[null,"Fat thickness","FT",0,{"$f":"CHOOSE(parmUnit,\"cm\",\"in\")","v":"in"},{"$f":"D37*IF(parmUnit=1,1,2.54^1)","v":0},"cm","Backfat",null,26,"Salers",1,1.2,{"$f":"35*IF(parmUnit=1,1,2.2046)","v":77.161000000000001},{"$f":"9*IF(parmUnit=1,1,2.2046)","v":19.8414},4,3.8,8.3000000000000007,0.6,null,null,null,null,null,null,null,null,null,null,null,null,null,null,null,null,null,{"$f":"IF(parmUnit=1,\"$/Tonne\",\"$/Ton\")","v":"$/Ton"},"%DM","%AF","%DM","%CP","%CP","%DM","%DM","%DM","%DM","%DM","%DM","%DM","%DM",{"$f":"IF(parmUnit=1,\"Mcal/kg\",\"Mcal/lb\")","v":"Mcal/lb"},{"$f":"IF(parmUnit=1,\"Mcal/kg\",\"Mcal/lb\")","v":"Mcal/lb"},{"$f":"IF(parmUnit=1,\"Mcal/kg\",\"Mcal/lb\")","v":"Mcal/lb"},"%CP","%/h","%/h","%/h","%/h","%","%","%","%NDF","%DM","%DM","%DM","%DM","%DM","%DM","%DM","%DM","%DM","%DM","%DM","%DM","%DM","%DM","%DM","%DM","%DM","%DM","%DM","mg/kg","mg/kg","mg/kg","mg/kg","mg/kg","mg/kg","mg/kg","IU/g","IU/g","IU/kg"]
[null,"Ribeye area","REA",0,{"$f":"CHOOSE(parmUnit,\"cm^2\",\"in^2\")","v":"in^2"},{"$f":"D38*IF(parmUnit=1,1,2.54^2)","v":0},"cm^2","Longissimus dorsi muscle area",null,27,"Santa Gertrudis",0.95,1.2,{"$f":"33*IF(parmUnit=1,1,2.2046)","v":72.751800000000003},{"$f":"8*IF(parmUnit=1,1,2.2046)","v":17.636800000000001},4,3.8,8.3000000000000007,0.62,null,null,null,null,null,null,null,null,null,null,null,null,null,null,null,{"$f":"IF(ISNUMBER($W5),IF($AH5=FALSE,W5,AI5),IF(AND(ISNUMBER($AI5),$AJ5<>\"\"),AI5,\"\"))","v":301},{"$f":"IF(ISNUMBER($W5),IF($AH5=FALSE,X5,AJ5),IF(AND(ISNUMBER($AI5),$AJ5<>\"\"),AJ5,\"\"))","v":"Barley, Silage"},{"$f":"IF(ISNUMBER($W5),IF($AH5=FALSE,IF($W5<1000,IFERROR(VLOOKUP($W5,FeedLib[#All],AK$60,FALSE),\"\")*(IF(parmUnit=1,1,2000/2204.6)),IFERROR(VLOOKUP($W5,FeedLibUser[#All],AK$60,FALSE),\"\")*(IF(parmUnit=1,1,2000/2204.6))),AK5),IF(AND(ISNUMBER($AI5),$AJ5<>\"\"),AK5,\"\"))","v":25},{"$f":"IF(ISNUMBER($W5),IF($AH5=FALSE,IF($W5<1000,IFERROR(VLOOKUP($W5,FeedLib[#All],AL$60,FALSE),\"\"),IFERROR(VLOOKUP($W5,FeedLibUser[#All],AL$60,FALSE),\"\")),AL5),IF(AND(ISNUMBER($AI5),$AJ5<>\"\"),AL5,\"\"))","v":100},{"$f":"IF(ISNUMBER($W5),IF($AH5=FALSE,IF($W5<1000,IFERROR(VLOOKUP($W5,FeedLib[#All],AM$60,FALSE),\"\"),IFERROR(VLOOKUP($W5,FeedLibUser[#All],AM$60,FALSE),\"\")),AM5),IF(AND(ISNUMBER($AI5),$AJ5<>\"\"),AM5,\"\"))","v":39},{"$f":"IF(ISNUMBER($W5),IF($AH5=FALSE,IF($W5<1000,IFERROR(VLOOKUP($W5,FeedLib[#All],AN$60,FALSE),\"\"),IFERROR(VLOOKUP($W5,FeedLibUser[#All],AN$60,FALSE),\"\")),AN5),IF(AND(ISNUMBER($AI5),$AJ5<>\"\"),AN5,\"\"))","v":10.4},{"$f":"IF(ISNUMBER($W5),IF($AH5=FALSE,IF($W5<1000,IFERROR(VLOOKUP($W5,FeedLib[#All],AO$60,FALSE),\"\"),IFERROR(VLOOKUP($W5,FeedLibUser[#All],AO$60,FALSE),\"\")),AO5),IF(AND(ISNUMBER($AI5),$AJ5<>\"\"),AO5,\"\"))","v":70},{"$f":"IF(ISNUMBER($W5),IF($AH5=FALSE,IF($W5<1000,IFERROR(VLOOKUP($W5,FeedLib[#All],AP$60,FALSE),\"\"),IFERROR(VLOOKUP($W5,FeedLibUser[#All],AP$60,FALSE),\"\")),AP5),IF(AND(ISNUMBER($AI5),$AJ5<>\"\"),AP5,\"\"))","v":6.1},{"$f":"IF(ISNUMBER($W5),IF($AH5=FALSE,IF($W5<1000,IFERROR(VLOOKUP($W5,FeedLib[#All],AQ$60,FALSE),\"\"),IFERROR(VLOOKUP($W5,FeedLibUser[#All],AQ$60,FALSE),\"\")),AQ5),IF(AND(ISNUMBER($AI5),$AJ5<>\"\"),AQ5,\"\"))","v":0},{"$f":"IF(ISNUMBER($W5),IF($AH5=FALSE,IF($W5<1000,IFERROR(VLOOKUP($W5,FeedLib[#All],AR$60,FALSE),\"\"),IFERROR(VLOOKUP($W5,FeedLibUser[#All],AR$60,FALSE),\"\")),AR5),IF(AND(ISNUMBER($AI5),$AJ5<>\"\"),AR5,\"\"))","v":0},{"$f":"IF(ISNUMBER($W5),IF($AH5=FALSE,IF($W5<1000,IFERROR(VLOOKUP($W5,FeedLib[#All],AS$60,FALSE),\"\"),IFERROR(VLOOKUP($W5,FeedLibUser[#All],AS$60,FALSE),\"\")),AS5),IF(AND(ISNUMBER($AI5),$AJ5<>\"\"),AS5,\"\"))","v":3},{"$f":"IF(ISNUMBER($W5),IF($AH5=FALSE,IF($W5<1000,IFERROR(VLOOKUP($W5,FeedLib[#All],AT$60,FALSE),\"\"),IFERROR(VLOOKUP($W5,FeedLibUser[#All],AT$60,FALSE),\"\")),AT5),IF(AND(ISNUMBER($AI5),$AJ5<>\"\"),AT5,\"\"))","v":8},{"$f":"IF(ISNUMBER($W5),IF($AH5=FALSE,IF($W5<1000,IFERROR(VLOOKUP($W5,FeedLib[#All],AU$60,FALSE),\"\"),IFERROR(VLOOKUP($W5,FeedLibUser[#All],AU$60,FALSE),\"\")),AU5),IF(AND(ISNUMBER($AI5),$AJ5<>\"\"),AU5,\"\"))","v":14.06},{"$f":"IF(ISNUMBER($W5),IF($AH5=FALSE,IF($W5<1000,IFERROR(VLOOKUP($W5,FeedLib[#All],AV$60,FALSE),\"\"),IFERROR(VLOOKUP($W5,FeedLibUser[#All],AV$60,FALSE),\"\")),AV5),IF(AND(ISNUMBER($AI5),$AJ5<>\"\"),AV5,\"\"))","v":48.7},{"$f":"IF(ISNUMBER($W5),IF($AH5=FALSE,IF($W5<1000,IFERROR(VLOOKUP($W5,FeedLib[#All],AW$60,FALSE),\"\"),IFERROR(VLOOKUP($W5,FeedLibUser[#All],AW$60,FALSE),\"\")),AW5),IF(AND(ISNUMBER($AI5),$AJ5<>\"\"),AW5,\"\"))","v":3.09},{"$f":"IF(ISNUMBER($W5),IF($AH5=FALSE,IF($W5<1000,IFERROR(VLOOKUP($W5,FeedLib[#All],AX$60,FALSE),\"\"),IFERROR(VLOOKUP($W5,FeedLibUser[#All],AX$60,FALSE),\"\")),AX5),IF(AND(ISNUMBER($AI5),$AJ5<>\"\"),AX5,\"\"))","v":60},{"$f":"IF(ISNUMBER($W5),IF($AH5=FALSE,IF($W5<1000,IFERROR(VLOOKUP($W5,FeedLib[#All],AY$60,FALSE),\"\")/IF(parmUnit=1,1,2.2046),IFERROR(VLOOKUP($W5,FeedLibUser[#All],AY$60,FALSE),\"\")/IF(parmUnit=1,1,2.2046)),AY5),IF(AND(ISNUMBER($AI5),$AJ5<>\"\"),AY5,\"\"))","v":0.98},{"$f":"IF(ISNUMBER($W5),IF($AH5=FALSE,IF($W5<1000,IFERROR(VLOOKUP($W5,FeedLib[#All],AZ$60,FALSE),\"\")/IF(parmUnit=1,1,2.2046),IFERROR(VLOOKUP($W5,FeedLibUser[#All],AZ$60,FALSE),\"\")/IF(parmUnit=1,1,2.2046)),AZ5),IF(AND(ISNUMBER($AI5),$AJ5<>\"\"),AZ5,\"\"))","v":0.59},{"$f":"IF(ISNUMBER($W5),IF($AH5=FALSE,IF($W5<1000,IFERROR(VLOOKUP($W5,FeedLib[#All],BA$60,FALSE),\"\")/IF(parmUnit=1,1,2.2046),IFERROR(VLOOKUP($W5,FeedLibUser[#All],BA$60,FALSE),\"\")/IF(parmUnit=1,1,2.2046)),BA5),IF(AND(ISNUMBER($AI5),$AJ5<>\"\"),BA5,\"\"))","v":0.33},{"$f":"IF(ISNUMBER($W5),IF($AH5=FALSE,IF($W5<1000,IFERROR(VLOOKUP($W5,FeedLib[#All],BB$60,FALSE),\"\"),IFERROR(VLOOKUP($W5,FeedLibUser[#All],BB$60,FALSE),\"\")),BB5),IF(AND(ISNUMBER($AI5),$AJ5<>\"\"),BB5,\"\"))","v":14},{"$f":"IF(ISNUMBER($W5),IF($AH5=FALSE,IF($W5<1000,IFERROR(VLOOKUP($W5,FeedLib[#All],BC$60,FALSE),\"\"),IFERROR(VLOOKUP($W5,FeedLibUser[#All],BC$60,FALSE),\"\")),BC5),IF(AND(ISNUMBER($AI5),$AJ5<>\"\"),BC5,\"\"))","v":8.27},{"$f":"IF(ISNUMBER($W5),IF($AH5=FALSE,IF($W5<1000,IFERROR(VLOOKUP($W5,FeedLib[#All],BD$60,FALSE),\"\"),IFERROR(VLOOKUP($W5,FeedLibUser[#All],BD$60,FALSE),\"\")),BD5),IF(AND(ISNUMBER($AI5),$AJ5<>\"\"),BD5,\"\"))","v":50},{"$f":"IF(ISNUMBER($W5),IF($AH5=FALSE,IF($W5<1000,IFERROR(VLOOKUP($W5,FeedLib[#All],BE$60,FALSE),\"\"),IFERROR(VLOOKUP($W5,FeedLibUser[#All],BE$60,FALSE),\"\")),BE5),IF(AND(ISNUMBER($AI5),$AJ5<>\"\"),BE5,\"\"))","v":50},{"$f":"IF(ISNUMBER($W5),IF($AH5=FALSE,IF($W5<1000,IFERROR(VLOOKUP($W5,FeedLib[#All],BF$60,FALSE),\"\"),IFERROR(VLOOKUP($W5,FeedLibUser[#All],BF$60,FALSE),\"\")),BF5),IF(AND(ISNUMBER($AI5),$AJ5<>\"\"),BF5,\"\"))","v":4},{"$f":"IF(ISNUMBER($W5),IF($AH5=FALSE,IF($W5<1000,IFERROR(VLOOKUP($W5,FeedLib[#All],BG$60,FALSE),\"\"),IFERROR(VLOOKUP($W5,FeedLibUser[#All],BG$60,FALSE),\"\")),BG5),IF(AND(ISNUMBER($AI5),$AJ5<>\"\"),BG5,\"\"))","v":54},{"$f":"IF(ISNUMBER($W5),IF($AH5=FALSE,IF($W5<1000,IFERROR(VLOOKUP($W5,FeedLib[#All],BH$60,FALSE),\"\"),IFERROR(VLOOKUP($W5,FeedLibUser[#All],BH$60,FALSE),\"\")),BH5),IF(AND(ISNUMBER($AI5),$AJ5<>\"\"),BH5,\"\"))","v":75},{"$f":"IF(ISNUMBER($W5),IF($AH5=FALSE,IF($W5<1000,IFERROR(VLOOKUP($W5,FeedLib[#All],BI$60,FALSE),\"\"),IFERROR(VLOOKUP($W5,FeedLibUser[#All],BI$60,FALSE),\"\")),BI5),IF(AND(ISNUMBER($AI5),$AJ5<>\"\"),BI5,\"\"))","v":75},{"$f":"IF(ISNUMBER($W5),IF($AH5=FALSE,IF($W5<1000,IFERROR(VLOOKUP($W5,FeedLib[#All],BJ$60,FALSE),\"\"),IFERROR(VLOOKUP($W5,FeedLibUser[#All],BJ$60,FALSE),\"\")),BJ5),IF(AND(ISNUMBER($AI5),$AJ5<>\"\"),BJ5,\"\"))","v":65},{"$f":"IF(ISNUMBER($W5),IF($AH5=FALSE,IF($W5<1000,IFERROR(VLOOKUP($W5,FeedLib[#All],BK$60,FALSE),\"\"),IFERROR(VLOOKUP($W5,FeedLibUser[#All],BK$60,FALSE),\"\")),BK5),IF(AND(ISNUMBER($AI5),$AJ5<>\"\"),BK5,\"\"))","v":0.15},{"$f":"IF(ISNUMBER($W5),IF($AH5=FALSE,IF($W5<1000,IFERROR(VLOOKUP($W5,FeedLib[#All],BL$60,FALSE),\"\"),IFERROR(VLOOKUP($W5,FeedLibUser[#All],BL$60,FALSE),\"\")),BL5),IF(AND(ISNUMBER($AI5),$AJ5<>\"\"),BL5,\"\"))","v":0.16},{"$f":"IF(ISNUMBER($W5),IF($AH5=FALSE,IF($W5<1000,IFERROR(VLOOKUP($W5,FeedLib[#All],BM$60,FALSE),\"\"),IFERROR(VLOOKUP($W5,FeedLibUser[#All],BM$60,FALSE),\"\")),BM5),IF(AND(ISNUMBER($AI5),$AJ5<>\"\"),BM5,\"\"))","v":0.32},{"$f":"IF(ISNUMBER($W5),IF($AH5=FALSE,IF($W5<1000,IFERROR(VLOOKUP($W5,FeedLib[#All],BN$60,FALSE),\"\"),IFERROR(VLOOKUP($W5,FeedLibUser[#All],BN$60,FALSE),\"\")),BN5),IF(AND(ISNUMBER($AI5),$AJ5<>\"\"),BN5,\"\"))","v":0.56999999999999995},{"$f":"IF(ISNUMBER($W5),IF($AH5=FALSE,IF($W5<1000,IFERROR(VLOOKUP($W5,FeedLib[#All],BO$60,FALSE),\"\"),IFERROR(VLOOKUP($W5,FeedLibUser[#All],BO$60,FALSE),\"\")),BO5),IF(AND(ISNUMBER($AI5),$AJ5<>\"\"),BO5,\"\"))","v":0.32},{"$f":"IF(ISNUMBER($W5),IF($AH5=FALSE,IF($W5<1000,IFERROR(VLOOKUP($W5,FeedLib[#All],BP$60,FALSE),\"\"),IFERROR(VLOOKUP($W5,FeedLibUser[#All],BP$60,FALSE),\"\")),BP5),IF(AND(ISNUMBER($AI5),$AJ5<>\"\"),BP5,\"\"))","v":0.15},{"$f":"IF(ISNUMBER($W5),IF($AH5=FALSE,IF($W5<1000,IFERROR(VLOOKUP($W5,FeedLib[#All],BQ$60,FALSE),\"\"),IFERROR(VLOOKUP($W5,FeedLibUser[#All],BQ$60,FALSE),\"\")),BQ5),IF(AND(ISNUMBER($AI5),$AJ5<>\"\"),BQ5,\"\"))","v":0},{"$f":"IF(ISNUMBER($W5),IF($AH5=FALSE,IF($W5<1000,IFERROR(VLOOKUP($W5,FeedLib[#All],BR$60,FALSE),\"\"),IFERROR(VLOOKUP($W5,FeedLibUser[#All],BR$60,FALSE),\"\")),BR5),IF(AND(ISNUMBER($AI5),$AJ5<>\"\"),BR5,\"\"))","v":0.35},{"$f":"IF(ISNUMBER($W5),IF($AH5=FALSE,IF($W5<1000,IFERROR(VLOOKUP($W5,FeedLib[#All],BS$60,FALSE),\"\"),IFERROR(VLOOKUP($W5,FeedLibUser[#All],BS$60,FALSE),\"\")),BS5),IF(AND(ISNUMBER($AI5),$AJ5<>\"\"),BS5,\"\"))","v":0},{"$f":"IF(ISNUMBER($W5),IF($AH5=FALSE,IF($W5<1000,IFERROR(VLOOKUP($W5,FeedLib[#All],BT$60,FALSE),\"\"),IFERROR(VLOOKUP($W5,FeedLibUser[#All],BT$60,FALSE),\"\")),BT5),IF(AND(ISNUMBER($AI5),$AJ5<>\"\"),BT5,\"\"))","v":0.35},{"$f":"IF(ISNUMBER($W5),IF($AH5=FALSE,IF($W5<1000,IFERROR(VLOOKUP($W5,FeedLib[#All],BU$60,FALSE),\"\"),IFERROR(VLOOKUP($W5,FeedLibUser[#All],BU$60,FALSE),\"\")),BU5),IF(AND(ISNUMBER($AI5),$AJ5<>\"\"),BU5,\"\"))","v":0.12},{"$f":"IF(ISNUMBER($W5),IF($AH5=FALSE,IF($W5<1000,IFERROR(VLOOKUP($W5,FeedLib[#All],BV$60,FALSE),\"\"),IFERROR(VLOOKUP($W5,FeedLibUser[#All],BV$60,FALSE),\"\")),BV5),IF(AND(ISNUMBER($AI5),$AJ5<>\"\"),BV5,\"\"))","v":0.49},{"$f":"IF(ISNUMBER($W5),IF($AH5=FALSE,IF($W5<1000,IFERROR(VLOOKUP($W5,FeedLib[#All],BW$60,FALSE),\"\"),IFERROR(VLOOKUP($W5,FeedLibUser[#All],BW$60,FALSE),\"\")),BW5),IF(AND(ISNUMBER($AI5),$AJ5<>\"\"),BW5,\"\"))","v":0.52},{"$f":"IF(ISNUMBER($W5),IF($AH5=FALSE,IF($W5<1000,IFERROR(VLOOKUP($W5,FeedLib[#All],BX$60,FALSE),\"\"),IFERROR(VLOOKUP($W5,FeedLibUser[#All],BX$60,FALSE),\"\")),BX5),IF(AND(ISNUMBER($AI5),$AJ5<>\"\"),BX5,\"\"))","v":0.28999999999999998},{"$f":"IF(ISNUMBER($W5),IF($AH5=FALSE,IF($W5<1000,IFERROR(VLOOKUP($W5,FeedLib[#All],BY$60,FALSE),\"\"),IFERROR(VLOOKUP($W5,FeedLibUser[#All],BY$60,FALSE),\"\")),BY5),IF(AND(ISNUMBER($AI5),$AJ5<>\"\"),BY5,\"\"))","v":0.19},{"$f":"IF(ISNUMBER($W5),IF($AH5=FALSE,IF($W5<1000,IFERROR(VLOOKUP($W5,FeedLib[#All],BZ$60,FALSE),\"\"),IFERROR(VLOOKUP($W5,FeedLibUser[#All],BZ$60,FALSE),\"\")),BZ5),IF(AND(ISNUMBER($AI5),$AJ5<>\"\"),BZ5,\"\"))","v":0.15},{"$f":"IF(ISNUMBER($W5),IF($AH5=FALSE,IF($W5<1000,IFERROR(VLOOKUP($W5,FeedLib[#All],CA$60,FALSE),\"\"),IFERROR(VLOOKUP($W5,FeedLibUser[#All],CA$60,FALSE),\"\")),CA5),IF(AND(ISNUMBER($AI5),$AJ5<>\"\"),CA5,\"\"))","v":2.57},{"$f":"IF(ISNUMBER($W5),IF($AH5=FALSE,IF($W5<1000,IFERROR(VLOOKUP($W5,FeedLib[#All],CB$60,FALSE),\"\"),IFERROR(VLOOKUP($W5,FeedLibUser[#All],CB$60,FALSE),\"\")),CB5),IF(AND(ISNUMBER($AI5),$AJ5<>\"\"),CB5,\"\"))","v":0.12},{"$f":"IF(ISNUMBER($W5),IF($AH5=FALSE,IF($W5<1000,IFERROR(VLOOKUP($W5,FeedLib[#All],CC$60,FALSE),\"\"),IFERROR(VLOOKUP($W5,FeedLibUser[#All],CC$60,FALSE),\"\")),CC5),IF(AND(ISNUMBER($AI5),$AJ5<>\"\"),CC5,\"\"))","v":0.24},{"$f":"IF(ISNUMBER($W5),IF($AH5=FALSE,IF($W5<1000,IFERROR(VLOOKUP($W5,FeedLib[#All],CD$60,FALSE),\"\"),IFERROR(VLOOKUP($W5,FeedLibUser[#All],CD$60,FALSE),\"\")),CD5),IF(AND(ISNUMBER($AI5),$AJ5<>\"\"),CD5,\"\"))","v":0.72},{"$f":"IF(ISNUMBER($W5),IF($AH5=FALSE,IF($W5<1000,IFERROR(VLOOKUP($W5,FeedLib[#All],CE$60,FALSE),\"\"),IFERROR(VLOOKUP($W5,FeedLibUser[#All],CE$60,FALSE),\"\")),CE5),IF(AND(ISNUMBER($AI5),$AJ5<>\"\"),CE5,\"\"))","v":7.7},{"$f":"IF(ISNUMBER($W5),IF($AH5=FALSE,IF($W5<1000,IFERROR(VLOOKUP($W5,FeedLib[#All],CF$60,FALSE),\"\"),IFERROR(VLOOKUP($W5,FeedLibUser[#All],CF$60,FALSE),\"\")),CF5),IF(AND(ISNUMBER($AI5),$AJ5<>\"\"),CF5,\"\"))","v":0},{"$f":"IF(ISNUMBER($W5),IF($AH5=FALSE,IF($W5<1000,IFERROR(VLOOKUP($W5,FeedLib[#All],CG$60,FALSE),\"\"),IFERROR(VLOOKUP($W5,FeedLibUser[#All],CG$60,FALSE),\"\")),CG5),IF(AND(ISNUMBER($AI5),$AJ5<>\"\"),CG5,\"\"))","v":375},{"$f":"IF(ISNUMBER($W5),IF($AH5=FALSE,IF($W5<1000,IFERROR(VLOOKUP($W5,FeedLib[#All],CH$60,FALSE),\"\"),IFERROR(VLOOKUP($W5,FeedLibUser[#All],CH$60,FALSE),\"\")),CH5),IF(AND(ISNUMBER($AI5),$AJ5<>\"\"),CH5,\"\"))","v":44.8},{"$f":"IF(ISNUMBER($W5),IF($AH5=FALSE,IF($W5<1000,IFERROR(VLOOKUP($W5,FeedLib[#All],CI$60,FALSE),\"\"),IFERROR(VLOOKUP($W5,FeedLibUser[#All],CI$60,FALSE),\"\")),CI5),IF(AND(ISNUMBER($AI5),$AJ5<>\"\"),CI5,\"\"))","v":0.15},{"$f":"IF(ISNUMBER($W5),IF($AH5=FALSE,IF($W5<1000,IFERROR(VLOOKUP($W5,FeedLib[#All],CJ$60,FALSE),\"\"),IFERROR(VLOOKUP($W5,FeedLibUser[#All],CJ$60,FALSE),\"\")),CJ5),IF(AND(ISNUMBER($AI5),$AJ5<>\"\"),CJ5,\"\"))","v":24.5},{"$f":"IF(ISNUMBER($W5),IF($AH5=FALSE,IF($W5<1000,IFERROR(VLOOKUP($W5,FeedLib[#All],CK$60,FALSE),\"\"),IFERROR(VLOOKUP($W5,FeedLibUser[#All],CK$60,FALSE),\"\")),CK5),IF(AND(ISNUMBER($AI5),$AJ5<>\"\"),CK5,\"\"))","v":0},{"$f":"IF(ISNUMBER($W5),IF($AH5=FALSE,IF($W5<1000,IFERROR(VLOOKUP($W5,FeedLib[#All],CL$60,FALSE),\"\"),IFERROR(VLOOKUP($W5,FeedLibUser[#All],CL$60,FALSE),\"\")),CL5),IF(AND(ISNUMBER($AI5),$AJ5<>\"\"),CL5,\"\"))","v":0},{"$f":"IF(ISNUMBER($W5),IF($AH5=FALSE,IF($W5<1000,IFERROR(VLOOKUP($W5,FeedLib[#All],CM$60,FALSE),\"\"),IFERROR(VLOOKUP($W5,FeedLibUser[#All],CM$60,FALSE),\"\")),CM5),IF(AND(ISNUMBER($AI5),$AJ5<>\"\"),CM5,\"\"))","v":0}]
[null,"Quality grade code","QG",null,null,{"$f":"IF(D39<>0,D39,SUMPRODUCT(F40:F44,E40:E44)/100)","v":0},null,"4:=Select, 5:=Choice−, 6:=Choice, 7:=Choice+, 8:=Prime",null,28,"Shorthorn",1,1.2,{"$f":"37*IF(parmUnit=1,1,2.2046)","v":81.5702},{"$f":"8.5*IF(parmUnit=1,1,2.2046)","v":18.739100000000001},4,3.8,8.3000000000000007,0.6,null,null,null,null,null,null,null,null,null,null,null,null,null,null,null,402,"Barley Grain, Heavy",{"$f":"IF(ISNUMBER($W6),IF($AH6=FALSE,IF($W6<1000,IFERROR(VLOOKUP($W6,FeedLib[#All],AK$60,FALSE),\"\")*(IF(parmUnit=1,1,2000/2204.6)),IFERROR(VLOOKUP($W6,FeedLibUser[#All],AK$60,FALSE),\"\")*(IF(parmUnit=1,1,2000/2204.6))),AK6),IF(AND(ISNUMBER($AI6),$AJ6<>\"\"),AK6,\"\"))","v":120},{"$f":"IF(ISNUMBER($W6),IF($AH6=FALSE,IF($W6<1000,IFERROR(VLOOKUP($W6,FeedLib[#All],AL$60,FALSE),\"\"),IFERROR(VLOOKUP($W6,FeedLibUser[#All],AL$60,FALSE),\"\")),AL6),IF(AND(ISNUMBER($AI6),$AJ6<>\"\"),AL6,\"\"))","v":0},{"$f":"IF(ISNUMBER($W6),IF($AH6=FALSE,IF($W6<1000,IFERROR(VLOOKUP($W6,FeedLib[#All],AM$60,FALSE),\"\"),IFERROR(VLOOKUP($W6,FeedLibUser[#All],AM$60,FALSE),\"\")),AM6),IF(AND(ISNUMBER($AI6),$AJ6<>\"\"),AM6,\"\"))","v":88},{"$f":"IF(ISNUMBER($W6),IF($AH6=FALSE,IF($W6<1000,IFERROR(VLOOKUP($W6,FeedLib[#All],AN$60,FALSE),\"\"),IFERROR(VLOOKUP($W6,FeedLibUser[#All],AN$60,FALSE),\"\")),AN6),IF(AND(ISNUMBER($AI6),$AJ6<>\"\"),AN6,\"\"))","v":13},{"$f":"IF(ISNUMBER($W6),IF($AH6=FALSE,IF($W6<1000,IFERROR(VLOOKUP($W6,FeedLib[#All],AO$60,FALSE),\"\"),IFERROR(VLOOKUP($W6,FeedLibUser[#All],AO$60,FALSE),\"\")),AO6),IF(AND(ISNUMBER($AI6),$AJ6<>\"\"),AO6,\"\"))","v":17},{"$f":"IF(ISNUMBER($W6),IF($AH6=FALSE,IF($W6<1000,IFERROR(VLOOKUP($W6,FeedLib[#All],AP$60,FALSE),\"\"),IFERROR(VLOOKUP($W6,FeedLibUser[#All],AP$60,FALSE),\"\")),AP6),IF(AND(ISNUMBER($AI6),$AJ6<>\"\"),AP6,\"\"))","v":5},{"$f":"IF(ISNUMBER($W6),IF($AH6=FALSE,IF($W6<1000,IFERROR(VLOOKUP($W6,FeedLib[#All],AQ$60,FALSE),\"\"),IFERROR(VLOOKUP($W6,FeedLibUser[#All],AQ$60,FALSE),\"\")),AQ6),IF(AND(ISNUMBER($AI6),$AJ6<>\"\"),AQ6,\"\"))","v":0},{"$f":"IF(ISNUMBER($W6),IF($AH6=FALSE,IF($W6<1000,IFERROR(VLOOKUP($W6,FeedLib[#All],AR$60,FALSE),\"\"),IFERROR(VLOOKUP($W6,FeedLibUser[#All],AR$60,FALSE),\"\")),AR6),IF(AND(ISNUMBER($AI6),$AJ6<>\"\"),AR6,\"\"))","v":0},{"$f":"IF(ISNUMBER($W6),IF($AH6=FALSE,IF($W6<1000,IFERROR(VLOOKUP($W6,FeedLib[#All],AS$60,FALSE),\"\"),IFERROR(VLOOKUP($W6,FeedLibUser[#All],AS$60,FALSE),\"\")),AS6),IF(AND(ISNUMBER($AI6),$AJ6<>\"\"),AS6,\"\"))","v":2.1},{"$f":"IF(ISNUMBER($W6),IF($AH6=FALSE,IF($W6<1000,IFERROR(VLOOKUP($W6,FeedLib[#All],AT$60,FALSE),\"\"),IFERROR(VLOOKUP($W6,FeedLibUser[#All],AT$60,FALSE),\"\")),AT6),IF(AND(ISNUMBER($AI6),$AJ6<>\"\"),AT6,\"\"))","v":3},{"$f":"IF(ISNUMBER($W6),IF($AH6=FALSE,IF($W6<1000,IFERROR(VLOOKUP($W6,FeedLib[#All],AU$60,FALSE),\"\"),IFERROR(VLOOKUP($W6,FeedLibUser[#All],AU$60,FALSE),\"\")),AU6),IF(AND(ISNUMBER($AI6),$AJ6<>\"\"),AU6,\"\"))","v":57.69},{"$f":"IF(ISNUMBER($W6),IF($AH6=FALSE,IF($W6<1000,IFERROR(VLOOKUP($W6,FeedLib[#All],AV$60,FALSE),\"\"),IFERROR(VLOOKUP($W6,FeedLibUser[#All],AV$60,FALSE),\"\")),AV6),IF(AND(ISNUMBER($AI6),$AJ6<>\"\"),AV6,\"\"))","v":19},{"$f":"IF(ISNUMBER($W6),IF($AH6=FALSE,IF($W6<1000,IFERROR(VLOOKUP($W6,FeedLib[#All],AW$60,FALSE),\"\"),IFERROR(VLOOKUP($W6,FeedLibUser[#All],AW$60,FALSE),\"\")),AW6),IF(AND(ISNUMBER($AI6),$AJ6<>\"\"),AW6,\"\"))","v":1.91},{"$f":"IF(ISNUMBER($W6),IF($AH6=FALSE,IF($W6<1000,IFERROR(VLOOKUP($W6,FeedLib[#All],AX$60,FALSE),\"\"),IFERROR(VLOOKUP($W6,FeedLibUser[#All],AX$60,FALSE),\"\")),AX6),IF(AND(ISNUMBER($AI6),$AJ6<>\"\"),AX6,\"\"))","v":84},{"$f":"IF(ISNUMBER($W6),IF($AH6=FALSE,IF($W6<1000,IFERROR(VLOOKUP($W6,FeedLib[#All],AY$60,FALSE),\"\")/IF(parmUnit=1,1,2.2046),IFERROR(VLOOKUP($W6,FeedLibUser[#All],AY$60,FALSE),\"\")/IF(parmUnit=1,1,2.2046)),AY6),IF(AND(ISNUMBER($AI6),$AJ6<>\"\"),AY6,\"\"))","v":1.38},{"$f":"IF(ISNUMBER($W6),IF($AH6=FALSE,IF($W6<1000,IFERROR(VLOOKUP($W6,FeedLib[#All],AZ$60,FALSE),\"\")/IF(parmUnit=1,1,2.2046),IFERROR(VLOOKUP($W6,FeedLibUser[#All],AZ$60,FALSE),\"\")/IF(parmUnit=1,1,2.2046)),AZ6),IF(AND(ISNUMBER($AI6),$AJ6<>\"\"),AZ6,\"\"))","v":0.94},{"$f":"IF(ISNUMBER($W6),IF($AH6=FALSE,IF($W6<1000,IFERROR(VLOOKUP($W6,FeedLib[#All],BA$60,FALSE),\"\")/IF(parmUnit=1,1,2.2046),IFERROR(VLOOKUP($W6,FeedLibUser[#All],BA$60,FALSE),\"\")/IF(parmUnit=1,1,2.2046)),BA6),IF(AND(ISNUMBER($AI6),$AJ6<>\"\"),BA6,\"\"))","v":0.63},{"$f":"IF(ISNUMBER($W6),IF($AH6=FALSE,IF($W6<1000,IFERROR(VLOOKUP($W6,FeedLib[#All],BB$60,FALSE),\"\"),IFERROR(VLOOKUP($W6,FeedLibUser[#All],BB$60,FALSE),\"\")),BB6),IF(AND(ISNUMBER($AI6),$AJ6<>\"\"),BB6,\"\"))","v":33.07},{"$f":"IF(ISNUMBER($W6),IF($AH6=FALSE,IF($W6<1000,IFERROR(VLOOKUP($W6,FeedLib[#All],BC$60,FALSE),\"\"),IFERROR(VLOOKUP($W6,FeedLibUser[#All],BC$60,FALSE),\"\")),BC6),IF(AND(ISNUMBER($AI6),$AJ6<>\"\"),BC6,\"\"))","v":10.4},{"$f":"IF(ISNUMBER($W6),IF($AH6=FALSE,IF($W6<1000,IFERROR(VLOOKUP($W6,FeedLib[#All],BD$60,FALSE),\"\"),IFERROR(VLOOKUP($W6,FeedLibUser[#All],BD$60,FALSE),\"\")),BD6),IF(AND(ISNUMBER($AI6),$AJ6<>\"\"),BD6,\"\"))","v":30},{"$f":"IF(ISNUMBER($W6),IF($AH6=FALSE,IF($W6<1000,IFERROR(VLOOKUP($W6,FeedLib[#All],BE$60,FALSE),\"\"),IFERROR(VLOOKUP($W6,FeedLibUser[#All],BE$60,FALSE),\"\")),BE6),IF(AND(ISNUMBER($AI6),$AJ6<>\"\"),BE6,\"\"))","v":30},{"$f":"IF(ISNUMBER($W6),IF($AH6=FALSE,IF($W6<1000,IFERROR(VLOOKUP($W6,FeedLib[#All],BF$60,FALSE),\"\"),IFERROR(VLOOKUP($W6,FeedLibUser[#All],BF$60,FALSE),\"\")),BF6),IF(AND(ISNUMBER($AI6),$AJ6<>\"\"),BF6,\"\"))","v":5},{"$f":"IF(ISNUMBER($W6),IF($AH6=FALSE,IF($W6<1000,IFERROR(VLOOKUP($W6,FeedLib[#All],BG$60,FALSE),\"\"),IFERROR(VLOOKUP($W6,FeedLibUser[#All],BG$60,FALSE),\"\")),BG6),IF(AND(ISNUMBER($AI6),$AJ6<>\"\"),BG6,\"\"))","v":79.2},{"$f":"IF(ISNUMBER($W6),IF($AH6=FALSE,IF($W6<1000,IFERROR(VLOOKUP($W6,FeedLib[#All],BH$60,FALSE),\"\"),IFERROR(VLOOKUP($W6,FeedLibUser[#All],BH$60,FALSE),\"\")),BH6),IF(AND(ISNUMBER($AI6),$AJ6<>\"\"),BH6,\"\"))","v":75},{"$f":"IF(ISNUMBER($W6),IF($AH6=FALSE,IF($W6<1000,IFERROR(VLOOKUP($W6,FeedLib[#All],BI$60,FALSE),\"\"),IFERROR(VLOOKUP($W6,FeedLibUser[#All],BI$60,FALSE),\"\")),BI6),IF(AND(ISNUMBER($AI6),$AJ6<>\"\"),BI6,\"\"))","v":75},{"$f":"IF(ISNUMBER($W6),IF($AH6=FALSE,IF($W6<1000,IFERROR(VLOOKUP($W6,FeedLib[#All],BJ$60,FALSE),\"\"),IFERROR(VLOOKUP($W6,FeedLibUser[#All],BJ$60,FALSE),\"\")),BJ6),IF(AND(ISNUMBER($AI6),$AJ6<>\"\"),BJ6,\"\"))","v":34},{"$f":"IF(ISNUMBER($W6),IF($AH6=FALSE,IF($W6<1000,IFERROR(VLOOKUP($W6,FeedLib[#All],BK$60,FALSE),\"\"),IFERROR(VLOOKUP($W6,FeedLibUser[#All],BK$60,FALSE),\"\")),BK6),IF(AND(ISNUMBER($AI6),$AJ6<>\"\"),BK6,\"\"))","v":0.43},{"$f":"IF(ISNUMBER($W6),IF($AH6=FALSE,IF($W6<1000,IFERROR(VLOOKUP($W6,FeedLib[#All],BL$60,FALSE),\"\"),IFERROR(VLOOKUP($W6,FeedLibUser[#All],BL$60,FALSE),\"\")),BL6),IF(AND(ISNUMBER($AI6),$AJ6<>\"\"),BL6,\"\"))","v":0.2},{"$f":"IF(ISNUMBER($W6),IF($AH6=FALSE,IF($W6<1000,IFERROR(VLOOKUP($W6,FeedLib[#All],BM$60,FALSE),\"\"),IFERROR(VLOOKUP($W6,FeedLibUser[#All],BM$60,FALSE),\"\")),BM6),IF(AND(ISNUMBER($AI6),$AJ6<>\"\"),BM6,\"\"))","v":0.35},{"$f":"IF(ISNUMBER($W6),IF($AH6=FALSE,IF($W6<1000,IFERROR(VLOOKUP($W6,FeedLib[#All],BN$60,FALSE),\"\"),IFERROR(VLOOKUP($W6,FeedLibUser[#All],BN$60,FALSE),\"\")),BN6),IF(AND(ISNUMBER($AI6),$AJ6<>\"\"),BN6,\"\"))","v":0.61},{"$f":"IF(ISNUMBER($W6),IF($AH6=FALSE,IF($W6<1000,IFERROR(VLOOKUP($W6,FeedLib[#All],BO$60,FALSE),\"\"),IFERROR(VLOOKUP($W6,FeedLibUser[#All],BO$60,FALSE),\"\")),BO6),IF(AND(ISNUMBER($AI6),$AJ6<>\"\"),BO6,\"\"))","v":0.27},{"$f":"IF(ISNUMBER($W6),IF($AH6=FALSE,IF($W6<1000,IFERROR(VLOOKUP($W6,FeedLib[#All],BP$60,FALSE),\"\"),IFERROR(VLOOKUP($W6,FeedLibUser[#All],BP$60,FALSE),\"\")),BP6),IF(AND(ISNUMBER($AI6),$AJ6<>\"\"),BP6,\"\"))","v":7.0000000000000007E-2},{"$f":"IF(ISNUMBER($W6),IF($AH6=FALSE,IF($W6<1000,IFERROR(VLOOKUP($W6,FeedLib[#All],BQ$60,FALSE),\"\"),IFERROR(VLOOKUP($W6,FeedLibUser[#All],BQ$60,FALSE),\"\")),BQ6),IF(AND(ISNUMBER($AI6),$AJ6<>\"\"),BQ6,\"\"))","v":0},{"$f":"IF(ISNUMBER($W6),IF($AH6=FALSE,IF($W6<1000,IFERROR(VLOOKUP($W6,FeedLib[#All],BR$60,FALSE),\"\"),IFERROR(VLOOKUP($W6,FeedLibUser[#All],BR$60,FALSE),\"\")),BR6),IF(AND(ISNUMBER($AI6),$AJ6<>\"\"),BR6,\"\"))","v":0.5},{"$f":"IF(ISNUMBER($W6),IF($AH6=FALSE,IF($W6<1000,IFERROR(VLOOKUP($W6,FeedLib[#All],BS$60,FALSE),\"\"),IFERROR(VLOOKUP($W6,FeedLibUser[#All],BS$60,FALSE),\"\")),BS6),IF(AND(ISNUMBER($AI6),$AJ6<>\"\"),BS6,\"\"))","v":0},{"$f":"IF(ISNUMBER($W6),IF($AH6=FALSE,IF($W6<1000,IFERROR(VLOOKUP($W6,FeedLib[#All],BT$60,FALSE),\"\"),IFERROR(VLOOKUP($W6,FeedLibUser[#All],BT$60,FALSE),\"\")),BT6),IF(AND(ISNUMBER($AI6),$AJ6<>\"\"),BT6,\"\"))","v":0.28000000000000003},{"$f":"IF(ISNUMBER($W6),IF($AH6=FALSE,IF($W6<1000,IFERROR(VLOOKUP($W6,FeedLib[#All],BU$60,FALSE),\"\"),IFERROR(VLOOKUP($W6,FeedLibUser[#All],BU$60,FALSE),\"\")),BU6),IF(AND(ISNUMBER($AI6),$AJ6<>\"\"),BU6,\"\"))","v":0.11},{"$f":"IF(ISNUMBER($W6),IF($AH6=FALSE,IF($W6<1000,IFERROR(VLOOKUP($W6,FeedLib[#All],BV$60,FALSE),\"\"),IFERROR(VLOOKUP($W6,FeedLibUser[#All],BV$60,FALSE),\"\")),BV6),IF(AND(ISNUMBER($AI6),$AJ6<>\"\"),BV6,\"\"))","v":0.43},{"$f":"IF(ISNUMBER($W6),IF($AH6=FALSE,IF($W6<1000,IFERROR(VLOOKUP($W6,FeedLib[#All],BW$60,FALSE),\"\"),IFERROR(VLOOKUP($W6,FeedLibUser[#All],BW$60,FALSE),\"\")),BW6),IF(AND(ISNUMBER($AI6),$AJ6<>\"\"),BW6,\"\"))","v":0.05},{"$f":"IF(ISNUMBER($W6),IF($AH6=FALSE,IF($W6<1000,IFERROR(VLOOKUP($W6,FeedLib[#All],BX$60,FALSE),\"\"),IFERROR(VLOOKUP($W6,FeedLibUser[#All],BX$60,FALSE),\"\")),BX6),IF(AND(ISNUMBER($AI6),$AJ6<>\"\"),BX6,\"\"))","v":0.35},{"$f":"IF(ISNUMBER($W6),IF($AH6=FALSE,IF($W6<1000,IFERROR(VLOOKUP($W6,FeedLib[#All],BY$60,FALSE),\"\"),IFERROR(VLOOKUP($W6,FeedLibUser[#All],BY$60,FALSE),\"\")),BY6),IF(AND(ISNUMBER($AI6),$AJ6<>\"\"),BY6,\"\"))","v":0.12},{"$f":"IF(ISNUMBER($W6),IF($AH6=FALSE,IF($W6<1000,IFERROR(VLOOKUP($W6,FeedLib[#All],BZ$60,FALSE),\"\"),IFERROR(VLOOKUP($W6,FeedLibUser[#All],BZ$60,FALSE),\"\")),BZ6),IF(AND(ISNUMBER($AI6),$AJ6<>\"\"),BZ6,\"\"))","v":0.28999999999999998},{"$f":"IF(ISNUMBER($W6),IF($AH6=FALSE,IF($W6<1000,IFERROR(VLOOKUP($W6,FeedLib[#All],CA$60,FALSE),\"\"),IFERROR(VLOOKUP($W6,FeedLibUser[#All],CA$60,FALSE),\"\")),CA6),IF(AND(ISNUMBER($AI6),$AJ6<>\"\"),CA6,\"\"))","v":0.56999999999999995},{"$f":"IF(ISNUMBER($W6),IF($AH6=FALSE,IF($W6<1000,IFERROR(VLOOKUP($W6,FeedLib[#All],CB$60,FALSE),\"\"),IFERROR(VLOOKUP($W6,FeedLibUser[#All],CB$60,FALSE),\"\")),CB6),IF(AND(ISNUMBER($AI6),$AJ6<>\"\"),CB6,\"\"))","v":0.01},{"$f":"IF(ISNUMBER($W6),IF($AH6=FALSE,IF($W6<1000,IFERROR(VLOOKUP($W6,FeedLib[#All],CC$60,FALSE),\"\"),IFERROR(VLOOKUP($W6,FeedLibUser[#All],CC$60,FALSE),\"\")),CC6),IF(AND(ISNUMBER($AI6),$AJ6<>\"\"),CC6,\"\"))","v":0.15},{"$f":"IF(ISNUMBER($W6),IF($AH6=FALSE,IF($W6<1000,IFERROR(VLOOKUP($W6,FeedLib[#All],CD$60,FALSE),\"\"),IFERROR(VLOOKUP($W6,FeedLibUser[#All],CD$60,FALSE),\"\")),CD6),IF(AND(ISNUMBER($AI6),$AJ6<>\"\"),CD6,\"\"))","v":0.35},{"$f":"IF(ISNUMBER($W6),IF($AH6=FALSE,IF($W6<1000,IFERROR(VLOOKUP($W6,FeedLib[#All],CE$60,FALSE),\"\"),IFERROR(VLOOKUP($W6,FeedLibUser[#All],CE$60,FALSE),\"\")),CE6),IF(AND(ISNUMBER($AI6),$AJ6<>\"\"),CE6,\"\"))","v":5.3},{"$f":"IF(ISNUMBER($W6),IF($AH6=FALSE,IF($W6<1000,IFERROR(VLOOKUP($W6,FeedLib[#All],CF$60,FALSE),\"\"),IFERROR(VLOOKUP($W6,FeedLibUser[#All],CF$60,FALSE),\"\")),CF6),IF(AND(ISNUMBER($AI6),$AJ6<>\"\"),CF6,\"\"))","v":0.05},{"$f":"IF(ISNUMBER($W6),IF($AH6=FALSE,IF($W6<1000,IFERROR(VLOOKUP($W6,FeedLib[#All],CG$60,FALSE),\"\"),IFERROR(VLOOKUP($W6,FeedLibUser[#All],CG$60,FALSE),\"\")),CG6),IF(AND(ISNUMBER($AI6),$AJ6<>\"\"),CG6,\"\"))","v":59.5},{"$f":"IF(ISNUMBER($W6),IF($AH6=FALSE,IF($W6<1000,IFERROR(VLOOKUP($W6,FeedLib[#All],CH$60,FALSE),\"\"),IFERROR(VLOOKUP($W6,FeedLibUser[#All],CH$60,FALSE),\"\")),CH6),IF(AND(ISNUMBER($AI6),$AJ6<>\"\"),CH6,\"\"))","v":18.3},{"$f":"IF(ISNUMBER($W6),IF($AH6=FALSE,IF($W6<1000,IFERROR(VLOOKUP($W6,FeedLib[#All],CI$60,FALSE),\"\"),IFERROR(VLOOKUP($W6,FeedLibUser[#All],CI$60,FALSE),\"\")),CI6),IF(AND(ISNUMBER($AI6),$AJ6<>\"\"),CI6,\"\"))","v":0.18},{"$f":"IF(ISNUMBER($W6),IF($AH6=FALSE,IF($W6<1000,IFERROR(VLOOKUP($W6,FeedLib[#All],CJ$60,FALSE),\"\"),IFERROR(VLOOKUP($W6,FeedLibUser[#All],CJ$60,FALSE),\"\")),CJ6),IF(AND(ISNUMBER($AI6),$AJ6<>\"\"),CJ6,\"\"))","v":13},{"$f":"IF(ISNUMBER($W6),IF($AH6=FALSE,IF($W6<1000,IFERROR(VLOOKUP($W6,FeedLib[#All],CK$60,FALSE),\"\"),IFERROR(VLOOKUP($W6,FeedLibUser[#All],CK$60,FALSE),\"\")),CK6),IF(AND(ISNUMBER($AI6),$AJ6<>\"\"),CK6,\"\"))","v":3.8},{"$f":"IF(ISNUMBER($W6),IF($AH6=FALSE,IF($W6<1000,IFERROR(VLOOKUP($W6,FeedLib[#All],CL$60,FALSE),\"\"),IFERROR(VLOOKUP($W6,FeedLibUser[#All],CL$60,FALSE),\"\")),CL6),IF(AND(ISNUMBER($AI6),$AJ6<>\"\"),CL6,\"\"))","v":0},{"$f":"IF(ISNUMBER($W6),IF($AH6=FALSE,IF($W6<1000,IFERROR(VLOOKUP($W6,FeedLib[#All],CM$60,FALSE),\"\"),IFERROR(VLOOKUP($W6,FeedLibUser[#All],CM$60,FALSE),\"\")),CM6),IF(AND(ISNUMBER($AI6),$AJ6<>\"\"),CM6,\"\"))","v":26.2}]
[null,"   % Prime","Pr",null,8,{"$f":"IF(SUM($D$40:$D$44)<>100,\"––\",D40)","v":"––"},null,"The sum of Pr, Ch+, Ch, Ch-, and Se has to be 100%",null,29,"Simmental",1.2,1,{"$f":"39*IF(parmUnit=1,1,2.2046)","v":85.979399999999998},{"$f":"12*IF(parmUnit=1,1,2.2046)","v":26.455200000000001},4,3.8,8.3000000000000007,0.56999999999999995,null,null,null,null,null,null,null,null,null,null,null,null,null,null,null,800,"Minerals ",{"$f":"IF(ISNUMBER($W7),IF($AH7=FALSE,IF($W7<1000,IFERROR(VLOOKUP($W7,FeedLib[#All],AK$60,FALSE),\"\")*(IF(parmUnit=1,1,2000/2204.6)),IFERROR(VLOOKUP($W7,FeedLibUser[#All],AK$60,FALSE),\"\")*(IF(parmUnit=1,1,2000/2204.6))),AK7),IF(AND(ISNUMBER($AI7),$AJ7<>\"\"),AK7,\"\"))","v":200},{"$f":"IF(ISNUMBER($W7),IF($AH7=FALSE,IF($W7<1000,IFERROR(VLOOKUP($W7,FeedLib[#All],AL$60,FALSE),\"\"),IFERROR(VLOOKUP($W7,FeedLibUser[#All],AL$60,FALSE),\"\")),AL7),IF(AND(ISNUMBER($AI7),$AJ7<>\"\"),AL7,\"\"))","v":0},{"$f":"IF(ISNUMBER($W7),IF($AH7=FALSE,IF($W7<1000,IFERROR(VLOOKUP($W7,FeedLib[#All],AM$60,FALSE),\"\"),IFERROR(VLOOKUP($W7,FeedLibUser[#All],AM$60,FALSE),\"\")),AM7),IF(AND(ISNUMBER($AI7),$AJ7<>\"\"),AM7,\"\"))","v":99},{"$f":"IF(ISNUMBER($W7),IF($AH7=FALSE,IF($W7<1000,IFERROR(VLOOKUP($W7,FeedLib[#All],AN$60,FALSE),\"\"),IFERROR(VLOOKUP($W7,FeedLibUser[#All],AN$60,FALSE),\"\")),AN7),IF(AND(ISNUMBER($AI7),$AJ7<>\"\"),AN7,\"\"))","v":0},{"$f":"IF(ISNUMBER($W7),IF($AH7=FALSE,IF($W7<1000,IFERROR(VLOOKUP($W7,FeedLib[#All],AO$60,FALSE),\"\"),IFERROR(VLOOKUP($W7,FeedLibUser[#All],AO$60,FALSE),\"\")),AO7),IF(AND(ISNUMBER($AI7),$AJ7<>\"\"),AO7,\"\"))","v":0},{"$f":"IF(ISNUMBER($W7),IF($AH7=FALSE,IF($W7<1000,IFERROR(VLOOKUP($W7,FeedLib[#All],AP$60,FALSE),\"\"),IFERROR(VLOOKUP($W7,FeedLibUser[#All],AP$60,FALSE),\"\")),AP7),IF(AND(ISNUMBER($AI7),$AJ7<>\"\"),AP7,\"\"))","v":0},{"$f":"IF(ISNUMBER($W7),IF($AH7=FALSE,IF($W7<1000,IFERROR(VLOOKUP($W7,FeedLib[#All],AQ$60,FALSE),\"\"),IFERROR(VLOOKUP($W7,FeedLibUser[#All],AQ$60,FALSE),\"\")),AQ7),IF(AND(ISNUMBER($AI7),$AJ7<>\"\"),AQ7,\"\"))","v":0},{"$f":"IF(ISNUMBER($W7),IF($AH7=FALSE,IF($W7<1000,IFERROR(VLOOKUP($W7,FeedLib[#All],AR$60,FALSE),\"\"),IFERROR(VLOOKUP($W7,FeedLibUser[#All],AR$60,FALSE),\"\")),AR7),IF(AND(ISNUMBER($AI7),$AJ7<>\"\"),AR7,\"\"))","v":0},{"$f":"IF(ISNUMBER($W7),IF($AH7=FALSE,IF($W7<1000,IFERROR(VLOOKUP($W7,FeedLib[#All],AS$60,FALSE),\"\"),IFERROR(VLOOKUP($W7,FeedLibUser[#All],AS$60,FALSE),\"\")),AS7),IF(AND(ISNUMBER($AI7),$AJ7<>\"\"),AS7,\"\"))","v":0},{"$f":"IF(ISNUMBER($W7),IF($AH7=FALSE,IF($W7<1000,IFERROR(VLOOKUP($W7,FeedLib[#All],AT$60,FALSE),\"\"),IFERROR(VLOOKUP($W7,FeedLibUser[#All],AT$60,FALSE),\"\")),AT7),IF(AND(ISNUMBER($AI7),$AJ7<>\"\"),AT7,\"\"))","v":100},{"$f":"IF(ISNUMBER($W7),IF($AH7=FALSE,IF($W7<1000,IFERROR(VLOOKUP($W7,FeedLib[#All],AU$60,FALSE),\"\"),IFERROR(VLOOKUP($W7,FeedLibUser[#All],AU$60,FALSE),\"\")),AU7),IF(AND(ISNUMBER($AI7),$AJ7<>\"\"),AU7,\"\"))","v":0},{"$f":"IF(ISNUMBER($W7),IF($AH7=FALSE,IF($W7<1000,IFERROR(VLOOKUP($W7,FeedLib[#All],AV$60,FALSE),\"\"),IFERROR(VLOOKUP($W7,FeedLibUser[#All],AV$60,FALSE),\"\")),AV7),IF(AND(ISNUMBER($AI7),$AJ7<>\"\"),AV7,\"\"))","v":0},{"$f":"IF(ISNUMBER($W7),IF($AH7=FALSE,IF($W7<1000,IFERROR(VLOOKUP($W7,FeedLib[#All],AW$60,FALSE),\"\"),IFERROR(VLOOKUP($W7,FeedLibUser[#All],AW$60,FALSE),\"\")),AW7),IF(AND(ISNUMBER($AI7),$AJ7<>\"\"),AW7,\"\"))","v":0},{"$f":"IF(ISNUMBER($W7),IF($AH7=FALSE,IF($W7<1000,IFERROR(VLOOKUP($W7,FeedLib[#All],AX$60,FALSE),\"\"),IFERROR(VLOOKUP($W7,FeedLibUser[#All],AX$60,FALSE),\"\")),AX7),IF(AND(ISNUMBER($AI7),$AJ7<>\"\"),AX7,\"\"))","v":0},{"$f":"IF(ISNUMBER($W7),IF($AH7=FALSE,IF($W7<1000,IFERROR(VLOOKUP($W7,FeedLib[#All],AY$60,FALSE),\"\")/IF(parmUnit=1,1,2.2046),IFERROR(VLOOKUP($W7,FeedLibUser[#All],AY$60,FALSE),\"\")/IF(parmUnit=1,1,2.2046)),AY7),IF(AND(ISNUMBER($AI7),$AJ7<>\"\"),AY7,\"\"))","v":0},{"$f":"IF(ISNUMBER($W7),IF($AH7=FALSE,IF($W7<1000,IFERROR(VLOOKUP($W7,FeedLib[#All],AZ$60,FALSE),\"\")/IF(parmUnit=1,1,2.2046),IFERROR(VLOOKUP($W7,FeedLibUser[#All],AZ$60,FALSE),\"\")/IF(parmUnit=1,1,2.2046)),AZ7),IF(AND(ISNUMBER($AI7),$AJ7<>\"\"),AZ7,\"\"))","v":0},{"$f":"IF(ISNUMBER($W7),IF($AH7=FALSE,IF($W7<1000,IFERROR(VLOOKUP($W7,FeedLib[#All],BA$60,FALSE),\"\")/IF(parmUnit=1,1,2.2046),IFERROR(VLOOKUP($W7,FeedLibUser[#All],BA$60,FALSE),\"\")/IF(parmUnit=1,1,2.2046)),BA7),IF(AND(ISNUMBER($AI7),$AJ7<>\"\"),BA7,\"\"))","v":0},{"$f":"IF(ISNUMBER($W7),IF($AH7=FALSE,IF($W7<1000,IFERROR(VLOOKUP($W7,FeedLib[#All],BB$60,FALSE),\"\"),IFERROR(VLOOKUP($W7,FeedLibUser[#All],BB$60,FALSE),\"\")),BB7),IF(AND(ISNUMBER($AI7),$AJ7<>\"\"),BB7,\"\"))","v":100},{"$f":"IF(ISNUMBER($W7),IF($AH7=FALSE,IF($W7<1000,IFERROR(VLOOKUP($W7,FeedLib[#All],BC$60,FALSE),\"\"),IFERROR(VLOOKUP($W7,FeedLibUser[#All],BC$60,FALSE),\"\")),BC7),IF(AND(ISNUMBER($AI7),$AJ7<>\"\"),BC7,\"\"))","v":0},{"$f":"IF(ISNUMBER($W7),IF($AH7=FALSE,IF($W7<1000,IFERROR(VLOOKUP($W7,FeedLib[#All],BD$60,FALSE),\"\"),IFERROR(VLOOKUP($W7,FeedLibUser[#All],BD$60,FALSE),\"\")),BD7),IF(AND(ISNUMBER($AI7),$AJ7<>\"\"),BD7,\"\"))","v":0},{"$f":"IF(ISNUMBER($W7),IF($AH7=FALSE,IF($W7<1000,IFERROR(VLOOKUP($W7,FeedLib[#All],BE$60,FALSE),\"\"),IFERROR(VLOOKUP($W7,FeedLibUser[#All],BE$60,FALSE),\"\")),BE7),IF(AND(ISNUMBER($AI7),$AJ7<>\"\"),BE7,\"\"))","v":0},{"$f":"IF(ISNUMBER($W7),IF($AH7=FALSE,IF($W7<1000,IFERROR(VLOOKUP($W7,FeedLib[#All],BF$60,FALSE),\"\"),IFERROR(VLOOKUP($W7,FeedLibUser[#All],BF$60,FALSE),\"\")),BF7),IF(AND(ISNUMBER($AI7),$AJ7<>\"\"),BF7,\"\"))","v":0},{"$f":"IF(ISNUMBER($W7),IF($AH7=FALSE,IF($W7<1000,IFERROR(VLOOKUP($W7,FeedLib[#All],BG$60,FALSE),\"\"),IFERROR(VLOOKUP($W7,FeedLibUser[#All],BG$60,FALSE),\"\")),BG7),IF(AND(ISNUMBER($AI7),$AJ7<>\"\"),BG7,\"\"))","v":0},{"$f":"IF(ISNUMBER($W7),IF($AH7=FALSE,IF($W7<1000,IFERROR(VLOOKUP($W7,FeedLib[#All],BH$60,FALSE),\"\"),IFERROR(VLOOKUP($W7,FeedLibUser[#All],BH$60,FALSE),\"\")),BH7),IF(AND(ISNUMBER($AI7),$AJ7<>\"\"),BH7,\"\"))","v":0},{"$f":"IF(ISNUMBER($W7),IF($AH7=FALSE,IF($W7<1000,IFERROR(VLOOKUP($W7,FeedLib[#All],BI$60,FALSE),\"\"),IFERROR(VLOOKUP($W7,FeedLibUser[#All],BI$60,FALSE),\"\")),BI7),IF(AND(ISNUMBER($AI7),$AJ7<>\"\"),BI7,\"\"))","v":75},{"$f":"IF(ISNUMBER($W7),IF($AH7=FALSE,IF($W7<1000,IFERROR(VLOOKUP($W7,FeedLib[#All],BJ$60,FALSE),\"\"),IFERROR(VLOOKUP($W7,FeedLibUser[#All],BJ$60,FALSE),\"\")),BJ7),IF(AND(ISNUMBER($AI7),$AJ7<>\"\"),BJ7,\"\"))","v":0},{"$f":"IF(ISNUMBER($W7),IF($AH7=FALSE,IF($W7<1000,IFERROR(VLOOKUP($W7,FeedLib[#All],BK$60,FALSE),\"\"),IFERROR(VLOOKUP($W7,FeedLibUser[#All],BK$60,FALSE),\"\")),BK7),IF(AND(ISNUMBER($AI7),$AJ7<>\"\"),BK7,\"\"))","v":0},{"$f":"IF(ISNUMBER($W7),IF($AH7=FALSE,IF($W7<1000,IFERROR(VLOOKUP($W7,FeedLib[#All],BL$60,FALSE),\"\"),IFERROR(VLOOKUP($W7,FeedLibUser[#All],BL$60,FALSE),\"\")),BL7),IF(AND(ISNUMBER($AI7),$AJ7<>\"\"),BL7,\"\"))","v":0},{"$f":"IF(ISNUMBER($W7),IF($AH7=FALSE,IF($W7<1000,IFERROR(VLOOKUP($W7,FeedLib[#All],BM$60,FALSE),\"\"),IFERROR(VLOOKUP($W7,FeedLibUser[#All],BM$60,FALSE),\"\")),BM7),IF(AND(ISNUMBER($AI7),$AJ7<>\"\"),BM7,\"\"))","v":0},{"$f":"IF(ISNUMBER($W7),IF($AH7=FALSE,IF($W7<1000,IFERROR(VLOOKUP($W7,FeedLib[#All],BN$60,FALSE),\"\"),IFERROR(VLOOKUP($W7,FeedLibUser[#All],BN$60,FALSE),\"\")),BN7),IF(AND(ISNUMBER($AI7),$AJ7<>\"\"),BN7,\"\"))","v":0},{"$f":"IF(ISNUMBER($W7),IF($AH7=FALSE,IF($W7<1000,IFERROR(VLOOKUP($W7,FeedLib[#All],BO$60,FALSE),\"\"),IFERROR(VLOOKUP($W7,FeedLibUser[#All],BO$60,FALSE),\"\")),BO7),IF(AND(ISNUMBER($AI7),$AJ7<>\"\"),BO7,\"\"))","v":0},{"$f":"IF(ISNUMBER($W7),IF($AH7=FALSE,IF($W7<1000,IFERROR(VLOOKUP($W7,FeedLib[#All],BP$60,FALSE),\"\"),IFERROR(VLOOKUP($W7,FeedLibUser[#All],BP$60,FALSE),\"\")),BP7),IF(AND(ISNUMBER($AI7),$AJ7<>\"\"),BP7,\"\"))","v":0},{"$f":"IF(ISNUMBER($W7),IF($AH7=FALSE,IF($W7<1000,IFERROR(VLOOKUP($W7,FeedLib[#All],BQ$60,FALSE),\"\"),IFERROR(VLOOKUP($W7,FeedLibUser[#All],BQ$60,FALSE),\"\")),BQ7),IF(AND(ISNUMBER($AI7),$AJ7<>\"\"),BQ7,\"\"))","v":0},{"$f":"IF(ISNUMBER($W7),IF($AH7=FALSE,IF($W7<1000,IFERROR(VLOOKUP($W7,FeedLib[#All],BR$60,FALSE),\"\"),IFERROR(VLOOKUP($W7,FeedLibUser[#All],BR$60,FALSE),\"\")),BR7),IF(AND(ISNUMBER($AI7),$AJ7<>\"\"),BR7,\"\"))","v":0},{"$f":"IF(ISNUMBER($W7),IF($AH7=FALSE,IF($W7<1000,IFERROR(VLOOKUP($W7,FeedLib[#All],BS$60,FALSE),\"\"),IFERROR(VLOOKUP($W7,FeedLibUser[#All],BS$60,FALSE),\"\")),BS7),IF(AND(ISNUMBER($AI7),$AJ7<>\"\"),BS7,\"\"))","v":0},{"$f":"IF(ISNUMBER($W7),IF($AH7=FALSE,IF($W7<1000,IFERROR(VLOOKUP($W7,FeedLib[#All],BT$60,FALSE),\"\"),IFERROR(VLOOKUP($W7,FeedLibUser[#All],BT$60,FALSE),\"\")),BT7),IF(AND(ISNUMBER($AI7),$AJ7<>\"\"),BT7,\"\"))","v":0},{"$f":"IF(ISNUMBER($W7),IF($AH7=FALSE,IF($W7<1000,IFERROR(VLOOKUP($W7,FeedLib[#All],BU$60,FALSE),\"\"),IFERROR(VLOOKUP($W7,FeedLibUser[#All],BU$60,FALSE),\"\")),BU7),IF(AND(ISNUMBER($AI7),$AJ7<>\"\"),BU7,\"\"))","v":0},{"$f":"IF(ISNUMBER($W7),IF($AH7=FALSE,IF($W7<1000,IFERROR(VLOOKUP($W7,FeedLib[#All],BV$60,FALSE),\"\"),IFERROR(VLOOKUP($W7,FeedLibUser[#All],BV$60,FALSE),\"\")),BV7),IF(AND(ISNUMBER($AI7),$AJ7<>\"\"),BV7,\"\"))","v":0},{"$f":"IF(ISNUMBER($W7),IF($AH7=FALSE,IF($W7<1000,IFERROR(VLOOKUP($W7,FeedLib[#All],BW$60,FALSE),\"\"),IFERROR(VLOOKUP($W7,FeedLibUser[#All],BW$60,FALSE),\"\")),BW7),IF(AND(ISNUMBER($AI7),$AJ7<>\"\"),BW7,\"\"))","v":0},{"$f":"IF(ISNUMBER($W7),IF($AH7=FALSE,IF($W7<1000,IFERROR(VLOOKUP($W7,FeedLib[#All],BX$60,FALSE),\"\"),IFERROR(VLOOKUP($W7,FeedLibUser[#All],BX$60,FALSE),\"\")),BX7),IF(AND(ISNUMBER($AI7),$AJ7<>\"\"),BX7,\"\"))","v":0},{"$f":"IF(ISNUMBER($W7),IF($AH7=FALSE,IF($W7<1000,IFERROR(VLOOKUP($W7,FeedLib[#All],BY$60,FALSE),\"\"),IFERROR(VLOOKUP($W7,FeedLibUser[#All],BY$60,FALSE),\"\")),BY7),IF(AND(ISNUMBER($AI7),$AJ7<>\"\"),BY7,\"\"))","v":0},{"$f":"IF(ISNUMBER($W7),IF($AH7=FALSE,IF($W7<1000,IFERROR(VLOOKUP($W7,FeedLib[#All],BZ$60,FALSE),\"\"),IFERROR(VLOOKUP($W7,FeedLibUser[#All],BZ$60,FALSE),\"\")),BZ7),IF(AND(ISNUMBER($AI7),$AJ7<>\"\"),BZ7,\"\"))","v":0},{"$f":"IF(ISNUMBER($W7),IF($AH7=FALSE,IF($W7<1000,IFERROR(VLOOKUP($W7,FeedLib[#All],CA$60,FALSE),\"\"),IFERROR(VLOOKUP($W7,FeedLibUser[#All],CA$60,FALSE),\"\")),CA7),IF(AND(ISNUMBER($AI7),$AJ7<>\"\"),CA7,\"\"))","v":0},{"$f":"IF(ISNUMBER($W7),IF($AH7=FALSE,IF($W7<1000,IFERROR(VLOOKUP($W7,FeedLib[#All],CB$60,FALSE),\"\"),IFERROR(VLOOKUP($W7,FeedLibUser[#All],CB$60,FALSE),\"\")),CB7),IF(AND(ISNUMBER($AI7),$AJ7<>\"\"),CB7,\"\"))","v":0},{"$f":"IF(ISNUMBER($W7),IF($AH7=FALSE,IF($W7<1000,IFERROR(VLOOKUP($W7,FeedLib[#All],CC$60,FALSE),\"\"),IFERROR(VLOOKUP($W7,FeedLibUser[#All],CC$60,FALSE),\"\")),CC7),IF(AND(ISNUMBER($AI7),$AJ7<>\"\"),CC7,\"\"))","v":0},{"$f":"IF(ISNUMBER($W7),IF($AH7=FALSE,IF($W7<1000,IFERROR(VLOOKUP($W7,FeedLib[#All],CD$60,FALSE),\"\"),IFERROR(VLOOKUP($W7,FeedLibUser[#All],CD$60,FALSE),\"\")),CD7),IF(AND(ISNUMBER($AI7),$AJ7<>\"\"),CD7,\"\"))","v":0},{"$f":"IF(ISNUMBER($W7),IF($AH7=FALSE,IF($W7<1000,IFERROR(VLOOKUP($W7,FeedLib[#All],CE$60,FALSE),\"\"),IFERROR(VLOOKUP($W7,FeedLibUser[#All],CE$60,FALSE),\"\")),CE7),IF(AND(ISNUMBER($AI7),$AJ7<>\"\"),CE7,\"\"))","v":0},{"$f":"IF(ISNUMBER($W7),IF($AH7=FALSE,IF($W7<1000,IFERROR(VLOOKUP($W7,FeedLib[#All],CF$60,FALSE),\"\"),IFERROR(VLOOKUP($W7,FeedLibUser[#All],CF$60,FALSE),\"\")),CF7),IF(AND(ISNUMBER($AI7),$AJ7<>\"\"),CF7,\"\"))","v":0},{"$f":"IF(ISNUMBER($W7),IF($AH7=FALSE,IF($W7<1000,IFERROR(VLOOKUP($W7,FeedLib[#All],CG$60,FALSE),\"\"),IFERROR(VLOOKUP($W7,FeedLibUser[#All],CG$60,FALSE),\"\")),CG7),IF(AND(ISNUMBER($AI7),$AJ7<>\"\"),CG7,\"\"))","v":0},{"$f":"IF(ISNUMBER($W7),IF($AH7=FALSE,IF($W7<1000,IFERROR(VLOOKUP($W7,FeedLib[#All],CH$60,FALSE),\"\"),IFERROR(VLOOKUP($W7,FeedLibUser[#All],CH$60,FALSE),\"\")),CH7),IF(AND(ISNUMBER($AI7),$AJ7<>\"\"),CH7,\"\"))","v":0},{"$f":"IF(ISNUMBER($W7),IF($AH7=FALSE,IF($W7<1000,IFERROR(VLOOKUP($W7,FeedLib[#All],CI$60,FALSE),\"\"),IFERROR(VLOOKUP($W7,FeedLibUser[#All],CI$60,FALSE),\"\")),CI7),IF(AND(ISNUMBER($AI7),$AJ7<>\"\"),CI7,\"\"))","v":0},{"$f":"IF(ISNUMBER($W7),IF($AH7=FALSE,IF($W7<1000,IFERROR(VLOOKUP($W7,FeedLib[#All],CJ$60,FALSE),\"\"),IFERROR(VLOOKUP($W7,FeedLibUser[#All],CJ$60,FALSE),\"\")),CJ7),IF(AND(ISNUMBER($AI7),$AJ7<>\"\"),CJ7,\"\"))","v":0},{"$f":"IF(ISNUMBER($W7),IF($AH7=FALSE,IF($W7<1000,IFERROR(VLOOKUP($W7,FeedLib[#All],CK$60,FALSE),\"\"),IFERROR(VLOOKUP($W7,FeedLibUser[#All],CK$60,FALSE),\"\")),CK7),IF(AND(ISNUMBER($AI7),$AJ7<>\"\"),CK7,\"\"))","v":0},{"$f":"IF(ISNUMBER($W7),IF($AH7=FALSE,IF($W7<1000,IFERROR(VLOOKUP($W7,FeedLib[#All],CL$60,FALSE),\"\"),IFERROR(VLOOKUP($W7,FeedLibUser[#All],CL$60,FALSE),\"\")),CL7),IF(AND(ISNUMBER($AI7),$AJ7<>\"\"),CL7,\"\"))","v":0},{"$f":"IF(ISNUMBER($W7),IF($AH7=FALSE,IF($W7<1000,IFERROR(VLOOKUP($W7,FeedLib[#All],CM$60,FALSE),\"\"),IFERROR(VLOOKUP($W7,FeedLibUser[#All],CM$60,FALSE),\"\")),CM7),IF(AND(ISNUMBER($AI7),$AJ7<>\"\"),CM7,\"\"))","v":0}]
[null,"   % high Choice","Ch+",null,7,{"$f":"IF(SUM($D$40:$D$44)<>100,\"––\",D41)","v":"––"},null,"The sum of Pr, Ch+, Ch, Ch-, and Se has to be 100%",null,30,"South Devon",1,1.2,{"$f":"33*IF(parmUnit=1,1,2.2046)","v":72.751800000000003},{"$f":"8*IF(parmUnit=1,1,2.2046)","v":17.636800000000001},4,3.8,8.3000000000000007,0.6,null,null,null,null,null,null,null,null,null,null,null,null,null,null,null,"","",{"$f":"IF(ISNUMBER($W8),IF($AH8=FALSE,IF($W8<1000,IFERROR(VLOOKUP($W8,FeedLib[#All],AK$60,FALSE),\"\")*(IF(parmUnit=1,1,2000/2204.6)),IFERROR(VLOOKUP($W8,FeedLibUser[#All],AK$60,FALSE),\"\")*(IF(parmUnit=1,1,2000/2204.6))),AK8),IF(AND(ISNUMBER($AI8),$AJ8<>\"\"),AK8,\"\"))","v":""},{"$f":"IF(ISNUMBER($W8),IF($AH8=FALSE,IF($W8<1000,IFERROR(VLOOKUP($W8,FeedLib[#All],AL$60,FALSE),\"\"),IFERROR(VLOOKUP($W8,FeedLibUser[#All],AL$60,FALSE),\"\")),AL8),IF(AND(ISNUMBER($AI8),$AJ8<>\"\"),AL8,\"\"))","v":""},{"$f":"IF(ISNUMBER($W8),IF($AH8=FALSE,IF($W8<1000,IFERROR(VLOOKUP($W8,FeedLib[#All],AM$60,FALSE),\"\"),IFERROR(VLOOKUP($W8,FeedLibUser[#All],AM$60,FALSE),\"\")),AM8),IF(AND(ISNUMBER($AI8),$AJ8<>\"\"),AM8,\"\"))","v":""},{"$f":"IF(ISNUMBER($W8),IF($AH8=FALSE,IF($W8<1000,IFERROR(VLOOKUP($W8,FeedLib[#All],AN$60,FALSE),\"\"),IFERROR(VLOOKUP($W8,FeedLibUser[#All],AN$60,FALSE),\"\")),AN8),IF(AND(ISNUMBER($AI8),$AJ8<>\"\"),AN8,\"\"))","v":""},{"$f":"IF(ISNUMBER($W8),IF($AH8=FALSE,IF($W8<1000,IFERROR(VLOOKUP($W8,FeedLib[#All],AO$60,FALSE),\"\"),IFERROR(VLOOKUP($W8,FeedLibUser[#All],AO$60,FALSE),\"\")),AO8),IF(AND(ISNUMBER($AI8),$AJ8<>\"\"),AO8,\"\"))","v":""},{"$f":"IF(ISNUMBER($W8),IF($AH8=FALSE,IF($W8<1000,IFERROR(VLOOKUP($W8,FeedLib[#All],AP$60,FALSE),\"\"),IFERROR(VLOOKUP($W8,FeedLibUser[#All],AP$60,FALSE),\"\")),AP8),IF(AND(ISNUMBER($AI8),$AJ8<>\"\"),AP8,\"\"))","v":""},{"$f":"IF(ISNUMBER($W8),IF($AH8=FALSE,IF($W8<1000,IFERROR(VLOOKUP($W8,FeedLib[#All],AQ$60,FALSE),\"\"),IFERROR(VLOOKUP($W8,FeedLibUser[#All],AQ$60,FALSE),\"\")),AQ8),IF(AND(ISNUMBER($AI8),$AJ8<>\"\"),AQ8,\"\"))","v":""},{"$f":"IF(ISNUMBER($W8),IF($AH8=FALSE,IF($W8<1000,IFERROR(VLOOKUP($W8,FeedLib[#All],AR$60,FALSE),\"\"),IFERROR(VLOOKUP($W8,FeedLibUser[#All],AR$60,FALSE),\"\")),AR8),IF(AND(ISNUMBER($AI8),$AJ8<>\"\"),AR8,\"\"))","v":""},{"$f":"IF(ISNUMBER($W8),IF($AH8=FALSE,IF($W8<1000,IFERROR(VLOOKUP($W8,FeedLib[#All],AS$60,FALSE),\"\"),IFERROR(VLOOKUP($W8,FeedLibUser[#All],AS$60,FALSE),\"\")),AS8),IF(AND(ISNUMBER($AI8),$AJ8<>\"\"),AS8,\"\"))","v":""},{"$f":"IF(ISNUMBER($W8),IF($AH8=FALSE,IF($W8<1000,IFERROR(VLOOKUP($W8,FeedLib[#All],AT$60,FALSE),\"\"),IFERROR(VLOOKUP($W8,FeedLibUser[#All],AT$60,FALSE),\"\")),AT8),IF(AND(ISNUMBER($AI8),$AJ8<>\"\"),AT8,\"\"))","v":""},{"$f":"IF(ISNUMBER($W8),IF($AH8=FALSE,IF($W8<1000,IFERROR(VLOOKUP($W8,FeedLib[#All],AU$60,FALSE),\"\"),IFERROR(VLOOKUP($W8,FeedLibUser[#All],AU$60,FALSE),\"\")),AU8),IF(AND(ISNUMBER($AI8),$AJ8<>\"\"),AU8,\"\"))","v":""},{"$f":"IF(ISNUMBER($W8),IF($AH8=FALSE,IF($W8<1000,IFERROR(VLOOKUP($W8,FeedLib[#All],AV$60,FALSE),\"\"),IFERROR(VLOOKUP($W8,FeedLibUser[#All],AV$60,FALSE),\"\")),AV8),IF(AND(ISNUMBER($AI8),$AJ8<>\"\"),AV8,\"\"))","v":""},{"$f":"IF(ISNUMBER($W8),IF($AH8=FALSE,IF($W8<1000,IFERROR(VLOOKUP($W8,FeedLib[#All],AW$60,FALSE),\"\"),IFERROR(VLOOKUP($W8,FeedLibUser[#All],AW$60,FALSE),\"\")),AW8),IF(AND(ISNUMBER($AI8),$AJ8<>\"\"),AW8,\"\"))","v":""},{"$f":"IF(ISNUMBER($W8),IF($AH8=FALSE,IF($W8<1000,IFERROR(VLOOKUP($W8,FeedLib[#All],AX$60,FALSE),\"\"),IFERROR(VLOOKUP($W8,FeedLibUser[#All],AX$60,FALSE),\"\")),AX8),IF(AND(ISNUMBER($AI8),$AJ8<>\"\"),AX8,\"\"))","v":""},{"$f":"IF(ISNUMBER($W8),IF($AH8=FALSE,IF($W8<1000,IFERROR(VLOOKUP($W8,FeedLib[#All],AY$60,FALSE),\"\")/IF(parmUnit=1,1,2.2046),IFERROR(VLOOKUP($W8,FeedLibUser[#All],AY$60,FALSE),\"\")/IF(parmUnit=1,1,2.2046)),AY8),IF(AND(ISNUMBER($AI8),$AJ8<>\"\"),AY8,\"\"))","v":""},{"$f":"IF(ISNUMBER($W8),IF($AH8=FALSE,IF($W8<1000,IFERROR(VLOOKUP($W8,FeedLib[#All],AZ$60,FALSE),\"\")/IF(parmUnit=1,1,2.2046),IFERROR(VLOOKUP($W8,FeedLibUser[#All],AZ$60,FALSE),\"\")/IF(parmUnit=1,1,2.2046)),AZ8),IF(AND(ISNUMBER($AI8),$AJ8<>\"\"),AZ8,\"\"))","v":""},{"$f":"IF(ISNUMBER($W8),IF($AH8=FALSE,IF($W8<1000,IFERROR(VLOOKUP($W8,FeedLib[#All],BA$60,FALSE),\"\")/IF(parmUnit=1,1,2.2046),IFERROR(VLOOKUP($W8,FeedLibUser[#All],BA$60,FALSE),\"\")/IF(parmUnit=1,1,2.2046)),BA8),IF(AND(ISNUMBER($AI8),$AJ8<>\"\"),BA8,\"\"))","v":""},{"$f":"IF(ISNUMBER($W8),IF($AH8=FALSE,IF($W8<1000,IFERROR(VLOOKUP($W8,FeedLib[#All],BB$60,FALSE),\"\"),IFERROR(VLOOKUP($W8,FeedLibUser[#All],BB$60,FALSE),\"\")),BB8),IF(AND(ISNUMBER($AI8),$AJ8<>\"\"),BB8,\"\"))","v":""},{"$f":"IF(ISNUMBER($W8),IF($AH8=FALSE,IF($W8<1000,IFERROR(VLOOKUP($W8,FeedLib[#All],BC$60,FALSE),\"\"),IFERROR(VLOOKUP($W8,FeedLibUser[#All],BC$60,FALSE),\"\")),BC8),IF(AND(ISNUMBER($AI8),$AJ8<>\"\"),BC8,\"\"))","v":""},{"$f":"IF(ISNUMBER($W8),IF($AH8=FALSE,IF($W8<1000,IFERROR(VLOOKUP($W8,FeedLib[#All],BD$60,FALSE),\"\"),IFERROR(VLOOKUP($W8,FeedLibUser[#All],BD$60,FALSE),\"\")),BD8),IF(AND(ISNUMBER($AI8),$AJ8<>\"\"),BD8,\"\"))","v":""},{"$f":"IF(ISNUMBER($W8),IF($AH8=FALSE,IF($W8<1000,IFERROR(VLOOKUP($W8,FeedLib[#All],BE$60,FALSE),\"\"),IFERROR(VLOOKUP($W8,FeedLibUser[#All],BE$60,FALSE),\"\")),BE8),IF(AND(ISNUMBER($AI8),$AJ8<>\"\"),BE8,\"\"))","v":""},{"$f":"IF(ISNUMBER($W8),IF($AH8=FALSE,IF($W8<1000,IFERROR(VLOOKUP($W8,FeedLib[#All],BF$60,FALSE),\"\"),IFERROR(VLOOKUP($W8,FeedLibUser[#All],BF$60,FALSE),\"\")),BF8),IF(AND(ISNUMBER($AI8),$AJ8<>\"\"),BF8,\"\"))","v":""},{"$f":"IF(ISNUMBER($W8),IF($AH8=FALSE,IF($W8<1000,IFERROR(VLOOKUP($W8,FeedLib[#All],BG$60,FALSE),\"\"),IFERROR(VLOOKUP($W8,FeedLibUser[#All],BG$60,FALSE),\"\")),BG8),IF(AND(ISNUMBER($AI8),$AJ8<>\"\"),BG8,\"\"))","v":""},{"$f":"IF(ISNUMBER($W8),IF($AH8=FALSE,IF($W8<1000,IFERROR(VLOOKUP($W8,FeedLib[#All],BH$60,FALSE),\"\"),IFERROR(VLOOKUP($W8,FeedLibUser[#All],BH$60,FALSE),\"\")),BH8),IF(AND(ISNUMBER($AI8),$AJ8<>\"\"),BH8,\"\"))","v":""},{"$f":"IF(ISNUMBER($W8),IF($AH8=FALSE,IF($W8<1000,IFERROR(VLOOKUP($W8,FeedLib[#All],BI$60,FALSE),\"\"),IFERROR(VLOOKUP($W8,FeedLibUser[#All],BI$60,FALSE),\"\")),BI8),IF(AND(ISNUMBER($AI8),$AJ8<>\"\"),BI8,\"\"))","v":""},{"$f":"IF(ISNUMBER($W8),IF($AH8=FALSE,IF($W8<1000,IFERROR(VLOOKUP($W8,FeedLib[#All],BJ$60,FALSE),\"\"),IFERROR(VLOOKUP($W8,FeedLibUser[#All],BJ$60,FALSE),\"\")),BJ8),IF(AND(ISNUMBER($AI8),$AJ8<>\"\"),BJ8,\"\"))","v":""},{"$f":"IF(ISNUMBER($W8),IF($AH8=FALSE,IF($W8<1000,IFERROR(VLOOKUP($W8,FeedLib[#All],BK$60,FALSE),\"\"),IFERROR(VLOOKUP($W8,FeedLibUser[#All],BK$60,FALSE),\"\")),BK8),IF(AND(ISNUMBER($AI8),$AJ8<>\"\"),BK8,\"\"))","v":""},{"$f":"IF(ISNUMBER($W8),IF($AH8=FALSE,IF($W8<1000,IFERROR(VLOOKUP($W8,FeedLib[#All],BL$60,FALSE),\"\"),IFERROR(VLOOKUP($W8,FeedLibUser[#All],BL$60,FALSE),\"\")),BL8),IF(AND(ISNUMBER($AI8),$AJ8<>\"\"),BL8,\"\"))","v":""},{"$f":"IF(ISNUMBER($W8),IF($AH8=FALSE,IF($W8<1000,IFERROR(VLOOKUP($W8,FeedLib[#All],BM$60,FALSE),\"\"),IFERROR(VLOOKUP($W8,FeedLibUser[#All],BM$60,FALSE),\"\")),BM8),IF(AND(ISNUMBER($AI8),$AJ8<>\"\"),BM8,\"\"))","v":""},{"$f":"IF(ISNUMBER($W8),IF($AH8=FALSE,IF($W8<1000,IFERROR(VLOOKUP($W8,FeedLib[#All],BN$60,FALSE),\"\"),IFERROR(VLOOKUP($W8,FeedLibUser[#All],BN$60,FALSE),\"\")),BN8),IF(AND(ISNUMBER($AI8),$AJ8<>\"\"),BN8,\"\"))","v":""},{"$f":"IF(ISNUMBER($W8),IF($AH8=FALSE,IF($W8<1000,IFERROR(VLOOKUP($W8,FeedLib[#All],BO$60,FALSE),\"\"),IFERROR(VLOOKUP($W8,FeedLibUser[#All],BO$60,FALSE),\"\")),BO8),IF(AND(ISNUMBER($AI8),$AJ8<>\"\"),BO8,\"\"))","v":""},{"$f":"IF(ISNUMBER($W8),IF($AH8=FALSE,IF($W8<1000,IFERROR(VLOOKUP($W8,FeedLib[#All],BP$60,FALSE),\"\"),IFERROR(VLOOKUP($W8,FeedLibUser[#All],BP$60,FALSE),\"\")),BP8),IF(AND(ISNUMBER($AI8),$AJ8<>\"\"),BP8,\"\"))","v":""},{"$f":"IF(ISNUMBER($W8),IF($AH8=FALSE,IF($W8<1000,IFERROR(VLOOKUP($W8,FeedLib[#All],BQ$60,FALSE),\"\"),IFERROR(VLOOKUP($W8,FeedLibUser[#All],BQ$60,FALSE),\"\")),BQ8),IF(AND(ISNUMBER($AI8),$AJ8<>\"\"),BQ8,\"\"))","v":""},{"$f":"IF(ISNUMBER($W8),IF($AH8=FALSE,IF($W8<1000,IFERROR(VLOOKUP($W8,FeedLib[#All],BR$60,FALSE),\"\"),IFERROR(VLOOKUP($W8,FeedLibUser[#All],BR$60,FALSE),\"\")),BR8),IF(AND(ISNUMBER($AI8),$AJ8<>\"\"),BR8,\"\"))","v":""},{"$f":"IF(ISNUMBER($W8),IF($AH8=FALSE,IF($W8<1000,IFERROR(VLOOKUP($W8,FeedLib[#All],BS$60,FALSE),\"\"),IFERROR(VLOOKUP($W8,FeedLibUser[#All],BS$60,FALSE),\"\")),BS8),IF(AND(ISNUMBER($AI8),$AJ8<>\"\"),BS8,\"\"))","v":""},{"$f":"IF(ISNUMBER($W8),IF($AH8=FALSE,IF($W8<1000,IFERROR(VLOOKUP($W8,FeedLib[#All],BT$60,FALSE),\"\"),IFERROR(VLOOKUP($W8,FeedLibUser[#All],BT$60,FALSE),\"\")),BT8),IF(AND(ISNUMBER($AI8),$AJ8<>\"\"),BT8,\"\"))","v":""},{"$f":"IF(ISNUMBER($W8),IF($AH8=FALSE,IF($W8<1000,IFERROR(VLOOKUP($W8,FeedLib[#All],BU$60,FALSE),\"\"),IFERROR(VLOOKUP($W8,FeedLibUser[#All],BU$60,FALSE),\"\")),BU8),IF(AND(ISNUMBER($AI8),$AJ8<>\"\"),BU8,\"\"))","v":""},{"$f":"IF(ISNUMBER($W8),IF($AH8=FALSE,IF($W8<1000,IFERROR(VLOOKUP($W8,FeedLib[#All],BV$60,FALSE),\"\"),IFERROR(VLOOKUP($W8,FeedLibUser[#All],BV$60,FALSE),\"\")),BV8),IF(AND(ISNUMBER($AI8),$AJ8<>\"\"),BV8,\"\"))","v":""},{"$f":"IF(ISNUMBER($W8),IF($AH8=FALSE,IF($W8<1000,IFERROR(VLOOKUP($W8,FeedLib[#All],BW$60,FALSE),\"\"),IFERROR(VLOOKUP($W8,FeedLibUser[#All],BW$60,FALSE),\"\")),BW8),IF(AND(ISNUMBER($AI8),$AJ8<>\"\"),BW8,\"\"))","v":""},{"$f":"IF(ISNUMBER($W8),IF($AH8=FALSE,IF($W8<1000,IFERROR(VLOOKUP($W8,FeedLib[#All],BX$60,FALSE),\"\"),IFERROR(VLOOKUP($W8,FeedLibUser[#All],BX$60,FALSE),\"\")),BX8),IF(AND(ISNUMBER($AI8),$AJ8<>\"\"),BX8,\"\"))","v":""},{"$f":"IF(ISNUMBER($W8),IF($AH8=FALSE,IF($W8<1000,IFERROR(VLOOKUP($W8,FeedLib[#All],BY$60,FALSE),\"\"),IFERROR(VLOOKUP($W8,FeedLibUser[#All],BY$60,FALSE),\"\")),BY8),IF(AND(ISNUMBER($AI8),$AJ8<>\"\"),BY8,\"\"))","v":""},{"$f":"IF(ISNUMBER($W8),IF($AH8=FALSE,IF($W8<1000,IFERROR(VLOOKUP($W8,FeedLib[#All],BZ$60,FALSE),\"\"),IFERROR(VLOOKUP($W8,FeedLibUser[#All],BZ$60,FALSE),\"\")),BZ8),IF(AND(ISNUMBER($AI8),$AJ8<>\"\"),BZ8,\"\"))","v":""},{"$f":"IF(ISNUMBER($W8),IF($AH8=FALSE,IF($W8<1000,IFERROR(VLOOKUP($W8,FeedLib[#All],CA$60,FALSE),\"\"),IFERROR(VLOOKUP($W8,FeedLibUser[#All],CA$60,FALSE),\"\")),CA8),IF(AND(ISNUMBER($AI8),$AJ8<>\"\"),CA8,\"\"))","v":""},{"$f":"IF(ISNUMBER($W8),IF($AH8=FALSE,IF($W8<1000,IFERROR(VLOOKUP($W8,FeedLib[#All],CB$60,FALSE),\"\"),IFERROR(VLOOKUP($W8,FeedLibUser[#All],CB$60,FALSE),\"\")),CB8),IF(AND(ISNUMBER($AI8),$AJ8<>\"\"),CB8,\"\"))","v":""},{"$f":"IF(ISNUMBER($W8),IF($AH8=FALSE,IF($W8<1000,IFERROR(VLOOKUP($W8,FeedLib[#All],CC$60,FALSE),\"\"),IFERROR(VLOOKUP($W8,FeedLibUser[#All],CC$60,FALSE),\"\")),CC8),IF(AND(ISNUMBER($AI8),$AJ8<>\"\"),CC8,\"\"))","v":""},{"$f":"IF(ISNUMBER($W8),IF($AH8=FALSE,IF($W8<1000,IFERROR(VLOOKUP($W8,FeedLib[#All],CD$60,FALSE),\"\"),IFERROR(VLOOKUP($W8,FeedLibUser[#All],CD$60,FALSE),\"\")),CD8),IF(AND(ISNUMBER($AI8),$AJ8<>\"\"),CD8,\"\"))","v":""},{"$f":"IF(ISNUMBER($W8),IF($AH8=FALSE,IF($W8<1000,IFERROR(VLOOKUP($W8,FeedLib[#All],CE$60,FALSE),\"\"),IFERROR(VLOOKUP($W8,FeedLibUser[#All],CE$60,FALSE),\"\")),CE8),IF(AND(ISNUMBER($AI8),$AJ8<>\"\"),CE8,\"\"))","v":""},{"$f":"IF(ISNUMBER($W8),IF($AH8=FALSE,IF($W8<1000,IFERROR(VLOOKUP($W8,FeedLib[#All],CF$60,FALSE),\"\"),IFERROR(VLOOKUP($W8,FeedLibUser[#All],CF$60,FALSE),\"\")),CF8),IF(AND(ISNUMBER($AI8),$AJ8<>\"\"),CF8,\"\"))","v":""},{"$f":"IF(ISNUMBER($W8),IF($AH8=FALSE,IF($W8<1000,IFERROR(VLOOKUP($W8,FeedLib[#All],CG$60,FALSE),\"\"),IFERROR(VLOOKUP($W8,FeedLibUser[#All],CG$60,FALSE),\"\")),CG8),IF(AND(ISNUMBER($AI8),$AJ8<>\"\"),CG8,\"\"))","v":""},{"$f":"IF(ISNUMBER($W8),IF($AH8=FALSE,IF($W8<1000,IFERROR(VLOOKUP($W8,FeedLib[#All],CH$60,FALSE),\"\"),IFERROR(VLOOKUP($W8,FeedLibUser[#All],CH$60,FALSE),\"\")),CH8),IF(AND(ISNUMBER($AI8),$AJ8<>\"\"),CH8,\"\"))","v":""},{"$f":"IF(ISNUMBER($W8),IF($AH8=FALSE,IF($W8<1000,IFERROR(VLOOKUP($W8,FeedLib[#All],CI$60,FALSE),\"\"),IFERROR(VLOOKUP($W8,FeedLibUser[#All],CI$60,FALSE),\"\")),CI8),IF(AND(ISNUMBER($AI8),$AJ8<>\"\"),CI8,\"\"))","v":""},{"$f":"IF(ISNUMBER($W8),IF($AH8=FALSE,IF($W8<1000,IFERROR(VLOOKUP($W8,FeedLib[#All],CJ$60,FALSE),\"\"),IFERROR(VLOOKUP($W8,FeedLibUser[#All],CJ$60,FALSE),\"\")),CJ8),IF(AND(ISNUMBER($AI8),$AJ8<>\"\"),CJ8,\"\"))","v":""},{"$f":"IF(ISNUMBER($W8),IF($AH8=FALSE,IF($W8<1000,IFERROR(VLOOKUP($W8,FeedLib[#All],CK$60,FALSE),\"\"),IFERROR(VLOOKUP($W8,FeedLibUser[#All],CK$60,FALSE),\"\")),CK8),IF(AND(ISNUMBER($AI8),$AJ8<>\"\"),CK8,\"\"))","v":""},{"$f":"IF(ISNUMBER($W8),IF($AH8=FALSE,IF($W8<1000,IFERROR(VLOOKUP($W8,FeedLib[#All],CL$60,FALSE),\"\"),IFERROR(VLOOKUP($W8,FeedLibUser[#All],CL$60,FALSE),\"\")),CL8),IF(AND(ISNUMBER($AI8),$AJ8<>\"\"),CL8,\"\"))","v":""},{"$f":"IF(ISNUMBER($W8),IF($AH8=FALSE,IF($W8<1000,IFERROR(VLOOKUP($W8,FeedLib[#All],CM$60,FALSE),\"\"),IFERROR(VLOOKUP($W8,FeedLibUser[#All],CM$60,FALSE),\"\")),CM8),IF(AND(ISNUMBER($AI8),$AJ8<>\"\"),CM8,\"\"))","v":""}]
[null,"   % Choice","Ch",null,6,{"$f":"IF(SUM($D$40:$D$44)<>100,\"––\",D42)","v":"––"},null,"The sum of Pr, Ch+, Ch, Ch-, and Se has to be 100%",null,31,"Tarentaise",1,1.2,{"$f":"33*IF(parmUnit=1,1,2.2046)","v":72.751800000000003},{"$f":"9*IF(parmUnit=1,1,2.2046)","v":19.8414},4,3.8,8.3000000000000007,0.6,null,null,null,null,null,null,null,null,null,null,null,null,null,null,null,"","",{"$f":"IF(ISNUMBER($W9),IF($AH9=FALSE,IF($W9<1000,IFERROR(VLOOKUP($W9,FeedLib[#All],AK$60,FALSE),\"\")*(IF(parmUnit=1,1,2000/2204.6)),IFERROR(VLOOKUP($W9,FeedLibUser[#All],AK$60,FALSE),\"\")*(IF(parmUnit=1,1,2000/2204.6))),AK9),IF(AND(ISNUMBER($AI9),$AJ9<>\"\"),AK9,\"\"))","v":""},{"$f":"IF(ISNUMBER($W9),IF($AH9=FALSE,IF($W9<1000,IFERROR(VLOOKUP($W9,FeedLib[#All],AL$60,FALSE),\"\"),IFERROR(VLOOKUP($W9,FeedLibUser[#All],AL$60,FALSE),\"\")),AL9),IF(AND(ISNUMBER($AI9),$AJ9<>\"\"),AL9,\"\"))","v":""},{"$f":"IF(ISNUMBER($W9),IF($AH9=FALSE,IF($W9<1000,IFERROR(VLOOKUP($W9,FeedLib[#All],AM$60,FALSE),\"\"),IFERROR(VLOOKUP($W9,FeedLibUser[#All],AM$60,FALSE),\"\")),AM9),IF(AND(ISNUMBER($AI9),$AJ9<>\"\"),AM9,\"\"))","v":""},{"$f":"IF(ISNUMBER($W9),IF($AH9=FALSE,IF($W9<1000,IFERROR(VLOOKUP($W9,FeedLib[#All],AN$60,FALSE),\"\"),IFERROR(VLOOKUP($W9,FeedLibUser[#All],AN$60,FALSE),\"\")),AN9),IF(AND(ISNUMBER($AI9),$AJ9<>\"\"),AN9,\"\"))","v":""},{"$f":"IF(ISNUMBER($W9),IF($AH9=FALSE,IF($W9<1000,IFERROR(VLOOKUP($W9,FeedLib[#All],AO$60,FALSE),\"\"),IFERROR(VLOOKUP($W9,FeedLibUser[#All],AO$60,FALSE),\"\")),AO9),IF(AND(ISNUMBER($AI9),$AJ9<>\"\"),AO9,\"\"))","v":""},{"$f":"IF(ISNUMBER($W9),IF($AH9=FALSE,IF($W9<1000,IFERROR(VLOOKUP($W9,FeedLib[#All],AP$60,FALSE),\"\"),IFERROR(VLOOKUP($W9,FeedLibUser[#All],AP$60,FALSE),\"\")),AP9),IF(AND(ISNUMBER($AI9),$AJ9<>\"\"),AP9,\"\"))","v":""},{"$f":"IF(ISNUMBER($W9),IF($AH9=FALSE,IF($W9<1000,IFERROR(VLOOKUP($W9,FeedLib[#All],AQ$60,FALSE),\"\"),IFERROR(VLOOKUP($W9,FeedLibUser[#All],AQ$60,FALSE),\"\")),AQ9),IF(AND(ISNUMBER($AI9),$AJ9<>\"\"),AQ9,\"\"))","v":""},{"$f":"IF(ISNUMBER($W9),IF($AH9=FALSE,IF($W9<1000,IFERROR(VLOOKUP($W9,FeedLib[#All],AR$60,FALSE),\"\"),IFERROR(VLOOKUP($W9,FeedLibUser[#All],AR$60,FALSE),\"\")),AR9),IF(AND(ISNUMBER($AI9),$AJ9<>\"\"),AR9,\"\"))","v":""},{"$f":"IF(ISNUMBER($W9),IF($AH9=FALSE,IF($W9<1000,IFERROR(VLOOKUP($W9,FeedLib[#All],AS$60,FALSE),\"\"),IFERROR(VLOOKUP($W9,FeedLibUser[#All],AS$60,FALSE),\"\")),AS9),IF(AND(ISNUMBER($AI9),$AJ9<>\"\"),AS9,\"\"))","v":""},{"$f":"IF(ISNUMBER($W9),IF($AH9=FALSE,IF($W9<1000,IFERROR(VLOOKUP($W9,FeedLib[#All],AT$60,FALSE),\"\"),IFERROR(VLOOKUP($W9,FeedLibUser[#All],AT$60,FALSE),\"\")),AT9),IF(AND(ISNUMBER($AI9),$AJ9<>\"\"),AT9,\"\"))","v":""},{"$f":"IF(ISNUMBER($W9),IF($AH9=FALSE,IF($W9<1000,IFERROR(VLOOKUP($W9,FeedLib[#All],AU$60,FALSE),\"\"),IFERROR(VLOOKUP($W9,FeedLibUser[#All],AU$60,FALSE),\"\")),AU9),IF(AND(ISNUMBER($AI9),$AJ9<>\"\"),AU9,\"\"))","v":""},{"$f":"IF(ISNUMBER($W9),IF($AH9=FALSE,IF($W9<1000,IFERROR(VLOOKUP($W9,FeedLib[#All],AV$60,FALSE),\"\"),IFERROR(VLOOKUP($W9,FeedLibUser[#All],AV$60,FALSE),\"\")),AV9),IF(AND(ISNUMBER($AI9),$AJ9<>\"\"),AV9,\"\"))","v":""},{"$f":"IF(ISNUMBER($W9),IF($AH9=FALSE,IF($W9<1000,IFERROR(VLOOKUP($W9,FeedLib[#All],AW$60,FALSE),\"\"),IFERROR(VLOOKUP($W9,FeedLibUser[#All],AW$60,FALSE),\"\")),AW9),IF(AND(ISNUMBER($AI9),$AJ9<>\"\"),AW9,\"\"))","v":""},{"$f":"IF(ISNUMBER($W9),IF($AH9=FALSE,IF($W9<1000,IFERROR(VLOOKUP($W9,FeedLib[#All],AX$60,FALSE),\"\"),IFERROR(VLOOKUP($W9,FeedLibUser[#All],AX$60,FALSE),\"\")),AX9),IF(AND(ISNUMBER($AI9),$AJ9<>\"\"),AX9,\"\"))","v":""},{"$f":"IF(ISNUMBER($W9),IF($AH9=FALSE,IF($W9<1000,IFERROR(VLOOKUP($W9,FeedLib[#All],AY$60,FALSE),\"\")/IF(parmUnit=1,1,2.2046),IFERROR(VLOOKUP($W9,FeedLibUser[#All],AY$60,FALSE),\"\")/IF(parmUnit=1,1,2.2046)),AY9),IF(AND(ISNUMBER($AI9),$AJ9<>\"\"),AY9,\"\"))","v":""},{"$f":"IF(ISNUMBER($W9),IF($AH9=FALSE,IF($W9<1000,IFERROR(VLOOKUP($W9,FeedLib[#All],AZ$60,FALSE),\"\")/IF(parmUnit=1,1,2.2046),IFERROR(VLOOKUP($W9,FeedLibUser[#All],AZ$60,FALSE),\"\")/IF(parmUnit=1,1,2.2046)),AZ9),IF(AND(ISNUMBER($AI9),$AJ9<>\"\"),AZ9,\"\"))","v":""},{"$f":"IF(ISNUMBER($W9),IF($AH9=FALSE,IF($W9<1000,IFERROR(VLOOKUP($W9,FeedLib[#All],BA$60,FALSE),\"\")/IF(parmUnit=1,1,2.2046),IFERROR(VLOOKUP($W9,FeedLibUser[#All],BA$60,FALSE),\"\")/IF(parmUnit=1,1,2.2046)),BA9),IF(AND(ISNUMBER($AI9),$AJ9<>\"\"),BA9,\"\"))","v":""},{"$f":"IF(ISNUMBER($W9),IF($AH9=FALSE,IF($W9<1000,IFERROR(VLOOKUP($W9,FeedLib[#All],BB$60,FALSE),\"\"),IFERROR(VLOOKUP($W9,FeedLibUser[#All],BB$60,FALSE),\"\")),BB9),IF(AND(ISNUMBER($AI9),$AJ9<>\"\"),BB9,\"\"))","v":""},{"$f":"IF(ISNUMBER($W9),IF($AH9=FALSE,IF($W9<1000,IFERROR(VLOOKUP($W9,FeedLib[#All],BC$60,FALSE),\"\"),IFERROR(VLOOKUP($W9,FeedLibUser[#All],BC$60,FALSE),\"\")),BC9),IF(AND(ISNUMBER($AI9),$AJ9<>\"\"),BC9,\"\"))","v":""},{"$f":"IF(ISNUMBER($W9),IF($AH9=FALSE,IF($W9<1000,IFERROR(VLOOKUP($W9,FeedLib[#All],BD$60,FALSE),\"\"),IFERROR(VLOOKUP($W9,FeedLibUser[#All],BD$60,FALSE),\"\")),BD9),IF(AND(ISNUMBER($AI9),$AJ9<>\"\"),BD9,\"\"))","v":""},{"$f":"IF(ISNUMBER($W9),IF($AH9=FALSE,IF($W9<1000,IFERROR(VLOOKUP($W9,FeedLib[#All],BE$60,FALSE),\"\"),IFERROR(VLOOKUP($W9,FeedLibUser[#All],BE$60,FALSE),\"\")),BE9),IF(AND(ISNUMBER($AI9),$AJ9<>\"\"),BE9,\"\"))","v":""},{"$f":"IF(ISNUMBER($W9),IF($AH9=FALSE,IF($W9<1000,IFERROR(VLOOKUP($W9,FeedLib[#All],BF$60,FALSE),\"\"),IFERROR(VLOOKUP($W9,FeedLibUser[#All],BF$60,FALSE),\"\")),BF9),IF(AND(ISNUMBER($AI9),$AJ9<>\"\"),BF9,\"\"))","v":""},{"$f":"IF(ISNUMBER($W9),IF($AH9=FALSE,IF($W9<1000,IFERROR(VLOOKUP($W9,FeedLib[#All],BG$60,FALSE),\"\"),IFERROR(VLOOKUP($W9,FeedLibUser[#All],BG$60,FALSE),\"\")),BG9),IF(AND(ISNUMBER($AI9),$AJ9<>\"\"),BG9,\"\"))","v":""},{"$f":"IF(ISNUMBER($W9),IF($AH9=FALSE,IF($W9<1000,IFERROR(VLOOKUP($W9,FeedLib[#All],BH$60,FALSE),\"\"),IFERROR(VLOOKUP($W9,FeedLibUser[#All],BH$60,FALSE),\"\")),BH9),IF(AND(ISNUMBER($AI9),$AJ9<>\"\"),BH9,\"\"))","v":""},{"$f":"IF(ISNUMBER($W9),IF($AH9=FALSE,IF($W9<1000,IFERROR(VLOOKUP($W9,FeedLib[#All],BI$60,FALSE),\"\"),IFERROR(VLOOKUP($W9,FeedLibUser[#All],BI$60,FALSE),\"\")),BI9),IF(AND(ISNUMBER($AI9),$AJ9<>\"\"),BI9,\"\"))","v":""},{"$f":"IF(ISNUMBER($W9),IF($AH9=FALSE,IF($W9<1000,IFERROR(VLOOKUP($W9,FeedLib[#All],BJ$60,FALSE),\"\"),IFERROR(VLOOKUP($W9,FeedLibUser[#All],BJ$60,FALSE),\"\")),BJ9),IF(AND(ISNUMBER($AI9),$AJ9<>\"\"),BJ9,\"\"))","v":""},{"$f":"IF(ISNUMBER($W9),IF($AH9=FALSE,IF($W9<1000,IFERROR(VLOOKUP($W9,FeedLib[#All],BK$60,FALSE),\"\"),IFERROR(VLOOKUP($W9,FeedLibUser[#All],BK$60,FALSE),\"\")),BK9),IF(AND(ISNUMBER($AI9),$AJ9<>\"\"),BK9,\"\"))","v":""},{"$f":"IF(ISNUMBER($W9),IF($AH9=FALSE,IF($W9<1000,IFERROR(VLOOKUP($W9,FeedLib[#All],BL$60,FALSE),\"\"),IFERROR(VLOOKUP($W9,FeedLibUser[#All],BL$60,FALSE),\"\")),BL9),IF(AND(ISNUMBER($AI9),$AJ9<>\"\"),BL9,\"\"))","v":""},{"$f":"IF(ISNUMBER($W9),IF($AH9=FALSE,IF($W9<1000,IFERROR(VLOOKUP($W9,FeedLib[#All],BM$60,FALSE),\"\"),IFERROR(VLOOKUP($W9,FeedLibUser[#All],BM$60,FALSE),\"\")),BM9),IF(AND(ISNUMBER($AI9),$AJ9<>\"\"),BM9,\"\"))","v":""},{"$f":"IF(ISNUMBER($W9),IF($AH9=FALSE,IF($W9<1000,IFERROR(VLOOKUP($W9,FeedLib[#All],BN$60,FALSE),\"\"),IFERROR(VLOOKUP($W9,FeedLibUser[#All],BN$60,FALSE),\"\")),BN9),IF(AND(ISNUMBER($AI9),$AJ9<>\"\"),BN9,\"\"))","v":""},{"$f":"IF(ISNUMBER($W9),IF($AH9=FALSE,IF($W9<1000,IFERROR(VLOOKUP($W9,FeedLib[#All],BO$60,FALSE),\"\"),IFERROR(VLOOKUP($W9,FeedLibUser[#All],BO$60,FALSE),\"\")),BO9),IF(AND(ISNUMBER($AI9),$AJ9<>\"\"),BO9,\"\"))","v":""},{"$f":"IF(ISNUMBER($W9),IF($AH9=FALSE,IF($W9<1000,IFERROR(VLOOKUP($W9,FeedLib[#All],BP$60,FALSE),\"\"),IFERROR(VLOOKUP($W9,FeedLibUser[#All],BP$60,FALSE),\"\")),BP9),IF(AND(ISNUMBER($AI9),$AJ9<>\"\"),BP9,\"\"))","v":""},{"$f":"IF(ISNUMBER($W9),IF($AH9=FALSE,IF($W9<1000,IFERROR(VLOOKUP($W9,FeedLib[#All],BQ$60,FALSE),\"\"),IFERROR(VLOOKUP($W9,FeedLibUser[#All],BQ$60,FALSE),\"\")),BQ9),IF(AND(ISNUMBER($AI9),$AJ9<>\"\"),BQ9,\"\"))","v":""},{"$f":"IF(ISNUMBER($W9),IF($AH9=FALSE,IF($W9<1000,IFERROR(VLOOKUP($W9,FeedLib[#All],BR$60,FALSE),\"\"),IFERROR(VLOOKUP($W9,FeedLibUser[#All],BR$60,FALSE),\"\")),BR9),IF(AND(ISNUMBER($AI9),$AJ9<>\"\"),BR9,\"\"))","v":""},{"$f":"IF(ISNUMBER($W9),IF($AH9=FALSE,IF($W9<1000,IFERROR(VLOOKUP($W9,FeedLib[#All],BS$60,FALSE),\"\"),IFERROR(VLOOKUP($W9,FeedLibUser[#All],BS$60,FALSE),\"\")),BS9),IF(AND(ISNUMBER($AI9),$AJ9<>\"\"),BS9,\"\"))","v":""},{"$f":"IF(ISNUMBER($W9),IF($AH9=FALSE,IF($W9<1000,IFERROR(VLOOKUP($W9,FeedLib[#All],BT$60,FALSE),\"\"),IFERROR(VLOOKUP($W9,FeedLibUser[#All],BT$60,FALSE),\"\")),BT9),IF(AND(ISNUMBER($AI9),$AJ9<>\"\"),BT9,\"\"))","v":""},{"$f":"IF(ISNUMBER($W9),IF($AH9=FALSE,IF($W9<1000,IFERROR(VLOOKUP($W9,FeedLib[#All],BU$60,FALSE),\"\"),IFERROR(VLOOKUP($W9,FeedLibUser[#All],BU$60,FALSE),\"\")),BU9),IF(AND(ISNUMBER($AI9),$AJ9<>\"\"),BU9,\"\"))","v":""},{"$f":"IF(ISNUMBER($W9),IF($AH9=FALSE,IF($W9<1000,IFERROR(VLOOKUP($W9,FeedLib[#All],BV$60,FALSE),\"\"),IFERROR(VLOOKUP($W9,FeedLibUser[#All],BV$60,FALSE),\"\")),BV9),IF(AND(ISNUMBER($AI9),$AJ9<>\"\"),BV9,\"\"))","v":""},{"$f":"IF(ISNUMBER($W9),IF($AH9=FALSE,IF($W9<1000,IFERROR(VLOOKUP($W9,FeedLib[#All],BW$60,FALSE),\"\"),IFERROR(VLOOKUP($W9,FeedLibUser[#All],BW$60,FALSE),\"\")),BW9),IF(AND(ISNUMBER($AI9),$AJ9<>\"\"),BW9,\"\"))","v":""},{"$f":"IF(ISNUMBER($W9),IF($AH9=FALSE,IF($W9<1000,IFERROR(VLOOKUP($W9,FeedLib[#All],BX$60,FALSE),\"\"),IFERROR(VLOOKUP($W9,FeedLibUser[#All],BX$60,FALSE),\"\")),BX9),IF(AND(ISNUMBER($AI9),$AJ9<>\"\"),BX9,\"\"))","v":""},{"$f":"IF(ISNUMBER($W9),IF($AH9=FALSE,IF($W9<1000,IFERROR(VLOOKUP($W9,FeedLib[#All],BY$60,FALSE),\"\"),IFERROR(VLOOKUP($W9,FeedLibUser[#All],BY$60,FALSE),\"\")),BY9),IF(AND(ISNUMBER($AI9),$AJ9<>\"\"),BY9,\"\"))","v":""},{"$f":"IF(ISNUMBER($W9),IF($AH9=FALSE,IF($W9<1000,IFERROR(VLOOKUP($W9,FeedLib[#All],BZ$60,FALSE),\"\"),IFERROR(VLOOKUP($W9,FeedLibUser[#All],BZ$60,FALSE),\"\")),BZ9),IF(AND(ISNUMBER($AI9),$AJ9<>\"\"),BZ9,\"\"))","v":""},{"$f":"IF(ISNUMBER($W9),IF($AH9=FALSE,IF($W9<1000,IFERROR(VLOOKUP($W9,FeedLib[#All],CA$60,FALSE),\"\"),IFERROR(VLOOKUP($W9,FeedLibUser[#All],CA$60,FALSE),\"\")),CA9),IF(AND(ISNUMBER($AI9),$AJ9<>\"\"),CA9,\"\"))","v":""},{"$f":"IF(ISNUMBER($W9),IF($AH9=FALSE,IF($W9<1000,IFERROR(VLOOKUP($W9,FeedLib[#All],CB$60,FALSE),\"\"),IFERROR(VLOOKUP($W9,FeedLibUser[#All],CB$60,FALSE),\"\")),CB9),IF(AND(ISNUMBER($AI9),$AJ9<>\"\"),CB9,\"\"))","v":""},{"$f":"IF(ISNUMBER($W9),IF($AH9=FALSE,IF($W9<1000,IFERROR(VLOOKUP($W9,FeedLib[#All],CC$60,FALSE),\"\"),IFERROR(VLOOKUP($W9,FeedLibUser[#All],CC$60,FALSE),\"\")),CC9),IF(AND(ISNUMBER($AI9),$AJ9<>\"\"),CC9,\"\"))","v":""},{"$f":"IF(ISNUMBER($W9),IF($AH9=FALSE,IF($W9<1000,IFERROR(VLOOKUP($W9,FeedLib[#All],CD$60,FALSE),\"\"),IFERROR(VLOOKUP($W9,FeedLibUser[#All],CD$60,FALSE),\"\")),CD9),IF(AND(ISNUMBER($AI9),$AJ9<>\"\"),CD9,\"\"))","v":""},{"$f":"IF(ISNUMBER($W9),IF($AH9=FALSE,IF($W9<1000,IFERROR(VLOOKUP($W9,FeedLib[#All],CE$60,FALSE),\"\"),IFERROR(VLOOKUP($W9,FeedLibUser[#All],CE$60,FALSE),\"\")),CE9),IF(AND(ISNUMBER($AI9),$AJ9<>\"\"),CE9,\"\"))","v":""},{"$f":"IF(ISNUMBER($W9),IF($AH9=FALSE,IF($W9<1000,IFERROR(VLOOKUP($W9,FeedLib[#All],CF$60,FALSE),\"\"),IFERROR(VLOOKUP($W9,FeedLibUser[#All],CF$60,FALSE),\"\")),CF9),IF(AND(ISNUMBER($AI9),$AJ9<>\"\"),CF9,\"\"))","v":""},{"$f":"IF(ISNUMBER($W9),IF($AH9=FALSE,IF($W9<1000,IFERROR(VLOOKUP($W9,FeedLib[#All],CG$60,FALSE),\"\"),IFERROR(VLOOKUP($W9,FeedLibUser[#All],CG$60,FALSE),\"\")),CG9),IF(AND(ISNUMBER($AI9),$AJ9<>\"\"),CG9,\"\"))","v":""},{"$f":"IF(ISNUMBER($W9),IF($AH9=FALSE,IF($W9<1000,IFERROR(VLOOKUP($W9,FeedLib[#All],CH$60,FALSE),\"\"),IFERROR(VLOOKUP($W9,FeedLibUser[#All],CH$60,FALSE),\"\")),CH9),IF(AND(ISNUMBER($AI9),$AJ9<>\"\"),CH9,\"\"))","v":""},{"$f":"IF(ISNUMBER($W9),IF($AH9=FALSE,IF($W9<1000,IFERROR(VLOOKUP($W9,FeedLib[#All],CI$60,FALSE),\"\"),IFERROR(VLOOKUP($W9,FeedLibUser[#All],CI$60,FALSE),\"\")),CI9),IF(AND(ISNUMBER($AI9),$AJ9<>\"\"),CI9,\"\"))","v":""},{"$f":"IF(ISNUMBER($W9),IF($AH9=FALSE,IF($W9<1000,IFERROR(VLOOKUP($W9,FeedLib[#All],CJ$60,FALSE),\"\"),IFERROR(VLOOKUP($W9,FeedLibUser[#All],CJ$60,FALSE),\"\")),CJ9),IF(AND(ISNUMBER($AI9),$AJ9<>\"\"),CJ9,\"\"))","v":""},{"$f":"IF(ISNUMBER($W9),IF($AH9=FALSE,IF($W9<1000,IFERROR(VLOOKUP($W9,FeedLib[#All],CK$60,FALSE),\"\"),IFERROR(VLOOKUP($W9,FeedLibUser[#All],CK$60,FALSE),\"\")),CK9),IF(AND(ISNUMBER($AI9),$AJ9<>\"\"),CK9,\"\"))","v":""},{"$f":"IF(ISNUMBER($W9),IF($AH9=FALSE,IF($W9<1000,IFERROR(VLOOKUP($W9,FeedLib[#All],CL$60,FALSE),\"\"),IFERROR(VLOOKUP($W9,FeedLibUser[#All],CL$60,FALSE),\"\")),CL9),IF(AND(ISNUMBER($AI9),$AJ9<>\"\"),CL9,\"\"))","v":""},{"$f":"IF(ISNUMBER($W9),IF($AH9=FALSE,IF($W9<1000,IFERROR(VLOOKUP($W9,FeedLib[#All],CM$60,FALSE),\"\"),IFERROR(VLOOKUP($W9,FeedLibUser[#All],CM$60,FALSE),\"\")),CM9),IF(AND(ISNUMBER($AI9),$AJ9<>\"\"),CM9,\"\"))","v":""}]
[null,"   % low Choice","Ch-",null,5,{"$f":"IF(SUM($D$40:$D$44)<>100,\"––\",D43)","v":"––"},null,"The sum of Pr, Ch+, Ch, Ch-, and Se has to be 100%",null,null,null,null,null,null,null,null,null,null,null,null,null,null,null,null,null,null,null,null,null,null,null,null,null,null,"","",{"$f":"IF(ISNUMBER($W10),IF($AH10=FALSE,IF($W10<1000,IFERROR(VLOOKUP($W10,FeedLib[#All],AK$60,FALSE),\"\")*(IF(parmUnit=1,1,2000/2204.6)),IFERROR(VLOOKUP($W10,FeedLibUser[#All],AK$60,FALSE),\"\")*(IF(parmUnit=1,1,2000/2204.6))),AK10),IF(AND(ISNUMBER($AI10),$AJ10<>\"\"),AK10,\"\"))","v":""},{"$f":"IF(ISNUMBER($W10),IF($AH10=FALSE,IF($W10<1000,IFERROR(VLOOKUP($W10,FeedLib[#All],AL$60,FALSE),\"\"),IFERROR(VLOOKUP($W10,FeedLibUser[#All],AL$60,FALSE),\"\")),AL10),IF(AND(ISNUMBER($AI10),$AJ10<>\"\"),AL10,\"\"))","v":""},{"$f":"IF(ISNUMBER($W10),IF($AH10=FALSE,IF($W10<1000,IFERROR(VLOOKUP($W10,FeedLib[#All],AM$60,FALSE),\"\"),IFERROR(VLOOKUP($W10,FeedLibUser[#All],AM$60,FALSE),\"\")),AM10),IF(AND(ISNUMBER($AI10),$AJ10<>\"\"),AM10,\"\"))","v":""},{"$f":"IF(ISNUMBER($W10),IF($AH10=FALSE,IF($W10<1000,IFERROR(VLOOKUP($W10,FeedLib[#All],AN$60,FALSE),\"\"),IFERROR(VLOOKUP($W10,FeedLibUser[#All],AN$60,FALSE),\"\")),AN10),IF(AND(ISNUMBER($AI10),$AJ10<>\"\"),AN10,\"\"))","v":""},{"$f":"IF(ISNUMBER($W10),IF($AH10=FALSE,IF($W10<1000,IFERROR(VLOOKUP($W10,FeedLib[#All],AO$60,FALSE),\"\"),IFERROR(VLOOKUP($W10,FeedLibUser[#All],AO$60,FALSE),\"\")),AO10),IF(AND(ISNUMBER($AI10),$AJ10<>\"\"),AO10,\"\"))","v":""},{"$f":"IF(ISNUMBER($W10),IF($AH10=FALSE,IF($W10<1000,IFERROR(VLOOKUP($W10,FeedLib[#All],AP$60,FALSE),\"\"),IFERROR(VLOOKUP($W10,FeedLibUser[#All],AP$60,FALSE),\"\")),AP10),IF(AND(ISNUMBER($AI10),$AJ10<>\"\"),AP10,\"\"))","v":""},{"$f":"IF(ISNUMBER($W10),IF($AH10=FALSE,IF($W10<1000,IFERROR(VLOOKUP($W10,FeedLib[#All],AQ$60,FALSE),\"\"),IFERROR(VLOOKUP($W10,FeedLibUser[#All],AQ$60,FALSE),\"\")),AQ10),IF(AND(ISNUMBER($AI10),$AJ10<>\"\"),AQ10,\"\"))","v":""},{"$f":"IF(ISNUMBER($W10),IF($AH10=FALSE,IF($W10<1000,IFERROR(VLOOKUP($W10,FeedLib[#All],AR$60,FALSE),\"\"),IFERROR(VLOOKUP($W10,FeedLibUser[#All],AR$60,FALSE),\"\")),AR10),IF(AND(ISNUMBER($AI10),$AJ10<>\"\"),AR10,\"\"))","v":""},{"$f":"IF(ISNUMBER($W10),IF($AH10=FALSE,IF($W10<1000,IFERROR(VLOOKUP($W10,FeedLib[#All],AS$60,FALSE),\"\"),IFERROR(VLOOKUP($W10,FeedLibUser[#All],AS$60,FALSE),\"\")),AS10),IF(AND(ISNUMBER($AI10),$AJ10<>\"\"),AS10,\"\"))","v":""},{"$f":"IF(ISNUMBER($W10),IF($AH10=FALSE,IF($W10<1000,IFERROR(VLOOKUP($W10,FeedLib[#All],AT$60,FALSE),\"\"),IFERROR(VLOOKUP($W10,FeedLibUser[#All],AT$60,FALSE),\"\")),AT10),IF(AND(ISNUMBER($AI10),$AJ10<>\"\"),AT10,\"\"))","v":""},{"$f":"IF(ISNUMBER($W10),IF($AH10=FALSE,IF($W10<1000,IFERROR(VLOOKUP($W10,FeedLib[#All],AU$60,FALSE),\"\"),IFERROR(VLOOKUP($W10,FeedLibUser[#All],AU$60,FALSE),\"\")),AU10),IF(AND(ISNUMBER($AI10),$AJ10<>\"\"),AU10,\"\"))","v":""},{"$f":"IF(ISNUMBER($W10),IF($AH10=FALSE,IF($W10<1000,IFERROR(VLOOKUP($W10,FeedLib[#All],AV$60,FALSE),\"\"),IFERROR(VLOOKUP($W10,FeedLibUser[#All],AV$60,FALSE),\"\")),AV10),IF(AND(ISNUMBER($AI10),$AJ10<>\"\"),AV10,\"\"))","v":""},{"$f":"IF(ISNUMBER($W10),IF($AH10=FALSE,IF($W10<1000,IFERROR(VLOOKUP($W10,FeedLib[#All],AW$60,FALSE),\"\"),IFERROR(VLOOKUP($W10,FeedLibUser[#All],AW$60,FALSE),\"\")),AW10),IF(AND(ISNUMBER($AI10),$AJ10<>\"\"),AW10,\"\"))","v":""},{"$f":"IF(ISNUMBER($W10),IF($AH10=FALSE,IF($W10<1000,IFERROR(VLOOKUP($W10,FeedLib[#All],AX$60,FALSE),\"\"),IFERROR(VLOOKUP($W10,FeedLibUser[#All],AX$60,FALSE),\"\")),AX10),IF(AND(ISNUMBER($AI10),$AJ10<>\"\"),AX10,\"\"))","v":""},{"$f":"IF(ISNUMBER($W10),IF($AH10=FALSE,IF($W10<1000,IFERROR(VLOOKUP($W10,FeedLib[#All],AY$60,FALSE),\"\")/IF(parmUnit=1,1,2.2046),IFERROR(VLOOKUP($W10,FeedLibUser[#All],AY$60,FALSE),\"\")/IF(parmUnit=1,1,2.2046)),AY10),IF(AND(ISNUMBER($AI10),$AJ10<>\"\"),AY10,\"\"))","v":""},{"$f":"IF(ISNUMBER($W10),IF($AH10=FALSE,IF($W10<1000,IFERROR(VLOOKUP($W10,FeedLib[#All],AZ$60,FALSE),\"\")/IF(parmUnit=1,1,2.2046),IFERROR(VLOOKUP($W10,FeedLibUser[#All],AZ$60,FALSE),\"\")/IF(parmUnit=1,1,2.2046)),AZ10),IF(AND(ISNUMBER($AI10),$AJ10<>\"\"),AZ10,\"\"))","v":""},{"$f":"IF(ISNUMBER($W10),IF($AH10=FALSE,IF($W10<1000,IFERROR(VLOOKUP($W10,FeedLib[#All],BA$60,FALSE),\"\")/IF(parmUnit=1,1,2.2046),IFERROR(VLOOKUP($W10,FeedLibUser[#All],BA$60,FALSE),\"\")/IF(parmUnit=1,1,2.2046)),BA10),IF(AND(ISNUMBER($AI10),$AJ10<>\"\"),BA10,\"\"))","v":""},{"$f":"IF(ISNUMBER($W10),IF($AH10=FALSE,IF($W10<1000,IFERROR(VLOOKUP($W10,FeedLib[#All],BB$60,FALSE),\"\"),IFERROR(VLOOKUP($W10,FeedLibUser[#All],BB$60,FALSE),\"\")),BB10),IF(AND(ISNUMBER($AI10),$AJ10<>\"\"),BB10,\"\"))","v":""},{"$f":"IF(ISNUMBER($W10),IF($AH10=FALSE,IF($W10<1000,IFERROR(VLOOKUP($W10,FeedLib[#All],BC$60,FALSE),\"\"),IFERROR(VLOOKUP($W10,FeedLibUser[#All],BC$60,FALSE),\"\")),BC10),IF(AND(ISNUMBER($AI10),$AJ10<>\"\"),BC10,\"\"))","v":""},{"$f":"IF(ISNUMBER($W10),IF($AH10=FALSE,IF($W10<1000,IFERROR(VLOOKUP($W10,FeedLib[#All],BD$60,FALSE),\"\"),IFERROR(VLOOKUP($W10,FeedLibUser[#All],BD$60,FALSE),\"\")),BD10),IF(AND(ISNUMBER($AI10),$AJ10<>\"\"),BD10,\"\"))","v":""},{"$f":"IF(ISNUMBER($W10),IF($AH10=FALSE,IF($W10<1000,IFERROR(VLOOKUP($W10,FeedLib[#All],BE$60,FALSE),\"\"),IFERROR(VLOOKUP($W10,FeedLibUser[#All],BE$60,FALSE),\"\")),BE10),IF(AND(ISNUMBER($AI10),$AJ10<>\"\"),BE10,\"\"))","v":""},{"$f":"IF(ISNUMBER($W10),IF($AH10=FALSE,IF($W10<1000,IFERROR(VLOOKUP($W10,FeedLib[#All],BF$60,FALSE),\"\"),IFERROR(VLOOKUP($W10,FeedLibUser[#All],BF$60,FALSE),\"\")),BF10),IF(AND(ISNUMBER($AI10),$AJ10<>\"\"),BF10,\"\"))","v":""},{"$f":"IF(ISNUMBER($W10),IF($AH10=FALSE,IF($W10<1000,IFERROR(VLOOKUP($W10,FeedLib[#All],BG$60,FALSE),\"\"),IFERROR(VLOOKUP($W10,FeedLibUser[#All],BG$60,FALSE),\"\")),BG10),IF(AND(ISNUMBER($AI10),$AJ10<>\"\"),BG10,\"\"))","v":""},{"$f":"IF(ISNUMBER($W10),IF($AH10=FALSE,IF($W10<1000,IFERROR(VLOOKUP($W10,FeedLib[#All],BH$60,FALSE),\"\"),IFERROR(VLOOKUP($W10,FeedLibUser[#All],BH$60,FALSE),\"\")),BH10),IF(AND(ISNUMBER($AI10),$AJ10<>\"\"),BH10,\"\"))","v":""},{"$f":"IF(ISNUMBER($W10),IF($AH10=FALSE,IF($W10<1000,IFERROR(VLOOKUP($W10,FeedLib[#All],BI$60,FALSE),\"\"),IFERROR(VLOOKUP($W10,FeedLibUser[#All],BI$60,FALSE),\"\")),BI10),IF(AND(ISNUMBER($AI10),$AJ10<>\"\"),BI10,\"\"))","v":""},{"$f":"IF(ISNUMBER($W10),IF($AH10=FALSE,IF($W10<1000,IFERROR(VLOOKUP($W10,FeedLib[#All],BJ$60,FALSE),\"\"),IFERROR(VLOOKUP($W10,FeedLibUser[#All],BJ$60,FALSE),\"\")),BJ10),IF(AND(ISNUMBER($AI10),$AJ10<>\"\"),BJ10,\"\"))","v":""},{"$f":"IF(ISNUMBER($W10),IF($AH10=FALSE,IF($W10<1000,IFERROR(VLOOKUP($W10,FeedLib[#All],BK$60,FALSE),\"\"),IFERROR(VLOOKUP($W10,FeedLibUser[#All],BK$60,FALSE),\"\")),BK10),IF(AND(ISNUMBER($AI10),$AJ10<>\"\"),BK10,\"\"))","v":""},{"$f":"IF(ISNUMBER($W10),IF($AH10=FALSE,IF($W10<1000,IFERROR(VLOOKUP($W10,FeedLib[#All],BL$60,FALSE),\"\"),IFERROR(VLOOKUP($W10,FeedLibUser[#All],BL$60,FALSE),\"\")),BL10),IF(AND(ISNUMBER($AI10),$AJ10<>\"\"),BL10,\"\"))","v":""},{"$f":"IF(ISNUMBER($W10),IF($AH10=FALSE,IF($W10<1000,IFERROR(VLOOKUP($W10,FeedLib[#All],BM$60,FALSE),\"\"),IFERROR(VLOOKUP($W10,FeedLibUser[#All],BM$60,FALSE),\"\")),BM10),IF(AND(ISNUMBER($AI10),$AJ10<>\"\"),BM10,\"\"))","v":""},{"$f":"IF(ISNUMBER($W10),IF($AH10=FALSE,IF($W10<1000,IFERROR(VLOOKUP($W10,FeedLib[#All],BN$60,FALSE),\"\"),IFERROR(VLOOKUP($W10,FeedLibUser[#All],BN$60,FALSE),\"\")),BN10),IF(AND(ISNUMBER($AI10),$AJ10<>\"\"),BN10,\"\"))","v":""},{"$f":"IF(ISNUMBER($W10),IF($AH10=FALSE,IF($W10<1000,IFERROR(VLOOKUP($W10,FeedLib[#All],BO$60,FALSE),\"\"),IFERROR(VLOOKUP($W10,FeedLibUser[#All],BO$60,FALSE),\"\")),BO10),IF(AND(ISNUMBER($AI10),$AJ10<>\"\"),BO10,\"\"))","v":""},{"$f":"IF(ISNUMBER($W10),IF($AH10=FALSE,IF($W10<1000,IFERROR(VLOOKUP($W10,FeedLib[#All],BP$60,FALSE),\"\"),IFERROR(VLOOKUP($W10,FeedLibUser[#All],BP$60,FALSE),\"\")),BP10),IF(AND(ISNUMBER($AI10),$AJ10<>\"\"),BP10,\"\"))","v":""},{"$f":"IF(ISNUMBER($W10),IF($AH10=FALSE,IF($W10<1000,IFERROR(VLOOKUP($W10,FeedLib[#All],BQ$60,FALSE),\"\"),IFERROR(VLOOKUP($W10,FeedLibUser[#All],BQ$60,FALSE),\"\")),BQ10),IF(AND(ISNUMBER($AI10),$AJ10<>\"\"),BQ10,\"\"))","v":""},{"$f":"IF(ISNUMBER($W10),IF($AH10=FALSE,IF($W10<1000,IFERROR(VLOOKUP($W10,FeedLib[#All],BR$60,FALSE),\"\"),IFERROR(VLOOKUP($W10,FeedLibUser[#All],BR$60,FALSE),\"\")),BR10),IF(AND(ISNUMBER($AI10),$AJ10<>\"\"),BR10,\"\"))","v":""},{"$f":"IF(ISNUMBER($W10),IF($AH10=FALSE,IF($W10<1000,IFERROR(VLOOKUP($W10,FeedLib[#All],BS$60,FALSE),\"\"),IFERROR(VLOOKUP($W10,FeedLibUser[#All],BS$60,FALSE),\"\")),BS10),IF(AND(ISNUMBER($AI10),$AJ10<>\"\"),BS10,\"\"))","v":""},{"$f":"IF(ISNUMBER($W10),IF($AH10=FALSE,IF($W10<1000,IFERROR(VLOOKUP($W10,FeedLib[#All],BT$60,FALSE),\"\"),IFERROR(VLOOKUP($W10,FeedLibUser[#All],BT$60,FALSE),\"\")),BT10),IF(AND(ISNUMBER($AI10),$AJ10<>\"\"),BT10,\"\"))","v":""},{"$f":"IF(ISNUMBER($W10),IF($AH10=FALSE,IF($W10<1000,IFERROR(VLOOKUP($W10,FeedLib[#All],BU$60,FALSE),\"\"),IFERROR(VLOOKUP($W10,FeedLibUser[#All],BU$60,FALSE),\"\")),BU10),IF(AND(ISNUMBER($AI10),$AJ10<>\"\"),BU10,\"\"))","v":""},{"$f":"IF(ISNUMBER($W10),IF($AH10=FALSE,IF($W10<1000,IFERROR(VLOOKUP($W10,FeedLib[#All],BV$60,FALSE),\"\"),IFERROR(VLOOKUP($W10,FeedLibUser[#All],BV$60,FALSE),\"\")),BV10),IF(AND(ISNUMBER($AI10),$AJ10<>\"\"),BV10,\"\"))","v":""},{"$f":"IF(ISNUMBER($W10),IF($AH10=FALSE,IF($W10<1000,IFERROR(VLOOKUP($W10,FeedLib[#All],BW$60,FALSE),\"\"),IFERROR(VLOOKUP($W10,FeedLibUser[#All],BW$60,FALSE),\"\")),BW10),IF(AND(ISNUMBER($AI10),$AJ10<>\"\"),BW10,\"\"))","v":""},{"$f":"IF(ISNUMBER($W10),IF($AH10=FALSE,IF($W10<1000,IFERROR(VLOOKUP($W10,FeedLib[#All],BX$60,FALSE),\"\"),IFERROR(VLOOKUP($W10,FeedLibUser[#All],BX$60,FALSE),\"\")),BX10),IF(AND(ISNUMBER($AI10),$AJ10<>\"\"),BX10,\"\"))","v":""},{"$f":"IF(ISNUMBER($W10),IF($AH10=FALSE,IF($W10<1000,IFERROR(VLOOKUP($W10,FeedLib[#All],BY$60,FALSE),\"\"),IFERROR(VLOOKUP($W10,FeedLibUser[#All],BY$60,FALSE),\"\")),BY10),IF(AND(ISNUMBER($AI10),$AJ10<>\"\"),BY10,\"\"))","v":""},{"$f":"IF(ISNUMBER($W10),IF($AH10=FALSE,IF($W10<1000,IFERROR(VLOOKUP($W10,FeedLib[#All],BZ$60,FALSE),\"\"),IFERROR(VLOOKUP($W10,FeedLibUser[#All],BZ$60,FALSE),\"\")),BZ10),IF(AND(ISNUMBER($AI10),$AJ10<>\"\"),BZ10,\"\"))","v":""},{"$f":"IF(ISNUMBER($W10),IF($AH10=FALSE,IF($W10<1000,IFERROR(VLOOKUP($W10,FeedLib[#All],CA$60,FALSE),\"\"),IFERROR(VLOOKUP($W10,FeedLibUser[#All],CA$60,FALSE),\"\")),CA10),IF(AND(ISNUMBER($AI10),$AJ10<>\"\"),CA10,\"\"))","v":""},{"$f":"IF(ISNUMBER($W10),IF($AH10=FALSE,IF($W10<1000,IFERROR(VLOOKUP($W10,FeedLib[#All],CB$60,FALSE),\"\"),IFERROR(VLOOKUP($W10,FeedLibUser[#All],CB$60,FALSE),\"\")),CB10),IF(AND(ISNUMBER($AI10),$AJ10<>\"\"),CB10,\"\"))","v":""},{"$f":"IF(ISNUMBER($W10),IF($AH10=FALSE,IF($W10<1000,IFERROR(VLOOKUP($W10,FeedLib[#All],CC$60,FALSE),\"\"),IFERROR(VLOOKUP($W10,FeedLibUser[#All],CC$60,FALSE),\"\")),CC10),IF(AND(ISNUMBER($AI10),$AJ10<>\"\"),CC10,\"\"))","v":""},{"$f":"IF(ISNUMBER($W10),IF($AH10=FALSE,IF($W10<1000,IFERROR(VLOOKUP($W10,FeedLib[#All],CD$60,FALSE),\"\"),IFERROR(VLOOKUP($W10,FeedLibUser[#All],CD$60,FALSE),\"\")),CD10),IF(AND(ISNUMBER($AI10),$AJ10<>\"\"),CD10,\"\"))","v":""},{"$f":"IF(ISNUMBER($W10),IF($AH10=FALSE,IF($W10<1000,IFERROR(VLOOKUP($W10,FeedLib[#All],CE$60,FALSE),\"\"),IFERROR(VLOOKUP($W10,FeedLibUser[#All],CE$60,FALSE),\"\")),CE10),IF(AND(ISNUMBER($AI10),$AJ10<>\"\"),CE10,\"\"))","v":""},{"$f":"IF(ISNUMBER($W10),IF($AH10=FALSE,IF($W10<1000,IFERROR(VLOOKUP($W10,FeedLib[#All],CF$60,FALSE),\"\"),IFERROR(VLOOKUP($W10,FeedLibUser[#All],CF$60,FALSE),\"\")),CF10),IF(AND(ISNUMBER($AI10),$AJ10<>\"\"),CF10,\"\"))","v":""},{"$f":"IF(ISNUMBER($W10),IF($AH10=FALSE,IF($W10<1000,IFERROR(VLOOKUP($W10,FeedLib[#All],CG$60,FALSE),\"\"),IFERROR(VLOOKUP($W10,FeedLibUser[#All],CG$60,FALSE),\"\")),CG10),IF(AND(ISNUMBER($AI10),$AJ10<>\"\"),CG10,\"\"))","v":""},{"$f":"IF(ISNUMBER($W10),IF($AH10=FALSE,IF($W10<1000,IFERROR(VLOOKUP($W10,FeedLib[#All],CH$60,FALSE),\"\"),IFERROR(VLOOKUP($W10,FeedLibUser[#All],CH$60,FALSE),\"\")),CH10),IF(AND(ISNUMBER($AI10),$AJ10<>\"\"),CH10,\"\"))","v":""},{"$f":"IF(ISNUMBER($W10),IF($AH10=FALSE,IF($W10<1000,IFERROR(VLOOKUP($W10,FeedLib[#All],CI$60,FALSE),\"\"),IFERROR(VLOOKUP($W10,FeedLibUser[#All],CI$60,FALSE),\"\")),CI10),IF(AND(ISNUMBER($AI10),$AJ10<>\"\"),CI10,\"\"))","v":""},{"$f":"IF(ISNUMBER($W10),IF($AH10=FALSE,IF($W10<1000,IFERROR(VLOOKUP($W10,FeedLib[#All],CJ$60,FALSE),\"\"),IFERROR(VLOOKUP($W10,FeedLibUser[#All],CJ$60,FALSE),\"\")),CJ10),IF(AND(ISNUMBER($AI10),$AJ10<>\"\"),CJ10,\"\"))","v":""},{"$f":"IF(ISNUMBER($W10),IF($AH10=FALSE,IF($W10<1000,IFERROR(VLOOKUP($W10,FeedLib[#All],CK$60,FALSE),\"\"),IFERROR(VLOOKUP($W10,FeedLibUser[#All],CK$60,FALSE),\"\")),CK10),IF(AND(ISNUMBER($AI10),$AJ10<>\"\"),CK10,\"\"))","v":""},{"$f":"IF(ISNUMBER($W10),IF($AH10=FALSE,IF($W10<1000,IFERROR(VLOOKUP($W10,FeedLib[#All],CL$60,FALSE),\"\"),IFERROR(VLOOKUP($W10,FeedLibUser[#All],CL$60,FALSE),\"\")),CL10),IF(AND(ISNUMBER($AI10),$AJ10<>\"\"),CL10,\"\"))","v":""},{"$f":"IF(ISNUMBER($W10),IF($AH10=FALSE,IF($W10<1000,IFERROR(VLOOKUP($W10,FeedLib[#All],CM$60,FALSE),\"\"),IFERROR(VLOOKUP($W10,FeedLibUser[#All],CM$60,FALSE),\"\")),CM10),IF(AND(ISNUMBER($AI10),$AJ10<>\"\"),CM10,\"\"))","v":""}]
[null,"   % Select","Se",null,4,{"$f":"IF(SUM($D$40:$D$44)<>100,\"––\",D44)","v":"––"},null,"The sum of Pr, Ch+, Ch, Ch-, and Se has to be 100%",null,"Breeding System",null,3,4,5,6,7,8,9,10,null,null,null,null,null,null,null,null,null,null,null,null,null,null,null,"","",{"$f":"IF(ISNUMBER($W11),IF($AH11=FALSE,IF($W11<1000,IFERROR(VLOOKUP($W11,FeedLib[#All],AK$60,FALSE),\"\")*(IF(parmUnit=1,1,2000/2204.6)),IFERROR(VLOOKUP($W11,FeedLibUser[#All],AK$60,FALSE),\"\")*(IF(parmUnit=1,1,2000/2204.6))),AK11),IF(AND(ISNUMBER($AI11),$AJ11<>\"\"),AK11,\"\"))","v":""},{"$f":"IF(ISNUMBER($W11),IF($AH11=FALSE,IF($W11<1000,IFERROR(VLOOKUP($W11,FeedLib[#All],AL$60,FALSE),\"\"),IFERROR(VLOOKUP($W11,FeedLibUser[#All],AL$60,FALSE),\"\")),AL11),IF(AND(ISNUMBER($AI11),$AJ11<>\"\"),AL11,\"\"))","v":""},{"$f":"IF(ISNUMBER($W11),IF($AH11=FALSE,IF($W11<1000,IFERROR(VLOOKUP($W11,FeedLib[#All],AM$60,FALSE),\"\"),IFERROR(VLOOKUP($W11,FeedLibUser[#All],AM$60,FALSE),\"\")),AM11),IF(AND(ISNUMBER($AI11),$AJ11<>\"\"),AM11,\"\"))","v":""},{"$f":"IF(ISNUMBER($W11),IF($AH11=FALSE,IF($W11<1000,IFERROR(VLOOKUP($W11,FeedLib[#All],AN$60,FALSE),\"\"),IFERROR(VLOOKUP($W11,FeedLibUser[#All],AN$60,FALSE),\"\")),AN11),IF(AND(ISNUMBER($AI11),$AJ11<>\"\"),AN11,\"\"))","v":""},{"$f":"IF(ISNUMBER($W11),IF($AH11=FALSE,IF($W11<1000,IFERROR(VLOOKUP($W11,FeedLib[#All],AO$60,FALSE),\"\"),IFERROR(VLOOKUP($W11,FeedLibUser[#All],AO$60,FALSE),\"\")),AO11),IF(AND(ISNUMBER($AI11),$AJ11<>\"\"),AO11,\"\"))","v":""},{"$f":"IF(ISNUMBER($W11),IF($AH11=FALSE,IF($W11<1000,IFERROR(VLOOKUP($W11,FeedLib[#All],AP$60,FALSE),\"\"),IFERROR(VLOOKUP($W11,FeedLibUser[#All],AP$60,FALSE),\"\")),AP11),IF(AND(ISNUMBER($AI11),$AJ11<>\"\"),AP11,\"\"))","v":""},{"$f":"IF(ISNUMBER($W11),IF($AH11=FALSE,IF($W11<1000,IFERROR(VLOOKUP($W11,FeedLib[#All],AQ$60,FALSE),\"\"),IFERROR(VLOOKUP($W11,FeedLibUser[#All],AQ$60,FALSE),\"\")),AQ11),IF(AND(ISNUMBER($AI11),$AJ11<>\"\"),AQ11,\"\"))","v":""},{"$f":"IF(ISNUMBER($W11),IF($AH11=FALSE,IF($W11<1000,IFERROR(VLOOKUP($W11,FeedLib[#All],AR$60,FALSE),\"\"),IFERROR(VLOOKUP($W11,FeedLibUser[#All],AR$60,FALSE),\"\")),AR11),IF(AND(ISNUMBER($AI11),$AJ11<>\"\"),AR11,\"\"))","v":""},{"$f":"IF(ISNUMBER($W11),IF($AH11=FALSE,IF($W11<1000,IFERROR(VLOOKUP($W11,FeedLib[#All],AS$60,FALSE),\"\"),IFERROR(VLOOKUP($W11,FeedLibUser[#All],AS$60,FALSE),\"\")),AS11),IF(AND(ISNUMBER($AI11),$AJ11<>\"\"),AS11,\"\"))","v":""},{"$f":"IF(ISNUMBER($W11),IF($AH11=FALSE,IF($W11<1000,IFERROR(VLOOKUP($W11,FeedLib[#All],AT$60,FALSE),\"\"),IFERROR(VLOOKUP($W11,FeedLibUser[#All],AT$60,FALSE),\"\")),AT11),IF(AND(ISNUMBER($AI11),$AJ11<>\"\"),AT11,\"\"))","v":""},{"$f":"IF(ISNUMBER($W11),IF($AH11=FALSE,IF($W11<1000,IFERROR(VLOOKUP($W11,FeedLib[#All],AU$60,FALSE),\"\"),IFERROR(VLOOKUP($W11,FeedLibUser[#All],AU$60,FALSE),\"\")),AU11),IF(AND(ISNUMBER($AI11),$AJ11<>\"\"),AU11,\"\"))","v":""},{"$f":"IF(ISNUMBER($W11),IF($AH11=FALSE,IF($W11<1000,IFERROR(VLOOKUP($W11,FeedLib[#All],AV$60,FALSE),\"\"),IFERROR(VLOOKUP($W11,FeedLibUser[#All],AV$60,FALSE),\"\")),AV11),IF(AND(ISNUMBER($AI11),$AJ11<>\"\"),AV11,\"\"))","v":""},{"$f":"IF(ISNUMBER($W11),IF($AH11=FALSE,IF($W11<1000,IFERROR(VLOOKUP($W11,FeedLib[#All],AW$60,FALSE),\"\"),IFERROR(VLOOKUP($W11,FeedLibUser[#All],AW$60,FALSE),\"\")),AW11),IF(AND(ISNUMBER($AI11),$AJ11<>\"\"),AW11,\"\"))","v":""},{"$f":"IF(ISNUMBER($W11),IF($AH11=FALSE,IF($W11<1000,IFERROR(VLOOKUP($W11,FeedLib[#All],AX$60,FALSE),\"\"),IFERROR(VLOOKUP($W11,FeedLibUser[#All],AX$60,FALSE),\"\")),AX11),IF(AND(ISNUMBER($AI11),$AJ11<>\"\"),AX11,\"\"))","v":""},{"$f":"IF(ISNUMBER($W11),IF($AH11=FALSE,IF($W11<1000,IFERROR(VLOOKUP($W11,FeedLib[#All],AY$60,FALSE),\"\")/IF(parmUnit=1,1,2.2046),IFERROR(VLOOKUP($W11,FeedLibUser[#All],AY$60,FALSE),\"\")/IF(parmUnit=1,1,2.2046)),AY11),IF(AND(ISNUMBER($AI11),$AJ11<>\"\"),AY11,\"\"))","v":""},{"$f":"IF(ISNUMBER($W11),IF($AH11=FALSE,IF($W11<1000,IFERROR(VLOOKUP($W11,FeedLib[#All],AZ$60,FALSE),\"\")/IF(parmUnit=1,1,2.2046),IFERROR(VLOOKUP($W11,FeedLibUser[#All],AZ$60,FALSE),\"\")/IF(parmUnit=1,1,2.2046)),AZ11),IF(AND(ISNUMBER($AI11),$AJ11<>\"\"),AZ11,\"\"))","v":""},{"$f":"IF(ISNUMBER($W11),IF($AH11=FALSE,IF($W11<1000,IFERROR(VLOOKUP($W11,FeedLib[#All],BA$60,FALSE),\"\")/IF(parmUnit=1,1,2.2046),IFERROR(VLOOKUP($W11,FeedLibUser[#All],BA$60,FALSE),\"\")/IF(parmUnit=1,1,2.2046)),BA11),IF(AND(ISNUMBER($AI11),$AJ11<>\"\"),BA11,\"\"))","v":""},{"$f":"IF(ISNUMBER($W11),IF($AH11=FALSE,IF($W11<1000,IFERROR(VLOOKUP($W11,FeedLib[#All],BB$60,FALSE),\"\"),IFERROR(VLOOKUP($W11,FeedLibUser[#All],BB$60,FALSE),\"\")),BB11),IF(AND(ISNUMBER($AI11),$AJ11<>\"\"),BB11,\"\"))","v":""},{"$f":"IF(ISNUMBER($W11),IF($AH11=FALSE,IF($W11<1000,IFERROR(VLOOKUP($W11,FeedLib[#All],BC$60,FALSE),\"\"),IFERROR(VLOOKUP($W11,FeedLibUser[#All],BC$60,FALSE),\"\")),BC11),IF(AND(ISNUMBER($AI11),$AJ11<>\"\"),BC11,\"\"))","v":""},{"$f":"IF(ISNUMBER($W11),IF($AH11=FALSE,IF($W11<1000,IFERROR(VLOOKUP($W11,FeedLib[#All],BD$60,FALSE),\"\"),IFERROR(VLOOKUP($W11,FeedLibUser[#All],BD$60,FALSE),\"\")),BD11),IF(AND(ISNUMBER($AI11),$AJ11<>\"\"),BD11,\"\"))","v":""},{"$f":"IF(ISNUMBER($W11),IF($AH11=FALSE,IF($W11<1000,IFERROR(VLOOKUP($W11,FeedLib[#All],BE$60,FALSE),\"\"),IFERROR(VLOOKUP($W11,FeedLibUser[#All],BE$60,FALSE),\"\")),BE11),IF(AND(ISNUMBER($AI11),$AJ11<>\"\"),BE11,\"\"))","v":""},{"$f":"IF(ISNUMBER($W11),IF($AH11=FALSE,IF($W11<1000,IFERROR(VLOOKUP($W11,FeedLib[#All],BF$60,FALSE),\"\"),IFERROR(VLOOKUP($W11,FeedLibUser[#All],BF$60,FALSE),\"\")),BF11),IF(AND(ISNUMBER($AI11),$AJ11<>\"\"),BF11,\"\"))","v":""},{"$f":"IF(ISNUMBER($W11),IF($AH11=FALSE,IF($W11<1000,IFERROR(VLOOKUP($W11,FeedLib[#All],BG$60,FALSE),\"\"),IFERROR(VLOOKUP($W11,FeedLibUser[#All],BG$60,FALSE),\"\")),BG11),IF(AND(ISNUMBER($AI11),$AJ11<>\"\"),BG11,\"\"))","v":""},{"$f":"IF(ISNUMBER($W11),IF($AH11=FALSE,IF($W11<1000,IFERROR(VLOOKUP($W11,FeedLib[#All],BH$60,FALSE),\"\"),IFERROR(VLOOKUP($W11,FeedLibUser[#All],BH$60,FALSE),\"\")),BH11),IF(AND(ISNUMBER($AI11),$AJ11<>\"\"),BH11,\"\"))","v":""},{"$f":"IF(ISNUMBER($W11),IF($AH11=FALSE,IF($W11<1000,IFERROR(VLOOKUP($W11,FeedLib[#All],BI$60,FALSE),\"\"),IFERROR(VLOOKUP($W11,FeedLibUser[#All],BI$60,FALSE),\"\")),BI11),IF(AND(ISNUMBER($AI11),$AJ11<>\"\"),BI11,\"\"))","v":""},{"$f":"IF(ISNUMBER($W11),IF($AH11=FALSE,IF($W11<1000,IFERROR(VLOOKUP($W11,FeedLib[#All],BJ$60,FALSE),\"\"),IFERROR(VLOOKUP($W11,FeedLibUser[#All],BJ$60,FALSE),\"\")),BJ11),IF(AND(ISNUMBER($AI11),$AJ11<>\"\"),BJ11,\"\"))","v":""},{"$f":"IF(ISNUMBER($W11),IF($AH11=FALSE,IF($W11<1000,IFERROR(VLOOKUP($W11,FeedLib[#All],BK$60,FALSE),\"\"),IFERROR(VLOOKUP($W11,FeedLibUser[#All],BK$60,FALSE),\"\")),BK11),IF(AND(ISNUMBER($AI11),$AJ11<>\"\"),BK11,\"\"))","v":""},{"$f":"IF(ISNUMBER($W11),IF($AH11=FALSE,IF($W11<1000,IFERROR(VLOOKUP($W11,FeedLib[#All],BL$60,FALSE),\"\"),IFERROR(VLOOKUP($W11,FeedLibUser[#All],BL$60,FALSE),\"\")),BL11),IF(AND(ISNUMBER($AI11),$AJ11<>\"\"),BL11,\"\"))","v":""},{"$f":"IF(ISNUMBER($W11),IF($AH11=FALSE,IF($W11<1000,IFERROR(VLOOKUP($W11,FeedLib[#All],BM$60,FALSE),\"\"),IFERROR(VLOOKUP($W11,FeedLibUser[#All],BM$60,FALSE),\"\")),BM11),IF(AND(ISNUMBER($AI11),$AJ11<>\"\"),BM11,\"\"))","v":""},{"$f":"IF(ISNUMBER($W11),IF($AH11=FALSE,IF($W11<1000,IFERROR(VLOOKUP($W11,FeedLib[#All],BN$60,FALSE),\"\"),IFERROR(VLOOKUP($W11,FeedLibUser[#All],BN$60,FALSE),\"\")),BN11),IF(AND(ISNUMBER($AI11),$AJ11<>\"\"),BN11,\"\"))","v":""},{"$f":"IF(ISNUMBER($W11),IF($AH11=FALSE,IF($W11<1000,IFERROR(VLOOKUP($W11,FeedLib[#All],BO$60,FALSE),\"\"),IFERROR(VLOOKUP($W11,FeedLibUser[#All],BO$60,FALSE),\"\")),BO11),IF(AND(ISNUMBER($AI11),$AJ11<>\"\"),BO11,\"\"))","v":""},{"$f":"IF(ISNUMBER($W11),IF($AH11=FALSE,IF($W11<1000,IFERROR(VLOOKUP($W11,FeedLib[#All],BP$60,FALSE),\"\"),IFERROR(VLOOKUP($W11,FeedLibUser[#All],BP$60,FALSE),\"\")),BP11),IF(AND(ISNUMBER($AI11),$AJ11<>\"\"),BP11,\"\"))","v":""},{"$f":"IF(ISNUMBER($W11),IF($AH11=FALSE,IF($W11<1000,IFERROR(VLOOKUP($W11,FeedLib[#All],BQ$60,FALSE),\"\"),IFERROR(VLOOKUP($W11,FeedLibUser[#All],BQ$60,FALSE),\"\")),BQ11),IF(AND(ISNUMBER($AI11),$AJ11<>\"\"),BQ11,\"\"))","v":""},{"$f":"IF(ISNUMBER($W11),IF($AH11=FALSE,IF($W11<1000,IFERROR(VLOOKUP($W11,FeedLib[#All],BR$60,FALSE),\"\"),IFERROR(VLOOKUP($W11,FeedLibUser[#All],BR$60,FALSE),\"\")),BR11),IF(AND(ISNUMBER($AI11),$AJ11<>\"\"),BR11,\"\"))","v":""},{"$f":"IF(ISNUMBER($W11),IF($AH11=FALSE,IF($W11<1000,IFERROR(VLOOKUP($W11,FeedLib[#All],BS$60,FALSE),\"\"),IFERROR(VLOOKUP($W11,FeedLibUser[#All],BS$60,FALSE),\"\")),BS11),IF(AND(ISNUMBER($AI11),$AJ11<>\"\"),BS11,\"\"))","v":""},{"$f":"IF(ISNUMBER($W11),IF($AH11=FALSE,IF($W11<1000,IFERROR(VLOOKUP($W11,FeedLib[#All],BT$60,FALSE),\"\"),IFERROR(VLOOKUP($W11,FeedLibUser[#All],BT$60,FALSE),\"\")),BT11),IF(AND(ISNUMBER($AI11),$AJ11<>\"\"),BT11,\"\"))","v":""},{"$f":"IF(ISNUMBER($W11),IF($AH11=FALSE,IF($W11<1000,IFERROR(VLOOKUP($W11,FeedLib[#All],BU$60,FALSE),\"\"),IFERROR(VLOOKUP($W11,FeedLibUser[#All],BU$60,FALSE),\"\")),BU11),IF(AND(ISNUMBER($AI11),$AJ11<>\"\"),BU11,\"\"))","v":""},{"$f":"IF(ISNUMBER($W11),IF($AH11=FALSE,IF($W11<1000,IFERROR(VLOOKUP($W11,FeedLib[#All],BV$60,FALSE),\"\"),IFERROR(VLOOKUP($W11,FeedLibUser[#All],BV$60,FALSE),\"\")),BV11),IF(AND(ISNUMBER($AI11),$AJ11<>\"\"),BV11,\"\"))","v":""},{"$f":"IF(ISNUMBER($W11),IF($AH11=FALSE,IF($W11<1000,IFERROR(VLOOKUP($W11,FeedLib[#All],BW$60,FALSE),\"\"),IFERROR(VLOOKUP($W11,FeedLibUser[#All],BW$60,FALSE),\"\")),BW11),IF(AND(ISNUMBER($AI11),$AJ11<>\"\"),BW11,\"\"))","v":""},{"$f":"IF(ISNUMBER($W11),IF($AH11=FALSE,IF($W11<1000,IFERROR(VLOOKUP($W11,FeedLib[#All],BX$60,FALSE),\"\"),IFERROR(VLOOKUP($W11,FeedLibUser[#All],BX$60,FALSE),\"\")),BX11),IF(AND(ISNUMBER($AI11),$AJ11<>\"\"),BX11,\"\"))","v":""},{"$f":"IF(ISNUMBER($W11),IF($AH11=FALSE,IF($W11<1000,IFERROR(VLOOKUP($W11,FeedLib[#All],BY$60,FALSE),\"\"),IFERROR(VLOOKUP($W11,FeedLibUser[#All],BY$60,FALSE),\"\")),BY11),IF(AND(ISNUMBER($AI11),$AJ11<>\"\"),BY11,\"\"))","v":""},{"$f":"IF(ISNUMBER($W11),IF($AH11=FALSE,IF($W11<1000,IFERROR(VLOOKUP($W11,FeedLib[#All],BZ$60,FALSE),\"\"),IFERROR(VLOOKUP($W11,FeedLibUser[#All],BZ$60,FALSE),\"\")),BZ11),IF(AND(ISNUMBER($AI11),$AJ11<>\"\"),BZ11,\"\"))","v":""},{"$f":"IF(ISNUMBER($W11),IF($AH11=FALSE,IF($W11<1000,IFERROR(VLOOKUP($W11,FeedLib[#All],CA$60,FALSE),\"\"),IFERROR(VLOOKUP($W11,FeedLibUser[#All],CA$60,FALSE),\"\")),CA11),IF(AND(ISNUMBER($AI11),$AJ11<>\"\"),CA11,\"\"))","v":""},{"$f":"IF(ISNUMBER($W11),IF($AH11=FALSE,IF($W11<1000,IFERROR(VLOOKUP($W11,FeedLib[#All],CB$60,FALSE),\"\"),IFERROR(VLOOKUP($W11,FeedLibUser[#All],CB$60,FALSE),\"\")),CB11),IF(AND(ISNUMBER($AI11),$AJ11<>\"\"),CB11,\"\"))","v":""},{"$f":"IF(ISNUMBER($W11),IF($AH11=FALSE,IF($W11<1000,IFERROR(VLOOKUP($W11,FeedLib[#All],CC$60,FALSE),\"\"),IFERROR(VLOOKUP($W11,FeedLibUser[#All],CC$60,FALSE),\"\")),CC11),IF(AND(ISNUMBER($AI11),$AJ11<>\"\"),CC11,\"\"))","v":""},{"$f":"IF(ISNUMBER($W11),IF($AH11=FALSE,IF($W11<1000,IFERROR(VLOOKUP($W11,FeedLib[#All],CD$60,FALSE),\"\"),IFERROR(VLOOKUP($W11,FeedLibUser[#All],CD$60,FALSE),\"\")),CD11),IF(AND(ISNUMBER($AI11),$AJ11<>\"\"),CD11,\"\"))","v":""},{"$f":"IF(ISNUMBER($W11),IF($AH11=FALSE,IF($W11<1000,IFERROR(VLOOKUP($W11,FeedLib[#All],CE$60,FALSE),\"\"),IFERROR(VLOOKUP($W11,FeedLibUser[#All],CE$60,FALSE),\"\")),CE11),IF(AND(ISNUMBER($AI11),$AJ11<>\"\"),CE11,\"\"))","v":""},{"$f":"IF(ISNUMBER($W11),IF($AH11=FALSE,IF($W11<1000,IFERROR(VLOOKUP($W11,FeedLib[#All],CF$60,FALSE),\"\"),IFERROR(VLOOKUP($W11,FeedLibUser[#All],CF$60,FALSE),\"\")),CF11),IF(AND(ISNUMBER($AI11),$AJ11<>\"\"),CF11,\"\"))","v":""},{"$f":"IF(ISNUMBER($W11),IF($AH11=FALSE,IF($W11<1000,IFERROR(VLOOKUP($W11,FeedLib[#All],CG$60,FALSE),\"\"),IFERROR(VLOOKUP($W11,FeedLibUser[#All],CG$60,FALSE),\"\")),CG11),IF(AND(ISNUMBER($AI11),$AJ11<>\"\"),CG11,\"\"))","v":""},{"$f":"IF(ISNUMBER($W11),IF($AH11=FALSE,IF($W11<1000,IFERROR(VLOOKUP($W11,FeedLib[#All],CH$60,FALSE),\"\"),IFERROR(VLOOKUP($W11,FeedLibUser[#All],CH$60,FALSE),\"\")),CH11),IF(AND(ISNUMBER($AI11),$AJ11<>\"\"),CH11,\"\"))","v":""},{"$f":"IF(ISNUMBER($W11),IF($AH11=FALSE,IF($W11<1000,IFERROR(VLOOKUP($W11,FeedLib[#All],CI$60,FALSE),\"\"),IFERROR(VLOOKUP($W11,FeedLibUser[#All],CI$60,FALSE),\"\")),CI11),IF(AND(ISNUMBER($AI11),$AJ11<>\"\"),CI11,\"\"))","v":""},{"$f":"IF(ISNUMBER($W11),IF($AH11=FALSE,IF($W11<1000,IFERROR(VLOOKUP($W11,FeedLib[#All],CJ$60,FALSE),\"\"),IFERROR(VLOOKUP($W11,FeedLibUser[#All],CJ$60,FALSE),\"\")),CJ11),IF(AND(ISNUMBER($AI11),$AJ11<>\"\"),CJ11,\"\"))","v":""},{"$f":"IF(ISNUMBER($W11),IF($AH11=FALSE,IF($W11<1000,IFERROR(VLOOKUP($W11,FeedLib[#All],CK$60,FALSE),\"\"),IFERROR(VLOOKUP($W11,FeedLibUser[#All],CK$60,FALSE),\"\")),CK11),IF(AND(ISNUMBER($AI11),$AJ11<>\"\"),CK11,\"\"))","v":""},{"$f":"IF(ISNUMBER($W11),IF($AH11=FALSE,IF($W11<1000,IFERROR(VLOOKUP($W11,FeedLib[#All],CL$60,FALSE),\"\"),IFERROR(VLOOKUP($W11,FeedLibUser[#All],CL$60,FALSE),\"\")),CL11),IF(AND(ISNUMBER($AI11),$AJ11<>\"\"),CL11,\"\"))","v":""},{"$f":"IF(ISNUMBER($W11),IF($AH11=FALSE,IF($W11<1000,IFERROR(VLOOKUP($W11,FeedLib[#All],CM$60,FALSE),\"\"),IFERROR(VLOOKUP($W11,FeedLibUser[#All],CM$60,FALSE),\"\")),CM11),IF(AND(ISNUMBER($AI11),$AJ11<>\"\"),CM11,\"\"))","v":""}]
[null,"Predicted empty body fat (EBF)",null,null,null,{"$f":"IF(AND(F36<>0,F39<>0,F37<>0),IF(F38<>0,17.76207+4.68142 *F37+0.01945*F36+0.81855*F39-0.06754*F38,14.8796+ 4.7135*F37+0.01316*F36+0.90855*F39),0)","v":0},"% EBW",{"$f":"IF(AND(F36<>0,F39<>0,F37<>0),IF(F38<>0,\"Guiroy et al. (2001)\",\"Tedeschi et al. (2004)\"),\"Guirroy et al. (2001) or Tedeschi et al. (2004)\")","v":"Guirroy et al. (2001) or Tedeschi et al. (2004)"},null,"Straightbred",null,{"$f":"VLOOKUP($F$22,$J$12:$S$42,L$44)","v":1},1,79.365600000000001,15.432200000000002,4,3.8,8.3000000000000007,0.6,null,null,null,null,null,null,null,null,null,null,null,null,null,null,null,"","",{"$f":"IF(ISNUMBER($W12),IF($AH12=FALSE,IF($W12<1000,IFERROR(VLOOKUP($W12,FeedLib[#All],AK$60,FALSE),\"\")*(IF(parmUnit=1,1,2000/2204.6)),IFERROR(VLOOKUP($W12,FeedLibUser[#All],AK$60,FALSE),\"\")*(IF(parmUnit=1,1,2000/2204.6))),AK12),IF(AND(ISNUMBER($AI12),$AJ12<>\"\"),AK12,\"\"))","v":""},{"$f":"IF(ISNUMBER($W12),IF($AH12=FALSE,IF($W12<1000,IFERROR(VLOOKUP($W12,FeedLib[#All],AL$60,FALSE),\"\"),IFERROR(VLOOKUP($W12,FeedLibUser[#All],AL$60,FALSE),\"\")),AL12),IF(AND(ISNUMBER($AI12),$AJ12<>\"\"),AL12,\"\"))","v":""},{"$f":"IF(ISNUMBER($W12),IF($AH12=FALSE,IF($W12<1000,IFERROR(VLOOKUP($W12,FeedLib[#All],AM$60,FALSE),\"\"),IFERROR(VLOOKUP($W12,FeedLibUser[#All],AM$60,FALSE),\"\")),AM12),IF(AND(ISNUMBER($AI12),$AJ12<>\"\"),AM12,\"\"))","v":""},{"$f":"IF(ISNUMBER($W12),IF($AH12=FALSE,IF($W12<1000,IFERROR(VLOOKUP($W12,FeedLib[#All],AN$60,FALSE),\"\"),IFERROR(VLOOKUP($W12,FeedLibUser[#All],AN$60,FALSE),\"\")),AN12),IF(AND(ISNUMBER($AI12),$AJ12<>\"\"),AN12,\"\"))","v":""},{"$f":"IF(ISNUMBER($W12),IF($AH12=FALSE,IF($W12<1000,IFERROR(VLOOKUP($W12,FeedLib[#All],AO$60,FALSE),\"\"),IFERROR(VLOOKUP($W12,FeedLibUser[#All],AO$60,FALSE),\"\")),AO12),IF(AND(ISNUMBER($AI12),$AJ12<>\"\"),AO12,\"\"))","v":""},{"$f":"IF(ISNUMBER($W12),IF($AH12=FALSE,IF($W12<1000,IFERROR(VLOOKUP($W12,FeedLib[#All],AP$60,FALSE),\"\"),IFERROR(VLOOKUP($W12,FeedLibUser[#All],AP$60,FALSE),\"\")),AP12),IF(AND(ISNUMBER($AI12),$AJ12<>\"\"),AP12,\"\"))","v":""},{"$f":"IF(ISNUMBER($W12),IF($AH12=FALSE,IF($W12<1000,IFERROR(VLOOKUP($W12,FeedLib[#All],AQ$60,FALSE),\"\"),IFERROR(VLOOKUP($W12,FeedLibUser[#All],AQ$60,FALSE),\"\")),AQ12),IF(AND(ISNUMBER($AI12),$AJ12<>\"\"),AQ12,\"\"))","v":""},{"$f":"IF(ISNUMBER($W12),IF($AH12=FALSE,IF($W12<1000,IFERROR(VLOOKUP($W12,FeedLib[#All],AR$60,FALSE),\"\"),IFERROR(VLOOKUP($W12,FeedLibUser[#All],AR$60,FALSE),\"\")),AR12),IF(AND(ISNUMBER($AI12),$AJ12<>\"\"),AR12,\"\"))","v":""},{"$f":"IF(ISNUMBER($W12),IF($AH12=FALSE,IF($W12<1000,IFERROR(VLOOKUP($W12,FeedLib[#All],AS$60,FALSE),\"\"),IFERROR(VLOOKUP($W12,FeedLibUser[#All],AS$60,FALSE),\"\")),AS12),IF(AND(ISNUMBER($AI12),$AJ12<>\"\"),AS12,\"\"))","v":""},{"$f":"IF(ISNUMBER($W12),IF($AH12=FALSE,IF($W12<1000,IFERROR(VLOOKUP($W12,FeedLib[#All],AT$60,FALSE),\"\"),IFERROR(VLOOKUP($W12,FeedLibUser[#All],AT$60,FALSE),\"\")),AT12),IF(AND(ISNUMBER($AI12),$AJ12<>\"\"),AT12,\"\"))","v":""},{"$f":"IF(ISNUMBER($W12),IF($AH12=FALSE,IF($W12<1000,IFERROR(VLOOKUP($W12,FeedLib[#All],AU$60,FALSE),\"\"),IFERROR(VLOOKUP($W12,FeedLibUser[#All],AU$60,FALSE),\"\")),AU12),IF(AND(ISNUMBER($AI12),$AJ12<>\"\"),AU12,\"\"))","v":""},{"$f":"IF(ISNUMBER($W12),IF($AH12=FALSE,IF($W12<1000,IFERROR(VLOOKUP($W12,FeedLib[#All],AV$60,FALSE),\"\"),IFERROR(VLOOKUP($W12,FeedLibUser[#All],AV$60,FALSE),\"\")),AV12),IF(AND(ISNUMBER($AI12),$AJ12<>\"\"),AV12,\"\"))","v":""},{"$f":"IF(ISNUMBER($W12),IF($AH12=FALSE,IF($W12<1000,IFERROR(VLOOKUP($W12,FeedLib[#All],AW$60,FALSE),\"\"),IFERROR(VLOOKUP($W12,FeedLibUser[#All],AW$60,FALSE),\"\")),AW12),IF(AND(ISNUMBER($AI12),$AJ12<>\"\"),AW12,\"\"))","v":""},{"$f":"IF(ISNUMBER($W12),IF($AH12=FALSE,IF($W12<1000,IFERROR(VLOOKUP($W12,FeedLib[#All],AX$60,FALSE),\"\"),IFERROR(VLOOKUP($W12,FeedLibUser[#All],AX$60,FALSE),\"\")),AX12),IF(AND(ISNUMBER($AI12),$AJ12<>\"\"),AX12,\"\"))","v":""},{"$f":"IF(ISNUMBER($W12),IF($AH12=FALSE,IF($W12<1000,IFERROR(VLOOKUP($W12,FeedLib[#All],AY$60,FALSE),\"\")/IF(parmUnit=1,1,2.2046),IFERROR(VLOOKUP($W12,FeedLibUser[#All],AY$60,FALSE),\"\")/IF(parmUnit=1,1,2.2046)),AY12),IF(AND(ISNUMBER($AI12),$AJ12<>\"\"),AY12,\"\"))","v":""},{"$f":"IF(ISNUMBER($W12),IF($AH12=FALSE,IF($W12<1000,IFERROR(VLOOKUP($W12,FeedLib[#All],AZ$60,FALSE),\"\")/IF(parmUnit=1,1,2.2046),IFERROR(VLOOKUP($W12,FeedLibUser[#All],AZ$60,FALSE),\"\")/IF(parmUnit=1,1,2.2046)),AZ12),IF(AND(ISNUMBER($AI12),$AJ12<>\"\"),AZ12,\"\"))","v":""},{"$f":"IF(ISNUMBER($W12),IF($AH12=FALSE,IF($W12<1000,IFERROR(VLOOKUP($W12,FeedLib[#All],BA$60,FALSE),\"\")/IF(parmUnit=1,1,2.2046),IFERROR(VLOOKUP($W12,FeedLibUser[#All],BA$60,FALSE),\"\")/IF(parmUnit=1,1,2.2046)),BA12),IF(AND(ISNUMBER($AI12),$AJ12<>\"\"),BA12,\"\"))","v":""},{"$f":"IF(ISNUMBER($W12),IF($AH12=FALSE,IF($W12<1000,IFERROR(VLOOKUP($W12,FeedLib[#All],BB$60,FALSE),\"\"),IFERROR(VLOOKUP($W12,FeedLibUser[#All],BB$60,FALSE),\"\")),BB12),IF(AND(ISNUMBER($AI12),$AJ12<>\"\"),BB12,\"\"))","v":""},{"$f":"IF(ISNUMBER($W12),IF($AH12=FALSE,IF($W12<1000,IFERROR(VLOOKUP($W12,FeedLib[#All],BC$60,FALSE),\"\"),IFERROR(VLOOKUP($W12,FeedLibUser[#All],BC$60,FALSE),\"\")),BC12),IF(AND(ISNUMBER($AI12),$AJ12<>\"\"),BC12,\"\"))","v":""},{"$f":"IF(ISNUMBER($W12),IF($AH12=FALSE,IF($W12<1000,IFERROR(VLOOKUP($W12,FeedLib[#All],BD$60,FALSE),\"\"),IFERROR(VLOOKUP($W12,FeedLibUser[#All],BD$60,FALSE),\"\")),BD12),IF(AND(ISNUMBER($AI12),$AJ12<>\"\"),BD12,\"\"))","v":""},{"$f":"IF(ISNUMBER($W12),IF($AH12=FALSE,IF($W12<1000,IFERROR(VLOOKUP($W12,FeedLib[#All],BE$60,FALSE),\"\"),IFERROR(VLOOKUP($W12,FeedLibUser[#All],BE$60,FALSE),\"\")),BE12),IF(AND(ISNUMBER($AI12),$AJ12<>\"\"),BE12,\"\"))","v":""},{"$f":"IF(ISNUMBER($W12),IF($AH12=FALSE,IF($W12<1000,IFERROR(VLOOKUP($W12,FeedLib[#All],BF$60,FALSE),\"\"),IFERROR(VLOOKUP($W12,FeedLibUser[#All],BF$60,FALSE),\"\")),BF12),IF(AND(ISNUMBER($AI12),$AJ12<>\"\"),BF12,\"\"))","v":""},{"$f":"IF(ISNUMBER($W12),IF($AH12=FALSE,IF($W12<1000,IFERROR(VLOOKUP($W12,FeedLib[#All],BG$60,FALSE),\"\"),IFERROR(VLOOKUP($W12,FeedLibUser[#All],BG$60,FALSE),\"\")),BG12),IF(AND(ISNUMBER($AI12),$AJ12<>\"\"),BG12,\"\"))","v":""},{"$f":"IF(ISNUMBER($W12),IF($AH12=FALSE,IF($W12<1000,IFERROR(VLOOKUP($W12,FeedLib[#All],BH$60,FALSE),\"\"),IFERROR(VLOOKUP($W12,FeedLibUser[#All],BH$60,FALSE),\"\")),BH12),IF(AND(ISNUMBER($AI12),$AJ12<>\"\"),BH12,\"\"))","v":""},{"$f":"IF(ISNUMBER($W12),IF($AH12=FALSE,IF($W12<1000,IFERROR(VLOOKUP($W12,FeedLib[#All],BI$60,FALSE),\"\"),IFERROR(VLOOKUP($W12,FeedLibUser[#All],BI$60,FALSE),\"\")),BI12),IF(AND(ISNUMBER($AI12),$AJ12<>\"\"),BI12,\"\"))","v":""},{"$f":"IF(ISNUMBER($W12),IF($AH12=FALSE,IF($W12<1000,IFERROR(VLOOKUP($W12,FeedLib[#All],BJ$60,FALSE),\"\"),IFERROR(VLOOKUP($W12,FeedLibUser[#All],BJ$60,FALSE),\"\")),BJ12),IF(AND(ISNUMBER($AI12),$AJ12<>\"\"),BJ12,\"\"))","v":""},{"$f":"IF(ISNUMBER($W12),IF($AH12=FALSE,IF($W12<1000,IFERROR(VLOOKUP($W12,FeedLib[#All],BK$60,FALSE),\"\"),IFERROR(VLOOKUP($W12,FeedLibUser[#All],BK$60,FALSE),\"\")),BK12),IF(AND(ISNUMBER($AI12),$AJ12<>\"\"),BK12,\"\"))","v":""},{"$f":"IF(ISNUMBER($W12),IF($AH12=FALSE,IF($W12<1000,IFERROR(VLOOKUP($W12,FeedLib[#All],BL$60,FALSE),\"\"),IFERROR(VLOOKUP($W12,FeedLibUser[#All],BL$60,FALSE),\"\")),BL12),IF(AND(ISNUMBER($AI12),$AJ12<>\"\"),BL12,\"\"))","v":""},{"$f":"IF(ISNUMBER($W12),IF($AH12=FALSE,IF($W12<1000,IFERROR(VLOOKUP($W12,FeedLib[#All],BM$60,FALSE),\"\"),IFERROR(VLOOKUP($W12,FeedLibUser[#All],BM$60,FALSE),\"\")),BM12),IF(AND(ISNUMBER($AI12),$AJ12<>\"\"),BM12,\"\"))","v":""},{"$f":"IF(ISNUMBER($W12),IF($AH12=FALSE,IF($W12<1000,IFERROR(VLOOKUP($W12,FeedLib[#All],BN$60,FALSE),\"\"),IFERROR(VLOOKUP($W12,FeedLibUser[#All],BN$60,FALSE),\"\")),BN12),IF(AND(ISNUMBER($AI12),$AJ12<>\"\"),BN12,\"\"))","v":""},{"$f":"IF(ISNUMBER($W12),IF($AH12=FALSE,IF($W12<1000,IFERROR(VLOOKUP($W12,FeedLib[#All],BO$60,FALSE),\"\"),IFERROR(VLOOKUP($W12,FeedLibUser[#All],BO$60,FALSE),\"\")),BO12),IF(AND(ISNUMBER($AI12),$AJ12<>\"\"),BO12,\"\"))","v":""},{"$f":"IF(ISNUMBER($W12),IF($AH12=FALSE,IF($W12<1000,IFERROR(VLOOKUP($W12,FeedLib[#All],BP$60,FALSE),\"\"),IFERROR(VLOOKUP($W12,FeedLibUser[#All],BP$60,FALSE),\"\")),BP12),IF(AND(ISNUMBER($AI12),$AJ12<>\"\"),BP12,\"\"))","v":""},{"$f":"IF(ISNUMBER($W12),IF($AH12=FALSE,IF($W12<1000,IFERROR(VLOOKUP($W12,FeedLib[#All],BQ$60,FALSE),\"\"),IFERROR(VLOOKUP($W12,FeedLibUser[#All],BQ$60,FALSE),\"\")),BQ12),IF(AND(ISNUMBER($AI12),$AJ12<>\"\"),BQ12,\"\"))","v":""},{"$f":"IF(ISNUMBER($W12),IF($AH12=FALSE,IF($W12<1000,IFERROR(VLOOKUP($W12,FeedLib[#All],BR$60,FALSE),\"\"),IFERROR(VLOOKUP($W12,FeedLibUser[#All],BR$60,FALSE),\"\")),BR12),IF(AND(ISNUMBER($AI12),$AJ12<>\"\"),BR12,\"\"))","v":""},{"$f":"IF(ISNUMBER($W12),IF($AH12=FALSE,IF($W12<1000,IFERROR(VLOOKUP($W12,FeedLib[#All],BS$60,FALSE),\"\"),IFERROR(VLOOKUP($W12,FeedLibUser[#All],BS$60,FALSE),\"\")),BS12),IF(AND(ISNUMBER($AI12),$AJ12<>\"\"),BS12,\"\"))","v":""},{"$f":"IF(ISNUMBER($W12),IF($AH12=FALSE,IF($W12<1000,IFERROR(VLOOKUP($W12,FeedLib[#All],BT$60,FALSE),\"\"),IFERROR(VLOOKUP($W12,FeedLibUser[#All],BT$60,FALSE),\"\")),BT12),IF(AND(ISNUMBER($AI12),$AJ12<>\"\"),BT12,\"\"))","v":""},{"$f":"IF(ISNUMBER($W12),IF($AH12=FALSE,IF($W12<1000,IFERROR(VLOOKUP($W12,FeedLib[#All],BU$60,FALSE),\"\"),IFERROR(VLOOKUP($W12,FeedLibUser[#All],BU$60,FALSE),\"\")),BU12),IF(AND(ISNUMBER($AI12),$AJ12<>\"\"),BU12,\"\"))","v":""},{"$f":"IF(ISNUMBER($W12),IF($AH12=FALSE,IF($W12<1000,IFERROR(VLOOKUP($W12,FeedLib[#All],BV$60,FALSE),\"\"),IFERROR(VLOOKUP($W12,FeedLibUser[#All],BV$60,FALSE),\"\")),BV12),IF(AND(ISNUMBER($AI12),$AJ12<>\"\"),BV12,\"\"))","v":""},{"$f":"IF(ISNUMBER($W12),IF($AH12=FALSE,IF($W12<1000,IFERROR(VLOOKUP($W12,FeedLib[#All],BW$60,FALSE),\"\"),IFERROR(VLOOKUP($W12,FeedLibUser[#All],BW$60,FALSE),\"\")),BW12),IF(AND(ISNUMBER($AI12),$AJ12<>\"\"),BW12,\"\"))","v":""},{"$f":"IF(ISNUMBER($W12),IF($AH12=FALSE,IF($W12<1000,IFERROR(VLOOKUP($W12,FeedLib[#All],BX$60,FALSE),\"\"),IFERROR(VLOOKUP($W12,FeedLibUser[#All],BX$60,FALSE),\"\")),BX12),IF(AND(ISNUMBER($AI12),$AJ12<>\"\"),BX12,\"\"))","v":""},{"$f":"IF(ISNUMBER($W12),IF($AH12=FALSE,IF($W12<1000,IFERROR(VLOOKUP($W12,FeedLib[#All],BY$60,FALSE),\"\"),IFERROR(VLOOKUP($W12,FeedLibUser[#All],BY$60,FALSE),\"\")),BY12),IF(AND(ISNUMBER($AI12),$AJ12<>\"\"),BY12,\"\"))","v":""},{"$f":"IF(ISNUMBER($W12),IF($AH12=FALSE,IF($W12<1000,IFERROR(VLOOKUP($W12,FeedLib[#All],BZ$60,FALSE),\"\"),IFERROR(VLOOKUP($W12,FeedLibUser[#All],BZ$60,FALSE),\"\")),BZ12),IF(AND(ISNUMBER($AI12),$AJ12<>\"\"),BZ12,\"\"))","v":""},{"$f":"IF(ISNUMBER($W12),IF($AH12=FALSE,IF($W12<1000,IFERROR(VLOOKUP($W12,FeedLib[#All],CA$60,FALSE),\"\"),IFERROR(VLOOKUP($W12,FeedLibUser[#All],CA$60,FALSE),\"\")),CA12),IF(AND(ISNUMBER($AI12),$AJ12<>\"\"),CA12,\"\"))","v":""},{"$f":"IF(ISNUMBER($W12),IF($AH12=FALSE,IF($W12<1000,IFERROR(VLOOKUP($W12,FeedLib[#All],CB$60,FALSE),\"\"),IFERROR(VLOOKUP($W12,FeedLibUser[#All],CB$60,FALSE),\"\")),CB12),IF(AND(ISNUMBER($AI12),$AJ12<>\"\"),CB12,\"\"))","v":""},{"$f":"IF(ISNUMBER($W12),IF($AH12=FALSE,IF($W12<1000,IFERROR(VLOOKUP($W12,FeedLib[#All],CC$60,FALSE),\"\"),IFERROR(VLOOKUP($W12,FeedLibUser[#All],CC$60,FALSE),\"\")),CC12),IF(AND(ISNUMBER($AI12),$AJ12<>\"\"),CC12,\"\"))","v":""},{"$f":"IF(ISNUMBER($W12),IF($AH12=FALSE,IF($W12<1000,IFERROR(VLOOKUP($W12,FeedLib[#All],CD$60,FALSE),\"\"),IFERROR(VLOOKUP($W12,FeedLibUser[#All],CD$60,FALSE),\"\")),CD12),IF(AND(ISNUMBER($AI12),$AJ12<>\"\"),CD12,\"\"))","v":""},{"$f":"IF(ISNUMBER($W12),IF($AH12=FALSE,IF($W12<1000,IFERROR(VLOOKUP($W12,FeedLib[#All],CE$60,FALSE),\"\"),IFERROR(VLOOKUP($W12,FeedLibUser[#All],CE$60,FALSE),\"\")),CE12),IF(AND(ISNUMBER($AI12),$AJ12<>\"\"),CE12,\"\"))","v":""},{"$f":"IF(ISNUMBER($W12),IF($AH12=FALSE,IF($W12<1000,IFERROR(VLOOKUP($W12,FeedLib[#All],CF$60,FALSE),\"\"),IFERROR(VLOOKUP($W12,FeedLibUser[#All],CF$60,FALSE),\"\")),CF12),IF(AND(ISNUMBER($AI12),$AJ12<>\"\"),CF12,\"\"))","v":""},{"$f":"IF(ISNUMBER($W12),IF($AH12=FALSE,IF($W12<1000,IFERROR(VLOOKUP($W12,FeedLib[#All],CG$60,FALSE),\"\"),IFERROR(VLOOKUP($W12,FeedLibUser[#All],CG$60,FALSE),\"\")),CG12),IF(AND(ISNUMBER($AI12),$AJ12<>\"\"),CG12,\"\"))","v":""},{"$f":"IF(ISNUMBER($W12),IF($AH12=FALSE,IF($W12<1000,IFERROR(VLOOKUP($W12,FeedLib[#All],CH$60,FALSE),\"\"),IFERROR(VLOOKUP($W12,FeedLibUser[#All],CH$60,FALSE),\"\")),CH12),IF(AND(ISNUMBER($AI12),$AJ12<>\"\"),CH12,\"\"))","v":""},{"$f":"IF(ISNUMBER($W12),IF($AH12=FALSE,IF($W12<1000,IFERROR(VLOOKUP($W12,FeedLib[#All],CI$60,FALSE),\"\"),IFERROR(VLOOKUP($W12,FeedLibUser[#All],CI$60,FALSE),\"\")),CI12),IF(AND(ISNUMBER($AI12),$AJ12<>\"\"),CI12,\"\"))","v":""},{"$f":"IF(ISNUMBER($W12),IF($AH12=FALSE,IF($W12<1000,IFERROR(VLOOKUP($W12,FeedLib[#All],CJ$60,FALSE),\"\"),IFERROR(VLOOKUP($W12,FeedLibUser[#All],CJ$60,FALSE),\"\")),CJ12),IF(AND(ISNUMBER($AI12),$AJ12<>\"\"),CJ12,\"\"))","v":""},{"$f":"IF(ISNUMBER($W12),IF($AH12=FALSE,IF($W12<1000,IFERROR(VLOOKUP($W12,FeedLib[#All],CK$60,FALSE),\"\"),IFERROR(VLOOKUP($W12,FeedLibUser[#All],CK$60,FALSE),\"\")),CK12),IF(AND(ISNUMBER($AI12),$AJ12<>\"\"),CK12,\"\"))","v":""},{"$f":"IF(ISNUMBER($W12),IF($AH12=FALSE,IF($W12<1000,IFERROR(VLOOKUP($W12,FeedLib[#All],CL$60,FALSE),\"\"),IFERROR(VLOOKUP($W12,FeedLibUser[#All],CL$60,FALSE),\"\")),CL12),IF(AND(ISNUMBER($AI12),$AJ12<>\"\"),CL12,\"\"))","v":""},{"$f":"IF(ISNUMBER($W12),IF($AH12=FALSE,IF($W12<1000,IFERROR(VLOOKUP($W12,FeedLib[#All],CM$60,FALSE),\"\"),IFERROR(VLOOKUP($W12,FeedLibUser[#All],CM$60,FALSE),\"\")),CM12),IF(AND(ISNUMBER($AI12),$AJ12<>\"\"),CM12,\"\"))","v":""}]
[null,"Predicted empty body weight (EBW)",null,{"$f":"F46/IF(parmUnit=1,1,1/2.2046)","v":0},{"$f":"CHOOSE(parmUnit,\"kg\",\"lb\")","v":"lb"},{"$f":"IF(F36<>0,(30.26+1.362*F36),0)","v":0},"kg","Garrett and Hinman (1969) and Tedeschi et al. (2004)",null,"2-Way",null,{"$f":"(VLOOKUP($F$22,$J$12:$S$42,L$44)+VLOOKUP($F$23,$J$12:$S$42,L$44))/2","v":1},1.1000000000000001,82.672499999999999,17.636800000000001,4,3.8,8.3000000000000007,0.58499999999999996,null,null,null,null,null,null,null,null,null,null,null,null,null,null,null,"","",{"$f":"IF(ISNUMBER($W13),IF($AH13=FALSE,IF($W13<1000,IFERROR(VLOOKUP($W13,FeedLib[#All],AK$60,FALSE),\"\")*(IF(parmUnit=1,1,2000/2204.6)),IFERROR(VLOOKUP($W13,FeedLibUser[#All],AK$60,FALSE),\"\")*(IF(parmUnit=1,1,2000/2204.6))),AK13),IF(AND(ISNUMBER($AI13),$AJ13<>\"\"),AK13,\"\"))","v":""},{"$f":"IF(ISNUMBER($W13),IF($AH13=FALSE,IF($W13<1000,IFERROR(VLOOKUP($W13,FeedLib[#All],AL$60,FALSE),\"\"),IFERROR(VLOOKUP($W13,FeedLibUser[#All],AL$60,FALSE),\"\")),AL13),IF(AND(ISNUMBER($AI13),$AJ13<>\"\"),AL13,\"\"))","v":""},{"$f":"IF(ISNUMBER($W13),IF($AH13=FALSE,IF($W13<1000,IFERROR(VLOOKUP($W13,FeedLib[#All],AM$60,FALSE),\"\"),IFERROR(VLOOKUP($W13,FeedLibUser[#All],AM$60,FALSE),\"\")),AM13),IF(AND(ISNUMBER($AI13),$AJ13<>\"\"),AM13,\"\"))","v":""},{"$f":"IF(ISNUMBER($W13),IF($AH13=FALSE,IF($W13<1000,IFERROR(VLOOKUP($W13,FeedLib[#All],AN$60,FALSE),\"\"),IFERROR(VLOOKUP($W13,FeedLibUser[#All],AN$60,FALSE),\"\")),AN13),IF(AND(ISNUMBER($AI13),$AJ13<>\"\"),AN13,\"\"))","v":""},{"$f":"IF(ISNUMBER($W13),IF($AH13=FALSE,IF($W13<1000,IFERROR(VLOOKUP($W13,FeedLib[#All],AO$60,FALSE),\"\"),IFERROR(VLOOKUP($W13,FeedLibUser[#All],AO$60,FALSE),\"\")),AO13),IF(AND(ISNUMBER($AI13),$AJ13<>\"\"),AO13,\"\"))","v":""},{"$f":"IF(ISNUMBER($W13),IF($AH13=FALSE,IF($W13<1000,IFERROR(VLOOKUP($W13,FeedLib[#All],AP$60,FALSE),\"\"),IFERROR(VLOOKUP($W13,FeedLibUser[#All],AP$60,FALSE),\"\")),AP13),IF(AND(ISNUMBER($AI13),$AJ13<>\"\"),AP13,\"\"))","v":""},{"$f":"IF(ISNUMBER($W13),IF($AH13=FALSE,IF($W13<1000,IFERROR(VLOOKUP($W13,FeedLib[#All],AQ$60,FALSE),\"\"),IFERROR(VLOOKUP($W13,FeedLibUser[#All],AQ$60,FALSE),\"\")),AQ13),IF(AND(ISNUMBER($AI13),$AJ13<>\"\"),AQ13,\"\"))","v":""},{"$f":"IF(ISNUMBER($W13),IF($AH13=FALSE,IF($W13<1000,IFERROR(VLOOKUP($W13,FeedLib[#All],AR$60,FALSE),\"\"),IFERROR(VLOOKUP($W13,FeedLibUser[#All],AR$60,FALSE),\"\")),AR13),IF(AND(ISNUMBER($AI13),$AJ13<>\"\"),AR13,\"\"))","v":""},{"$f":"IF(ISNUMBER($W13),IF($AH13=FALSE,IF($W13<1000,IFERROR(VLOOKUP($W13,FeedLib[#All],AS$60,FALSE),\"\"),IFERROR(VLOOKUP($W13,FeedLibUser[#All],AS$60,FALSE),\"\")),AS13),IF(AND(ISNUMBER($AI13),$AJ13<>\"\"),AS13,\"\"))","v":""},{"$f":"IF(ISNUMBER($W13),IF($AH13=FALSE,IF($W13<1000,IFERROR(VLOOKUP($W13,FeedLib[#All],AT$60,FALSE),\"\"),IFERROR(VLOOKUP($W13,FeedLibUser[#All],AT$60,FALSE),\"\")),AT13),IF(AND(ISNUMBER($AI13),$AJ13<>\"\"),AT13,\"\"))","v":""},{"$f":"IF(ISNUMBER($W13),IF($AH13=FALSE,IF($W13<1000,IFERROR(VLOOKUP($W13,FeedLib[#All],AU$60,FALSE),\"\"),IFERROR(VLOOKUP($W13,FeedLibUser[#All],AU$60,FALSE),\"\")),AU13),IF(AND(ISNUMBER($AI13),$AJ13<>\"\"),AU13,\"\"))","v":""},{"$f":"IF(ISNUMBER($W13),IF($AH13=FALSE,IF($W13<1000,IFERROR(VLOOKUP($W13,FeedLib[#All],AV$60,FALSE),\"\"),IFERROR(VLOOKUP($W13,FeedLibUser[#All],AV$60,FALSE),\"\")),AV13),IF(AND(ISNUMBER($AI13),$AJ13<>\"\"),AV13,\"\"))","v":""},{"$f":"IF(ISNUMBER($W13),IF($AH13=FALSE,IF($W13<1000,IFERROR(VLOOKUP($W13,FeedLib[#All],AW$60,FALSE),\"\"),IFERROR(VLOOKUP($W13,FeedLibUser[#All],AW$60,FALSE),\"\")),AW13),IF(AND(ISNUMBER($AI13),$AJ13<>\"\"),AW13,\"\"))","v":""},{"$f":"IF(ISNUMBER($W13),IF($AH13=FALSE,IF($W13<1000,IFERROR(VLOOKUP($W13,FeedLib[#All],AX$60,FALSE),\"\"),IFERROR(VLOOKUP($W13,FeedLibUser[#All],AX$60,FALSE),\"\")),AX13),IF(AND(ISNUMBER($AI13),$AJ13<>\"\"),AX13,\"\"))","v":""},{"$f":"IF(ISNUMBER($W13),IF($AH13=FALSE,IF($W13<1000,IFERROR(VLOOKUP($W13,FeedLib[#All],AY$60,FALSE),\"\")/IF(parmUnit=1,1,2.2046),IFERROR(VLOOKUP($W13,FeedLibUser[#All],AY$60,FALSE),\"\")/IF(parmUnit=1,1,2.2046)),AY13),IF(AND(ISNUMBER($AI13),$AJ13<>\"\"),AY13,\"\"))","v":""},{"$f":"IF(ISNUMBER($W13),IF($AH13=FALSE,IF($W13<1000,IFERROR(VLOOKUP($W13,FeedLib[#All],AZ$60,FALSE),\"\")/IF(parmUnit=1,1,2.2046),IFERROR(VLOOKUP($W13,FeedLibUser[#All],AZ$60,FALSE),\"\")/IF(parmUnit=1,1,2.2046)),AZ13),IF(AND(ISNUMBER($AI13),$AJ13<>\"\"),AZ13,\"\"))","v":""},{"$f":"IF(ISNUMBER($W13),IF($AH13=FALSE,IF($W13<1000,IFERROR(VLOOKUP($W13,FeedLib[#All],BA$60,FALSE),\"\")/IF(parmUnit=1,1,2.2046),IFERROR(VLOOKUP($W13,FeedLibUser[#All],BA$60,FALSE),\"\")/IF(parmUnit=1,1,2.2046)),BA13),IF(AND(ISNUMBER($AI13),$AJ13<>\"\"),BA13,\"\"))","v":""},{"$f":"IF(ISNUMBER($W13),IF($AH13=FALSE,IF($W13<1000,IFERROR(VLOOKUP($W13,FeedLib[#All],BB$60,FALSE),\"\"),IFERROR(VLOOKUP($W13,FeedLibUser[#All],BB$60,FALSE),\"\")),BB13),IF(AND(ISNUMBER($AI13),$AJ13<>\"\"),BB13,\"\"))","v":""},{"$f":"IF(ISNUMBER($W13),IF($AH13=FALSE,IF($W13<1000,IFERROR(VLOOKUP($W13,FeedLib[#All],BC$60,FALSE),\"\"),IFERROR(VLOOKUP($W13,FeedLibUser[#All],BC$60,FALSE),\"\")),BC13),IF(AND(ISNUMBER($AI13),$AJ13<>\"\"),BC13,\"\"))","v":""},{"$f":"IF(ISNUMBER($W13),IF($AH13=FALSE,IF($W13<1000,IFERROR(VLOOKUP($W13,FeedLib[#All],BD$60,FALSE),\"\"),IFERROR(VLOOKUP($W13,FeedLibUser[#All],BD$60,FALSE),\"\")),BD13),IF(AND(ISNUMBER($AI13),$AJ13<>\"\"),BD13,\"\"))","v":""},{"$f":"IF(ISNUMBER($W13),IF($AH13=FALSE,IF($W13<1000,IFERROR(VLOOKUP($W13,FeedLib[#All],BE$60,FALSE),\"\"),IFERROR(VLOOKUP($W13,FeedLibUser[#All],BE$60,FALSE),\"\")),BE13),IF(AND(ISNUMBER($AI13),$AJ13<>\"\"),BE13,\"\"))","v":""},{"$f":"IF(ISNUMBER($W13),IF($AH13=FALSE,IF($W13<1000,IFERROR(VLOOKUP($W13,FeedLib[#All],BF$60,FALSE),\"\"),IFERROR(VLOOKUP($W13,FeedLibUser[#All],BF$60,FALSE),\"\")),BF13),IF(AND(ISNUMBER($AI13),$AJ13<>\"\"),BF13,\"\"))","v":""},{"$f":"IF(ISNUMBER($W13),IF($AH13=FALSE,IF($W13<1000,IFERROR(VLOOKUP($W13,FeedLib[#All],BG$60,FALSE),\"\"),IFERROR(VLOOKUP($W13,FeedLibUser[#All],BG$60,FALSE),\"\")),BG13),IF(AND(ISNUMBER($AI13),$AJ13<>\"\"),BG13,\"\"))","v":""},{"$f":"IF(ISNUMBER($W13),IF($AH13=FALSE,IF($W13<1000,IFERROR(VLOOKUP($W13,FeedLib[#All],BH$60,FALSE),\"\"),IFERROR(VLOOKUP($W13,FeedLibUser[#All],BH$60,FALSE),\"\")),BH13),IF(AND(ISNUMBER($AI13),$AJ13<>\"\"),BH13,\"\"))","v":""},{"$f":"IF(ISNUMBER($W13),IF($AH13=FALSE,IF($W13<1000,IFERROR(VLOOKUP($W13,FeedLib[#All],BI$60,FALSE),\"\"),IFERROR(VLOOKUP($W13,FeedLibUser[#All],BI$60,FALSE),\"\")),BI13),IF(AND(ISNUMBER($AI13),$AJ13<>\"\"),BI13,\"\"))","v":""},{"$f":"IF(ISNUMBER($W13),IF($AH13=FALSE,IF($W13<1000,IFERROR(VLOOKUP($W13,FeedLib[#All],BJ$60,FALSE),\"\"),IFERROR(VLOOKUP($W13,FeedLibUser[#All],BJ$60,FALSE),\"\")),BJ13),IF(AND(ISNUMBER($AI13),$AJ13<>\"\"),BJ13,\"\"))","v":""},{"$f":"IF(ISNUMBER($W13),IF($AH13=FALSE,IF($W13<1000,IFERROR(VLOOKUP($W13,FeedLib[#All],BK$60,FALSE),\"\"),IFERROR(VLOOKUP($W13,FeedLibUser[#All],BK$60,FALSE),\"\")),BK13),IF(AND(ISNUMBER($AI13),$AJ13<>\"\"),BK13,\"\"))","v":""},{"$f":"IF(ISNUMBER($W13),IF($AH13=FALSE,IF($W13<1000,IFERROR(VLOOKUP($W13,FeedLib[#All],BL$60,FALSE),\"\"),IFERROR(VLOOKUP($W13,FeedLibUser[#All],BL$60,FALSE),\"\")),BL13),IF(AND(ISNUMBER($AI13),$AJ13<>\"\"),BL13,\"\"))","v":""},{"$f":"IF(ISNUMBER($W13),IF($AH13=FALSE,IF($W13<1000,IFERROR(VLOOKUP($W13,FeedLib[#All],BM$60,FALSE),\"\"),IFERROR(VLOOKUP($W13,FeedLibUser[#All],BM$60,FALSE),\"\")),BM13),IF(AND(ISNUMBER($AI13),$AJ13<>\"\"),BM13,\"\"))","v":""},{"$f":"IF(ISNUMBER($W13),IF($AH13=FALSE,IF($W13<1000,IFERROR(VLOOKUP($W13,FeedLib[#All],BN$60,FALSE),\"\"),IFERROR(VLOOKUP($W13,FeedLibUser[#All],BN$60,FALSE),\"\")),BN13),IF(AND(ISNUMBER($AI13),$AJ13<>\"\"),BN13,\"\"))","v":""},{"$f":"IF(ISNUMBER($W13),IF($AH13=FALSE,IF($W13<1000,IFERROR(VLOOKUP($W13,FeedLib[#All],BO$60,FALSE),\"\"),IFERROR(VLOOKUP($W13,FeedLibUser[#All],BO$60,FALSE),\"\")),BO13),IF(AND(ISNUMBER($AI13),$AJ13<>\"\"),BO13,\"\"))","v":""},{"$f":"IF(ISNUMBER($W13),IF($AH13=FALSE,IF($W13<1000,IFERROR(VLOOKUP($W13,FeedLib[#All],BP$60,FALSE),\"\"),IFERROR(VLOOKUP($W13,FeedLibUser[#All],BP$60,FALSE),\"\")),BP13),IF(AND(ISNUMBER($AI13),$AJ13<>\"\"),BP13,\"\"))","v":""},{"$f":"IF(ISNUMBER($W13),IF($AH13=FALSE,IF($W13<1000,IFERROR(VLOOKUP($W13,FeedLib[#All],BQ$60,FALSE),\"\"),IFERROR(VLOOKUP($W13,FeedLibUser[#All],BQ$60,FALSE),\"\")),BQ13),IF(AND(ISNUMBER($AI13),$AJ13<>\"\"),BQ13,\"\"))","v":""},{"$f":"IF(ISNUMBER($W13),IF($AH13=FALSE,IF($W13<1000,IFERROR(VLOOKUP($W13,FeedLib[#All],BR$60,FALSE),\"\"),IFERROR(VLOOKUP($W13,FeedLibUser[#All],BR$60,FALSE),\"\")),BR13),IF(AND(ISNUMBER($AI13),$AJ13<>\"\"),BR13,\"\"))","v":""},{"$f":"IF(ISNUMBER($W13),IF($AH13=FALSE,IF($W13<1000,IFERROR(VLOOKUP($W13,FeedLib[#All],BS$60,FALSE),\"\"),IFERROR(VLOOKUP($W13,FeedLibUser[#All],BS$60,FALSE),\"\")),BS13),IF(AND(ISNUMBER($AI13),$AJ13<>\"\"),BS13,\"\"))","v":""},{"$f":"IF(ISNUMBER($W13),IF($AH13=FALSE,IF($W13<1000,IFERROR(VLOOKUP($W13,FeedLib[#All],BT$60,FALSE),\"\"),IFERROR(VLOOKUP($W13,FeedLibUser[#All],BT$60,FALSE),\"\")),BT13),IF(AND(ISNUMBER($AI13),$AJ13<>\"\"),BT13,\"\"))","v":""},{"$f":"IF(ISNUMBER($W13),IF($AH13=FALSE,IF($W13<1000,IFERROR(VLOOKUP($W13,FeedLib[#All],BU$60,FALSE),\"\"),IFERROR(VLOOKUP($W13,FeedLibUser[#All],BU$60,FALSE),\"\")),BU13),IF(AND(ISNUMBER($AI13),$AJ13<>\"\"),BU13,\"\"))","v":""},{"$f":"IF(ISNUMBER($W13),IF($AH13=FALSE,IF($W13<1000,IFERROR(VLOOKUP($W13,FeedLib[#All],BV$60,FALSE),\"\"),IFERROR(VLOOKUP($W13,FeedLibUser[#All],BV$60,FALSE),\"\")),BV13),IF(AND(ISNUMBER($AI13),$AJ13<>\"\"),BV13,\"\"))","v":""},{"$f":"IF(ISNUMBER($W13),IF($AH13=FALSE,IF($W13<1000,IFERROR(VLOOKUP($W13,FeedLib[#All],BW$60,FALSE),\"\"),IFERROR(VLOOKUP($W13,FeedLibUser[#All],BW$60,FALSE),\"\")),BW13),IF(AND(ISNUMBER($AI13),$AJ13<>\"\"),BW13,\"\"))","v":""},{"$f":"IF(ISNUMBER($W13),IF($AH13=FALSE,IF($W13<1000,IFERROR(VLOOKUP($W13,FeedLib[#All],BX$60,FALSE),\"\"),IFERROR(VLOOKUP($W13,FeedLibUser[#All],BX$60,FALSE),\"\")),BX13),IF(AND(ISNUMBER($AI13),$AJ13<>\"\"),BX13,\"\"))","v":""},{"$f":"IF(ISNUMBER($W13),IF($AH13=FALSE,IF($W13<1000,IFERROR(VLOOKUP($W13,FeedLib[#All],BY$60,FALSE),\"\"),IFERROR(VLOOKUP($W13,FeedLibUser[#All],BY$60,FALSE),\"\")),BY13),IF(AND(ISNUMBER($AI13),$AJ13<>\"\"),BY13,\"\"))","v":""},{"$f":"IF(ISNUMBER($W13),IF($AH13=FALSE,IF($W13<1000,IFERROR(VLOOKUP($W13,FeedLib[#All],BZ$60,FALSE),\"\"),IFERROR(VLOOKUP($W13,FeedLibUser[#All],BZ$60,FALSE),\"\")),BZ13),IF(AND(ISNUMBER($AI13),$AJ13<>\"\"),BZ13,\"\"))","v":""},{"$f":"IF(ISNUMBER($W13),IF($AH13=FALSE,IF($W13<1000,IFERROR(VLOOKUP($W13,FeedLib[#All],CA$60,FALSE),\"\"),IFERROR(VLOOKUP($W13,FeedLibUser[#All],CA$60,FALSE),\"\")),CA13),IF(AND(ISNUMBER($AI13),$AJ13<>\"\"),CA13,\"\"))","v":""},{"$f":"IF(ISNUMBER($W13),IF($AH13=FALSE,IF($W13<1000,IFERROR(VLOOKUP($W13,FeedLib[#All],CB$60,FALSE),\"\"),IFERROR(VLOOKUP($W13,FeedLibUser[#All],CB$60,FALSE),\"\")),CB13),IF(AND(ISNUMBER($AI13),$AJ13<>\"\"),CB13,\"\"))","v":""},{"$f":"IF(ISNUMBER($W13),IF($AH13=FALSE,IF($W13<1000,IFERROR(VLOOKUP($W13,FeedLib[#All],CC$60,FALSE),\"\"),IFERROR(VLOOKUP($W13,FeedLibUser[#All],CC$60,FALSE),\"\")),CC13),IF(AND(ISNUMBER($AI13),$AJ13<>\"\"),CC13,\"\"))","v":""},{"$f":"IF(ISNUMBER($W13),IF($AH13=FALSE,IF($W13<1000,IFERROR(VLOOKUP($W13,FeedLib[#All],CD$60,FALSE),\"\"),IFERROR(VLOOKUP($W13,FeedLibUser[#All],CD$60,FALSE),\"\")),CD13),IF(AND(ISNUMBER($AI13),$AJ13<>\"\"),CD13,\"\"))","v":""},{"$f":"IF(ISNUMBER($W13),IF($AH13=FALSE,IF($W13<1000,IFERROR(VLOOKUP($W13,FeedLib[#All],CE$60,FALSE),\"\"),IFERROR(VLOOKUP($W13,FeedLibUser[#All],CE$60,FALSE),\"\")),CE13),IF(AND(ISNUMBER($AI13),$AJ13<>\"\"),CE13,\"\"))","v":""},{"$f":"IF(ISNUMBER($W13),IF($AH13=FALSE,IF($W13<1000,IFERROR(VLOOKUP($W13,FeedLib[#All],CF$60,FALSE),\"\"),IFERROR(VLOOKUP($W13,FeedLibUser[#All],CF$60,FALSE),\"\")),CF13),IF(AND(ISNUMBER($AI13),$AJ13<>\"\"),CF13,\"\"))","v":""},{"$f":"IF(ISNUMBER($W13),IF($AH13=FALSE,IF($W13<1000,IFERROR(VLOOKUP($W13,FeedLib[#All],CG$60,FALSE),\"\"),IFERROR(VLOOKUP($W13,FeedLibUser[#All],CG$60,FALSE),\"\")),CG13),IF(AND(ISNUMBER($AI13),$AJ13<>\"\"),CG13,\"\"))","v":""},{"$f":"IF(ISNUMBER($W13),IF($AH13=FALSE,IF($W13<1000,IFERROR(VLOOKUP($W13,FeedLib[#All],CH$60,FALSE),\"\"),IFERROR(VLOOKUP($W13,FeedLibUser[#All],CH$60,FALSE),\"\")),CH13),IF(AND(ISNUMBER($AI13),$AJ13<>\"\"),CH13,\"\"))","v":""},{"$f":"IF(ISNUMBER($W13),IF($AH13=FALSE,IF($W13<1000,IFERROR(VLOOKUP($W13,FeedLib[#All],CI$60,FALSE),\"\"),IFERROR(VLOOKUP($W13,FeedLibUser[#All],CI$60,FALSE),\"\")),CI13),IF(AND(ISNUMBER($AI13),$AJ13<>\"\"),CI13,\"\"))","v":""},{"$f":"IF(ISNUMBER($W13),IF($AH13=FALSE,IF($W13<1000,IFERROR(VLOOKUP($W13,FeedLib[#All],CJ$60,FALSE),\"\"),IFERROR(VLOOKUP($W13,FeedLibUser[#All],CJ$60,FALSE),\"\")),CJ13),IF(AND(ISNUMBER($AI13),$AJ13<>\"\"),CJ13,\"\"))","v":""},{"$f":"IF(ISNUMBER($W13),IF($AH13=FALSE,IF($W13<1000,IFERROR(VLOOKUP($W13,FeedLib[#All],CK$60,FALSE),\"\"),IFERROR(VLOOKUP($W13,FeedLibUser[#All],CK$60,FALSE),\"\")),CK13),IF(AND(ISNUMBER($AI13),$AJ13<>\"\"),CK13,\"\"))","v":""},{"$f":"IF(ISNUMBER($W13),IF($AH13=FALSE,IF($W13<1000,IFERROR(VLOOKUP($W13,FeedLib[#All],CL$60,FALSE),\"\"),IFERROR(VLOOKUP($W13,FeedLibUser[#All],CL$60,FALSE),\"\")),CL13),IF(AND(ISNUMBER($AI13),$AJ13<>\"\"),CL13,\"\"))","v":""},{"$f":"IF(ISNUMBER($W13),IF($AH13=FALSE,IF($W13<1000,IFERROR(VLOOKUP($W13,FeedLib[#All],CM$60,FALSE),\"\"),IFERROR(VLOOKUP($W13,FeedLibUser[#All],CM$60,FALSE),\"\")),CM13),IF(AND(ISNUMBER($AI13),$AJ13<>\"\"),CM13,\"\"))","v":""}]
[null,{"$f":"\"Predicted unshrunk MW at \"&CHOOSE(F19,\"22%\",\"25%\",\"27%\",\"28%\")&\" EBF\"","v":"Predicted unshrunk MW at 27% EBF"},null,{"$f":"F47/IF(parmUnit=1,1,1/2.2046)","v":0},{"$f":"CHOOSE(parmUnit,\"kg\",\"lb\")","v":"lb"},{"$f":"IF(AND(F45<>0,F46<>0),(F46+(CHOOSE(F19,22,25,27,28)-F45)*14.26)/0.891/0.96,0)","v":0},"kg","Guirroy et al. (2001)",null,"3-Way",null,{"$f":"(VLOOKUP($F$22,$J$12:$S$42,L$44)+(VLOOKUP($F$23,$J$12:$S$42,L$44)+VLOOKUP($F$24,$J$12:$S$42,L$44))/2)/2","v":1},{"$f":"(VLOOKUP($F$22,$J$12:$S$42,M$44)+(VLOOKUP($F$23,$J$12:$S$42,M$44)+VLOOKUP($F$24,$J$12:$S$42,M$44))/2)/2","v":1.1000000000000001},78.263300000000001,17.085650000000001,4,3.8,8.3000000000000007,0.59250000000000003,null,null,null,null,null,null,null,null,null,null,null,null,null,null,null,"","",{"$f":"IF(ISNUMBER($W14),IF($AH14=FALSE,IF($W14<1000,IFERROR(VLOOKUP($W14,FeedLib[#All],AK$60,FALSE),\"\")*(IF(parmUnit=1,1,2000/2204.6)),IFERROR(VLOOKUP($W14,FeedLibUser[#All],AK$60,FALSE),\"\")*(IF(parmUnit=1,1,2000/2204.6))),AK14),IF(AND(ISNUMBER($AI14),$AJ14<>\"\"),AK14,\"\"))","v":""},{"$f":"IF(ISNUMBER($W14),IF($AH14=FALSE,IF($W14<1000,IFERROR(VLOOKUP($W14,FeedLib[#All],AL$60,FALSE),\"\"),IFERROR(VLOOKUP($W14,FeedLibUser[#All],AL$60,FALSE),\"\")),AL14),IF(AND(ISNUMBER($AI14),$AJ14<>\"\"),AL14,\"\"))","v":""},{"$f":"IF(ISNUMBER($W14),IF($AH14=FALSE,IF($W14<1000,IFERROR(VLOOKUP($W14,FeedLib[#All],AM$60,FALSE),\"\"),IFERROR(VLOOKUP($W14,FeedLibUser[#All],AM$60,FALSE),\"\")),AM14),IF(AND(ISNUMBER($AI14),$AJ14<>\"\"),AM14,\"\"))","v":""},{"$f":"IF(ISNUMBER($W14),IF($AH14=FALSE,IF($W14<1000,IFERROR(VLOOKUP($W14,FeedLib[#All],AN$60,FALSE),\"\"),IFERROR(VLOOKUP($W14,FeedLibUser[#All],AN$60,FALSE),\"\")),AN14),IF(AND(ISNUMBER($AI14),$AJ14<>\"\"),AN14,\"\"))","v":""},{"$f":"IF(ISNUMBER($W14),IF($AH14=FALSE,IF($W14<1000,IFERROR(VLOOKUP($W14,FeedLib[#All],AO$60,FALSE),\"\"),IFERROR(VLOOKUP($W14,FeedLibUser[#All],AO$60,FALSE),\"\")),AO14),IF(AND(ISNUMBER($AI14),$AJ14<>\"\"),AO14,\"\"))","v":""},{"$f":"IF(ISNUMBER($W14),IF($AH14=FALSE,IF($W14<1000,IFERROR(VLOOKUP($W14,FeedLib[#All],AP$60,FALSE),\"\"),IFERROR(VLOOKUP($W14,FeedLibUser[#All],AP$60,FALSE),\"\")),AP14),IF(AND(ISNUMBER($AI14),$AJ14<>\"\"),AP14,\"\"))","v":""},{"$f":"IF(ISNUMBER($W14),IF($AH14=FALSE,IF($W14<1000,IFERROR(VLOOKUP($W14,FeedLib[#All],AQ$60,FALSE),\"\"),IFERROR(VLOOKUP($W14,FeedLibUser[#All],AQ$60,FALSE),\"\")),AQ14),IF(AND(ISNUMBER($AI14),$AJ14<>\"\"),AQ14,\"\"))","v":""},{"$f":"IF(ISNUMBER($W14),IF($AH14=FALSE,IF($W14<1000,IFERROR(VLOOKUP($W14,FeedLib[#All],AR$60,FALSE),\"\"),IFERROR(VLOOKUP($W14,FeedLibUser[#All],AR$60,FALSE),\"\")),AR14),IF(AND(ISNUMBER($AI14),$AJ14<>\"\"),AR14,\"\"))","v":""},{"$f":"IF(ISNUMBER($W14),IF($AH14=FALSE,IF($W14<1000,IFERROR(VLOOKUP($W14,FeedLib[#All],AS$60,FALSE),\"\"),IFERROR(VLOOKUP($W14,FeedLibUser[#All],AS$60,FALSE),\"\")),AS14),IF(AND(ISNUMBER($AI14),$AJ14<>\"\"),AS14,\"\"))","v":""},{"$f":"IF(ISNUMBER($W14),IF($AH14=FALSE,IF($W14<1000,IFERROR(VLOOKUP($W14,FeedLib[#All],AT$60,FALSE),\"\"),IFERROR(VLOOKUP($W14,FeedLibUser[#All],AT$60,FALSE),\"\")),AT14),IF(AND(ISNUMBER($AI14),$AJ14<>\"\"),AT14,\"\"))","v":""},{"$f":"IF(ISNUMBER($W14),IF($AH14=FALSE,IF($W14<1000,IFERROR(VLOOKUP($W14,FeedLib[#All],AU$60,FALSE),\"\"),IFERROR(VLOOKUP($W14,FeedLibUser[#All],AU$60,FALSE),\"\")),AU14),IF(AND(ISNUMBER($AI14),$AJ14<>\"\"),AU14,\"\"))","v":""},{"$f":"IF(ISNUMBER($W14),IF($AH14=FALSE,IF($W14<1000,IFERROR(VLOOKUP($W14,FeedLib[#All],AV$60,FALSE),\"\"),IFERROR(VLOOKUP($W14,FeedLibUser[#All],AV$60,FALSE),\"\")),AV14),IF(AND(ISNUMBER($AI14),$AJ14<>\"\"),AV14,\"\"))","v":""},{"$f":"IF(ISNUMBER($W14),IF($AH14=FALSE,IF($W14<1000,IFERROR(VLOOKUP($W14,FeedLib[#All],AW$60,FALSE),\"\"),IFERROR(VLOOKUP($W14,FeedLibUser[#All],AW$60,FALSE),\"\")),AW14),IF(AND(ISNUMBER($AI14),$AJ14<>\"\"),AW14,\"\"))","v":""},{"$f":"IF(ISNUMBER($W14),IF($AH14=FALSE,IF($W14<1000,IFERROR(VLOOKUP($W14,FeedLib[#All],AX$60,FALSE),\"\"),IFERROR(VLOOKUP($W14,FeedLibUser[#All],AX$60,FALSE),\"\")),AX14),IF(AND(ISNUMBER($AI14),$AJ14<>\"\"),AX14,\"\"))","v":""},{"$f":"IF(ISNUMBER($W14),IF($AH14=FALSE,IF($W14<1000,IFERROR(VLOOKUP($W14,FeedLib[#All],AY$60,FALSE),\"\")/IF(parmUnit=1,1,2.2046),IFERROR(VLOOKUP($W14,FeedLibUser[#All],AY$60,FALSE),\"\")/IF(parmUnit=1,1,2.2046)),AY14),IF(AND(ISNUMBER($AI14),$AJ14<>\"\"),AY14,\"\"))","v":""},{"$f":"IF(ISNUMBER($W14),IF($AH14=FALSE,IF($W14<1000,IFERROR(VLOOKUP($W14,FeedLib[#All],AZ$60,FALSE),\"\")/IF(parmUnit=1,1,2.2046),IFERROR(VLOOKUP($W14,FeedLibUser[#All],AZ$60,FALSE),\"\")/IF(parmUnit=1,1,2.2046)),AZ14),IF(AND(ISNUMBER($AI14),$AJ14<>\"\"),AZ14,\"\"))","v":""},{"$f":"IF(ISNUMBER($W14),IF($AH14=FALSE,IF($W14<1000,IFERROR(VLOOKUP($W14,FeedLib[#All],BA$60,FALSE),\"\")/IF(parmUnit=1,1,2.2046),IFERROR(VLOOKUP($W14,FeedLibUser[#All],BA$60,FALSE),\"\")/IF(parmUnit=1,1,2.2046)),BA14),IF(AND(ISNUMBER($AI14),$AJ14<>\"\"),BA14,\"\"))","v":""},{"$f":"IF(ISNUMBER($W14),IF($AH14=FALSE,IF($W14<1000,IFERROR(VLOOKUP($W14,FeedLib[#All],BB$60,FALSE),\"\"),IFERROR(VLOOKUP($W14,FeedLibUser[#All],BB$60,FALSE),\"\")),BB14),IF(AND(ISNUMBER($AI14),$AJ14<>\"\"),BB14,\"\"))","v":""},{"$f":"IF(ISNUMBER($W14),IF($AH14=FALSE,IF($W14<1000,IFERROR(VLOOKUP($W14,FeedLib[#All],BC$60,FALSE),\"\"),IFERROR(VLOOKUP($W14,FeedLibUser[#All],BC$60,FALSE),\"\")),BC14),IF(AND(ISNUMBER($AI14),$AJ14<>\"\"),BC14,\"\"))","v":""},{"$f":"IF(ISNUMBER($W14),IF($AH14=FALSE,IF($W14<1000,IFERROR(VLOOKUP($W14,FeedLib[#All],BD$60,FALSE),\"\"),IFERROR(VLOOKUP($W14,FeedLibUser[#All],BD$60,FALSE),\"\")),BD14),IF(AND(ISNUMBER($AI14),$AJ14<>\"\"),BD14,\"\"))","v":""},{"$f":"IF(ISNUMBER($W14),IF($AH14=FALSE,IF($W14<1000,IFERROR(VLOOKUP($W14,FeedLib[#All],BE$60,FALSE),\"\"),IFERROR(VLOOKUP($W14,FeedLibUser[#All],BE$60,FALSE),\"\")),BE14),IF(AND(ISNUMBER($AI14),$AJ14<>\"\"),BE14,\"\"))","v":""},{"$f":"IF(ISNUMBER($W14),IF($AH14=FALSE,IF($W14<1000,IFERROR(VLOOKUP($W14,FeedLib[#All],BF$60,FALSE),\"\"),IFERROR(VLOOKUP($W14,FeedLibUser[#All],BF$60,FALSE),\"\")),BF14),IF(AND(ISNUMBER($AI14),$AJ14<>\"\"),BF14,\"\"))","v":""},{"$f":"IF(ISNUMBER($W14),IF($AH14=FALSE,IF($W14<1000,IFERROR(VLOOKUP($W14,FeedLib[#All],BG$60,FALSE),\"\"),IFERROR(VLOOKUP($W14,FeedLibUser[#All],BG$60,FALSE),\"\")),BG14),IF(AND(ISNUMBER($AI14),$AJ14<>\"\"),BG14,\"\"))","v":""},{"$f":"IF(ISNUMBER($W14),IF($AH14=FALSE,IF($W14<1000,IFERROR(VLOOKUP($W14,FeedLib[#All],BH$60,FALSE),\"\"),IFERROR(VLOOKUP($W14,FeedLibUser[#All],BH$60,FALSE),\"\")),BH14),IF(AND(ISNUMBER($AI14),$AJ14<>\"\"),BH14,\"\"))","v":""},{"$f":"IF(ISNUMBER($W14),IF($AH14=FALSE,IF($W14<1000,IFERROR(VLOOKUP($W14,FeedLib[#All],BI$60,FALSE),\"\"),IFERROR(VLOOKUP($W14,FeedLibUser[#All],BI$60,FALSE),\"\")),BI14),IF(AND(ISNUMBER($AI14),$AJ14<>\"\"),BI14,\"\"))","v":""},{"$f":"IF(ISNUMBER($W14),IF($AH14=FALSE,IF($W14<1000,IFERROR(VLOOKUP($W14,FeedLib[#All],BJ$60,FALSE),\"\"),IFERROR(VLOOKUP($W14,FeedLibUser[#All],BJ$60,FALSE),\"\")),BJ14),IF(AND(ISNUMBER($AI14),$AJ14<>\"\"),BJ14,\"\"))","v":""},{"$f":"IF(ISNUMBER($W14),IF($AH14=FALSE,IF($W14<1000,IFERROR(VLOOKUP($W14,FeedLib[#All],BK$60,FALSE),\"\"),IFERROR(VLOOKUP($W14,FeedLibUser[#All],BK$60,FALSE),\"\")),BK14),IF(AND(ISNUMBER($AI14),$AJ14<>\"\"),BK14,\"\"))","v":""},{"$f":"IF(ISNUMBER($W14),IF($AH14=FALSE,IF($W14<1000,IFERROR(VLOOKUP($W14,FeedLib[#All],BL$60,FALSE),\"\"),IFERROR(VLOOKUP($W14,FeedLibUser[#All],BL$60,FALSE),\"\")),BL14),IF(AND(ISNUMBER($AI14),$AJ14<>\"\"),BL14,\"\"))","v":""},{"$f":"IF(ISNUMBER($W14),IF($AH14=FALSE,IF($W14<1000,IFERROR(VLOOKUP($W14,FeedLib[#All],BM$60,FALSE),\"\"),IFERROR(VLOOKUP($W14,FeedLibUser[#All],BM$60,FALSE),\"\")),BM14),IF(AND(ISNUMBER($AI14),$AJ14<>\"\"),BM14,\"\"))","v":""},{"$f":"IF(ISNUMBER($W14),IF($AH14=FALSE,IF($W14<1000,IFERROR(VLOOKUP($W14,FeedLib[#All],BN$60,FALSE),\"\"),IFERROR(VLOOKUP($W14,FeedLibUser[#All],BN$60,FALSE),\"\")),BN14),IF(AND(ISNUMBER($AI14),$AJ14<>\"\"),BN14,\"\"))","v":""},{"$f":"IF(ISNUMBER($W14),IF($AH14=FALSE,IF($W14<1000,IFERROR(VLOOKUP($W14,FeedLib[#All],BO$60,FALSE),\"\"),IFERROR(VLOOKUP($W14,FeedLibUser[#All],BO$60,FALSE),\"\")),BO14),IF(AND(ISNUMBER($AI14),$AJ14<>\"\"),BO14,\"\"))","v":""},{"$f":"IF(ISNUMBER($W14),IF($AH14=FALSE,IF($W14<1000,IFERROR(VLOOKUP($W14,FeedLib[#All],BP$60,FALSE),\"\"),IFERROR(VLOOKUP($W14,FeedLibUser[#All],BP$60,FALSE),\"\")),BP14),IF(AND(ISNUMBER($AI14),$AJ14<>\"\"),BP14,\"\"))","v":""},{"$f":"IF(ISNUMBER($W14),IF($AH14=FALSE,IF($W14<1000,IFERROR(VLOOKUP($W14,FeedLib[#All],BQ$60,FALSE),\"\"),IFERROR(VLOOKUP($W14,FeedLibUser[#All],BQ$60,FALSE),\"\")),BQ14),IF(AND(ISNUMBER($AI14),$AJ14<>\"\"),BQ14,\"\"))","v":""},{"$f":"IF(ISNUMBER($W14),IF($AH14=FALSE,IF($W14<1000,IFERROR(VLOOKUP($W14,FeedLib[#All],BR$60,FALSE),\"\"),IFERROR(VLOOKUP($W14,FeedLibUser[#All],BR$60,FALSE),\"\")),BR14),IF(AND(ISNUMBER($AI14),$AJ14<>\"\"),BR14,\"\"))","v":""},{"$f":"IF(ISNUMBER($W14),IF($AH14=FALSE,IF($W14<1000,IFERROR(VLOOKUP($W14,FeedLib[#All],BS$60,FALSE),\"\"),IFERROR(VLOOKUP($W14,FeedLibUser[#All],BS$60,FALSE),\"\")),BS14),IF(AND(ISNUMBER($AI14),$AJ14<>\"\"),BS14,\"\"))","v":""},{"$f":"IF(ISNUMBER($W14),IF($AH14=FALSE,IF($W14<1000,IFERROR(VLOOKUP($W14,FeedLib[#All],BT$60,FALSE),\"\"),IFERROR(VLOOKUP($W14,FeedLibUser[#All],BT$60,FALSE),\"\")),BT14),IF(AND(ISNUMBER($AI14),$AJ14<>\"\"),BT14,\"\"))","v":""},{"$f":"IF(ISNUMBER($W14),IF($AH14=FALSE,IF($W14<1000,IFERROR(VLOOKUP($W14,FeedLib[#All],BU$60,FALSE),\"\"),IFERROR(VLOOKUP($W14,FeedLibUser[#All],BU$60,FALSE),\"\")),BU14),IF(AND(ISNUMBER($AI14),$AJ14<>\"\"),BU14,\"\"))","v":""},{"$f":"IF(ISNUMBER($W14),IF($AH14=FALSE,IF($W14<1000,IFERROR(VLOOKUP($W14,FeedLib[#All],BV$60,FALSE),\"\"),IFERROR(VLOOKUP($W14,FeedLibUser[#All],BV$60,FALSE),\"\")),BV14),IF(AND(ISNUMBER($AI14),$AJ14<>\"\"),BV14,\"\"))","v":""},{"$f":"IF(ISNUMBER($W14),IF($AH14=FALSE,IF($W14<1000,IFERROR(VLOOKUP($W14,FeedLib[#All],BW$60,FALSE),\"\"),IFERROR(VLOOKUP($W14,FeedLibUser[#All],BW$60,FALSE),\"\")),BW14),IF(AND(ISNUMBER($AI14),$AJ14<>\"\"),BW14,\"\"))","v":""},{"$f":"IF(ISNUMBER($W14),IF($AH14=FALSE,IF($W14<1000,IFERROR(VLOOKUP($W14,FeedLib[#All],BX$60,FALSE),\"\"),IFERROR(VLOOKUP($W14,FeedLibUser[#All],BX$60,FALSE),\"\")),BX14),IF(AND(ISNUMBER($AI14),$AJ14<>\"\"),BX14,\"\"))","v":""},{"$f":"IF(ISNUMBER($W14),IF($AH14=FALSE,IF($W14<1000,IFERROR(VLOOKUP($W14,FeedLib[#All],BY$60,FALSE),\"\"),IFERROR(VLOOKUP($W14,FeedLibUser[#All],BY$60,FALSE),\"\")),BY14),IF(AND(ISNUMBER($AI14),$AJ14<>\"\"),BY14,\"\"))","v":""},{"$f":"IF(ISNUMBER($W14),IF($AH14=FALSE,IF($W14<1000,IFERROR(VLOOKUP($W14,FeedLib[#All],BZ$60,FALSE),\"\"),IFERROR(VLOOKUP($W14,FeedLibUser[#All],BZ$60,FALSE),\"\")),BZ14),IF(AND(ISNUMBER($AI14),$AJ14<>\"\"),BZ14,\"\"))","v":""},{"$f":"IF(ISNUMBER($W14),IF($AH14=FALSE,IF($W14<1000,IFERROR(VLOOKUP($W14,FeedLib[#All],CA$60,FALSE),\"\"),IFERROR(VLOOKUP($W14,FeedLibUser[#All],CA$60,FALSE),\"\")),CA14),IF(AND(ISNUMBER($AI14),$AJ14<>\"\"),CA14,\"\"))","v":""},{"$f":"IF(ISNUMBER($W14),IF($AH14=FALSE,IF($W14<1000,IFERROR(VLOOKUP($W14,FeedLib[#All],CB$60,FALSE),\"\"),IFERROR(VLOOKUP($W14,FeedLibUser[#All],CB$60,FALSE),\"\")),CB14),IF(AND(ISNUMBER($AI14),$AJ14<>\"\"),CB14,\"\"))","v":""},{"$f":"IF(ISNUMBER($W14),IF($AH14=FALSE,IF($W14<1000,IFERROR(VLOOKUP($W14,FeedLib[#All],CC$60,FALSE),\"\"),IFERROR(VLOOKUP($W14,FeedLibUser[#All],CC$60,FALSE),\"\")),CC14),IF(AND(ISNUMBER($AI14),$AJ14<>\"\"),CC14,\"\"))","v":""},{"$f":"IF(ISNUMBER($W14),IF($AH14=FALSE,IF($W14<1000,IFERROR(VLOOKUP($W14,FeedLib[#All],CD$60,FALSE),\"\"),IFERROR(VLOOKUP($W14,FeedLibUser[#All],CD$60,FALSE),\"\")),CD14),IF(AND(ISNUMBER($AI14),$AJ14<>\"\"),CD14,\"\"))","v":""},{"$f":"IF(ISNUMBER($W14),IF($AH14=FALSE,IF($W14<1000,IFERROR(VLOOKUP($W14,FeedLib[#All],CE$60,FALSE),\"\"),IFERROR(VLOOKUP($W14,FeedLibUser[#All],CE$60,FALSE),\"\")),CE14),IF(AND(ISNUMBER($AI14),$AJ14<>\"\"),CE14,\"\"))","v":""},{"$f":"IF(ISNUMBER($W14),IF($AH14=FALSE,IF($W14<1000,IFERROR(VLOOKUP($W14,FeedLib[#All],CF$60,FALSE),\"\"),IFERROR(VLOOKUP($W14,FeedLibUser[#All],CF$60,FALSE),\"\")),CF14),IF(AND(ISNUMBER($AI14),$AJ14<>\"\"),CF14,\"\"))","v":""},{"$f":"IF(ISNUMBER($W14),IF($AH14=FALSE,IF($W14<1000,IFERROR(VLOOKUP($W14,FeedLib[#All],CG$60,FALSE),\"\"),IFERROR(VLOOKUP($W14,FeedLibUser[#All],CG$60,FALSE),\"\")),CG14),IF(AND(ISNUMBER($AI14),$AJ14<>\"\"),CG14,\"\"))","v":""},{"$f":"IF(ISNUMBER($W14),IF($AH14=FALSE,IF($W14<1000,IFERROR(VLOOKUP($W14,FeedLib[#All],CH$60,FALSE),\"\"),IFERROR(VLOOKUP($W14,FeedLibUser[#All],CH$60,FALSE),\"\")),CH14),IF(AND(ISNUMBER($AI14),$AJ14<>\"\"),CH14,\"\"))","v":""},{"$f":"IF(ISNUMBER($W14),IF($AH14=FALSE,IF($W14<1000,IFERROR(VLOOKUP($W14,FeedLib[#All],CI$60,FALSE),\"\"),IFERROR(VLOOKUP($W14,FeedLibUser[#All],CI$60,FALSE),\"\")),CI14),IF(AND(ISNUMBER($AI14),$AJ14<>\"\"),CI14,\"\"))","v":""},{"$f":"IF(ISNUMBER($W14),IF($AH14=FALSE,IF($W14<1000,IFERROR(VLOOKUP($W14,FeedLib[#All],CJ$60,FALSE),\"\"),IFERROR(VLOOKUP($W14,FeedLibUser[#All],CJ$60,FALSE),\"\")),CJ14),IF(AND(ISNUMBER($AI14),$AJ14<>\"\"),CJ14,\"\"))","v":""},{"$f":"IF(ISNUMBER($W14),IF($AH14=FALSE,IF($W14<1000,IFERROR(VLOOKUP($W14,FeedLib[#All],CK$60,FALSE),\"\"),IFERROR(VLOOKUP($W14,FeedLibUser[#All],CK$60,FALSE),\"\")),CK14),IF(AND(ISNUMBER($AI14),$AJ14<>\"\"),CK14,\"\"))","v":""},{"$f":"IF(ISNUMBER($W14),IF($AH14=FALSE,IF($W14<1000,IFERROR(VLOOKUP($W14,FeedLib[#All],CL$60,FALSE),\"\"),IFERROR(VLOOKUP($W14,FeedLibUser[#All],CL$60,FALSE),\"\")),CL14),IF(AND(ISNUMBER($AI14),$AJ14<>\"\"),CL14,\"\"))","v":""},{"$f":"IF(ISNUMBER($W14),IF($AH14=FALSE,IF($W14<1000,IFERROR(VLOOKUP($W14,FeedLib[#All],CM$60,FALSE),\"\"),IFERROR(VLOOKUP($W14,FeedLibUser[#All],CM$60,FALSE),\"\")),CM14),IF(AND(ISNUMBER($AI14),$AJ14<>\"\"),CM14,\"\"))","v":""}]
[null,null,null,null,null,null,null,null,null,"User input",null,null,null,null,null,null,null,null,null,null,null,null,null,null,null,null,null,null,null,null,null,null,null,null,"","",{"$f":"IF(ISNUMBER($W15),IF($AH15=FALSE,IF($W15<1000,IFERROR(VLOOKUP($W15,FeedLib[#All],AK$60,FALSE),\"\")*(IF(parmUnit=1,1,2000/2204.6)),IFERROR(VLOOKUP($W15,FeedLibUser[#All],AK$60,FALSE),\"\")*(IF(parmUnit=1,1,2000/2204.6))),AK15),IF(AND(ISNUMBER($AI15),$AJ15<>\"\"),AK15,\"\"))","v":""},{"$f":"IF(ISNUMBER($W15),IF($AH15=FALSE,IF($W15<1000,IFERROR(VLOOKUP($W15,FeedLib[#All],AL$60,FALSE),\"\"),IFERROR(VLOOKUP($W15,FeedLibUser[#All],AL$60,FALSE),\"\")),AL15),IF(AND(ISNUMBER($AI15),$AJ15<>\"\"),AL15,\"\"))","v":""},{"$f":"IF(ISNUMBER($W15),IF($AH15=FALSE,IF($W15<1000,IFERROR(VLOOKUP($W15,FeedLib[#All],AM$60,FALSE),\"\"),IFERROR(VLOOKUP($W15,FeedLibUser[#All],AM$60,FALSE),\"\")),AM15),IF(AND(ISNUMBER($AI15),$AJ15<>\"\"),AM15,\"\"))","v":""},{"$f":"IF(ISNUMBER($W15),IF($AH15=FALSE,IF($W15<1000,IFERROR(VLOOKUP($W15,FeedLib[#All],AN$60,FALSE),\"\"),IFERROR(VLOOKUP($W15,FeedLibUser[#All],AN$60,FALSE),\"\")),AN15),IF(AND(ISNUMBER($AI15),$AJ15<>\"\"),AN15,\"\"))","v":""},{"$f":"IF(ISNUMBER($W15),IF($AH15=FALSE,IF($W15<1000,IFERROR(VLOOKUP($W15,FeedLib[#All],AO$60,FALSE),\"\"),IFERROR(VLOOKUP($W15,FeedLibUser[#All],AO$60,FALSE),\"\")),AO15),IF(AND(ISNUMBER($AI15),$AJ15<>\"\"),AO15,\"\"))","v":""},{"$f":"IF(ISNUMBER($W15),IF($AH15=FALSE,IF($W15<1000,IFERROR(VLOOKUP($W15,FeedLib[#All],AP$60,FALSE),\"\"),IFERROR(VLOOKUP($W15,FeedLibUser[#All],AP$60,FALSE),\"\")),AP15),IF(AND(ISNUMBER($AI15),$AJ15<>\"\"),AP15,\"\"))","v":""},{"$f":"IF(ISNUMBER($W15),IF($AH15=FALSE,IF($W15<1000,IFERROR(VLOOKUP($W15,FeedLib[#All],AQ$60,FALSE),\"\"),IFERROR(VLOOKUP($W15,FeedLibUser[#All],AQ$60,FALSE),\"\")),AQ15),IF(AND(ISNUMBER($AI15),$AJ15<>\"\"),AQ15,\"\"))","v":""},{"$f":"IF(ISNUMBER($W15),IF($AH15=FALSE,IF($W15<1000,IFERROR(VLOOKUP($W15,FeedLib[#All],AR$60,FALSE),\"\"),IFERROR(VLOOKUP($W15,FeedLibUser[#All],AR$60,FALSE),\"\")),AR15),IF(AND(ISNUMBER($AI15),$AJ15<>\"\"),AR15,\"\"))","v":""},{"$f":"IF(ISNUMBER($W15),IF($AH15=FALSE,IF($W15<1000,IFERROR(VLOOKUP($W15,FeedLib[#All],AS$60,FALSE),\"\"),IFERROR(VLOOKUP($W15,FeedLibUser[#All],AS$60,FALSE),\"\")),AS15),IF(AND(ISNUMBER($AI15),$AJ15<>\"\"),AS15,\"\"))","v":""},{"$f":"IF(ISNUMBER($W15),IF($AH15=FALSE,IF($W15<1000,IFERROR(VLOOKUP($W15,FeedLib[#All],AT$60,FALSE),\"\"),IFERROR(VLOOKUP($W15,FeedLibUser[#All],AT$60,FALSE),\"\")),AT15),IF(AND(ISNUMBER($AI15),$AJ15<>\"\"),AT15,\"\"))","v":""},{"$f":"IF(ISNUMBER($W15),IF($AH15=FALSE,IF($W15<1000,IFERROR(VLOOKUP($W15,FeedLib[#All],AU$60,FALSE),\"\"),IFERROR(VLOOKUP($W15,FeedLibUser[#All],AU$60,FALSE),\"\")),AU15),IF(AND(ISNUMBER($AI15),$AJ15<>\"\"),AU15,\"\"))","v":""},{"$f":"IF(ISNUMBER($W15),IF($AH15=FALSE,IF($W15<1000,IFERROR(VLOOKUP($W15,FeedLib[#All],AV$60,FALSE),\"\"),IFERROR(VLOOKUP($W15,FeedLibUser[#All],AV$60,FALSE),\"\")),AV15),IF(AND(ISNUMBER($AI15),$AJ15<>\"\"),AV15,\"\"))","v":""},{"$f":"IF(ISNUMBER($W15),IF($AH15=FALSE,IF($W15<1000,IFERROR(VLOOKUP($W15,FeedLib[#All],AW$60,FALSE),\"\"),IFERROR(VLOOKUP($W15,FeedLibUser[#All],AW$60,FALSE),\"\")),AW15),IF(AND(ISNUMBER($AI15),$AJ15<>\"\"),AW15,\"\"))","v":""},{"$f":"IF(ISNUMBER($W15),IF($AH15=FALSE,IF($W15<1000,IFERROR(VLOOKUP($W15,FeedLib[#All],AX$60,FALSE),\"\"),IFERROR(VLOOKUP($W15,FeedLibUser[#All],AX$60,FALSE),\"\")),AX15),IF(AND(ISNUMBER($AI15),$AJ15<>\"\"),AX15,\"\"))","v":""},{"$f":"IF(ISNUMBER($W15),IF($AH15=FALSE,IF($W15<1000,IFERROR(VLOOKUP($W15,FeedLib[#All],AY$60,FALSE),\"\")/IF(parmUnit=1,1,2.2046),IFERROR(VLOOKUP($W15,FeedLibUser[#All],AY$60,FALSE),\"\")/IF(parmUnit=1,1,2.2046)),AY15),IF(AND(ISNUMBER($AI15),$AJ15<>\"\"),AY15,\"\"))","v":""},{"$f":"IF(ISNUMBER($W15),IF($AH15=FALSE,IF($W15<1000,IFERROR(VLOOKUP($W15,FeedLib[#All],AZ$60,FALSE),\"\")/IF(parmUnit=1,1,2.2046),IFERROR(VLOOKUP($W15,FeedLibUser[#All],AZ$60,FALSE),\"\")/IF(parmUnit=1,1,2.2046)),AZ15),IF(AND(ISNUMBER($AI15),$AJ15<>\"\"),AZ15,\"\"))","v":""},{"$f":"IF(ISNUMBER($W15),IF($AH15=FALSE,IF($W15<1000,IFERROR(VLOOKUP($W15,FeedLib[#All],BA$60,FALSE),\"\")/IF(parmUnit=1,1,2.2046),IFERROR(VLOOKUP($W15,FeedLibUser[#All],BA$60,FALSE),\"\")/IF(parmUnit=1,1,2.2046)),BA15),IF(AND(ISNUMBER($AI15),$AJ15<>\"\"),BA15,\"\"))","v":""},{"$f":"IF(ISNUMBER($W15),IF($AH15=FALSE,IF($W15<1000,IFERROR(VLOOKUP($W15,FeedLib[#All],BB$60,FALSE),\"\"),IFERROR(VLOOKUP($W15,FeedLibUser[#All],BB$60,FALSE),\"\")),BB15),IF(AND(ISNUMBER($AI15),$AJ15<>\"\"),BB15,\"\"))","v":""},{"$f":"IF(ISNUMBER($W15),IF($AH15=FALSE,IF($W15<1000,IFERROR(VLOOKUP($W15,FeedLib[#All],BC$60,FALSE),\"\"),IFERROR(VLOOKUP($W15,FeedLibUser[#All],BC$60,FALSE),\"\")),BC15),IF(AND(ISNUMBER($AI15),$AJ15<>\"\"),BC15,\"\"))","v":""},{"$f":"IF(ISNUMBER($W15),IF($AH15=FALSE,IF($W15<1000,IFERROR(VLOOKUP($W15,FeedLib[#All],BD$60,FALSE),\"\"),IFERROR(VLOOKUP($W15,FeedLibUser[#All],BD$60,FALSE),\"\")),BD15),IF(AND(ISNUMBER($AI15),$AJ15<>\"\"),BD15,\"\"))","v":""},{"$f":"IF(ISNUMBER($W15),IF($AH15=FALSE,IF($W15<1000,IFERROR(VLOOKUP($W15,FeedLib[#All],BE$60,FALSE),\"\"),IFERROR(VLOOKUP($W15,FeedLibUser[#All],BE$60,FALSE),\"\")),BE15),IF(AND(ISNUMBER($AI15),$AJ15<>\"\"),BE15,\"\"))","v":""},{"$f":"IF(ISNUMBER($W15),IF($AH15=FALSE,IF($W15<1000,IFERROR(VLOOKUP($W15,FeedLib[#All],BF$60,FALSE),\"\"),IFERROR(VLOOKUP($W15,FeedLibUser[#All],BF$60,FALSE),\"\")),BF15),IF(AND(ISNUMBER($AI15),$AJ15<>\"\"),BF15,\"\"))","v":""},{"$f":"IF(ISNUMBER($W15),IF($AH15=FALSE,IF($W15<1000,IFERROR(VLOOKUP($W15,FeedLib[#All],BG$60,FALSE),\"\"),IFERROR(VLOOKUP($W15,FeedLibUser[#All],BG$60,FALSE),\"\")),BG15),IF(AND(ISNUMBER($AI15),$AJ15<>\"\"),BG15,\"\"))","v":""},{"$f":"IF(ISNUMBER($W15),IF($AH15=FALSE,IF($W15<1000,IFERROR(VLOOKUP($W15,FeedLib[#All],BH$60,FALSE),\"\"),IFERROR(VLOOKUP($W15,FeedLibUser[#All],BH$60,FALSE),\"\")),BH15),IF(AND(ISNUMBER($AI15),$AJ15<>\"\"),BH15,\"\"))","v":""},{"$f":"IF(ISNUMBER($W15),IF($AH15=FALSE,IF($W15<1000,IFERROR(VLOOKUP($W15,FeedLib[#All],BI$60,FALSE),\"\"),IFERROR(VLOOKUP($W15,FeedLibUser[#All],BI$60,FALSE),\"\")),BI15),IF(AND(ISNUMBER($AI15),$AJ15<>\"\"),BI15,\"\"))","v":""},{"$f":"IF(ISNUMBER($W15),IF($AH15=FALSE,IF($W15<1000,IFERROR(VLOOKUP($W15,FeedLib[#All],BJ$60,FALSE),\"\"),IFERROR(VLOOKUP($W15,FeedLibUser[#All],BJ$60,FALSE),\"\")),BJ15),IF(AND(ISNUMBER($AI15),$AJ15<>\"\"),BJ15,\"\"))","v":""},{"$f":"IF(ISNUMBER($W15),IF($AH15=FALSE,IF($W15<1000,IFERROR(VLOOKUP($W15,FeedLib[#All],BK$60,FALSE),\"\"),IFERROR(VLOOKUP($W15,FeedLibUser[#All],BK$60,FALSE),\"\")),BK15),IF(AND(ISNUMBER($AI15),$AJ15<>\"\"),BK15,\"\"))","v":""},{"$f":"IF(ISNUMBER($W15),IF($AH15=FALSE,IF($W15<1000,IFERROR(VLOOKUP($W15,FeedLib[#All],BL$60,FALSE),\"\"),IFERROR(VLOOKUP($W15,FeedLibUser[#All],BL$60,FALSE),\"\")),BL15),IF(AND(ISNUMBER($AI15),$AJ15<>\"\"),BL15,\"\"))","v":""},{"$f":"IF(ISNUMBER($W15),IF($AH15=FALSE,IF($W15<1000,IFERROR(VLOOKUP($W15,FeedLib[#All],BM$60,FALSE),\"\"),IFERROR(VLOOKUP($W15,FeedLibUser[#All],BM$60,FALSE),\"\")),BM15),IF(AND(ISNUMBER($AI15),$AJ15<>\"\"),BM15,\"\"))","v":""},{"$f":"IF(ISNUMBER($W15),IF($AH15=FALSE,IF($W15<1000,IFERROR(VLOOKUP($W15,FeedLib[#All],BN$60,FALSE),\"\"),IFERROR(VLOOKUP($W15,FeedLibUser[#All],BN$60,FALSE),\"\")),BN15),IF(AND(ISNUMBER($AI15),$AJ15<>\"\"),BN15,\"\"))","v":""},{"$f":"IF(ISNUMBER($W15),IF($AH15=FALSE,IF($W15<1000,IFERROR(VLOOKUP($W15,FeedLib[#All],BO$60,FALSE),\"\"),IFERROR(VLOOKUP($W15,FeedLibUser[#All],BO$60,FALSE),\"\")),BO15),IF(AND(ISNUMBER($AI15),$AJ15<>\"\"),BO15,\"\"))","v":""},{"$f":"IF(ISNUMBER($W15),IF($AH15=FALSE,IF($W15<1000,IFERROR(VLOOKUP($W15,FeedLib[#All],BP$60,FALSE),\"\"),IFERROR(VLOOKUP($W15,FeedLibUser[#All],BP$60,FALSE),\"\")),BP15),IF(AND(ISNUMBER($AI15),$AJ15<>\"\"),BP15,\"\"))","v":""},{"$f":"IF(ISNUMBER($W15),IF($AH15=FALSE,IF($W15<1000,IFERROR(VLOOKUP($W15,FeedLib[#All],BQ$60,FALSE),\"\"),IFERROR(VLOOKUP($W15,FeedLibUser[#All],BQ$60,FALSE),\"\")),BQ15),IF(AND(ISNUMBER($AI15),$AJ15<>\"\"),BQ15,\"\"))","v":""},{"$f":"IF(ISNUMBER($W15),IF($AH15=FALSE,IF($W15<1000,IFERROR(VLOOKUP($W15,FeedLib[#All],BR$60,FALSE),\"\"),IFERROR(VLOOKUP($W15,FeedLibUser[#All],BR$60,FALSE),\"\")),BR15),IF(AND(ISNUMBER($AI15),$AJ15<>\"\"),BR15,\"\"))","v":""},{"$f":"IF(ISNUMBER($W15),IF($AH15=FALSE,IF($W15<1000,IFERROR(VLOOKUP($W15,FeedLib[#All],BS$60,FALSE),\"\"),IFERROR(VLOOKUP($W15,FeedLibUser[#All],BS$60,FALSE),\"\")),BS15),IF(AND(ISNUMBER($AI15),$AJ15<>\"\"),BS15,\"\"))","v":""},{"$f":"IF(ISNUMBER($W15),IF($AH15=FALSE,IF($W15<1000,IFERROR(VLOOKUP($W15,FeedLib[#All],BT$60,FALSE),\"\"),IFERROR(VLOOKUP($W15,FeedLibUser[#All],BT$60,FALSE),\"\")),BT15),IF(AND(ISNUMBER($AI15),$AJ15<>\"\"),BT15,\"\"))","v":""},{"$f":"IF(ISNUMBER($W15),IF($AH15=FALSE,IF($W15<1000,IFERROR(VLOOKUP($W15,FeedLib[#All],BU$60,FALSE),\"\"),IFERROR(VLOOKUP($W15,FeedLibUser[#All],BU$60,FALSE),\"\")),BU15),IF(AND(ISNUMBER($AI15),$AJ15<>\"\"),BU15,\"\"))","v":""},{"$f":"IF(ISNUMBER($W15),IF($AH15=FALSE,IF($W15<1000,IFERROR(VLOOKUP($W15,FeedLib[#All],BV$60,FALSE),\"\"),IFERROR(VLOOKUP($W15,FeedLibUser[#All],BV$60,FALSE),\"\")),BV15),IF(AND(ISNUMBER($AI15),$AJ15<>\"\"),BV15,\"\"))","v":""},{"$f":"IF(ISNUMBER($W15),IF($AH15=FALSE,IF($W15<1000,IFERROR(VLOOKUP($W15,FeedLib[#All],BW$60,FALSE),\"\"),IFERROR(VLOOKUP($W15,FeedLibUser[#All],BW$60,FALSE),\"\")),BW15),IF(AND(ISNUMBER($AI15),$AJ15<>\"\"),BW15,\"\"))","v":""},{"$f":"IF(ISNUMBER($W15),IF($AH15=FALSE,IF($W15<1000,IFERROR(VLOOKUP($W15,FeedLib[#All],BX$60,FALSE),\"\"),IFERROR(VLOOKUP($W15,FeedLibUser[#All],BX$60,FALSE),\"\")),BX15),IF(AND(ISNUMBER($AI15),$AJ15<>\"\"),BX15,\"\"))","v":""},{"$f":"IF(ISNUMBER($W15),IF($AH15=FALSE,IF($W15<1000,IFERROR(VLOOKUP($W15,FeedLib[#All],BY$60,FALSE),\"\"),IFERROR(VLOOKUP($W15,FeedLibUser[#All],BY$60,FALSE),\"\")),BY15),IF(AND(ISNUMBER($AI15),$AJ15<>\"\"),BY15,\"\"))","v":""},{"$f":"IF(ISNUMBER($W15),IF($AH15=FALSE,IF($W15<1000,IFERROR(VLOOKUP($W15,FeedLib[#All],BZ$60,FALSE),\"\"),IFERROR(VLOOKUP($W15,FeedLibUser[#All],BZ$60,FALSE),\"\")),BZ15),IF(AND(ISNUMBER($AI15),$AJ15<>\"\"),BZ15,\"\"))","v":""},{"$f":"IF(ISNUMBER($W15),IF($AH15=FALSE,IF($W15<1000,IFERROR(VLOOKUP($W15,FeedLib[#All],CA$60,FALSE),\"\"),IFERROR(VLOOKUP($W15,FeedLibUser[#All],CA$60,FALSE),\"\")),CA15),IF(AND(ISNUMBER($AI15),$AJ15<>\"\"),CA15,\"\"))","v":""},{"$f":"IF(ISNUMBER($W15),IF($AH15=FALSE,IF($W15<1000,IFERROR(VLOOKUP($W15,FeedLib[#All],CB$60,FALSE),\"\"),IFERROR(VLOOKUP($W15,FeedLibUser[#All],CB$60,FALSE),\"\")),CB15),IF(AND(ISNUMBER($AI15),$AJ15<>\"\"),CB15,\"\"))","v":""},{"$f":"IF(ISNUMBER($W15),IF($AH15=FALSE,IF($W15<1000,IFERROR(VLOOKUP($W15,FeedLib[#All],CC$60,FALSE),\"\"),IFERROR(VLOOKUP($W15,FeedLibUser[#All],CC$60,FALSE),\"\")),CC15),IF(AND(ISNUMBER($AI15),$AJ15<>\"\"),CC15,\"\"))","v":""},{"$f":"IF(ISNUMBER($W15),IF($AH15=FALSE,IF($W15<1000,IFERROR(VLOOKUP($W15,FeedLib[#All],CD$60,FALSE),\"\"),IFERROR(VLOOKUP($W15,FeedLibUser[#All],CD$60,FALSE),\"\")),CD15),IF(AND(ISNUMBER($AI15),$AJ15<>\"\"),CD15,\"\"))","v":""},{"$f":"IF(ISNUMBER($W15),IF($AH15=FALSE,IF($W15<1000,IFERROR(VLOOKUP($W15,FeedLib[#All],CE$60,FALSE),\"\"),IFERROR(VLOOKUP($W15,FeedLibUser[#All],CE$60,FALSE),\"\")),CE15),IF(AND(ISNUMBER($AI15),$AJ15<>\"\"),CE15,\"\"))","v":""},{"$f":"IF(ISNUMBER($W15),IF($AH15=FALSE,IF($W15<1000,IFERROR(VLOOKUP($W15,FeedLib[#All],CF$60,FALSE),\"\"),IFERROR(VLOOKUP($W15,FeedLibUser[#All],CF$60,FALSE),\"\")),CF15),IF(AND(ISNUMBER($AI15),$AJ15<>\"\"),CF15,\"\"))","v":""},{"$f":"IF(ISNUMBER($W15),IF($AH15=FALSE,IF($W15<1000,IFERROR(VLOOKUP($W15,FeedLib[#All],CG$60,FALSE),\"\"),IFERROR(VLOOKUP($W15,FeedLibUser[#All],CG$60,FALSE),\"\")),CG15),IF(AND(ISNUMBER($AI15),$AJ15<>\"\"),CG15,\"\"))","v":""},{"$f":"IF(ISNUMBER($W15),IF($AH15=FALSE,IF($W15<1000,IFERROR(VLOOKUP($W15,FeedLib[#All],CH$60,FALSE),\"\"),IFERROR(VLOOKUP($W15,FeedLibUser[#All],CH$60,FALSE),\"\")),CH15),IF(AND(ISNUMBER($AI15),$AJ15<>\"\"),CH15,\"\"))","v":""},{"$f":"IF(ISNUMBER($W15),IF($AH15=FALSE,IF($W15<1000,IFERROR(VLOOKUP($W15,FeedLib[#All],CI$60,FALSE),\"\"),IFERROR(VLOOKUP($W15,FeedLibUser[#All],CI$60,FALSE),\"\")),CI15),IF(AND(ISNUMBER($AI15),$AJ15<>\"\"),CI15,\"\"))","v":""},{"$f":"IF(ISNUMBER($W15),IF($AH15=FALSE,IF($W15<1000,IFERROR(VLOOKUP($W15,FeedLib[#All],CJ$60,FALSE),\"\"),IFERROR(VLOOKUP($W15,FeedLibUser[#All],CJ$60,FALSE),\"\")),CJ15),IF(AND(ISNUMBER($AI15),$AJ15<>\"\"),CJ15,\"\"))","v":""},{"$f":"IF(ISNUMBER($W15),IF($AH15=FALSE,IF($W15<1000,IFERROR(VLOOKUP($W15,FeedLib[#All],CK$60,FALSE),\"\"),IFERROR(VLOOKUP($W15,FeedLibUser[#All],CK$60,FALSE),\"\")),CK15),IF(AND(ISNUMBER($AI15),$AJ15<>\"\"),CK15,\"\"))","v":""},{"$f":"IF(ISNUMBER($W15),IF($AH15=FALSE,IF($W15<1000,IFERROR(VLOOKUP($W15,FeedLib[#All],CL$60,FALSE),\"\"),IFERROR(VLOOKUP($W15,FeedLibUser[#All],CL$60,FALSE),\"\")),CL15),IF(AND(ISNUMBER($AI15),$AJ15<>\"\"),CL15,\"\"))","v":""},{"$f":"IF(ISNUMBER($W15),IF($AH15=FALSE,IF($W15<1000,IFERROR(VLOOKUP($W15,FeedLib[#All],CM$60,FALSE),\"\"),IFERROR(VLOOKUP($W15,FeedLibUser[#All],CM$60,FALSE),\"\")),CM15),IF(AND(ISNUMBER($AI15),$AJ15<>\"\"),CM15,\"\"))","v":""}]
[null,null,null,null,null,null,null,null,null,"Current",null,{"$f":"IF(L48<>\"\",L48,IF(AND($F$21>=1,$F$21<=3),CHOOSE($F$21,L45,L46,L47),L45))","v":1},1.1000000000000001,82.672499999999999,17.636800000000001,4,3.8,8.3000000000000007,0.58499999999999996,null,null,null,null,null,null,null,null,null,null,null,null,null,null,null,"","",{"$f":"IF(ISNUMBER($W16),IF($AH16=FALSE,IF($W16<1000,IFERROR(VLOOKUP($W16,FeedLib[#All],AK$60,FALSE),\"\")*(IF(parmUnit=1,1,2000/2204.6)),IFERROR(VLOOKUP($W16,FeedLibUser[#All],AK$60,FALSE),\"\")*(IF(parmUnit=1,1,2000/2204.6))),AK16),IF(AND(ISNUMBER($AI16),$AJ16<>\"\"),AK16,\"\"))","v":""},{"$f":"IF(ISNUMBER($W16),IF($AH16=FALSE,IF($W16<1000,IFERROR(VLOOKUP($W16,FeedLib[#All],AL$60,FALSE),\"\"),IFERROR(VLOOKUP($W16,FeedLibUser[#All],AL$60,FALSE),\"\")),AL16),IF(AND(ISNUMBER($AI16),$AJ16<>\"\"),AL16,\"\"))","v":""},{"$f":"IF(ISNUMBER($W16),IF($AH16=FALSE,IF($W16<1000,IFERROR(VLOOKUP($W16,FeedLib[#All],AM$60,FALSE),\"\"),IFERROR(VLOOKUP($W16,FeedLibUser[#All],AM$60,FALSE),\"\")),AM16),IF(AND(ISNUMBER($AI16),$AJ16<>\"\"),AM16,\"\"))","v":""},{"$f":"IF(ISNUMBER($W16),IF($AH16=FALSE,IF($W16<1000,IFERROR(VLOOKUP($W16,FeedLib[#All],AN$60,FALSE),\"\"),IFERROR(VLOOKUP($W16,FeedLibUser[#All],AN$60,FALSE),\"\")),AN16),IF(AND(ISNUMBER($AI16),$AJ16<>\"\"),AN16,\"\"))","v":""},{"$f":"IF(ISNUMBER($W16),IF($AH16=FALSE,IF($W16<1000,IFERROR(VLOOKUP($W16,FeedLib[#All],AO$60,FALSE),\"\"),IFERROR(VLOOKUP($W16,FeedLibUser[#All],AO$60,FALSE),\"\")),AO16),IF(AND(ISNUMBER($AI16),$AJ16<>\"\"),AO16,\"\"))","v":""},{"$f":"IF(ISNUMBER($W16),IF($AH16=FALSE,IF($W16<1000,IFERROR(VLOOKUP($W16,FeedLib[#All],AP$60,FALSE),\"\"),IFERROR(VLOOKUP($W16,FeedLibUser[#All],AP$60,FALSE),\"\")),AP16),IF(AND(ISNUMBER($AI16),$AJ16<>\"\"),AP16,\"\"))","v":""},{"$f":"IF(ISNUMBER($W16),IF($AH16=FALSE,IF($W16<1000,IFERROR(VLOOKUP($W16,FeedLib[#All],AQ$60,FALSE),\"\"),IFERROR(VLOOKUP($W16,FeedLibUser[#All],AQ$60,FALSE),\"\")),AQ16),IF(AND(ISNUMBER($AI16),$AJ16<>\"\"),AQ16,\"\"))","v":""},{"$f":"IF(ISNUMBER($W16),IF($AH16=FALSE,IF($W16<1000,IFERROR(VLOOKUP($W16,FeedLib[#All],AR$60,FALSE),\"\"),IFERROR(VLOOKUP($W16,FeedLibUser[#All],AR$60,FALSE),\"\")),AR16),IF(AND(ISNUMBER($AI16),$AJ16<>\"\"),AR16,\"\"))","v":""},{"$f":"IF(ISNUMBER($W16),IF($AH16=FALSE,IF($W16<1000,IFERROR(VLOOKUP($W16,FeedLib[#All],AS$60,FALSE),\"\"),IFERROR(VLOOKUP($W16,FeedLibUser[#All],AS$60,FALSE),\"\")),AS16),IF(AND(ISNUMBER($AI16),$AJ16<>\"\"),AS16,\"\"))","v":""},{"$f":"IF(ISNUMBER($W16),IF($AH16=FALSE,IF($W16<1000,IFERROR(VLOOKUP($W16,FeedLib[#All],AT$60,FALSE),\"\"),IFERROR(VLOOKUP($W16,FeedLibUser[#All],AT$60,FALSE),\"\")),AT16),IF(AND(ISNUMBER($AI16),$AJ16<>\"\"),AT16,\"\"))","v":""},{"$f":"IF(ISNUMBER($W16),IF($AH16=FALSE,IF($W16<1000,IFERROR(VLOOKUP($W16,FeedLib[#All],AU$60,FALSE),\"\"),IFERROR(VLOOKUP($W16,FeedLibUser[#All],AU$60,FALSE),\"\")),AU16),IF(AND(ISNUMBER($AI16),$AJ16<>\"\"),AU16,\"\"))","v":""},{"$f":"IF(ISNUMBER($W16),IF($AH16=FALSE,IF($W16<1000,IFERROR(VLOOKUP($W16,FeedLib[#All],AV$60,FALSE),\"\"),IFERROR(VLOOKUP($W16,FeedLibUser[#All],AV$60,FALSE),\"\")),AV16),IF(AND(ISNUMBER($AI16),$AJ16<>\"\"),AV16,\"\"))","v":""},{"$f":"IF(ISNUMBER($W16),IF($AH16=FALSE,IF($W16<1000,IFERROR(VLOOKUP($W16,FeedLib[#All],AW$60,FALSE),\"\"),IFERROR(VLOOKUP($W16,FeedLibUser[#All],AW$60,FALSE),\"\")),AW16),IF(AND(ISNUMBER($AI16),$AJ16<>\"\"),AW16,\"\"))","v":""},{"$f":"IF(ISNUMBER($W16),IF($AH16=FALSE,IF($W16<1000,IFERROR(VLOOKUP($W16,FeedLib[#All],AX$60,FALSE),\"\"),IFERROR(VLOOKUP($W16,FeedLibUser[#All],AX$60,FALSE),\"\")),AX16),IF(AND(ISNUMBER($AI16),$AJ16<>\"\"),AX16,\"\"))","v":""},{"$f":"IF(ISNUMBER($W16),IF($AH16=FALSE,IF($W16<1000,IFERROR(VLOOKUP($W16,FeedLib[#All],AY$60,FALSE),\"\")/IF(parmUnit=1,1,2.2046),IFERROR(VLOOKUP($W16,FeedLibUser[#All],AY$60,FALSE),\"\")/IF(parmUnit=1,1,2.2046)),AY16),IF(AND(ISNUMBER($AI16),$AJ16<>\"\"),AY16,\"\"))","v":""},{"$f":"IF(ISNUMBER($W16),IF($AH16=FALSE,IF($W16<1000,IFERROR(VLOOKUP($W16,FeedLib[#All],AZ$60,FALSE),\"\")/IF(parmUnit=1,1,2.2046),IFERROR(VLOOKUP($W16,FeedLibUser[#All],AZ$60,FALSE),\"\")/IF(parmUnit=1,1,2.2046)),AZ16),IF(AND(ISNUMBER($AI16),$AJ16<>\"\"),AZ16,\"\"))","v":""},{"$f":"IF(ISNUMBER($W16),IF($AH16=FALSE,IF($W16<1000,IFERROR(VLOOKUP($W16,FeedLib[#All],BA$60,FALSE),\"\")/IF(parmUnit=1,1,2.2046),IFERROR(VLOOKUP($W16,FeedLibUser[#All],BA$60,FALSE),\"\")/IF(parmUnit=1,1,2.2046)),BA16),IF(AND(ISNUMBER($AI16),$AJ16<>\"\"),BA16,\"\"))","v":""},{"$f":"IF(ISNUMBER($W16),IF($AH16=FALSE,IF($W16<1000,IFERROR(VLOOKUP($W16,FeedLib[#All],BB$60,FALSE),\"\"),IFERROR(VLOOKUP($W16,FeedLibUser[#All],BB$60,FALSE),\"\")),BB16),IF(AND(ISNUMBER($AI16),$AJ16<>\"\"),BB16,\"\"))","v":""},{"$f":"IF(ISNUMBER($W16),IF($AH16=FALSE,IF($W16<1000,IFERROR(VLOOKUP($W16,FeedLib[#All],BC$60,FALSE),\"\"),IFERROR(VLOOKUP($W16,FeedLibUser[#All],BC$60,FALSE),\"\")),BC16),IF(AND(ISNUMBER($AI16),$AJ16<>\"\"),BC16,\"\"))","v":""},{"$f":"IF(ISNUMBER($W16),IF($AH16=FALSE,IF($W16<1000,IFERROR(VLOOKUP($W16,FeedLib[#All],BD$60,FALSE),\"\"),IFERROR(VLOOKUP($W16,FeedLibUser[#All],BD$60,FALSE),\"\")),BD16),IF(AND(ISNUMBER($AI16),$AJ16<>\"\"),BD16,\"\"))","v":""},{"$f":"IF(ISNUMBER($W16),IF($AH16=FALSE,IF($W16<1000,IFERROR(VLOOKUP($W16,FeedLib[#All],BE$60,FALSE),\"\"),IFERROR(VLOOKUP($W16,FeedLibUser[#All],BE$60,FALSE),\"\")),BE16),IF(AND(ISNUMBER($AI16),$AJ16<>\"\"),BE16,\"\"))","v":""},{"$f":"IF(ISNUMBER($W16),IF($AH16=FALSE,IF($W16<1000,IFERROR(VLOOKUP($W16,FeedLib[#All],BF$60,FALSE),\"\"),IFERROR(VLOOKUP($W16,FeedLibUser[#All],BF$60,FALSE),\"\")),BF16),IF(AND(ISNUMBER($AI16),$AJ16<>\"\"),BF16,\"\"))","v":""},{"$f":"IF(ISNUMBER($W16),IF($AH16=FALSE,IF($W16<1000,IFERROR(VLOOKUP($W16,FeedLib[#All],BG$60,FALSE),\"\"),IFERROR(VLOOKUP($W16,FeedLibUser[#All],BG$60,FALSE),\"\")),BG16),IF(AND(ISNUMBER($AI16),$AJ16<>\"\"),BG16,\"\"))","v":""},{"$f":"IF(ISNUMBER($W16),IF($AH16=FALSE,IF($W16<1000,IFERROR(VLOOKUP($W16,FeedLib[#All],BH$60,FALSE),\"\"),IFERROR(VLOOKUP($W16,FeedLibUser[#All],BH$60,FALSE),\"\")),BH16),IF(AND(ISNUMBER($AI16),$AJ16<>\"\"),BH16,\"\"))","v":""},{"$f":"IF(ISNUMBER($W16),IF($AH16=FALSE,IF($W16<1000,IFERROR(VLOOKUP($W16,FeedLib[#All],BI$60,FALSE),\"\"),IFERROR(VLOOKUP($W16,FeedLibUser[#All],BI$60,FALSE),\"\")),BI16),IF(AND(ISNUMBER($AI16),$AJ16<>\"\"),BI16,\"\"))","v":""},{"$f":"IF(ISNUMBER($W16),IF($AH16=FALSE,IF($W16<1000,IFERROR(VLOOKUP($W16,FeedLib[#All],BJ$60,FALSE),\"\"),IFERROR(VLOOKUP($W16,FeedLibUser[#All],BJ$60,FALSE),\"\")),BJ16),IF(AND(ISNUMBER($AI16),$AJ16<>\"\"),BJ16,\"\"))","v":""},{"$f":"IF(ISNUMBER($W16),IF($AH16=FALSE,IF($W16<1000,IFERROR(VLOOKUP($W16,FeedLib[#All],BK$60,FALSE),\"\"),IFERROR(VLOOKUP($W16,FeedLibUser[#All],BK$60,FALSE),\"\")),BK16),IF(AND(ISNUMBER($AI16),$AJ16<>\"\"),BK16,\"\"))","v":""},{"$f":"IF(ISNUMBER($W16),IF($AH16=FALSE,IF($W16<1000,IFERROR(VLOOKUP($W16,FeedLib[#All],BL$60,FALSE),\"\"),IFERROR(VLOOKUP($W16,FeedLibUser[#All],BL$60,FALSE),\"\")),BL16),IF(AND(ISNUMBER($AI16),$AJ16<>\"\"),BL16,\"\"))","v":""},{"$f":"IF(ISNUMBER($W16),IF($AH16=FALSE,IF($W16<1000,IFERROR(VLOOKUP($W16,FeedLib[#All],BM$60,FALSE),\"\"),IFERROR(VLOOKUP($W16,FeedLibUser[#All],BM$60,FALSE),\"\")),BM16),IF(AND(ISNUMBER($AI16),$AJ16<>\"\"),BM16,\"\"))","v":""},{"$f":"IF(ISNUMBER($W16),IF($AH16=FALSE,IF($W16<1000,IFERROR(VLOOKUP($W16,FeedLib[#All],BN$60,FALSE),\"\"),IFERROR(VLOOKUP($W16,FeedLibUser[#All],BN$60,FALSE),\"\")),BN16),IF(AND(ISNUMBER($AI16),$AJ16<>\"\"),BN16,\"\"))","v":""},{"$f":"IF(ISNUMBER($W16),IF($AH16=FALSE,IF($W16<1000,IFERROR(VLOOKUP($W16,FeedLib[#All],BO$60,FALSE),\"\"),IFERROR(VLOOKUP($W16,FeedLibUser[#All],BO$60,FALSE),\"\")),BO16),IF(AND(ISNUMBER($AI16),$AJ16<>\"\"),BO16,\"\"))","v":""},{"$f":"IF(ISNUMBER($W16),IF($AH16=FALSE,IF($W16<1000,IFERROR(VLOOKUP($W16,FeedLib[#All],BP$60,FALSE),\"\"),IFERROR(VLOOKUP($W16,FeedLibUser[#All],BP$60,FALSE),\"\")),BP16),IF(AND(ISNUMBER($AI16),$AJ16<>\"\"),BP16,\"\"))","v":""},{"$f":"IF(ISNUMBER($W16),IF($AH16=FALSE,IF($W16<1000,IFERROR(VLOOKUP($W16,FeedLib[#All],BQ$60,FALSE),\"\"),IFERROR(VLOOKUP($W16,FeedLibUser[#All],BQ$60,FALSE),\"\")),BQ16),IF(AND(ISNUMBER($AI16),$AJ16<>\"\"),BQ16,\"\"))","v":""},{"$f":"IF(ISNUMBER($W16),IF($AH16=FALSE,IF($W16<1000,IFERROR(VLOOKUP($W16,FeedLib[#All],BR$60,FALSE),\"\"),IFERROR(VLOOKUP($W16,FeedLibUser[#All],BR$60,FALSE),\"\")),BR16),IF(AND(ISNUMBER($AI16),$AJ16<>\"\"),BR16,\"\"))","v":""},{"$f":"IF(ISNUMBER($W16),IF($AH16=FALSE,IF($W16<1000,IFERROR(VLOOKUP($W16,FeedLib[#All],BS$60,FALSE),\"\"),IFERROR(VLOOKUP($W16,FeedLibUser[#All],BS$60,FALSE),\"\")),BS16),IF(AND(ISNUMBER($AI16),$AJ16<>\"\"),BS16,\"\"))","v":""},{"$f":"IF(ISNUMBER($W16),IF($AH16=FALSE,IF($W16<1000,IFERROR(VLOOKUP($W16,FeedLib[#All],BT$60,FALSE),\"\"),IFERROR(VLOOKUP($W16,FeedLibUser[#All],BT$60,FALSE),\"\")),BT16),IF(AND(ISNUMBER($AI16),$AJ16<>\"\"),BT16,\"\"))","v":""},{"$f":"IF(ISNUMBER($W16),IF($AH16=FALSE,IF($W16<1000,IFERROR(VLOOKUP($W16,FeedLib[#All],BU$60,FALSE),\"\"),IFERROR(VLOOKUP($W16,FeedLibUser[#All],BU$60,FALSE),\"\")),BU16),IF(AND(ISNUMBER($AI16),$AJ16<>\"\"),BU16,\"\"))","v":""},{"$f":"IF(ISNUMBER($W16),IF($AH16=FALSE,IF($W16<1000,IFERROR(VLOOKUP($W16,FeedLib[#All],BV$60,FALSE),\"\"),IFERROR(VLOOKUP($W16,FeedLibUser[#All],BV$60,FALSE),\"\")),BV16),IF(AND(ISNUMBER($AI16),$AJ16<>\"\"),BV16,\"\"))","v":""},{"$f":"IF(ISNUMBER($W16),IF($AH16=FALSE,IF($W16<1000,IFERROR(VLOOKUP($W16,FeedLib[#All],BW$60,FALSE),\"\"),IFERROR(VLOOKUP($W16,FeedLibUser[#All],BW$60,FALSE),\"\")),BW16),IF(AND(ISNUMBER($AI16),$AJ16<>\"\"),BW16,\"\"))","v":""},{"$f":"IF(ISNUMBER($W16),IF($AH16=FALSE,IF($W16<1000,IFERROR(VLOOKUP($W16,FeedLib[#All],BX$60,FALSE),\"\"),IFERROR(VLOOKUP($W16,FeedLibUser[#All],BX$60,FALSE),\"\")),BX16),IF(AND(ISNUMBER($AI16),$AJ16<>\"\"),BX16,\"\"))","v":""},{"$f":"IF(ISNUMBER($W16),IF($AH16=FALSE,IF($W16<1000,IFERROR(VLOOKUP($W16,FeedLib[#All],BY$60,FALSE),\"\"),IFERROR(VLOOKUP($W16,FeedLibUser[#All],BY$60,FALSE),\"\")),BY16),IF(AND(ISNUMBER($AI16),$AJ16<>\"\"),BY16,\"\"))","v":""},{"$f":"IF(ISNUMBER($W16),IF($AH16=FALSE,IF($W16<1000,IFERROR(VLOOKUP($W16,FeedLib[#All],BZ$60,FALSE),\"\"),IFERROR(VLOOKUP($W16,FeedLibUser[#All],BZ$60,FALSE),\"\")),BZ16),IF(AND(ISNUMBER($AI16),$AJ16<>\"\"),BZ16,\"\"))","v":""},{"$f":"IF(ISNUMBER($W16),IF($AH16=FALSE,IF($W16<1000,IFERROR(VLOOKUP($W16,FeedLib[#All],CA$60,FALSE),\"\"),IFERROR(VLOOKUP($W16,FeedLibUser[#All],CA$60,FALSE),\"\")),CA16),IF(AND(ISNUMBER($AI16),$AJ16<>\"\"),CA16,\"\"))","v":""},{"$f":"IF(ISNUMBER($W16),IF($AH16=FALSE,IF($W16<1000,IFERROR(VLOOKUP($W16,FeedLib[#All],CB$60,FALSE),\"\"),IFERROR(VLOOKUP($W16,FeedLibUser[#All],CB$60,FALSE),\"\")),CB16),IF(AND(ISNUMBER($AI16),$AJ16<>\"\"),CB16,\"\"))","v":""},{"$f":"IF(ISNUMBER($W16),IF($AH16=FALSE,IF($W16<1000,IFERROR(VLOOKUP($W16,FeedLib[#All],CC$60,FALSE),\"\"),IFERROR(VLOOKUP($W16,FeedLibUser[#All],CC$60,FALSE),\"\")),CC16),IF(AND(ISNUMBER($AI16),$AJ16<>\"\"),CC16,\"\"))","v":""},{"$f":"IF(ISNUMBER($W16),IF($AH16=FALSE,IF($W16<1000,IFERROR(VLOOKUP($W16,FeedLib[#All],CD$60,FALSE),\"\"),IFERROR(VLOOKUP($W16,FeedLibUser[#All],CD$60,FALSE),\"\")),CD16),IF(AND(ISNUMBER($AI16),$AJ16<>\"\"),CD16,\"\"))","v":""},{"$f":"IF(ISNUMBER($W16),IF($AH16=FALSE,IF($W16<1000,IFERROR(VLOOKUP($W16,FeedLib[#All],CE$60,FALSE),\"\"),IFERROR(VLOOKUP($W16,FeedLibUser[#All],CE$60,FALSE),\"\")),CE16),IF(AND(ISNUMBER($AI16),$AJ16<>\"\"),CE16,\"\"))","v":""},{"$f":"IF(ISNUMBER($W16),IF($AH16=FALSE,IF($W16<1000,IFERROR(VLOOKUP($W16,FeedLib[#All],CF$60,FALSE),\"\"),IFERROR(VLOOKUP($W16,FeedLibUser[#All],CF$60,FALSE),\"\")),CF16),IF(AND(ISNUMBER($AI16),$AJ16<>\"\"),CF16,\"\"))","v":""},{"$f":"IF(ISNUMBER($W16),IF($AH16=FALSE,IF($W16<1000,IFERROR(VLOOKUP($W16,FeedLib[#All],CG$60,FALSE),\"\"),IFERROR(VLOOKUP($W16,FeedLibUser[#All],CG$60,FALSE),\"\")),CG16),IF(AND(ISNUMBER($AI16),$AJ16<>\"\"),CG16,\"\"))","v":""},{"$f":"IF(ISNUMBER($W16),IF($AH16=FALSE,IF($W16<1000,IFERROR(VLOOKUP($W16,FeedLib[#All],CH$60,FALSE),\"\"),IFERROR(VLOOKUP($W16,FeedLibUser[#All],CH$60,FALSE),\"\")),CH16),IF(AND(ISNUMBER($AI16),$AJ16<>\"\"),CH16,\"\"))","v":""},{"$f":"IF(ISNUMBER($W16),IF($AH16=FALSE,IF($W16<1000,IFERROR(VLOOKUP($W16,FeedLib[#All],CI$60,FALSE),\"\"),IFERROR(VLOOKUP($W16,FeedLibUser[#All],CI$60,FALSE),\"\")),CI16),IF(AND(ISNUMBER($AI16),$AJ16<>\"\"),CI16,\"\"))","v":""},{"$f":"IF(ISNUMBER($W16),IF($AH16=FALSE,IF($W16<1000,IFERROR(VLOOKUP($W16,FeedLib[#All],CJ$60,FALSE),\"\"),IFERROR(VLOOKUP($W16,FeedLibUser[#All],CJ$60,FALSE),\"\")),CJ16),IF(AND(ISNUMBER($AI16),$AJ16<>\"\"),CJ16,\"\"))","v":""},{"$f":"IF(ISNUMBER($W16),IF($AH16=FALSE,IF($W16<1000,IFERROR(VLOOKUP($W16,FeedLib[#All],CK$60,FALSE),\"\"),IFERROR(VLOOKUP($W16,FeedLibUser[#All],CK$60,FALSE),\"\")),CK16),IF(AND(ISNUMBER($AI16),$AJ16<>\"\"),CK16,\"\"))","v":""},{"$f":"IF(ISNUMBER($W16),IF($AH16=FALSE,IF($W16<1000,IFERROR(VLOOKUP($W16,FeedLib[#All],CL$60,FALSE),\"\"),IFERROR(VLOOKUP($W16,FeedLibUser[#All],CL$60,FALSE),\"\")),CL16),IF(AND(ISNUMBER($AI16),$AJ16<>\"\"),CL16,\"\"))","v":""},{"$f":"IF(ISNUMBER($W16),IF($AH16=FALSE,IF($W16<1000,IFERROR(VLOOKUP($W16,FeedLib[#All],CM$60,FALSE),\"\"),IFERROR(VLOOKUP($W16,FeedLibUser[#All],CM$60,FALSE),\"\")),CM16),IF(AND(ISNUMBER($AI16),$AJ16<>\"\"),CM16,\"\"))","v":""}]
[null,null,null,null,null,null,null,null,null,{"$f":"\"Breed: \"&IF(AND($F$21>=1,$F$21<=3),CHOOSE(F21,H22,\"0.5\"&H22&\" x 0.5\"&H23,\"0.5\"&H22&\" x 0.25\"&H23&\" x 0.25\"&H24),H22)","v":"Breed: 0.5Hereford x 0.5Charolais"},null,null,null,null,null,null,null,null,null,null,null,null,null,null,null,null,null,null,null,null,null,null,null,null,"","",{"$f":"IF(ISNUMBER($W17),IF($AH17=FALSE,IF($W17<1000,IFERROR(VLOOKUP($W17,FeedLib[#All],AK$60,FALSE),\"\")*(IF(parmUnit=1,1,2000/2204.6)),IFERROR(VLOOKUP($W17,FeedLibUser[#All],AK$60,FALSE),\"\")*(IF(parmUnit=1,1,2000/2204.6))),AK17),IF(AND(ISNUMBER($AI17),$AJ17<>\"\"),AK17,\"\"))","v":""},{"$f":"IF(ISNUMBER($W17),IF($AH17=FALSE,IF($W17<1000,IFERROR(VLOOKUP($W17,FeedLib[#All],AL$60,FALSE),\"\"),IFERROR(VLOOKUP($W17,FeedLibUser[#All],AL$60,FALSE),\"\")),AL17),IF(AND(ISNUMBER($AI17),$AJ17<>\"\"),AL17,\"\"))","v":""},{"$f":"IF(ISNUMBER($W17),IF($AH17=FALSE,IF($W17<1000,IFERROR(VLOOKUP($W17,FeedLib[#All],AM$60,FALSE),\"\"),IFERROR(VLOOKUP($W17,FeedLibUser[#All],AM$60,FALSE),\"\")),AM17),IF(AND(ISNUMBER($AI17),$AJ17<>\"\"),AM17,\"\"))","v":""},{"$f":"IF(ISNUMBER($W17),IF($AH17=FALSE,IF($W17<1000,IFERROR(VLOOKUP($W17,FeedLib[#All],AN$60,FALSE),\"\"),IFERROR(VLOOKUP($W17,FeedLibUser[#All],AN$60,FALSE),\"\")),AN17),IF(AND(ISNUMBER($AI17),$AJ17<>\"\"),AN17,\"\"))","v":""},{"$f":"IF(ISNUMBER($W17),IF($AH17=FALSE,IF($W17<1000,IFERROR(VLOOKUP($W17,FeedLib[#All],AO$60,FALSE),\"\"),IFERROR(VLOOKUP($W17,FeedLibUser[#All],AO$60,FALSE),\"\")),AO17),IF(AND(ISNUMBER($AI17),$AJ17<>\"\"),AO17,\"\"))","v":""},{"$f":"IF(ISNUMBER($W17),IF($AH17=FALSE,IF($W17<1000,IFERROR(VLOOKUP($W17,FeedLib[#All],AP$60,FALSE),\"\"),IFERROR(VLOOKUP($W17,FeedLibUser[#All],AP$60,FALSE),\"\")),AP17),IF(AND(ISNUMBER($AI17),$AJ17<>\"\"),AP17,\"\"))","v":""},{"$f":"IF(ISNUMBER($W17),IF($AH17=FALSE,IF($W17<1000,IFERROR(VLOOKUP($W17,FeedLib[#All],AQ$60,FALSE),\"\"),IFERROR(VLOOKUP($W17,FeedLibUser[#All],AQ$60,FALSE),\"\")),AQ17),IF(AND(ISNUMBER($AI17),$AJ17<>\"\"),AQ17,\"\"))","v":""},{"$f":"IF(ISNUMBER($W17),IF($AH17=FALSE,IF($W17<1000,IFERROR(VLOOKUP($W17,FeedLib[#All],AR$60,FALSE),\"\"),IFERROR(VLOOKUP($W17,FeedLibUser[#All],AR$60,FALSE),\"\")),AR17),IF(AND(ISNUMBER($AI17),$AJ17<>\"\"),AR17,\"\"))","v":""},{"$f":"IF(ISNUMBER($W17),IF($AH17=FALSE,IF($W17<1000,IFERROR(VLOOKUP($W17,FeedLib[#All],AS$60,FALSE),\"\"),IFERROR(VLOOKUP($W17,FeedLibUser[#All],AS$60,FALSE),\"\")),AS17),IF(AND(ISNUMBER($AI17),$AJ17<>\"\"),AS17,\"\"))","v":""},{"$f":"IF(ISNUMBER($W17),IF($AH17=FALSE,IF($W17<1000,IFERROR(VLOOKUP($W17,FeedLib[#All],AT$60,FALSE),\"\"),IFERROR(VLOOKUP($W17,FeedLibUser[#All],AT$60,FALSE),\"\")),AT17),IF(AND(ISNUMBER($AI17),$AJ17<>\"\"),AT17,\"\"))","v":""},{"$f":"IF(ISNUMBER($W17),IF($AH17=FALSE,IF($W17<1000,IFERROR(VLOOKUP($W17,FeedLib[#All],AU$60,FALSE),\"\"),IFERROR(VLOOKUP($W17,FeedLibUser[#All],AU$60,FALSE),\"\")),AU17),IF(AND(ISNUMBER($AI17),$AJ17<>\"\"),AU17,\"\"))","v":""},{"$f":"IF(ISNUMBER($W17),IF($AH17=FALSE,IF($W17<1000,IFERROR(VLOOKUP($W17,FeedLib[#All],AV$60,FALSE),\"\"),IFERROR(VLOOKUP($W17,FeedLibUser[#All],AV$60,FALSE),\"\")),AV17),IF(AND(ISNUMBER($AI17),$AJ17<>\"\"),AV17,\"\"))","v":""},{"$f":"IF(ISNUMBER($W17),IF($AH17=FALSE,IF($W17<1000,IFERROR(VLOOKUP($W17,FeedLib[#All],AW$60,FALSE),\"\"),IFERROR(VLOOKUP($W17,FeedLibUser[#All],AW$60,FALSE),\"\")),AW17),IF(AND(ISNUMBER($AI17),$AJ17<>\"\"),AW17,\"\"))","v":""},{"$f":"IF(ISNUMBER($W17),IF($AH17=FALSE,IF($W17<1000,IFERROR(VLOOKUP($W17,FeedLib[#All],AX$60,FALSE),\"\"),IFERROR(VLOOKUP($W17,FeedLibUser[#All],AX$60,FALSE),\"\")),AX17),IF(AND(ISNUMBER($AI17),$AJ17<>\"\"),AX17,\"\"))","v":""},{"$f":"IF(ISNUMBER($W17),IF($AH17=FALSE,IF($W17<1000,IFERROR(VLOOKUP($W17,FeedLib[#All],AY$60,FALSE),\"\")/IF(parmUnit=1,1,2.2046),IFERROR(VLOOKUP($W17,FeedLibUser[#All],AY$60,FALSE),\"\")/IF(parmUnit=1,1,2.2046)),AY17),IF(AND(ISNUMBER($AI17),$AJ17<>\"\"),AY17,\"\"))","v":""},{"$f":"IF(ISNUMBER($W17),IF($AH17=FALSE,IF($W17<1000,IFERROR(VLOOKUP($W17,FeedLib[#All],AZ$60,FALSE),\"\")/IF(parmUnit=1,1,2.2046),IFERROR(VLOOKUP($W17,FeedLibUser[#All],AZ$60,FALSE),\"\")/IF(parmUnit=1,1,2.2046)),AZ17),IF(AND(ISNUMBER($AI17),$AJ17<>\"\"),AZ17,\"\"))","v":""},{"$f":"IF(ISNUMBER($W17),IF($AH17=FALSE,IF($W17<1000,IFERROR(VLOOKUP($W17,FeedLib[#All],BA$60,FALSE),\"\")/IF(parmUnit=1,1,2.2046),IFERROR(VLOOKUP($W17,FeedLibUser[#All],BA$60,FALSE),\"\")/IF(parmUnit=1,1,2.2046)),BA17),IF(AND(ISNUMBER($AI17),$AJ17<>\"\"),BA17,\"\"))","v":""},{"$f":"IF(ISNUMBER($W17),IF($AH17=FALSE,IF($W17<1000,IFERROR(VLOOKUP($W17,FeedLib[#All],BB$60,FALSE),\"\"),IFERROR(VLOOKUP($W17,FeedLibUser[#All],BB$60,FALSE),\"\")),BB17),IF(AND(ISNUMBER($AI17),$AJ17<>\"\"),BB17,\"\"))","v":""},{"$f":"IF(ISNUMBER($W17),IF($AH17=FALSE,IF($W17<1000,IFERROR(VLOOKUP($W17,FeedLib[#All],BC$60,FALSE),\"\"),IFERROR(VLOOKUP($W17,FeedLibUser[#All],BC$60,FALSE),\"\")),BC17),IF(AND(ISNUMBER($AI17),$AJ17<>\"\"),BC17,\"\"))","v":""},{"$f":"IF(ISNUMBER($W17),IF($AH17=FALSE,IF($W17<1000,IFERROR(VLOOKUP($W17,FeedLib[#All],BD$60,FALSE),\"\"),IFERROR(VLOOKUP($W17,FeedLibUser[#All],BD$60,FALSE),\"\")),BD17),IF(AND(ISNUMBER($AI17),$AJ17<>\"\"),BD17,\"\"))","v":""},{"$f":"IF(ISNUMBER($W17),IF($AH17=FALSE,IF($W17<1000,IFERROR(VLOOKUP($W17,FeedLib[#All],BE$60,FALSE),\"\"),IFERROR(VLOOKUP($W17,FeedLibUser[#All],BE$60,FALSE),\"\")),BE17),IF(AND(ISNUMBER($AI17),$AJ17<>\"\"),BE17,\"\"))","v":""},{"$f":"IF(ISNUMBER($W17),IF($AH17=FALSE,IF($W17<1000,IFERROR(VLOOKUP($W17,FeedLib[#All],BF$60,FALSE),\"\"),IFERROR(VLOOKUP($W17,FeedLibUser[#All],BF$60,FALSE),\"\")),BF17),IF(AND(ISNUMBER($AI17),$AJ17<>\"\"),BF17,\"\"))","v":""},{"$f":"IF(ISNUMBER($W17),IF($AH17=FALSE,IF($W17<1000,IFERROR(VLOOKUP($W17,FeedLib[#All],BG$60,FALSE),\"\"),IFERROR(VLOOKUP($W17,FeedLibUser[#All],BG$60,FALSE),\"\")),BG17),IF(AND(ISNUMBER($AI17),$AJ17<>\"\"),BG17,\"\"))","v":""},{"$f":"IF(ISNUMBER($W17),IF($AH17=FALSE,IF($W17<1000,IFERROR(VLOOKUP($W17,FeedLib[#All],BH$60,FALSE),\"\"),IFERROR(VLOOKUP($W17,FeedLibUser[#All],BH$60,FALSE),\"\")),BH17),IF(AND(ISNUMBER($AI17),$AJ17<>\"\"),BH17,\"\"))","v":""},{"$f":"IF(ISNUMBER($W17),IF($AH17=FALSE,IF($W17<1000,IFERROR(VLOOKUP($W17,FeedLib[#All],BI$60,FALSE),\"\"),IFERROR(VLOOKUP($W17,FeedLibUser[#All],BI$60,FALSE),\"\")),BI17),IF(AND(ISNUMBER($AI17),$AJ17<>\"\"),BI17,\"\"))","v":""},{"$f":"IF(ISNUMBER($W17),IF($AH17=FALSE,IF($W17<1000,IFERROR(VLOOKUP($W17,FeedLib[#All],BJ$60,FALSE),\"\"),IFERROR(VLOOKUP($W17,FeedLibUser[#All],BJ$60,FALSE),\"\")),BJ17),IF(AND(ISNUMBER($AI17),$AJ17<>\"\"),BJ17,\"\"))","v":""},{"$f":"IF(ISNUMBER($W17),IF($AH17=FALSE,IF($W17<1000,IFERROR(VLOOKUP($W17,FeedLib[#All],BK$60,FALSE),\"\"),IFERROR(VLOOKUP($W17,FeedLibUser[#All],BK$60,FALSE),\"\")),BK17),IF(AND(ISNUMBER($AI17),$AJ17<>\"\"),BK17,\"\"))","v":""},{"$f":"IF(ISNUMBER($W17),IF($AH17=FALSE,IF($W17<1000,IFERROR(VLOOKUP($W17,FeedLib[#All],BL$60,FALSE),\"\"),IFERROR(VLOOKUP($W17,FeedLibUser[#All],BL$60,FALSE),\"\")),BL17),IF(AND(ISNUMBER($AI17),$AJ17<>\"\"),BL17,\"\"))","v":""},{"$f":"IF(ISNUMBER($W17),IF($AH17=FALSE,IF($W17<1000,IFERROR(VLOOKUP($W17,FeedLib[#All],BM$60,FALSE),\"\"),IFERROR(VLOOKUP($W17,FeedLibUser[#All],BM$60,FALSE),\"\")),BM17),IF(AND(ISNUMBER($AI17),$AJ17<>\"\"),BM17,\"\"))","v":""},{"$f":"IF(ISNUMBER($W17),IF($AH17=FALSE,IF($W17<1000,IFERROR(VLOOKUP($W17,FeedLib[#All],BN$60,FALSE),\"\"),IFERROR(VLOOKUP($W17,FeedLibUser[#All],BN$60,FALSE),\"\")),BN17),IF(AND(ISNUMBER($AI17),$AJ17<>\"\"),BN17,\"\"))","v":""},{"$f":"IF(ISNUMBER($W17),IF($AH17=FALSE,IF($W17<1000,IFERROR(VLOOKUP($W17,FeedLib[#All],BO$60,FALSE),\"\"),IFERROR(VLOOKUP($W17,FeedLibUser[#All],BO$60,FALSE),\"\")),BO17),IF(AND(ISNUMBER($AI17),$AJ17<>\"\"),BO17,\"\"))","v":""},{"$f":"IF(ISNUMBER($W17),IF($AH17=FALSE,IF($W17<1000,IFERROR(VLOOKUP($W17,FeedLib[#All],BP$60,FALSE),\"\"),IFERROR(VLOOKUP($W17,FeedLibUser[#All],BP$60,FALSE),\"\")),BP17),IF(AND(ISNUMBER($AI17),$AJ17<>\"\"),BP17,\"\"))","v":""},{"$f":"IF(ISNUMBER($W17),IF($AH17=FALSE,IF($W17<1000,IFERROR(VLOOKUP($W17,FeedLib[#All],BQ$60,FALSE),\"\"),IFERROR(VLOOKUP($W17,FeedLibUser[#All],BQ$60,FALSE),\"\")),BQ17),IF(AND(ISNUMBER($AI17),$AJ17<>\"\"),BQ17,\"\"))","v":""},{"$f":"IF(ISNUMBER($W17),IF($AH17=FALSE,IF($W17<1000,IFERROR(VLOOKUP($W17,FeedLib[#All],BR$60,FALSE),\"\"),IFERROR(VLOOKUP($W17,FeedLibUser[#All],BR$60,FALSE),\"\")),BR17),IF(AND(ISNUMBER($AI17),$AJ17<>\"\"),BR17,\"\"))","v":""},{"$f":"IF(ISNUMBER($W17),IF($AH17=FALSE,IF($W17<1000,IFERROR(VLOOKUP($W17,FeedLib[#All],BS$60,FALSE),\"\"),IFERROR(VLOOKUP($W17,FeedLibUser[#All],BS$60,FALSE),\"\")),BS17),IF(AND(ISNUMBER($AI17),$AJ17<>\"\"),BS17,\"\"))","v":""},{"$f":"IF(ISNUMBER($W17),IF($AH17=FALSE,IF($W17<1000,IFERROR(VLOOKUP($W17,FeedLib[#All],BT$60,FALSE),\"\"),IFERROR(VLOOKUP($W17,FeedLibUser[#All],BT$60,FALSE),\"\")),BT17),IF(AND(ISNUMBER($AI17),$AJ17<>\"\"),BT17,\"\"))","v":""},{"$f":"IF(ISNUMBER($W17),IF($AH17=FALSE,IF($W17<1000,IFERROR(VLOOKUP($W17,FeedLib[#All],BU$60,FALSE),\"\"),IFERROR(VLOOKUP($W17,FeedLibUser[#All],BU$60,FALSE),\"\")),BU17),IF(AND(ISNUMBER($AI17),$AJ17<>\"\"),BU17,\"\"))","v":""},{"$f":"IF(ISNUMBER($W17),IF($AH17=FALSE,IF($W17<1000,IFERROR(VLOOKUP($W17,FeedLib[#All],BV$60,FALSE),\"\"),IFERROR(VLOOKUP($W17,FeedLibUser[#All],BV$60,FALSE),\"\")),BV17),IF(AND(ISNUMBER($AI17),$AJ17<>\"\"),BV17,\"\"))","v":""},{"$f":"IF(ISNUMBER($W17),IF($AH17=FALSE,IF($W17<1000,IFERROR(VLOOKUP($W17,FeedLib[#All],BW$60,FALSE),\"\"),IFERROR(VLOOKUP($W17,FeedLibUser[#All],BW$60,FALSE),\"\")),BW17),IF(AND(ISNUMBER($AI17),$AJ17<>\"\"),BW17,\"\"))","v":""},{"$f":"IF(ISNUMBER($W17),IF($AH17=FALSE,IF($W17<1000,IFERROR(VLOOKUP($W17,FeedLib[#All],BX$60,FALSE),\"\"),IFERROR(VLOOKUP($W17,FeedLibUser[#All],BX$60,FALSE),\"\")),BX17),IF(AND(ISNUMBER($AI17),$AJ17<>\"\"),BX17,\"\"))","v":""},{"$f":"IF(ISNUMBER($W17),IF($AH17=FALSE,IF($W17<1000,IFERROR(VLOOKUP($W17,FeedLib[#All],BY$60,FALSE),\"\"),IFERROR(VLOOKUP($W17,FeedLibUser[#All],BY$60,FALSE),\"\")),BY17),IF(AND(ISNUMBER($AI17),$AJ17<>\"\"),BY17,\"\"))","v":""},{"$f":"IF(ISNUMBER($W17),IF($AH17=FALSE,IF($W17<1000,IFERROR(VLOOKUP($W17,FeedLib[#All],BZ$60,FALSE),\"\"),IFERROR(VLOOKUP($W17,FeedLibUser[#All],BZ$60,FALSE),\"\")),BZ17),IF(AND(ISNUMBER($AI17),$AJ17<>\"\"),BZ17,\"\"))","v":""},{"$f":"IF(ISNUMBER($W17),IF($AH17=FALSE,IF($W17<1000,IFERROR(VLOOKUP($W17,FeedLib[#All],CA$60,FALSE),\"\"),IFERROR(VLOOKUP($W17,FeedLibUser[#All],CA$60,FALSE),\"\")),CA17),IF(AND(ISNUMBER($AI17),$AJ17<>\"\"),CA17,\"\"))","v":""},{"$f":"IF(ISNUMBER($W17),IF($AH17=FALSE,IF($W17<1000,IFERROR(VLOOKUP($W17,FeedLib[#All],CB$60,FALSE),\"\"),IFERROR(VLOOKUP($W17,FeedLibUser[#All],CB$60,FALSE),\"\")),CB17),IF(AND(ISNUMBER($AI17),$AJ17<>\"\"),CB17,\"\"))","v":""},{"$f":"IF(ISNUMBER($W17),IF($AH17=FALSE,IF($W17<1000,IFERROR(VLOOKUP($W17,FeedLib[#All],CC$60,FALSE),\"\"),IFERROR(VLOOKUP($W17,FeedLibUser[#All],CC$60,FALSE),\"\")),CC17),IF(AND(ISNUMBER($AI17),$AJ17<>\"\"),CC17,\"\"))","v":""},{"$f":"IF(ISNUMBER($W17),IF($AH17=FALSE,IF($W17<1000,IFERROR(VLOOKUP($W17,FeedLib[#All],CD$60,FALSE),\"\"),IFERROR(VLOOKUP($W17,FeedLibUser[#All],CD$60,FALSE),\"\")),CD17),IF(AND(ISNUMBER($AI17),$AJ17<>\"\"),CD17,\"\"))","v":""},{"$f":"IF(ISNUMBER($W17),IF($AH17=FALSE,IF($W17<1000,IFERROR(VLOOKUP($W17,FeedLib[#All],CE$60,FALSE),\"\"),IFERROR(VLOOKUP($W17,FeedLibUser[#All],CE$60,FALSE),\"\")),CE17),IF(AND(ISNUMBER($AI17),$AJ17<>\"\"),CE17,\"\"))","v":""},{"$f":"IF(ISNUMBER($W17),IF($AH17=FALSE,IF($W17<1000,IFERROR(VLOOKUP($W17,FeedLib[#All],CF$60,FALSE),\"\"),IFERROR(VLOOKUP($W17,FeedLibUser[#All],CF$60,FALSE),\"\")),CF17),IF(AND(ISNUMBER($AI17),$AJ17<>\"\"),CF17,\"\"))","v":""},{"$f":"IF(ISNUMBER($W17),IF($AH17=FALSE,IF($W17<1000,IFERROR(VLOOKUP($W17,FeedLib[#All],CG$60,FALSE),\"\"),IFERROR(VLOOKUP($W17,FeedLibUser[#All],CG$60,FALSE),\"\")),CG17),IF(AND(ISNUMBER($AI17),$AJ17<>\"\"),CG17,\"\"))","v":""},{"$f":"IF(ISNUMBER($W17),IF($AH17=FALSE,IF($W17<1000,IFERROR(VLOOKUP($W17,FeedLib[#All],CH$60,FALSE),\"\"),IFERROR(VLOOKUP($W17,FeedLibUser[#All],CH$60,FALSE),\"\")),CH17),IF(AND(ISNUMBER($AI17),$AJ17<>\"\"),CH17,\"\"))","v":""},{"$f":"IF(ISNUMBER($W17),IF($AH17=FALSE,IF($W17<1000,IFERROR(VLOOKUP($W17,FeedLib[#All],CI$60,FALSE),\"\"),IFERROR(VLOOKUP($W17,FeedLibUser[#All],CI$60,FALSE),\"\")),CI17),IF(AND(ISNUMBER($AI17),$AJ17<>\"\"),CI17,\"\"))","v":""},{"$f":"IF(ISNUMBER($W17),IF($AH17=FALSE,IF($W17<1000,IFERROR(VLOOKUP($W17,FeedLib[#All],CJ$60,FALSE),\"\"),IFERROR(VLOOKUP($W17,FeedLibUser[#All],CJ$60,FALSE),\"\")),CJ17),IF(AND(ISNUMBER($AI17),$AJ17<>\"\"),CJ17,\"\"))","v":""},{"$f":"IF(ISNUMBER($W17),IF($AH17=FALSE,IF($W17<1000,IFERROR(VLOOKUP($W17,FeedLib[#All],CK$60,FALSE),\"\"),IFERROR(VLOOKUP($W17,FeedLibUser[#All],CK$60,FALSE),\"\")),CK17),IF(AND(ISNUMBER($AI17),$AJ17<>\"\"),CK17,\"\"))","v":""},{"$f":"IF(ISNUMBER($W17),IF($AH17=FALSE,IF($W17<1000,IFERROR(VLOOKUP($W17,FeedLib[#All],CL$60,FALSE),\"\"),IFERROR(VLOOKUP($W17,FeedLibUser[#All],CL$60,FALSE),\"\")),CL17),IF(AND(ISNUMBER($AI17),$AJ17<>\"\"),CL17,\"\"))","v":""},{"$f":"IF(ISNUMBER($W17),IF($AH17=FALSE,IF($W17<1000,IFERROR(VLOOKUP($W17,FeedLib[#All],CM$60,FALSE),\"\"),IFERROR(VLOOKUP($W17,FeedLibUser[#All],CM$60,FALSE),\"\")),CM17),IF(AND(ISNUMBER($AI17),$AJ17<>\"\"),CM17,\"\"))","v":""}]
[null,null,null,null,null,null,null,null,null,null,null,null,null,null,null,null,null,null,null,null,null,null,null,null,null,null,null,null,null,null,null,null,null,null,"","",{"$f":"IF(ISNUMBER($W18),IF($AH18=FALSE,IF($W18<1000,IFERROR(VLOOKUP($W18,FeedLib[#All],AK$60,FALSE),\"\")*(IF(parmUnit=1,1,2000/2204.6)),IFERROR(VLOOKUP($W18,FeedLibUser[#All],AK$60,FALSE),\"\")*(IF(parmUnit=1,1,2000/2204.6))),AK18),IF(AND(ISNUMBER($AI18),$AJ18<>\"\"),AK18,\"\"))","v":""},{"$f":"IF(ISNUMBER($W18),IF($AH18=FALSE,IF($W18<1000,IFERROR(VLOOKUP($W18,FeedLib[#All],AL$60,FALSE),\"\"),IFERROR(VLOOKUP($W18,FeedLibUser[#All],AL$60,FALSE),\"\")),AL18),IF(AND(ISNUMBER($AI18),$AJ18<>\"\"),AL18,\"\"))","v":""},{"$f":"IF(ISNUMBER($W18),IF($AH18=FALSE,IF($W18<1000,IFERROR(VLOOKUP($W18,FeedLib[#All],AM$60,FALSE),\"\"),IFERROR(VLOOKUP($W18,FeedLibUser[#All],AM$60,FALSE),\"\")),AM18),IF(AND(ISNUMBER($AI18),$AJ18<>\"\"),AM18,\"\"))","v":""},{"$f":"IF(ISNUMBER($W18),IF($AH18=FALSE,IF($W18<1000,IFERROR(VLOOKUP($W18,FeedLib[#All],AN$60,FALSE),\"\"),IFERROR(VLOOKUP($W18,FeedLibUser[#All],AN$60,FALSE),\"\")),AN18),IF(AND(ISNUMBER($AI18),$AJ18<>\"\"),AN18,\"\"))","v":""},{"$f":"IF(ISNUMBER($W18),IF($AH18=FALSE,IF($W18<1000,IFERROR(VLOOKUP($W18,FeedLib[#All],AO$60,FALSE),\"\"),IFERROR(VLOOKUP($W18,FeedLibUser[#All],AO$60,FALSE),\"\")),AO18),IF(AND(ISNUMBER($AI18),$AJ18<>\"\"),AO18,\"\"))","v":""},{"$f":"IF(ISNUMBER($W18),IF($AH18=FALSE,IF($W18<1000,IFERROR(VLOOKUP($W18,FeedLib[#All],AP$60,FALSE),\"\"),IFERROR(VLOOKUP($W18,FeedLibUser[#All],AP$60,FALSE),\"\")),AP18),IF(AND(ISNUMBER($AI18),$AJ18<>\"\"),AP18,\"\"))","v":""},{"$f":"IF(ISNUMBER($W18),IF($AH18=FALSE,IF($W18<1000,IFERROR(VLOOKUP($W18,FeedLib[#All],AQ$60,FALSE),\"\"),IFERROR(VLOOKUP($W18,FeedLibUser[#All],AQ$60,FALSE),\"\")),AQ18),IF(AND(ISNUMBER($AI18),$AJ18<>\"\"),AQ18,\"\"))","v":""},{"$f":"IF(ISNUMBER($W18),IF($AH18=FALSE,IF($W18<1000,IFERROR(VLOOKUP($W18,FeedLib[#All],AR$60,FALSE),\"\"),IFERROR(VLOOKUP($W18,FeedLibUser[#All],AR$60,FALSE),\"\")),AR18),IF(AND(ISNUMBER($AI18),$AJ18<>\"\"),AR18,\"\"))","v":""},{"$f":"IF(ISNUMBER($W18),IF($AH18=FALSE,IF($W18<1000,IFERROR(VLOOKUP($W18,FeedLib[#All],AS$60,FALSE),\"\"),IFERROR(VLOOKUP($W18,FeedLibUser[#All],AS$60,FALSE),\"\")),AS18),IF(AND(ISNUMBER($AI18),$AJ18<>\"\"),AS18,\"\"))","v":""},{"$f":"IF(ISNUMBER($W18),IF($AH18=FALSE,IF($W18<1000,IFERROR(VLOOKUP($W18,FeedLib[#All],AT$60,FALSE),\"\"),IFERROR(VLOOKUP($W18,FeedLibUser[#All],AT$60,FALSE),\"\")),AT18),IF(AND(ISNUMBER($AI18),$AJ18<>\"\"),AT18,\"\"))","v":""},{"$f":"IF(ISNUMBER($W18),IF($AH18=FALSE,IF($W18<1000,IFERROR(VLOOKUP($W18,FeedLib[#All],AU$60,FALSE),\"\"),IFERROR(VLOOKUP($W18,FeedLibUser[#All],AU$60,FALSE),\"\")),AU18),IF(AND(ISNUMBER($AI18),$AJ18<>\"\"),AU18,\"\"))","v":""},{"$f":"IF(ISNUMBER($W18),IF($AH18=FALSE,IF($W18<1000,IFERROR(VLOOKUP($W18,FeedLib[#All],AV$60,FALSE),\"\"),IFERROR(VLOOKUP($W18,FeedLibUser[#All],AV$60,FALSE),\"\")),AV18),IF(AND(ISNUMBER($AI18),$AJ18<>\"\"),AV18,\"\"))","v":""},{"$f":"IF(ISNUMBER($W18),IF($AH18=FALSE,IF($W18<1000,IFERROR(VLOOKUP($W18,FeedLib[#All],AW$60,FALSE),\"\"),IFERROR(VLOOKUP($W18,FeedLibUser[#All],AW$60,FALSE),\"\")),AW18),IF(AND(ISNUMBER($AI18),$AJ18<>\"\"),AW18,\"\"))","v":""},{"$f":"IF(ISNUMBER($W18),IF($AH18=FALSE,IF($W18<1000,IFERROR(VLOOKUP($W18,FeedLib[#All],AX$60,FALSE),\"\"),IFERROR(VLOOKUP($W18,FeedLibUser[#All],AX$60,FALSE),\"\")),AX18),IF(AND(ISNUMBER($AI18),$AJ18<>\"\"),AX18,\"\"))","v":""},{"$f":"IF(ISNUMBER($W18),IF($AH18=FALSE,IF($W18<1000,IFERROR(VLOOKUP($W18,FeedLib[#All],AY$60,FALSE),\"\")/IF(parmUnit=1,1,2.2046),IFERROR(VLOOKUP($W18,FeedLibUser[#All],AY$60,FALSE),\"\")/IF(parmUnit=1,1,2.2046)),AY18),IF(AND(ISNUMBER($AI18),$AJ18<>\"\"),AY18,\"\"))","v":""},{"$f":"IF(ISNUMBER($W18),IF($AH18=FALSE,IF($W18<1000,IFERROR(VLOOKUP($W18,FeedLib[#All],AZ$60,FALSE),\"\")/IF(parmUnit=1,1,2.2046),IFERROR(VLOOKUP($W18,FeedLibUser[#All],AZ$60,FALSE),\"\")/IF(parmUnit=1,1,2.2046)),AZ18),IF(AND(ISNUMBER($AI18),$AJ18<>\"\"),AZ18,\"\"))","v":""},{"$f":"IF(ISNUMBER($W18),IF($AH18=FALSE,IF($W18<1000,IFERROR(VLOOKUP($W18,FeedLib[#All],BA$60,FALSE),\"\")/IF(parmUnit=1,1,2.2046),IFERROR(VLOOKUP($W18,FeedLibUser[#All],BA$60,FALSE),\"\")/IF(parmUnit=1,1,2.2046)),BA18),IF(AND(ISNUMBER($AI18),$AJ18<>\"\"),BA18,\"\"))","v":""},{"$f":"IF(ISNUMBER($W18),IF($AH18=FALSE,IF($W18<1000,IFERROR(VLOOKUP($W18,FeedLib[#All],BB$60,FALSE),\"\"),IFERROR(VLOOKUP($W18,FeedLibUser[#All],BB$60,FALSE),\"\")),BB18),IF(AND(ISNUMBER($AI18),$AJ18<>\"\"),BB18,\"\"))","v":""},{"$f":"IF(ISNUMBER($W18),IF($AH18=FALSE,IF($W18<1000,IFERROR(VLOOKUP($W18,FeedLib[#All],BC$60,FALSE),\"\"),IFERROR(VLOOKUP($W18,FeedLibUser[#All],BC$60,FALSE),\"\")),BC18),IF(AND(ISNUMBER($AI18),$AJ18<>\"\"),BC18,\"\"))","v":""},{"$f":"IF(ISNUMBER($W18),IF($AH18=FALSE,IF($W18<1000,IFERROR(VLOOKUP($W18,FeedLib[#All],BD$60,FALSE),\"\"),IFERROR(VLOOKUP($W18,FeedLibUser[#All],BD$60,FALSE),\"\")),BD18),IF(AND(ISNUMBER($AI18),$AJ18<>\"\"),BD18,\"\"))","v":""},{"$f":"IF(ISNUMBER($W18),IF($AH18=FALSE,IF($W18<1000,IFERROR(VLOOKUP($W18,FeedLib[#All],BE$60,FALSE),\"\"),IFERROR(VLOOKUP($W18,FeedLibUser[#All],BE$60,FALSE),\"\")),BE18),IF(AND(ISNUMBER($AI18),$AJ18<>\"\"),BE18,\"\"))","v":""},{"$f":"IF(ISNUMBER($W18),IF($AH18=FALSE,IF($W18<1000,IFERROR(VLOOKUP($W18,FeedLib[#All],BF$60,FALSE),\"\"),IFERROR(VLOOKUP($W18,FeedLibUser[#All],BF$60,FALSE),\"\")),BF18),IF(AND(ISNUMBER($AI18),$AJ18<>\"\"),BF18,\"\"))","v":""},{"$f":"IF(ISNUMBER($W18),IF($AH18=FALSE,IF($W18<1000,IFERROR(VLOOKUP($W18,FeedLib[#All],BG$60,FALSE),\"\"),IFERROR(VLOOKUP($W18,FeedLibUser[#All],BG$60,FALSE),\"\")),BG18),IF(AND(ISNUMBER($AI18),$AJ18<>\"\"),BG18,\"\"))","v":""},{"$f":"IF(ISNUMBER($W18),IF($AH18=FALSE,IF($W18<1000,IFERROR(VLOOKUP($W18,FeedLib[#All],BH$60,FALSE),\"\"),IFERROR(VLOOKUP($W18,FeedLibUser[#All],BH$60,FALSE),\"\")),BH18),IF(AND(ISNUMBER($AI18),$AJ18<>\"\"),BH18,\"\"))","v":""},{"$f":"IF(ISNUMBER($W18),IF($AH18=FALSE,IF($W18<1000,IFERROR(VLOOKUP($W18,FeedLib[#All],BI$60,FALSE),\"\"),IFERROR(VLOOKUP($W18,FeedLibUser[#All],BI$60,FALSE),\"\")),BI18),IF(AND(ISNUMBER($AI18),$AJ18<>\"\"),BI18,\"\"))","v":""},{"$f":"IF(ISNUMBER($W18),IF($AH18=FALSE,IF($W18<1000,IFERROR(VLOOKUP($W18,FeedLib[#All],BJ$60,FALSE),\"\"),IFERROR(VLOOKUP($W18,FeedLibUser[#All],BJ$60,FALSE),\"\")),BJ18),IF(AND(ISNUMBER($AI18),$AJ18<>\"\"),BJ18,\"\"))","v":""},{"$f":"IF(ISNUMBER($W18),IF($AH18=FALSE,IF($W18<1000,IFERROR(VLOOKUP($W18,FeedLib[#All],BK$60,FALSE),\"\"),IFERROR(VLOOKUP($W18,FeedLibUser[#All],BK$60,FALSE),\"\")),BK18),IF(AND(ISNUMBER($AI18),$AJ18<>\"\"),BK18,\"\"))","v":""},{"$f":"IF(ISNUMBER($W18),IF($AH18=FALSE,IF($W18<1000,IFERROR(VLOOKUP($W18,FeedLib[#All],BL$60,FALSE),\"\"),IFERROR(VLOOKUP($W18,FeedLibUser[#All],BL$60,FALSE),\"\")),BL18),IF(AND(ISNUMBER($AI18),$AJ18<>\"\"),BL18,\"\"))","v":""},{"$f":"IF(ISNUMBER($W18),IF($AH18=FALSE,IF($W18<1000,IFERROR(VLOOKUP($W18,FeedLib[#All],BM$60,FALSE),\"\"),IFERROR(VLOOKUP($W18,FeedLibUser[#All],BM$60,FALSE),\"\")),BM18),IF(AND(ISNUMBER($AI18),$AJ18<>\"\"),BM18,\"\"))","v":""},{"$f":"IF(ISNUMBER($W18),IF($AH18=FALSE,IF($W18<1000,IFERROR(VLOOKUP($W18,FeedLib[#All],BN$60,FALSE),\"\"),IFERROR(VLOOKUP($W18,FeedLibUser[#All],BN$60,FALSE),\"\")),BN18),IF(AND(ISNUMBER($AI18),$AJ18<>\"\"),BN18,\"\"))","v":""},{"$f":"IF(ISNUMBER($W18),IF($AH18=FALSE,IF($W18<1000,IFERROR(VLOOKUP($W18,FeedLib[#All],BO$60,FALSE),\"\"),IFERROR(VLOOKUP($W18,FeedLibUser[#All],BO$60,FALSE),\"\")),BO18),IF(AND(ISNUMBER($AI18),$AJ18<>\"\"),BO18,\"\"))","v":""},{"$f":"IF(ISNUMBER($W18),IF($AH18=FALSE,IF($W18<1000,IFERROR(VLOOKUP($W18,FeedLib[#All],BP$60,FALSE),\"\"),IFERROR(VLOOKUP($W18,FeedLibUser[#All],BP$60,FALSE),\"\")),BP18),IF(AND(ISNUMBER($AI18),$AJ18<>\"\"),BP18,\"\"))","v":""},{"$f":"IF(ISNUMBER($W18),IF($AH18=FALSE,IF($W18<1000,IFERROR(VLOOKUP($W18,FeedLib[#All],BQ$60,FALSE),\"\"),IFERROR(VLOOKUP($W18,FeedLibUser[#All],BQ$60,FALSE),\"\")),BQ18),IF(AND(ISNUMBER($AI18),$AJ18<>\"\"),BQ18,\"\"))","v":""},{"$f":"IF(ISNUMBER($W18),IF($AH18=FALSE,IF($W18<1000,IFERROR(VLOOKUP($W18,FeedLib[#All],BR$60,FALSE),\"\"),IFERROR(VLOOKUP($W18,FeedLibUser[#All],BR$60,FALSE),\"\")),BR18),IF(AND(ISNUMBER($AI18),$AJ18<>\"\"),BR18,\"\"))","v":""},{"$f":"IF(ISNUMBER($W18),IF($AH18=FALSE,IF($W18<1000,IFERROR(VLOOKUP($W18,FeedLib[#All],BS$60,FALSE),\"\"),IFERROR(VLOOKUP($W18,FeedLibUser[#All],BS$60,FALSE),\"\")),BS18),IF(AND(ISNUMBER($AI18),$AJ18<>\"\"),BS18,\"\"))","v":""},{"$f":"IF(ISNUMBER($W18),IF($AH18=FALSE,IF($W18<1000,IFERROR(VLOOKUP($W18,FeedLib[#All],BT$60,FALSE),\"\"),IFERROR(VLOOKUP($W18,FeedLibUser[#All],BT$60,FALSE),\"\")),BT18),IF(AND(ISNUMBER($AI18),$AJ18<>\"\"),BT18,\"\"))","v":""},{"$f":"IF(ISNUMBER($W18),IF($AH18=FALSE,IF($W18<1000,IFERROR(VLOOKUP($W18,FeedLib[#All],BU$60,FALSE),\"\"),IFERROR(VLOOKUP($W18,FeedLibUser[#All],BU$60,FALSE),\"\")),BU18),IF(AND(ISNUMBER($AI18),$AJ18<>\"\"),BU18,\"\"))","v":""},{"$f":"IF(ISNUMBER($W18),IF($AH18=FALSE,IF($W18<1000,IFERROR(VLOOKUP($W18,FeedLib[#All],BV$60,FALSE),\"\"),IFERROR(VLOOKUP($W18,FeedLibUser[#All],BV$60,FALSE),\"\")),BV18),IF(AND(ISNUMBER($AI18),$AJ18<>\"\"),BV18,\"\"))","v":""},{"$f":"IF(ISNUMBER($W18),IF($AH18=FALSE,IF($W18<1000,IFERROR(VLOOKUP($W18,FeedLib[#All],BW$60,FALSE),\"\"),IFERROR(VLOOKUP($W18,FeedLibUser[#All],BW$60,FALSE),\"\")),BW18),IF(AND(ISNUMBER($AI18),$AJ18<>\"\"),BW18,\"\"))","v":""},{"$f":"IF(ISNUMBER($W18),IF($AH18=FALSE,IF($W18<1000,IFERROR(VLOOKUP($W18,FeedLib[#All],BX$60,FALSE),\"\"),IFERROR(VLOOKUP($W18,FeedLibUser[#All],BX$60,FALSE),\"\")),BX18),IF(AND(ISNUMBER($AI18),$AJ18<>\"\"),BX18,\"\"))","v":""},{"$f":"IF(ISNUMBER($W18),IF($AH18=FALSE,IF($W18<1000,IFERROR(VLOOKUP($W18,FeedLib[#All],BY$60,FALSE),\"\"),IFERROR(VLOOKUP($W18,FeedLibUser[#All],BY$60,FALSE),\"\")),BY18),IF(AND(ISNUMBER($AI18),$AJ18<>\"\"),BY18,\"\"))","v":""},{"$f":"IF(ISNUMBER($W18),IF($AH18=FALSE,IF($W18<1000,IFERROR(VLOOKUP($W18,FeedLib[#All],BZ$60,FALSE),\"\"),IFERROR(VLOOKUP($W18,FeedLibUser[#All],BZ$60,FALSE),\"\")),BZ18),IF(AND(ISNUMBER($AI18),$AJ18<>\"\"),BZ18,\"\"))","v":""},{"$f":"IF(ISNUMBER($W18),IF($AH18=FALSE,IF($W18<1000,IFERROR(VLOOKUP($W18,FeedLib[#All],CA$60,FALSE),\"\"),IFERROR(VLOOKUP($W18,FeedLibUser[#All],CA$60,FALSE),\"\")),CA18),IF(AND(ISNUMBER($AI18),$AJ18<>\"\"),CA18,\"\"))","v":""},{"$f":"IF(ISNUMBER($W18),IF($AH18=FALSE,IF($W18<1000,IFERROR(VLOOKUP($W18,FeedLib[#All],CB$60,FALSE),\"\"),IFERROR(VLOOKUP($W18,FeedLibUser[#All],CB$60,FALSE),\"\")),CB18),IF(AND(ISNUMBER($AI18),$AJ18<>\"\"),CB18,\"\"))","v":""},{"$f":"IF(ISNUMBER($W18),IF($AH18=FALSE,IF($W18<1000,IFERROR(VLOOKUP($W18,FeedLib[#All],CC$60,FALSE),\"\"),IFERROR(VLOOKUP($W18,FeedLibUser[#All],CC$60,FALSE),\"\")),CC18),IF(AND(ISNUMBER($AI18),$AJ18<>\"\"),CC18,\"\"))","v":""},{"$f":"IF(ISNUMBER($W18),IF($AH18=FALSE,IF($W18<1000,IFERROR(VLOOKUP($W18,FeedLib[#All],CD$60,FALSE),\"\"),IFERROR(VLOOKUP($W18,FeedLibUser[#All],CD$60,FALSE),\"\")),CD18),IF(AND(ISNUMBER($AI18),$AJ18<>\"\"),CD18,\"\"))","v":""},{"$f":"IF(ISNUMBER($W18),IF($AH18=FALSE,IF($W18<1000,IFERROR(VLOOKUP($W18,FeedLib[#All],CE$60,FALSE),\"\"),IFERROR(VLOOKUP($W18,FeedLibUser[#All],CE$60,FALSE),\"\")),CE18),IF(AND(ISNUMBER($AI18),$AJ18<>\"\"),CE18,\"\"))","v":""},{"$f":"IF(ISNUMBER($W18),IF($AH18=FALSE,IF($W18<1000,IFERROR(VLOOKUP($W18,FeedLib[#All],CF$60,FALSE),\"\"),IFERROR(VLOOKUP($W18,FeedLibUser[#All],CF$60,FALSE),\"\")),CF18),IF(AND(ISNUMBER($AI18),$AJ18<>\"\"),CF18,\"\"))","v":""},{"$f":"IF(ISNUMBER($W18),IF($AH18=FALSE,IF($W18<1000,IFERROR(VLOOKUP($W18,FeedLib[#All],CG$60,FALSE),\"\"),IFERROR(VLOOKUP($W18,FeedLibUser[#All],CG$60,FALSE),\"\")),CG18),IF(AND(ISNUMBER($AI18),$AJ18<>\"\"),CG18,\"\"))","v":""},{"$f":"IF(ISNUMBER($W18),IF($AH18=FALSE,IF($W18<1000,IFERROR(VLOOKUP($W18,FeedLib[#All],CH$60,FALSE),\"\"),IFERROR(VLOOKUP($W18,FeedLibUser[#All],CH$60,FALSE),\"\")),CH18),IF(AND(ISNUMBER($AI18),$AJ18<>\"\"),CH18,\"\"))","v":""},{"$f":"IF(ISNUMBER($W18),IF($AH18=FALSE,IF($W18<1000,IFERROR(VLOOKUP($W18,FeedLib[#All],CI$60,FALSE),\"\"),IFERROR(VLOOKUP($W18,FeedLibUser[#All],CI$60,FALSE),\"\")),CI18),IF(AND(ISNUMBER($AI18),$AJ18<>\"\"),CI18,\"\"))","v":""},{"$f":"IF(ISNUMBER($W18),IF($AH18=FALSE,IF($W18<1000,IFERROR(VLOOKUP($W18,FeedLib[#All],CJ$60,FALSE),\"\"),IFERROR(VLOOKUP($W18,FeedLibUser[#All],CJ$60,FALSE),\"\")),CJ18),IF(AND(ISNUMBER($AI18),$AJ18<>\"\"),CJ18,\"\"))","v":""},{"$f":"IF(ISNUMBER($W18),IF($AH18=FALSE,IF($W18<1000,IFERROR(VLOOKUP($W18,FeedLib[#All],CK$60,FALSE),\"\"),IFERROR(VLOOKUP($W18,FeedLibUser[#All],CK$60,FALSE),\"\")),CK18),IF(AND(ISNUMBER($AI18),$AJ18<>\"\"),CK18,\"\"))","v":""},{"$f":"IF(ISNUMBER($W18),IF($AH18=FALSE,IF($W18<1000,IFERROR(VLOOKUP($W18,FeedLib[#All],CL$60,FALSE),\"\"),IFERROR(VLOOKUP($W18,FeedLibUser[#All],CL$60,FALSE),\"\")),CL18),IF(AND(ISNUMBER($AI18),$AJ18<>\"\"),CL18,\"\"))","v":""},{"$f":"IF(ISNUMBER($W18),IF($AH18=FALSE,IF($W18<1000,IFERROR(VLOOKUP($W18,FeedLib[#All],CM$60,FALSE),\"\"),IFERROR(VLOOKUP($W18,FeedLibUser[#All],CM$60,FALSE),\"\")),CM18),IF(AND(ISNUMBER($AI18),$AJ18<>\"\"),CM18,\"\"))","v":""}]
[null,null,null,null,null,null,null,null,null,null,null,null,null,null,null,null,null,null,null,null,null,null,null,null,null,null,null,null,null,null,null,null,null,null,"","",{"$f":"IF(ISNUMBER($W19),IF($AH19=FALSE,IF($W19<1000,IFERROR(VLOOKUP($W19,FeedLib[#All],AK$60,FALSE),\"\")*(IF(parmUnit=1,1,2000/2204.6)),IFERROR(VLOOKUP($W19,FeedLibUser[#All],AK$60,FALSE),\"\")*(IF(parmUnit=1,1,2000/2204.6))),AK19),IF(AND(ISNUMBER($AI19),$AJ19<>\"\"),AK19,\"\"))","v":""},{"$f":"IF(ISNUMBER($W19),IF($AH19=FALSE,IF($W19<1000,IFERROR(VLOOKUP($W19,FeedLib[#All],AL$60,FALSE),\"\"),IFERROR(VLOOKUP($W19,FeedLibUser[#All],AL$60,FALSE),\"\")),AL19),IF(AND(ISNUMBER($AI19),$AJ19<>\"\"),AL19,\"\"))","v":""},{"$f":"IF(ISNUMBER($W19),IF($AH19=FALSE,IF($W19<1000,IFERROR(VLOOKUP($W19,FeedLib[#All],AM$60,FALSE),\"\"),IFERROR(VLOOKUP($W19,FeedLibUser[#All],AM$60,FALSE),\"\")),AM19),IF(AND(ISNUMBER($AI19),$AJ19<>\"\"),AM19,\"\"))","v":""},{"$f":"IF(ISNUMBER($W19),IF($AH19=FALSE,IF($W19<1000,IFERROR(VLOOKUP($W19,FeedLib[#All],AN$60,FALSE),\"\"),IFERROR(VLOOKUP($W19,FeedLibUser[#All],AN$60,FALSE),\"\")),AN19),IF(AND(ISNUMBER($AI19),$AJ19<>\"\"),AN19,\"\"))","v":""},{"$f":"IF(ISNUMBER($W19),IF($AH19=FALSE,IF($W19<1000,IFERROR(VLOOKUP($W19,FeedLib[#All],AO$60,FALSE),\"\"),IFERROR(VLOOKUP($W19,FeedLibUser[#All],AO$60,FALSE),\"\")),AO19),IF(AND(ISNUMBER($AI19),$AJ19<>\"\"),AO19,\"\"))","v":""},{"$f":"IF(ISNUMBER($W19),IF($AH19=FALSE,IF($W19<1000,IFERROR(VLOOKUP($W19,FeedLib[#All],AP$60,FALSE),\"\"),IFERROR(VLOOKUP($W19,FeedLibUser[#All],AP$60,FALSE),\"\")),AP19),IF(AND(ISNUMBER($AI19),$AJ19<>\"\"),AP19,\"\"))","v":""},{"$f":"IF(ISNUMBER($W19),IF($AH19=FALSE,IF($W19<1000,IFERROR(VLOOKUP($W19,FeedLib[#All],AQ$60,FALSE),\"\"),IFERROR(VLOOKUP($W19,FeedLibUser[#All],AQ$60,FALSE),\"\")),AQ19),IF(AND(ISNUMBER($AI19),$AJ19<>\"\"),AQ19,\"\"))","v":""},{"$f":"IF(ISNUMBER($W19),IF($AH19=FALSE,IF($W19<1000,IFERROR(VLOOKUP($W19,FeedLib[#All],AR$60,FALSE),\"\"),IFERROR(VLOOKUP($W19,FeedLibUser[#All],AR$60,FALSE),\"\")),AR19),IF(AND(ISNUMBER($AI19),$AJ19<>\"\"),AR19,\"\"))","v":""},{"$f":"IF(ISNUMBER($W19),IF($AH19=FALSE,IF($W19<1000,IFERROR(VLOOKUP($W19,FeedLib[#All],AS$60,FALSE),\"\"),IFERROR(VLOOKUP($W19,FeedLibUser[#All],AS$60,FALSE),\"\")),AS19),IF(AND(ISNUMBER($AI19),$AJ19<>\"\"),AS19,\"\"))","v":""},{"$f":"IF(ISNUMBER($W19),IF($AH19=FALSE,IF($W19<1000,IFERROR(VLOOKUP($W19,FeedLib[#All],AT$60,FALSE),\"\"),IFERROR(VLOOKUP($W19,FeedLibUser[#All],AT$60,FALSE),\"\")),AT19),IF(AND(ISNUMBER($AI19),$AJ19<>\"\"),AT19,\"\"))","v":""},{"$f":"IF(ISNUMBER($W19),IF($AH19=FALSE,IF($W19<1000,IFERROR(VLOOKUP($W19,FeedLib[#All],AU$60,FALSE),\"\"),IFERROR(VLOOKUP($W19,FeedLibUser[#All],AU$60,FALSE),\"\")),AU19),IF(AND(ISNUMBER($AI19),$AJ19<>\"\"),AU19,\"\"))","v":""},{"$f":"IF(ISNUMBER($W19),IF($AH19=FALSE,IF($W19<1000,IFERROR(VLOOKUP($W19,FeedLib[#All],AV$60,FALSE),\"\"),IFERROR(VLOOKUP($W19,FeedLibUser[#All],AV$60,FALSE),\"\")),AV19),IF(AND(ISNUMBER($AI19),$AJ19<>\"\"),AV19,\"\"))","v":""},{"$f":"IF(ISNUMBER($W19),IF($AH19=FALSE,IF($W19<1000,IFERROR(VLOOKUP($W19,FeedLib[#All],AW$60,FALSE),\"\"),IFERROR(VLOOKUP($W19,FeedLibUser[#All],AW$60,FALSE),\"\")),AW19),IF(AND(ISNUMBER($AI19),$AJ19<>\"\"),AW19,\"\"))","v":""},{"$f":"IF(ISNUMBER($W19),IF($AH19=FALSE,IF($W19<1000,IFERROR(VLOOKUP($W19,FeedLib[#All],AX$60,FALSE),\"\"),IFERROR(VLOOKUP($W19,FeedLibUser[#All],AX$60,FALSE),\"\")),AX19),IF(AND(ISNUMBER($AI19),$AJ19<>\"\"),AX19,\"\"))","v":""},{"$f":"IF(ISNUMBER($W19),IF($AH19=FALSE,IF($W19<1000,IFERROR(VLOOKUP($W19,FeedLib[#All],AY$60,FALSE),\"\")/IF(parmUnit=1,1,2.2046),IFERROR(VLOOKUP($W19,FeedLibUser[#All],AY$60,FALSE),\"\")/IF(parmUnit=1,1,2.2046)),AY19),IF(AND(ISNUMBER($AI19),$AJ19<>\"\"),AY19,\"\"))","v":""},{"$f":"IF(ISNUMBER($W19),IF($AH19=FALSE,IF($W19<1000,IFERROR(VLOOKUP($W19,FeedLib[#All],AZ$60,FALSE),\"\")/IF(parmUnit=1,1,2.2046),IFERROR(VLOOKUP($W19,FeedLibUser[#All],AZ$60,FALSE),\"\")/IF(parmUnit=1,1,2.2046)),AZ19),IF(AND(ISNUMBER($AI19),$AJ19<>\"\"),AZ19,\"\"))","v":""},{"$f":"IF(ISNUMBER($W19),IF($AH19=FALSE,IF($W19<1000,IFERROR(VLOOKUP($W19,FeedLib[#All],BA$60,FALSE),\"\")/IF(parmUnit=1,1,2.2046),IFERROR(VLOOKUP($W19,FeedLibUser[#All],BA$60,FALSE),\"\")/IF(parmUnit=1,1,2.2046)),BA19),IF(AND(ISNUMBER($AI19),$AJ19<>\"\"),BA19,\"\"))","v":""},{"$f":"IF(ISNUMBER($W19),IF($AH19=FALSE,IF($W19<1000,IFERROR(VLOOKUP($W19,FeedLib[#All],BB$60,FALSE),\"\"),IFERROR(VLOOKUP($W19,FeedLibUser[#All],BB$60,FALSE),\"\")),BB19),IF(AND(ISNUMBER($AI19),$AJ19<>\"\"),BB19,\"\"))","v":""},{"$f":"IF(ISNUMBER($W19),IF($AH19=FALSE,IF($W19<1000,IFERROR(VLOOKUP($W19,FeedLib[#All],BC$60,FALSE),\"\"),IFERROR(VLOOKUP($W19,FeedLibUser[#All],BC$60,FALSE),\"\")),BC19),IF(AND(ISNUMBER($AI19),$AJ19<>\"\"),BC19,\"\"))","v":""},{"$f":"IF(ISNUMBER($W19),IF($AH19=FALSE,IF($W19<1000,IFERROR(VLOOKUP($W19,FeedLib[#All],BD$60,FALSE),\"\"),IFERROR(VLOOKUP($W19,FeedLibUser[#All],BD$60,FALSE),\"\")),BD19),IF(AND(ISNUMBER($AI19),$AJ19<>\"\"),BD19,\"\"))","v":""},{"$f":"IF(ISNUMBER($W19),IF($AH19=FALSE,IF($W19<1000,IFERROR(VLOOKUP($W19,FeedLib[#All],BE$60,FALSE),\"\"),IFERROR(VLOOKUP($W19,FeedLibUser[#All],BE$60,FALSE),\"\")),BE19),IF(AND(ISNUMBER($AI19),$AJ19<>\"\"),BE19,\"\"))","v":""},{"$f":"IF(ISNUMBER($W19),IF($AH19=FALSE,IF($W19<1000,IFERROR(VLOOKUP($W19,FeedLib[#All],BF$60,FALSE),\"\"),IFERROR(VLOOKUP($W19,FeedLibUser[#All],BF$60,FALSE),\"\")),BF19),IF(AND(ISNUMBER($AI19),$AJ19<>\"\"),BF19,\"\"))","v":""},{"$f":"IF(ISNUMBER($W19),IF($AH19=FALSE,IF($W19<1000,IFERROR(VLOOKUP($W19,FeedLib[#All],BG$60,FALSE),\"\"),IFERROR(VLOOKUP($W19,FeedLibUser[#All],BG$60,FALSE),\"\")),BG19),IF(AND(ISNUMBER($AI19),$AJ19<>\"\"),BG19,\"\"))","v":""},{"$f":"IF(ISNUMBER($W19),IF($AH19=FALSE,IF($W19<1000,IFERROR(VLOOKUP($W19,FeedLib[#All],BH$60,FALSE),\"\"),IFERROR(VLOOKUP($W19,FeedLibUser[#All],BH$60,FALSE),\"\")),BH19),IF(AND(ISNUMBER($AI19),$AJ19<>\"\"),BH19,\"\"))","v":""},{"$f":"IF(ISNUMBER($W19),IF($AH19=FALSE,IF($W19<1000,IFERROR(VLOOKUP($W19,FeedLib[#All],BI$60,FALSE),\"\"),IFERROR(VLOOKUP($W19,FeedLibUser[#All],BI$60,FALSE),\"\")),BI19),IF(AND(ISNUMBER($AI19),$AJ19<>\"\"),BI19,\"\"))","v":""},{"$f":"IF(ISNUMBER($W19),IF($AH19=FALSE,IF($W19<1000,IFERROR(VLOOKUP($W19,FeedLib[#All],BJ$60,FALSE),\"\"),IFERROR(VLOOKUP($W19,FeedLibUser[#All],BJ$60,FALSE),\"\")),BJ19),IF(AND(ISNUMBER($AI19),$AJ19<>\"\"),BJ19,\"\"))","v":""},{"$f":"IF(ISNUMBER($W19),IF($AH19=FALSE,IF($W19<1000,IFERROR(VLOOKUP($W19,FeedLib[#All],BK$60,FALSE),\"\"),IFERROR(VLOOKUP($W19,FeedLibUser[#All],BK$60,FALSE),\"\")),BK19),IF(AND(ISNUMBER($AI19),$AJ19<>\"\"),BK19,\"\"))","v":""},{"$f":"IF(ISNUMBER($W19),IF($AH19=FALSE,IF($W19<1000,IFERROR(VLOOKUP($W19,FeedLib[#All],BL$60,FALSE),\"\"),IFERROR(VLOOKUP($W19,FeedLibUser[#All],BL$60,FALSE),\"\")),BL19),IF(AND(ISNUMBER($AI19),$AJ19<>\"\"),BL19,\"\"))","v":""},{"$f":"IF(ISNUMBER($W19),IF($AH19=FALSE,IF($W19<1000,IFERROR(VLOOKUP($W19,FeedLib[#All],BM$60,FALSE),\"\"),IFERROR(VLOOKUP($W19,FeedLibUser[#All],BM$60,FALSE),\"\")),BM19),IF(AND(ISNUMBER($AI19),$AJ19<>\"\"),BM19,\"\"))","v":""},{"$f":"IF(ISNUMBER($W19),IF($AH19=FALSE,IF($W19<1000,IFERROR(VLOOKUP($W19,FeedLib[#All],BN$60,FALSE),\"\"),IFERROR(VLOOKUP($W19,FeedLibUser[#All],BN$60,FALSE),\"\")),BN19),IF(AND(ISNUMBER($AI19),$AJ19<>\"\"),BN19,\"\"))","v":""},{"$f":"IF(ISNUMBER($W19),IF($AH19=FALSE,IF($W19<1000,IFERROR(VLOOKUP($W19,FeedLib[#All],BO$60,FALSE),\"\"),IFERROR(VLOOKUP($W19,FeedLibUser[#All],BO$60,FALSE),\"\")),BO19),IF(AND(ISNUMBER($AI19),$AJ19<>\"\"),BO19,\"\"))","v":""},{"$f":"IF(ISNUMBER($W19),IF($AH19=FALSE,IF($W19<1000,IFERROR(VLOOKUP($W19,FeedLib[#All],BP$60,FALSE),\"\"),IFERROR(VLOOKUP($W19,FeedLibUser[#All],BP$60,FALSE),\"\")),BP19),IF(AND(ISNUMBER($AI19),$AJ19<>\"\"),BP19,\"\"))","v":""},{"$f":"IF(ISNUMBER($W19),IF($AH19=FALSE,IF($W19<1000,IFERROR(VLOOKUP($W19,FeedLib[#All],BQ$60,FALSE),\"\"),IFERROR(VLOOKUP($W19,FeedLibUser[#All],BQ$60,FALSE),\"\")),BQ19),IF(AND(ISNUMBER($AI19),$AJ19<>\"\"),BQ19,\"\"))","v":""},{"$f":"IF(ISNUMBER($W19),IF($AH19=FALSE,IF($W19<1000,IFERROR(VLOOKUP($W19,FeedLib[#All],BR$60,FALSE),\"\"),IFERROR(VLOOKUP($W19,FeedLibUser[#All],BR$60,FALSE),\"\")),BR19),IF(AND(ISNUMBER($AI19),$AJ19<>\"\"),BR19,\"\"))","v":""},{"$f":"IF(ISNUMBER($W19),IF($AH19=FALSE,IF($W19<1000,IFERROR(VLOOKUP($W19,FeedLib[#All],BS$60,FALSE),\"\"),IFERROR(VLOOKUP($W19,FeedLibUser[#All],BS$60,FALSE),\"\")),BS19),IF(AND(ISNUMBER($AI19),$AJ19<>\"\"),BS19,\"\"))","v":""},{"$f":"IF(ISNUMBER($W19),IF($AH19=FALSE,IF($W19<1000,IFERROR(VLOOKUP($W19,FeedLib[#All],BT$60,FALSE),\"\"),IFERROR(VLOOKUP($W19,FeedLibUser[#All],BT$60,FALSE),\"\")),BT19),IF(AND(ISNUMBER($AI19),$AJ19<>\"\"),BT19,\"\"))","v":""},{"$f":"IF(ISNUMBER($W19),IF($AH19=FALSE,IF($W19<1000,IFERROR(VLOOKUP($W19,FeedLib[#All],BU$60,FALSE),\"\"),IFERROR(VLOOKUP($W19,FeedLibUser[#All],BU$60,FALSE),\"\")),BU19),IF(AND(ISNUMBER($AI19),$AJ19<>\"\"),BU19,\"\"))","v":""},{"$f":"IF(ISNUMBER($W19),IF($AH19=FALSE,IF($W19<1000,IFERROR(VLOOKUP($W19,FeedLib[#All],BV$60,FALSE),\"\"),IFERROR(VLOOKUP($W19,FeedLibUser[#All],BV$60,FALSE),\"\")),BV19),IF(AND(ISNUMBER($AI19),$AJ19<>\"\"),BV19,\"\"))","v":""},{"$f":"IF(ISNUMBER($W19),IF($AH19=FALSE,IF($W19<1000,IFERROR(VLOOKUP($W19,FeedLib[#All],BW$60,FALSE),\"\"),IFERROR(VLOOKUP($W19,FeedLibUser[#All],BW$60,FALSE),\"\")),BW19),IF(AND(ISNUMBER($AI19),$AJ19<>\"\"),BW19,\"\"))","v":""},{"$f":"IF(ISNUMBER($W19),IF($AH19=FALSE,IF($W19<1000,IFERROR(VLOOKUP($W19,FeedLib[#All],BX$60,FALSE),\"\"),IFERROR(VLOOKUP($W19,FeedLibUser[#All],BX$60,FALSE),\"\")),BX19),IF(AND(ISNUMBER($AI19),$AJ19<>\"\"),BX19,\"\"))","v":""},{"$f":"IF(ISNUMBER($W19),IF($AH19=FALSE,IF($W19<1000,IFERROR(VLOOKUP($W19,FeedLib[#All],BY$60,FALSE),\"\"),IFERROR(VLOOKUP($W19,FeedLibUser[#All],BY$60,FALSE),\"\")),BY19),IF(AND(ISNUMBER($AI19),$AJ19<>\"\"),BY19,\"\"))","v":""},{"$f":"IF(ISNUMBER($W19),IF($AH19=FALSE,IF($W19<1000,IFERROR(VLOOKUP($W19,FeedLib[#All],BZ$60,FALSE),\"\"),IFERROR(VLOOKUP($W19,FeedLibUser[#All],BZ$60,FALSE),\"\")),BZ19),IF(AND(ISNUMBER($AI19),$AJ19<>\"\"),BZ19,\"\"))","v":""},{"$f":"IF(ISNUMBER($W19),IF($AH19=FALSE,IF($W19<1000,IFERROR(VLOOKUP($W19,FeedLib[#All],CA$60,FALSE),\"\"),IFERROR(VLOOKUP($W19,FeedLibUser[#All],CA$60,FALSE),\"\")),CA19),IF(AND(ISNUMBER($AI19),$AJ19<>\"\"),CA19,\"\"))","v":""},{"$f":"IF(ISNUMBER($W19),IF($AH19=FALSE,IF($W19<1000,IFERROR(VLOOKUP($W19,FeedLib[#All],CB$60,FALSE),\"\"),IFERROR(VLOOKUP($W19,FeedLibUser[#All],CB$60,FALSE),\"\")),CB19),IF(AND(ISNUMBER($AI19),$AJ19<>\"\"),CB19,\"\"))","v":""},{"$f":"IF(ISNUMBER($W19),IF($AH19=FALSE,IF($W19<1000,IFERROR(VLOOKUP($W19,FeedLib[#All],CC$60,FALSE),\"\"),IFERROR(VLOOKUP($W19,FeedLibUser[#All],CC$60,FALSE),\"\")),CC19),IF(AND(ISNUMBER($AI19),$AJ19<>\"\"),CC19,\"\"))","v":""},{"$f":"IF(ISNUMBER($W19),IF($AH19=FALSE,IF($W19<1000,IFERROR(VLOOKUP($W19,FeedLib[#All],CD$60,FALSE),\"\"),IFERROR(VLOOKUP($W19,FeedLibUser[#All],CD$60,FALSE),\"\")),CD19),IF(AND(ISNUMBER($AI19),$AJ19<>\"\"),CD19,\"\"))","v":""},{"$f":"IF(ISNUMBER($W19),IF($AH19=FALSE,IF($W19<1000,IFERROR(VLOOKUP($W19,FeedLib[#All],CE$60,FALSE),\"\"),IFERROR(VLOOKUP($W19,FeedLibUser[#All],CE$60,FALSE),\"\")),CE19),IF(AND(ISNUMBER($AI19),$AJ19<>\"\"),CE19,\"\"))","v":""},{"$f":"IF(ISNUMBER($W19),IF($AH19=FALSE,IF($W19<1000,IFERROR(VLOOKUP($W19,FeedLib[#All],CF$60,FALSE),\"\"),IFERROR(VLOOKUP($W19,FeedLibUser[#All],CF$60,FALSE),\"\")),CF19),IF(AND(ISNUMBER($AI19),$AJ19<>\"\"),CF19,\"\"))","v":""},{"$f":"IF(ISNUMBER($W19),IF($AH19=FALSE,IF($W19<1000,IFERROR(VLOOKUP($W19,FeedLib[#All],CG$60,FALSE),\"\"),IFERROR(VLOOKUP($W19,FeedLibUser[#All],CG$60,FALSE),\"\")),CG19),IF(AND(ISNUMBER($AI19),$AJ19<>\"\"),CG19,\"\"))","v":""},{"$f":"IF(ISNUMBER($W19),IF($AH19=FALSE,IF($W19<1000,IFERROR(VLOOKUP($W19,FeedLib[#All],CH$60,FALSE),\"\"),IFERROR(VLOOKUP($W19,FeedLibUser[#All],CH$60,FALSE),\"\")),CH19),IF(AND(ISNUMBER($AI19),$AJ19<>\"\"),CH19,\"\"))","v":""},{"$f":"IF(ISNUMBER($W19),IF($AH19=FALSE,IF($W19<1000,IFERROR(VLOOKUP($W19,FeedLib[#All],CI$60,FALSE),\"\"),IFERROR(VLOOKUP($W19,FeedLibUser[#All],CI$60,FALSE),\"\")),CI19),IF(AND(ISNUMBER($AI19),$AJ19<>\"\"),CI19,\"\"))","v":""},{"$f":"IF(ISNUMBER($W19),IF($AH19=FALSE,IF($W19<1000,IFERROR(VLOOKUP($W19,FeedLib[#All],CJ$60,FALSE),\"\"),IFERROR(VLOOKUP($W19,FeedLibUser[#All],CJ$60,FALSE),\"\")),CJ19),IF(AND(ISNUMBER($AI19),$AJ19<>\"\"),CJ19,\"\"))","v":""},{"$f":"IF(ISNUMBER($W19),IF($AH19=FALSE,IF($W19<1000,IFERROR(VLOOKUP($W19,FeedLib[#All],CK$60,FALSE),\"\"),IFERROR(VLOOKUP($W19,FeedLibUser[#All],CK$60,FALSE),\"\")),CK19),IF(AND(ISNUMBER($AI19),$AJ19<>\"\"),CK19,\"\"))","v":""},{"$f":"IF(ISNUMBER($W19),IF($AH19=FALSE,IF($W19<1000,IFERROR(VLOOKUP($W19,FeedLib[#All],CL$60,FALSE),\"\"),IFERROR(VLOOKUP($W19,FeedLibUser[#All],CL$60,FALSE),\"\")),CL19),IF(AND(ISNUMBER($AI19),$AJ19<>\"\"),CL19,\"\"))","v":""},{"$f":"IF(ISNUMBER($W19),IF($AH19=FALSE,IF($W19<1000,IFERROR(VLOOKUP($W19,FeedLib[#All],CM$60,FALSE),\"\"),IFERROR(VLOOKUP($W19,FeedLibUser[#All],CM$60,FALSE),\"\")),CM19),IF(AND(ISNUMBER($AI19),$AJ19<>\"\"),CM19,\"\"))","v":""}]
[null,"Table 3. Management and Grazing",null,null,null,null,null,null,null,null,null,null,null,null,null,null,null,null,null,null,null,null,null,null,null,null,null,null,null,null,null,null,null,null,{"$f":"IF(ISNUMBER($W20),IF($AH20=FALSE,W20,AI20),IF(AND(ISNUMBER($AI20),$AJ20<>\"\"),AI20,\"\"))","v":""},"",{"$f":"IF(ISNUMBER($W20),IF($AH20=FALSE,IF($W20<1000,IFERROR(VLOOKUP($W20,FeedLib[#All],AK$60,FALSE),\"\")*(IF(parmUnit=1,1,2000/2204.6)),IFERROR(VLOOKUP($W20,FeedLibUser[#All],AK$60,FALSE),\"\")*(IF(parmUnit=1,1,2000/2204.6))),AK20),IF(AND(ISNUMBER($AI20),$AJ20<>\"\"),AK20,\"\"))","v":""},{"$f":"IF(ISNUMBER($W20),IF($AH20=FALSE,IF($W20<1000,IFERROR(VLOOKUP($W20,FeedLib[#All],AL$60,FALSE),\"\"),IFERROR(VLOOKUP($W20,FeedLibUser[#All],AL$60,FALSE),\"\")),AL20),IF(AND(ISNUMBER($AI20),$AJ20<>\"\"),AL20,\"\"))","v":""},{"$f":"IF(ISNUMBER($W20),IF($AH20=FALSE,IF($W20<1000,IFERROR(VLOOKUP($W20,FeedLib[#All],AM$60,FALSE),\"\"),IFERROR(VLOOKUP($W20,FeedLibUser[#All],AM$60,FALSE),\"\")),AM20),IF(AND(ISNUMBER($AI20),$AJ20<>\"\"),AM20,\"\"))","v":""},{"$f":"IF(ISNUMBER($W20),IF($AH20=FALSE,IF($W20<1000,IFERROR(VLOOKUP($W20,FeedLib[#All],AN$60,FALSE),\"\"),IFERROR(VLOOKUP($W20,FeedLibUser[#All],AN$60,FALSE),\"\")),AN20),IF(AND(ISNUMBER($AI20),$AJ20<>\"\"),AN20,\"\"))","v":""},{"$f":"IF(ISNUMBER($W20),IF($AH20=FALSE,IF($W20<1000,IFERROR(VLOOKUP($W20,FeedLib[#All],AO$60,FALSE),\"\"),IFERROR(VLOOKUP($W20,FeedLibUser[#All],AO$60,FALSE),\"\")),AO20),IF(AND(ISNUMBER($AI20),$AJ20<>\"\"),AO20,\"\"))","v":""},{"$f":"IF(ISNUMBER($W20),IF($AH20=FALSE,IF($W20<1000,IFERROR(VLOOKUP($W20,FeedLib[#All],AP$60,FALSE),\"\"),IFERROR(VLOOKUP($W20,FeedLibUser[#All],AP$60,FALSE),\"\")),AP20),IF(AND(ISNUMBER($AI20),$AJ20<>\"\"),AP20,\"\"))","v":""},{"$f":"IF(ISNUMBER($W20),IF($AH20=FALSE,IF($W20<1000,IFERROR(VLOOKUP($W20,FeedLib[#All],AQ$60,FALSE),\"\"),IFERROR(VLOOKUP($W20,FeedLibUser[#All],AQ$60,FALSE),\"\")),AQ20),IF(AND(ISNUMBER($AI20),$AJ20<>\"\"),AQ20,\"\"))","v":""},{"$f":"IF(ISNUMBER($W20),IF($AH20=FALSE,IF($W20<1000,IFERROR(VLOOKUP($W20,FeedLib[#All],AR$60,FALSE),\"\"),IFERROR(VLOOKUP($W20,FeedLibUser[#All],AR$60,FALSE),\"\")),AR20),IF(AND(ISNUMBER($AI20),$AJ20<>\"\"),AR20,\"\"))","v":""},{"$f":"IF(ISNUMBER($W20),IF($AH20=FALSE,IF($W20<1000,IFERROR(VLOOKUP($W20,FeedLib[#All],AS$60,FALSE),\"\"),IFERROR(VLOOKUP($W20,FeedLibUser[#All],AS$60,FALSE),\"\")),AS20),IF(AND(ISNUMBER($AI20),$AJ20<>\"\"),AS20,\"\"))","v":""},{"$f":"IF(ISNUMBER($W20),IF($AH20=FALSE,IF($W20<1000,IFERROR(VLOOKUP($W20,FeedLib[#All],AT$60,FALSE),\"\"),IFERROR(VLOOKUP($W20,FeedLibUser[#All],AT$60,FALSE),\"\")),AT20),IF(AND(ISNUMBER($AI20),$AJ20<>\"\"),AT20,\"\"))","v":""},{"$f":"IF(ISNUMBER($W20),IF($AH20=FALSE,IF($W20<1000,IFERROR(VLOOKUP($W20,FeedLib[#All],AU$60,FALSE),\"\"),IFERROR(VLOOKUP($W20,FeedLibUser[#All],AU$60,FALSE),\"\")),AU20),IF(AND(ISNUMBER($AI20),$AJ20<>\"\"),AU20,\"\"))","v":""},{"$f":"IF(ISNUMBER($W20),IF($AH20=FALSE,IF($W20<1000,IFERROR(VLOOKUP($W20,FeedLib[#All],AV$60,FALSE),\"\"),IFERROR(VLOOKUP($W20,FeedLibUser[#All],AV$60,FALSE),\"\")),AV20),IF(AND(ISNUMBER($AI20),$AJ20<>\"\"),AV20,\"\"))","v":""},{"$f":"IF(ISNUMBER($W20),IF($AH20=FALSE,IF($W20<1000,IFERROR(VLOOKUP($W20,FeedLib[#All],AW$60,FALSE),\"\"),IFERROR(VLOOKUP($W20,FeedLibUser[#All],AW$60,FALSE),\"\")),AW20),IF(AND(ISNUMBER($AI20),$AJ20<>\"\"),AW20,\"\"))","v":""},{"$f":"IF(ISNUMBER($W20),IF($AH20=FALSE,IF($W20<1000,IFERROR(VLOOKUP($W20,FeedLib[#All],AX$60,FALSE),\"\"),IFERROR(VLOOKUP($W20,FeedLibUser[#All],AX$60,FALSE),\"\")),AX20),IF(AND(ISNUMBER($AI20),$AJ20<>\"\"),AX20,\"\"))","v":""},{"$f":"IF(ISNUMBER($W20),IF($AH20=FALSE,IF($W20<1000,IFERROR(VLOOKUP($W20,FeedLib[#All],AY$60,FALSE),\"\")/IF(parmUnit=1,1,2.2046),IFERROR(VLOOKUP($W20,FeedLibUser[#All],AY$60,FALSE),\"\")/IF(parmUnit=1,1,2.2046)),AY20),IF(AND(ISNUMBER($AI20),$AJ20<>\"\"),AY20,\"\"))","v":""},{"$f":"IF(ISNUMBER($W20),IF($AH20=FALSE,IF($W20<1000,IFERROR(VLOOKUP($W20,FeedLib[#All],AZ$60,FALSE),\"\")/IF(parmUnit=1,1,2.2046),IFERROR(VLOOKUP($W20,FeedLibUser[#All],AZ$60,FALSE),\"\")/IF(parmUnit=1,1,2.2046)),AZ20),IF(AND(ISNUMBER($AI20),$AJ20<>\"\"),AZ20,\"\"))","v":""},{"$f":"IF(ISNUMBER($W20),IF($AH20=FALSE,IF($W20<1000,IFERROR(VLOOKUP($W20,FeedLib[#All],BA$60,FALSE),\"\")/IF(parmUnit=1,1,2.2046),IFERROR(VLOOKUP($W20,FeedLibUser[#All],BA$60,FALSE),\"\")/IF(parmUnit=1,1,2.2046)),BA20),IF(AND(ISNUMBER($AI20),$AJ20<>\"\"),BA20,\"\"))","v":""},{"$f":"IF(ISNUMBER($W20),IF($AH20=FALSE,IF($W20<1000,IFERROR(VLOOKUP($W20,FeedLib[#All],BB$60,FALSE),\"\"),IFERROR(VLOOKUP($W20,FeedLibUser[#All],BB$60,FALSE),\"\")),BB20),IF(AND(ISNUMBER($AI20),$AJ20<>\"\"),BB20,\"\"))","v":""},{"$f":"IF(ISNUMBER($W20),IF($AH20=FALSE,IF($W20<1000,IFERROR(VLOOKUP($W20,FeedLib[#All],BC$60,FALSE),\"\"),IFERROR(VLOOKUP($W20,FeedLibUser[#All],BC$60,FALSE),\"\")),BC20),IF(AND(ISNUMBER($AI20),$AJ20<>\"\"),BC20,\"\"))","v":""},{"$f":"IF(ISNUMBER($W20),IF($AH20=FALSE,IF($W20<1000,IFERROR(VLOOKUP($W20,FeedLib[#All],BD$60,FALSE),\"\"),IFERROR(VLOOKUP($W20,FeedLibUser[#All],BD$60,FALSE),\"\")),BD20),IF(AND(ISNUMBER($AI20),$AJ20<>\"\"),BD20,\"\"))","v":""},{"$f":"IF(ISNUMBER($W20),IF($AH20=FALSE,IF($W20<1000,IFERROR(VLOOKUP($W20,FeedLib[#All],BE$60,FALSE),\"\"),IFERROR(VLOOKUP($W20,FeedLibUser[#All],BE$60,FALSE),\"\")),BE20),IF(AND(ISNUMBER($AI20),$AJ20<>\"\"),BE20,\"\"))","v":""},{"$f":"IF(ISNUMBER($W20),IF($AH20=FALSE,IF($W20<1000,IFERROR(VLOOKUP($W20,FeedLib[#All],BF$60,FALSE),\"\"),IFERROR(VLOOKUP($W20,FeedLibUser[#All],BF$60,FALSE),\"\")),BF20),IF(AND(ISNUMBER($AI20),$AJ20<>\"\"),BF20,\"\"))","v":""},{"$f":"IF(ISNUMBER($W20),IF($AH20=FALSE,IF($W20<1000,IFERROR(VLOOKUP($W20,FeedLib[#All],BG$60,FALSE),\"\"),IFERROR(VLOOKUP($W20,FeedLibUser[#All],BG$60,FALSE),\"\")),BG20),IF(AND(ISNUMBER($AI20),$AJ20<>\"\"),BG20,\"\"))","v":""},{"$f":"IF(ISNUMBER($W20),IF($AH20=FALSE,IF($W20<1000,IFERROR(VLOOKUP($W20,FeedLib[#All],BH$60,FALSE),\"\"),IFERROR(VLOOKUP($W20,FeedLibUser[#All],BH$60,FALSE),\"\")),BH20),IF(AND(ISNUMBER($AI20),$AJ20<>\"\"),BH20,\"\"))","v":""},{"$f":"IF(ISNUMBER($W20),IF($AH20=FALSE,IF($W20<1000,IFERROR(VLOOKUP($W20,FeedLib[#All],BI$60,FALSE),\"\"),IFERROR(VLOOKUP($W20,FeedLibUser[#All],BI$60,FALSE),\"\")),BI20),IF(AND(ISNUMBER($AI20),$AJ20<>\"\"),BI20,\"\"))","v":""},{"$f":"IF(ISNUMBER($W20),IF($AH20=FALSE,IF($W20<1000,IFERROR(VLOOKUP($W20,FeedLib[#All],BJ$60,FALSE),\"\"),IFERROR(VLOOKUP($W20,FeedLibUser[#All],BJ$60,FALSE),\"\")),BJ20),IF(AND(ISNUMBER($AI20),$AJ20<>\"\"),BJ20,\"\"))","v":""},{"$f":"IF(ISNUMBER($W20),IF($AH20=FALSE,IF($W20<1000,IFERROR(VLOOKUP($W20,FeedLib[#All],BK$60,FALSE),\"\"),IFERROR(VLOOKUP($W20,FeedLibUser[#All],BK$60,FALSE),\"\")),BK20),IF(AND(ISNUMBER($AI20),$AJ20<>\"\"),BK20,\"\"))","v":""},{"$f":"IF(ISNUMBER($W20),IF($AH20=FALSE,IF($W20<1000,IFERROR(VLOOKUP($W20,FeedLib[#All],BL$60,FALSE),\"\"),IFERROR(VLOOKUP($W20,FeedLibUser[#All],BL$60,FALSE),\"\")),BL20),IF(AND(ISNUMBER($AI20),$AJ20<>\"\"),BL20,\"\"))","v":""},{"$f":"IF(ISNUMBER($W20),IF($AH20=FALSE,IF($W20<1000,IFERROR(VLOOKUP($W20,FeedLib[#All],BM$60,FALSE),\"\"),IFERROR(VLOOKUP($W20,FeedLibUser[#All],BM$60,FALSE),\"\")),BM20),IF(AND(ISNUMBER($AI20),$AJ20<>\"\"),BM20,\"\"))","v":""},{"$f":"IF(ISNUMBER($W20),IF($AH20=FALSE,IF($W20<1000,IFERROR(VLOOKUP($W20,FeedLib[#All],BN$60,FALSE),\"\"),IFERROR(VLOOKUP($W20,FeedLibUser[#All],BN$60,FALSE),\"\")),BN20),IF(AND(ISNUMBER($AI20),$AJ20<>\"\"),BN20,\"\"))","v":""},{"$f":"IF(ISNUMBER($W20),IF($AH20=FALSE,IF($W20<1000,IFERROR(VLOOKUP($W20,FeedLib[#All],BO$60,FALSE),\"\"),IFERROR(VLOOKUP($W20,FeedLibUser[#All],BO$60,FALSE),\"\")),BO20),IF(AND(ISNUMBER($AI20),$AJ20<>\"\"),BO20,\"\"))","v":""},{"$f":"IF(ISNUMBER($W20),IF($AH20=FALSE,IF($W20<1000,IFERROR(VLOOKUP($W20,FeedLib[#All],BP$60,FALSE),\"\"),IFERROR(VLOOKUP($W20,FeedLibUser[#All],BP$60,FALSE),\"\")),BP20),IF(AND(ISNUMBER($AI20),$AJ20<>\"\"),BP20,\"\"))","v":""},{"$f":"IF(ISNUMBER($W20),IF($AH20=FALSE,IF($W20<1000,IFERROR(VLOOKUP($W20,FeedLib[#All],BQ$60,FALSE),\"\"),IFERROR(VLOOKUP($W20,FeedLibUser[#All],BQ$60,FALSE),\"\")),BQ20),IF(AND(ISNUMBER($AI20),$AJ20<>\"\"),BQ20,\"\"))","v":""},{"$f":"IF(ISNUMBER($W20),IF($AH20=FALSE,IF($W20<1000,IFERROR(VLOOKUP($W20,FeedLib[#All],BR$60,FALSE),\"\"),IFERROR(VLOOKUP($W20,FeedLibUser[#All],BR$60,FALSE),\"\")),BR20),IF(AND(ISNUMBER($AI20),$AJ20<>\"\"),BR20,\"\"))","v":""},{"$f":"IF(ISNUMBER($W20),IF($AH20=FALSE,IF($W20<1000,IFERROR(VLOOKUP($W20,FeedLib[#All],BS$60,FALSE),\"\"),IFERROR(VLOOKUP($W20,FeedLibUser[#All],BS$60,FALSE),\"\")),BS20),IF(AND(ISNUMBER($AI20),$AJ20<>\"\"),BS20,\"\"))","v":""},{"$f":"IF(ISNUMBER($W20),IF($AH20=FALSE,IF($W20<1000,IFERROR(VLOOKUP($W20,FeedLib[#All],BT$60,FALSE),\"\"),IFERROR(VLOOKUP($W20,FeedLibUser[#All],BT$60,FALSE),\"\")),BT20),IF(AND(ISNUMBER($AI20),$AJ20<>\"\"),BT20,\"\"))","v":""},{"$f":"IF(ISNUMBER($W20),IF($AH20=FALSE,IF($W20<1000,IFERROR(VLOOKUP($W20,FeedLib[#All],BU$60,FALSE),\"\"),IFERROR(VLOOKUP($W20,FeedLibUser[#All],BU$60,FALSE),\"\")),BU20),IF(AND(ISNUMBER($AI20),$AJ20<>\"\"),BU20,\"\"))","v":""},{"$f":"IF(ISNUMBER($W20),IF($AH20=FALSE,IF($W20<1000,IFERROR(VLOOKUP($W20,FeedLib[#All],BV$60,FALSE),\"\"),IFERROR(VLOOKUP($W20,FeedLibUser[#All],BV$60,FALSE),\"\")),BV20),IF(AND(ISNUMBER($AI20),$AJ20<>\"\"),BV20,\"\"))","v":""},{"$f":"IF(ISNUMBER($W20),IF($AH20=FALSE,IF($W20<1000,IFERROR(VLOOKUP($W20,FeedLib[#All],BW$60,FALSE),\"\"),IFERROR(VLOOKUP($W20,FeedLibUser[#All],BW$60,FALSE),\"\")),BW20),IF(AND(ISNUMBER($AI20),$AJ20<>\"\"),BW20,\"\"))","v":""},{"$f":"IF(ISNUMBER($W20),IF($AH20=FALSE,IF($W20<1000,IFERROR(VLOOKUP($W20,FeedLib[#All],BX$60,FALSE),\"\"),IFERROR(VLOOKUP($W20,FeedLibUser[#All],BX$60,FALSE),\"\")),BX20),IF(AND(ISNUMBER($AI20),$AJ20<>\"\"),BX20,\"\"))","v":""},{"$f":"IF(ISNUMBER($W20),IF($AH20=FALSE,IF($W20<1000,IFERROR(VLOOKUP($W20,FeedLib[#All],BY$60,FALSE),\"\"),IFERROR(VLOOKUP($W20,FeedLibUser[#All],BY$60,FALSE),\"\")),BY20),IF(AND(ISNUMBER($AI20),$AJ20<>\"\"),BY20,\"\"))","v":""},{"$f":"IF(ISNUMBER($W20),IF($AH20=FALSE,IF($W20<1000,IFERROR(VLOOKUP($W20,FeedLib[#All],BZ$60,FALSE),\"\"),IFERROR(VLOOKUP($W20,FeedLibUser[#All],BZ$60,FALSE),\"\")),BZ20),IF(AND(ISNUMBER($AI20),$AJ20<>\"\"),BZ20,\"\"))","v":""},{"$f":"IF(ISNUMBER($W20),IF($AH20=FALSE,IF($W20<1000,IFERROR(VLOOKUP($W20,FeedLib[#All],CA$60,FALSE),\"\"),IFERROR(VLOOKUP($W20,FeedLibUser[#All],CA$60,FALSE),\"\")),CA20),IF(AND(ISNUMBER($AI20),$AJ20<>\"\"),CA20,\"\"))","v":""},{"$f":"IF(ISNUMBER($W20),IF($AH20=FALSE,IF($W20<1000,IFERROR(VLOOKUP($W20,FeedLib[#All],CB$60,FALSE),\"\"),IFERROR(VLOOKUP($W20,FeedLibUser[#All],CB$60,FALSE),\"\")),CB20),IF(AND(ISNUMBER($AI20),$AJ20<>\"\"),CB20,\"\"))","v":""},{"$f":"IF(ISNUMBER($W20),IF($AH20=FALSE,IF($W20<1000,IFERROR(VLOOKUP($W20,FeedLib[#All],CC$60,FALSE),\"\"),IFERROR(VLOOKUP($W20,FeedLibUser[#All],CC$60,FALSE),\"\")),CC20),IF(AND(ISNUMBER($AI20),$AJ20<>\"\"),CC20,\"\"))","v":""},{"$f":"IF(ISNUMBER($W20),IF($AH20=FALSE,IF($W20<1000,IFERROR(VLOOKUP($W20,FeedLib[#All],CD$60,FALSE),\"\"),IFERROR(VLOOKUP($W20,FeedLibUser[#All],CD$60,FALSE),\"\")),CD20),IF(AND(ISNUMBER($AI20),$AJ20<>\"\"),CD20,\"\"))","v":""},{"$f":"IF(ISNUMBER($W20),IF($AH20=FALSE,IF($W20<1000,IFERROR(VLOOKUP($W20,FeedLib[#All],CE$60,FALSE),\"\"),IFERROR(VLOOKUP($W20,FeedLibUser[#All],CE$60,FALSE),\"\")),CE20),IF(AND(ISNUMBER($AI20),$AJ20<>\"\"),CE20,\"\"))","v":""},{"$f":"IF(ISNUMBER($W20),IF($AH20=FALSE,IF($W20<1000,IFERROR(VLOOKUP($W20,FeedLib[#All],CF$60,FALSE),\"\"),IFERROR(VLOOKUP($W20,FeedLibUser[#All],CF$60,FALSE),\"\")),CF20),IF(AND(ISNUMBER($AI20),$AJ20<>\"\"),CF20,\"\"))","v":""},{"$f":"IF(ISNUMBER($W20),IF($AH20=FALSE,IF($W20<1000,IFERROR(VLOOKUP($W20,FeedLib[#All],CG$60,FALSE),\"\"),IFERROR(VLOOKUP($W20,FeedLibUser[#All],CG$60,FALSE),\"\")),CG20),IF(AND(ISNUMBER($AI20),$AJ20<>\"\"),CG20,\"\"))","v":""},{"$f":"IF(ISNUMBER($W20),IF($AH20=FALSE,IF($W20<1000,IFERROR(VLOOKUP($W20,FeedLib[#All],CH$60,FALSE),\"\"),IFERROR(VLOOKUP($W20,FeedLibUser[#All],CH$60,FALSE),\"\")),CH20),IF(AND(ISNUMBER($AI20),$AJ20<>\"\"),CH20,\"\"))","v":""},{"$f":"IF(ISNUMBER($W20),IF($AH20=FALSE,IF($W20<1000,IFERROR(VLOOKUP($W20,FeedLib[#All],CI$60,FALSE),\"\"),IFERROR(VLOOKUP($W20,FeedLibUser[#All],CI$60,FALSE),\"\")),CI20),IF(AND(ISNUMBER($AI20),$AJ20<>\"\"),CI20,\"\"))","v":""},{"$f":"IF(ISNUMBER($W20),IF($AH20=FALSE,IF($W20<1000,IFERROR(VLOOKUP($W20,FeedLib[#All],CJ$60,FALSE),\"\"),IFERROR(VLOOKUP($W20,FeedLibUser[#All],CJ$60,FALSE),\"\")),CJ20),IF(AND(ISNUMBER($AI20),$AJ20<>\"\"),CJ20,\"\"))","v":""},{"$f":"IF(ISNUMBER($W20),IF($AH20=FALSE,IF($W20<1000,IFERROR(VLOOKUP($W20,FeedLib[#All],CK$60,FALSE),\"\"),IFERROR(VLOOKUP($W20,FeedLibUser[#All],CK$60,FALSE),\"\")),CK20),IF(AND(ISNUMBER($AI20),$AJ20<>\"\"),CK20,\"\"))","v":""},{"$f":"IF(ISNUMBER($W20),IF($AH20=FALSE,IF($W20<1000,IFERROR(VLOOKUP($W20,FeedLib[#All],CL$60,FALSE),\"\"),IFERROR(VLOOKUP($W20,FeedLibUser[#All],CL$60,FALSE),\"\")),CL20),IF(AND(ISNUMBER($AI20),$AJ20<>\"\"),CL20,\"\"))","v":""},{"$f":"IF(ISNUMBER($W20),IF($AH20=FALSE,IF($W20<1000,IFERROR(VLOOKUP($W20,FeedLib[#All],CM$60,FALSE),\"\"),IFERROR(VLOOKUP($W20,FeedLibUser[#All],CM$60,FALSE),\"\")),CM20),IF(AND(ISNUMBER($AI20),$AJ20<>\"\"),CM20,\"\"))","v":""}]
[null,"Item","Acronym","User","Unit","Metric","Unit","Description",null,null,null,null,null,null,null,null,null,null,null,null,null,null,null,null,null,null,null,null,null,null,null,null,null,null,"","",{"$f":"IF(ISNUMBER($W21),IF($AH21=FALSE,IF($W21<1000,IFERROR(VLOOKUP($W21,FeedLib[#All],AK$60,FALSE),\"\")*(IF(parmUnit=1,1,2000/2204.6)),IFERROR(VLOOKUP($W21,FeedLibUser[#All],AK$60,FALSE),\"\")*(IF(parmUnit=1,1,2000/2204.6))),AK21),IF(AND(ISNUMBER($AI21),$AJ21<>\"\"),AK21,\"\"))","v":""},{"$f":"IF(ISNUMBER($W21),IF($AH21=FALSE,IF($W21<1000,IFERROR(VLOOKUP($W21,FeedLib[#All],AL$60,FALSE),\"\"),IFERROR(VLOOKUP($W21,FeedLibUser[#All],AL$60,FALSE),\"\")),AL21),IF(AND(ISNUMBER($AI21),$AJ21<>\"\"),AL21,\"\"))","v":""},{"$f":"IF(ISNUMBER($W21),IF($AH21=FALSE,IF($W21<1000,IFERROR(VLOOKUP($W21,FeedLib[#All],AM$60,FALSE),\"\"),IFERROR(VLOOKUP($W21,FeedLibUser[#All],AM$60,FALSE),\"\")),AM21),IF(AND(ISNUMBER($AI21),$AJ21<>\"\"),AM21,\"\"))","v":""},{"$f":"IF(ISNUMBER($W21),IF($AH21=FALSE,IF($W21<1000,IFERROR(VLOOKUP($W21,FeedLib[#All],AN$60,FALSE),\"\"),IFERROR(VLOOKUP($W21,FeedLibUser[#All],AN$60,FALSE),\"\")),AN21),IF(AND(ISNUMBER($AI21),$AJ21<>\"\"),AN21,\"\"))","v":""},{"$f":"IF(ISNUMBER($W21),IF($AH21=FALSE,IF($W21<1000,IFERROR(VLOOKUP($W21,FeedLib[#All],AO$60,FALSE),\"\"),IFERROR(VLOOKUP($W21,FeedLibUser[#All],AO$60,FALSE),\"\")),AO21),IF(AND(ISNUMBER($AI21),$AJ21<>\"\"),AO21,\"\"))","v":""},{"$f":"IF(ISNUMBER($W21),IF($AH21=FALSE,IF($W21<1000,IFERROR(VLOOKUP($W21,FeedLib[#All],AP$60,FALSE),\"\"),IFERROR(VLOOKUP($W21,FeedLibUser[#All],AP$60,FALSE),\"\")),AP21),IF(AND(ISNUMBER($AI21),$AJ21<>\"\"),AP21,\"\"))","v":""},{"$f":"IF(ISNUMBER($W21),IF($AH21=FALSE,IF($W21<1000,IFERROR(VLOOKUP($W21,FeedLib[#All],AQ$60,FALSE),\"\"),IFERROR(VLOOKUP($W21,FeedLibUser[#All],AQ$60,FALSE),\"\")),AQ21),IF(AND(ISNUMBER($AI21),$AJ21<>\"\"),AQ21,\"\"))","v":""},{"$f":"IF(ISNUMBER($W21),IF($AH21=FALSE,IF($W21<1000,IFERROR(VLOOKUP($W21,FeedLib[#All],AR$60,FALSE),\"\"),IFERROR(VLOOKUP($W21,FeedLibUser[#All],AR$60,FALSE),\"\")),AR21),IF(AND(ISNUMBER($AI21),$AJ21<>\"\"),AR21,\"\"))","v":""},{"$f":"IF(ISNUMBER($W21),IF($AH21=FALSE,IF($W21<1000,IFERROR(VLOOKUP($W21,FeedLib[#All],AS$60,FALSE),\"\"),IFERROR(VLOOKUP($W21,FeedLibUser[#All],AS$60,FALSE),\"\")),AS21),IF(AND(ISNUMBER($AI21),$AJ21<>\"\"),AS21,\"\"))","v":""},{"$f":"IF(ISNUMBER($W21),IF($AH21=FALSE,IF($W21<1000,IFERROR(VLOOKUP($W21,FeedLib[#All],AT$60,FALSE),\"\"),IFERROR(VLOOKUP($W21,FeedLibUser[#All],AT$60,FALSE),\"\")),AT21),IF(AND(ISNUMBER($AI21),$AJ21<>\"\"),AT21,\"\"))","v":""},{"$f":"IF(ISNUMBER($W21),IF($AH21=FALSE,IF($W21<1000,IFERROR(VLOOKUP($W21,FeedLib[#All],AU$60,FALSE),\"\"),IFERROR(VLOOKUP($W21,FeedLibUser[#All],AU$60,FALSE),\"\")),AU21),IF(AND(ISNUMBER($AI21),$AJ21<>\"\"),AU21,\"\"))","v":""},{"$f":"IF(ISNUMBER($W21),IF($AH21=FALSE,IF($W21<1000,IFERROR(VLOOKUP($W21,FeedLib[#All],AV$60,FALSE),\"\"),IFERROR(VLOOKUP($W21,FeedLibUser[#All],AV$60,FALSE),\"\")),AV21),IF(AND(ISNUMBER($AI21),$AJ21<>\"\"),AV21,\"\"))","v":""},{"$f":"IF(ISNUMBER($W21),IF($AH21=FALSE,IF($W21<1000,IFERROR(VLOOKUP($W21,FeedLib[#All],AW$60,FALSE),\"\"),IFERROR(VLOOKUP($W21,FeedLibUser[#All],AW$60,FALSE),\"\")),AW21),IF(AND(ISNUMBER($AI21),$AJ21<>\"\"),AW21,\"\"))","v":""},{"$f":"IF(ISNUMBER($W21),IF($AH21=FALSE,IF($W21<1000,IFERROR(VLOOKUP($W21,FeedLib[#All],AX$60,FALSE),\"\"),IFERROR(VLOOKUP($W21,FeedLibUser[#All],AX$60,FALSE),\"\")),AX21),IF(AND(ISNUMBER($AI21),$AJ21<>\"\"),AX21,\"\"))","v":""},{"$f":"IF(ISNUMBER($W21),IF($AH21=FALSE,IF($W21<1000,IFERROR(VLOOKUP($W21,FeedLib[#All],AY$60,FALSE),\"\")/IF(parmUnit=1,1,2.2046),IFERROR(VLOOKUP($W21,FeedLibUser[#All],AY$60,FALSE),\"\")/IF(parmUnit=1,1,2.2046)),AY21),IF(AND(ISNUMBER($AI21),$AJ21<>\"\"),AY21,\"\"))","v":""},{"$f":"IF(ISNUMBER($W21),IF($AH21=FALSE,IF($W21<1000,IFERROR(VLOOKUP($W21,FeedLib[#All],AZ$60,FALSE),\"\")/IF(parmUnit=1,1,2.2046),IFERROR(VLOOKUP($W21,FeedLibUser[#All],AZ$60,FALSE),\"\")/IF(parmUnit=1,1,2.2046)),AZ21),IF(AND(ISNUMBER($AI21),$AJ21<>\"\"),AZ21,\"\"))","v":""},{"$f":"IF(ISNUMBER($W21),IF($AH21=FALSE,IF($W21<1000,IFERROR(VLOOKUP($W21,FeedLib[#All],BA$60,FALSE),\"\")/IF(parmUnit=1,1,2.2046),IFERROR(VLOOKUP($W21,FeedLibUser[#All],BA$60,FALSE),\"\")/IF(parmUnit=1,1,2.2046)),BA21),IF(AND(ISNUMBER($AI21),$AJ21<>\"\"),BA21,\"\"))","v":""},{"$f":"IF(ISNUMBER($W21),IF($AH21=FALSE,IF($W21<1000,IFERROR(VLOOKUP($W21,FeedLib[#All],BB$60,FALSE),\"\"),IFERROR(VLOOKUP($W21,FeedLibUser[#All],BB$60,FALSE),\"\")),BB21),IF(AND(ISNUMBER($AI21),$AJ21<>\"\"),BB21,\"\"))","v":""},{"$f":"IF(ISNUMBER($W21),IF($AH21=FALSE,IF($W21<1000,IFERROR(VLOOKUP($W21,FeedLib[#All],BC$60,FALSE),\"\"),IFERROR(VLOOKUP($W21,FeedLibUser[#All],BC$60,FALSE),\"\")),BC21),IF(AND(ISNUMBER($AI21),$AJ21<>\"\"),BC21,\"\"))","v":""},{"$f":"IF(ISNUMBER($W21),IF($AH21=FALSE,IF($W21<1000,IFERROR(VLOOKUP($W21,FeedLib[#All],BD$60,FALSE),\"\"),IFERROR(VLOOKUP($W21,FeedLibUser[#All],BD$60,FALSE),\"\")),BD21),IF(AND(ISNUMBER($AI21),$AJ21<>\"\"),BD21,\"\"))","v":""},{"$f":"IF(ISNUMBER($W21),IF($AH21=FALSE,IF($W21<1000,IFERROR(VLOOKUP($W21,FeedLib[#All],BE$60,FALSE),\"\"),IFERROR(VLOOKUP($W21,FeedLibUser[#All],BE$60,FALSE),\"\")),BE21),IF(AND(ISNUMBER($AI21),$AJ21<>\"\"),BE21,\"\"))","v":""},{"$f":"IF(ISNUMBER($W21),IF($AH21=FALSE,IF($W21<1000,IFERROR(VLOOKUP($W21,FeedLib[#All],BF$60,FALSE),\"\"),IFERROR(VLOOKUP($W21,FeedLibUser[#All],BF$60,FALSE),\"\")),BF21),IF(AND(ISNUMBER($AI21),$AJ21<>\"\"),BF21,\"\"))","v":""},{"$f":"IF(ISNUMBER($W21),IF($AH21=FALSE,IF($W21<1000,IFERROR(VLOOKUP($W21,FeedLib[#All],BG$60,FALSE),\"\"),IFERROR(VLOOKUP($W21,FeedLibUser[#All],BG$60,FALSE),\"\")),BG21),IF(AND(ISNUMBER($AI21),$AJ21<>\"\"),BG21,\"\"))","v":""},{"$f":"IF(ISNUMBER($W21),IF($AH21=FALSE,IF($W21<1000,IFERROR(VLOOKUP($W21,FeedLib[#All],BH$60,FALSE),\"\"),IFERROR(VLOOKUP($W21,FeedLibUser[#All],BH$60,FALSE),\"\")),BH21),IF(AND(ISNUMBER($AI21),$AJ21<>\"\"),BH21,\"\"))","v":""},{"$f":"IF(ISNUMBER($W21),IF($AH21=FALSE,IF($W21<1000,IFERROR(VLOOKUP($W21,FeedLib[#All],BI$60,FALSE),\"\"),IFERROR(VLOOKUP($W21,FeedLibUser[#All],BI$60,FALSE),\"\")),BI21),IF(AND(ISNUMBER($AI21),$AJ21<>\"\"),BI21,\"\"))","v":""},{"$f":"IF(ISNUMBER($W21),IF($AH21=FALSE,IF($W21<1000,IFERROR(VLOOKUP($W21,FeedLib[#All],BJ$60,FALSE),\"\"),IFERROR(VLOOKUP($W21,FeedLibUser[#All],BJ$60,FALSE),\"\")),BJ21),IF(AND(ISNUMBER($AI21),$AJ21<>\"\"),BJ21,\"\"))","v":""},{"$f":"IF(ISNUMBER($W21),IF($AH21=FALSE,IF($W21<1000,IFERROR(VLOOKUP($W21,FeedLib[#All],BK$60,FALSE),\"\"),IFERROR(VLOOKUP($W21,FeedLibUser[#All],BK$60,FALSE),\"\")),BK21),IF(AND(ISNUMBER($AI21),$AJ21<>\"\"),BK21,\"\"))","v":""},{"$f":"IF(ISNUMBER($W21),IF($AH21=FALSE,IF($W21<1000,IFERROR(VLOOKUP($W21,FeedLib[#All],BL$60,FALSE),\"\"),IFERROR(VLOOKUP($W21,FeedLibUser[#All],BL$60,FALSE),\"\")),BL21),IF(AND(ISNUMBER($AI21),$AJ21<>\"\"),BL21,\"\"))","v":""},{"$f":"IF(ISNUMBER($W21),IF($AH21=FALSE,IF($W21<1000,IFERROR(VLOOKUP($W21,FeedLib[#All],BM$60,FALSE),\"\"),IFERROR(VLOOKUP($W21,FeedLibUser[#All],BM$60,FALSE),\"\")),BM21),IF(AND(ISNUMBER($AI21),$AJ21<>\"\"),BM21,\"\"))","v":""},{"$f":"IF(ISNUMBER($W21),IF($AH21=FALSE,IF($W21<1000,IFERROR(VLOOKUP($W21,FeedLib[#All],BN$60,FALSE),\"\"),IFERROR(VLOOKUP($W21,FeedLibUser[#All],BN$60,FALSE),\"\")),BN21),IF(AND(ISNUMBER($AI21),$AJ21<>\"\"),BN21,\"\"))","v":""},{"$f":"IF(ISNUMBER($W21),IF($AH21=FALSE,IF($W21<1000,IFERROR(VLOOKUP($W21,FeedLib[#All],BO$60,FALSE),\"\"),IFERROR(VLOOKUP($W21,FeedLibUser[#All],BO$60,FALSE),\"\")),BO21),IF(AND(ISNUMBER($AI21),$AJ21<>\"\"),BO21,\"\"))","v":""},{"$f":"IF(ISNUMBER($W21),IF($AH21=FALSE,IF($W21<1000,IFERROR(VLOOKUP($W21,FeedLib[#All],BP$60,FALSE),\"\"),IFERROR(VLOOKUP($W21,FeedLibUser[#All],BP$60,FALSE),\"\")),BP21),IF(AND(ISNUMBER($AI21),$AJ21<>\"\"),BP21,\"\"))","v":""},{"$f":"IF(ISNUMBER($W21),IF($AH21=FALSE,IF($W21<1000,IFERROR(VLOOKUP($W21,FeedLib[#All],BQ$60,FALSE),\"\"),IFERROR(VLOOKUP($W21,FeedLibUser[#All],BQ$60,FALSE),\"\")),BQ21),IF(AND(ISNUMBER($AI21),$AJ21<>\"\"),BQ21,\"\"))","v":""},{"$f":"IF(ISNUMBER($W21),IF($AH21=FALSE,IF($W21<1000,IFERROR(VLOOKUP($W21,FeedLib[#All],BR$60,FALSE),\"\"),IFERROR(VLOOKUP($W21,FeedLibUser[#All],BR$60,FALSE),\"\")),BR21),IF(AND(ISNUMBER($AI21),$AJ21<>\"\"),BR21,\"\"))","v":""},{"$f":"IF(ISNUMBER($W21),IF($AH21=FALSE,IF($W21<1000,IFERROR(VLOOKUP($W21,FeedLib[#All],BS$60,FALSE),\"\"),IFERROR(VLOOKUP($W21,FeedLibUser[#All],BS$60,FALSE),\"\")),BS21),IF(AND(ISNUMBER($AI21),$AJ21<>\"\"),BS21,\"\"))","v":""},{"$f":"IF(ISNUMBER($W21),IF($AH21=FALSE,IF($W21<1000,IFERROR(VLOOKUP($W21,FeedLib[#All],BT$60,FALSE),\"\"),IFERROR(VLOOKUP($W21,FeedLibUser[#All],BT$60,FALSE),\"\")),BT21),IF(AND(ISNUMBER($AI21),$AJ21<>\"\"),BT21,\"\"))","v":""},{"$f":"IF(ISNUMBER($W21),IF($AH21=FALSE,IF($W21<1000,IFERROR(VLOOKUP($W21,FeedLib[#All],BU$60,FALSE),\"\"),IFERROR(VLOOKUP($W21,FeedLibUser[#All],BU$60,FALSE),\"\")),BU21),IF(AND(ISNUMBER($AI21),$AJ21<>\"\"),BU21,\"\"))","v":""},{"$f":"IF(ISNUMBER($W21),IF($AH21=FALSE,IF($W21<1000,IFERROR(VLOOKUP($W21,FeedLib[#All],BV$60,FALSE),\"\"),IFERROR(VLOOKUP($W21,FeedLibUser[#All],BV$60,FALSE),\"\")),BV21),IF(AND(ISNUMBER($AI21),$AJ21<>\"\"),BV21,\"\"))","v":""},{"$f":"IF(ISNUMBER($W21),IF($AH21=FALSE,IF($W21<1000,IFERROR(VLOOKUP($W21,FeedLib[#All],BW$60,FALSE),\"\"),IFERROR(VLOOKUP($W21,FeedLibUser[#All],BW$60,FALSE),\"\")),BW21),IF(AND(ISNUMBER($AI21),$AJ21<>\"\"),BW21,\"\"))","v":""},{"$f":"IF(ISNUMBER($W21),IF($AH21=FALSE,IF($W21<1000,IFERROR(VLOOKUP($W21,FeedLib[#All],BX$60,FALSE),\"\"),IFERROR(VLOOKUP($W21,FeedLibUser[#All],BX$60,FALSE),\"\")),BX21),IF(AND(ISNUMBER($AI21),$AJ21<>\"\"),BX21,\"\"))","v":""},{"$f":"IF(ISNUMBER($W21),IF($AH21=FALSE,IF($W21<1000,IFERROR(VLOOKUP($W21,FeedLib[#All],BY$60,FALSE),\"\"),IFERROR(VLOOKUP($W21,FeedLibUser[#All],BY$60,FALSE),\"\")),BY21),IF(AND(ISNUMBER($AI21),$AJ21<>\"\"),BY21,\"\"))","v":""},{"$f":"IF(ISNUMBER($W21),IF($AH21=FALSE,IF($W21<1000,IFERROR(VLOOKUP($W21,FeedLib[#All],BZ$60,FALSE),\"\"),IFERROR(VLOOKUP($W21,FeedLibUser[#All],BZ$60,FALSE),\"\")),BZ21),IF(AND(ISNUMBER($AI21),$AJ21<>\"\"),BZ21,\"\"))","v":""},{"$f":"IF(ISNUMBER($W21),IF($AH21=FALSE,IF($W21<1000,IFERROR(VLOOKUP($W21,FeedLib[#All],CA$60,FALSE),\"\"),IFERROR(VLOOKUP($W21,FeedLibUser[#All],CA$60,FALSE),\"\")),CA21),IF(AND(ISNUMBER($AI21),$AJ21<>\"\"),CA21,\"\"))","v":""},{"$f":"IF(ISNUMBER($W21),IF($AH21=FALSE,IF($W21<1000,IFERROR(VLOOKUP($W21,FeedLib[#All],CB$60,FALSE),\"\"),IFERROR(VLOOKUP($W21,FeedLibUser[#All],CB$60,FALSE),\"\")),CB21),IF(AND(ISNUMBER($AI21),$AJ21<>\"\"),CB21,\"\"))","v":""},{"$f":"IF(ISNUMBER($W21),IF($AH21=FALSE,IF($W21<1000,IFERROR(VLOOKUP($W21,FeedLib[#All],CC$60,FALSE),\"\"),IFERROR(VLOOKUP($W21,FeedLibUser[#All],CC$60,FALSE),\"\")),CC21),IF(AND(ISNUMBER($AI21),$AJ21<>\"\"),CC21,\"\"))","v":""},{"$f":"IF(ISNUMBER($W21),IF($AH21=FALSE,IF($W21<1000,IFERROR(VLOOKUP($W21,FeedLib[#All],CD$60,FALSE),\"\"),IFERROR(VLOOKUP($W21,FeedLibUser[#All],CD$60,FALSE),\"\")),CD21),IF(AND(ISNUMBER($AI21),$AJ21<>\"\"),CD21,\"\"))","v":""},{"$f":"IF(ISNUMBER($W21),IF($AH21=FALSE,IF($W21<1000,IFERROR(VLOOKUP($W21,FeedLib[#All],CE$60,FALSE),\"\"),IFERROR(VLOOKUP($W21,FeedLibUser[#All],CE$60,FALSE),\"\")),CE21),IF(AND(ISNUMBER($AI21),$AJ21<>\"\"),CE21,\"\"))","v":""},{"$f":"IF(ISNUMBER($W21),IF($AH21=FALSE,IF($W21<1000,IFERROR(VLOOKUP($W21,FeedLib[#All],CF$60,FALSE),\"\"),IFERROR(VLOOKUP($W21,FeedLibUser[#All],CF$60,FALSE),\"\")),CF21),IF(AND(ISNUMBER($AI21),$AJ21<>\"\"),CF21,\"\"))","v":""},{"$f":"IF(ISNUMBER($W21),IF($AH21=FALSE,IF($W21<1000,IFERROR(VLOOKUP($W21,FeedLib[#All],CG$60,FALSE),\"\"),IFERROR(VLOOKUP($W21,FeedLibUser[#All],CG$60,FALSE),\"\")),CG21),IF(AND(ISNUMBER($AI21),$AJ21<>\"\"),CG21,\"\"))","v":""},{"$f":"IF(ISNUMBER($W21),IF($AH21=FALSE,IF($W21<1000,IFERROR(VLOOKUP($W21,FeedLib[#All],CH$60,FALSE),\"\"),IFERROR(VLOOKUP($W21,FeedLibUser[#All],CH$60,FALSE),\"\")),CH21),IF(AND(ISNUMBER($AI21),$AJ21<>\"\"),CH21,\"\"))","v":""},{"$f":"IF(ISNUMBER($W21),IF($AH21=FALSE,IF($W21<1000,IFERROR(VLOOKUP($W21,FeedLib[#All],CI$60,FALSE),\"\"),IFERROR(VLOOKUP($W21,FeedLibUser[#All],CI$60,FALSE),\"\")),CI21),IF(AND(ISNUMBER($AI21),$AJ21<>\"\"),CI21,\"\"))","v":""},{"$f":"IF(ISNUMBER($W21),IF($AH21=FALSE,IF($W21<1000,IFERROR(VLOOKUP($W21,FeedLib[#All],CJ$60,FALSE),\"\"),IFERROR(VLOOKUP($W21,FeedLibUser[#All],CJ$60,FALSE),\"\")),CJ21),IF(AND(ISNUMBER($AI21),$AJ21<>\"\"),CJ21,\"\"))","v":""},{"$f":"IF(ISNUMBER($W21),IF($AH21=FALSE,IF($W21<1000,IFERROR(VLOOKUP($W21,FeedLib[#All],CK$60,FALSE),\"\"),IFERROR(VLOOKUP($W21,FeedLibUser[#All],CK$60,FALSE),\"\")),CK21),IF(AND(ISNUMBER($AI21),$AJ21<>\"\"),CK21,\"\"))","v":""},{"$f":"IF(ISNUMBER($W21),IF($AH21=FALSE,IF($W21<1000,IFERROR(VLOOKUP($W21,FeedLib[#All],CL$60,FALSE),\"\"),IFERROR(VLOOKUP($W21,FeedLibUser[#All],CL$60,FALSE),\"\")),CL21),IF(AND(ISNUMBER($AI21),$AJ21<>\"\"),CL21,\"\"))","v":""},{"$f":"IF(ISNUMBER($W21),IF($AH21=FALSE,IF($W21<1000,IFERROR(VLOOKUP($W21,FeedLib[#All],CM$60,FALSE),\"\"),IFERROR(VLOOKUP($W21,FeedLibUser[#All],CM$60,FALSE),\"\")),CM21),IF(AND(ISNUMBER($AI21),$AJ21<>\"\"),CM21,\"\"))","v":""}]
[null,"Feed additive",null,2,null,{"$f":"IF(OR(D55<1,D55>3),1,D55)","v":2},null,"1:=None, 2:=Monensin, 3:=Lasalocid",null,null,null,null,null,null,null,null,null,null,null,null,null,null,null,null,null,null,null,null,null,null,null,null,null,null,"","",{"$f":"IF(ISNUMBER($W22),IF($AH22=FALSE,IF($W22<1000,IFERROR(VLOOKUP($W22,FeedLib[#All],AK$60,FALSE),\"\")*(IF(parmUnit=1,1,2000/2204.6)),IFERROR(VLOOKUP($W22,FeedLibUser[#All],AK$60,FALSE),\"\")*(IF(parmUnit=1,1,2000/2204.6))),AK22),IF(AND(ISNUMBER($AI22),$AJ22<>\"\"),AK22,\"\"))","v":""},{"$f":"IF(ISNUMBER($W22),IF($AH22=FALSE,IF($W22<1000,IFERROR(VLOOKUP($W22,FeedLib[#All],AL$60,FALSE),\"\"),IFERROR(VLOOKUP($W22,FeedLibUser[#All],AL$60,FALSE),\"\")),AL22),IF(AND(ISNUMBER($AI22),$AJ22<>\"\"),AL22,\"\"))","v":""},{"$f":"IF(ISNUMBER($W22),IF($AH22=FALSE,IF($W22<1000,IFERROR(VLOOKUP($W22,FeedLib[#All],AM$60,FALSE),\"\"),IFERROR(VLOOKUP($W22,FeedLibUser[#All],AM$60,FALSE),\"\")),AM22),IF(AND(ISNUMBER($AI22),$AJ22<>\"\"),AM22,\"\"))","v":""},{"$f":"IF(ISNUMBER($W22),IF($AH22=FALSE,IF($W22<1000,IFERROR(VLOOKUP($W22,FeedLib[#All],AN$60,FALSE),\"\"),IFERROR(VLOOKUP($W22,FeedLibUser[#All],AN$60,FALSE),\"\")),AN22),IF(AND(ISNUMBER($AI22),$AJ22<>\"\"),AN22,\"\"))","v":""},{"$f":"IF(ISNUMBER($W22),IF($AH22=FALSE,IF($W22<1000,IFERROR(VLOOKUP($W22,FeedLib[#All],AO$60,FALSE),\"\"),IFERROR(VLOOKUP($W22,FeedLibUser[#All],AO$60,FALSE),\"\")),AO22),IF(AND(ISNUMBER($AI22),$AJ22<>\"\"),AO22,\"\"))","v":""},{"$f":"IF(ISNUMBER($W22),IF($AH22=FALSE,IF($W22<1000,IFERROR(VLOOKUP($W22,FeedLib[#All],AP$60,FALSE),\"\"),IFERROR(VLOOKUP($W22,FeedLibUser[#All],AP$60,FALSE),\"\")),AP22),IF(AND(ISNUMBER($AI22),$AJ22<>\"\"),AP22,\"\"))","v":""},{"$f":"IF(ISNUMBER($W22),IF($AH22=FALSE,IF($W22<1000,IFERROR(VLOOKUP($W22,FeedLib[#All],AQ$60,FALSE),\"\"),IFERROR(VLOOKUP($W22,FeedLibUser[#All],AQ$60,FALSE),\"\")),AQ22),IF(AND(ISNUMBER($AI22),$AJ22<>\"\"),AQ22,\"\"))","v":""},{"$f":"IF(ISNUMBER($W22),IF($AH22=FALSE,IF($W22<1000,IFERROR(VLOOKUP($W22,FeedLib[#All],AR$60,FALSE),\"\"),IFERROR(VLOOKUP($W22,FeedLibUser[#All],AR$60,FALSE),\"\")),AR22),IF(AND(ISNUMBER($AI22),$AJ22<>\"\"),AR22,\"\"))","v":""},{"$f":"IF(ISNUMBER($W22),IF($AH22=FALSE,IF($W22<1000,IFERROR(VLOOKUP($W22,FeedLib[#All],AS$60,FALSE),\"\"),IFERROR(VLOOKUP($W22,FeedLibUser[#All],AS$60,FALSE),\"\")),AS22),IF(AND(ISNUMBER($AI22),$AJ22<>\"\"),AS22,\"\"))","v":""},{"$f":"IF(ISNUMBER($W22),IF($AH22=FALSE,IF($W22<1000,IFERROR(VLOOKUP($W22,FeedLib[#All],AT$60,FALSE),\"\"),IFERROR(VLOOKUP($W22,FeedLibUser[#All],AT$60,FALSE),\"\")),AT22),IF(AND(ISNUMBER($AI22),$AJ22<>\"\"),AT22,\"\"))","v":""},{"$f":"IF(ISNUMBER($W22),IF($AH22=FALSE,IF($W22<1000,IFERROR(VLOOKUP($W22,FeedLib[#All],AU$60,FALSE),\"\"),IFERROR(VLOOKUP($W22,FeedLibUser[#All],AU$60,FALSE),\"\")),AU22),IF(AND(ISNUMBER($AI22),$AJ22<>\"\"),AU22,\"\"))","v":""},{"$f":"IF(ISNUMBER($W22),IF($AH22=FALSE,IF($W22<1000,IFERROR(VLOOKUP($W22,FeedLib[#All],AV$60,FALSE),\"\"),IFERROR(VLOOKUP($W22,FeedLibUser[#All],AV$60,FALSE),\"\")),AV22),IF(AND(ISNUMBER($AI22),$AJ22<>\"\"),AV22,\"\"))","v":""},{"$f":"IF(ISNUMBER($W22),IF($AH22=FALSE,IF($W22<1000,IFERROR(VLOOKUP($W22,FeedLib[#All],AW$60,FALSE),\"\"),IFERROR(VLOOKUP($W22,FeedLibUser[#All],AW$60,FALSE),\"\")),AW22),IF(AND(ISNUMBER($AI22),$AJ22<>\"\"),AW22,\"\"))","v":""},{"$f":"IF(ISNUMBER($W22),IF($AH22=FALSE,IF($W22<1000,IFERROR(VLOOKUP($W22,FeedLib[#All],AX$60,FALSE),\"\"),IFERROR(VLOOKUP($W22,FeedLibUser[#All],AX$60,FALSE),\"\")),AX22),IF(AND(ISNUMBER($AI22),$AJ22<>\"\"),AX22,\"\"))","v":""},{"$f":"IF(ISNUMBER($W22),IF($AH22=FALSE,IF($W22<1000,IFERROR(VLOOKUP($W22,FeedLib[#All],AY$60,FALSE),\"\")/IF(parmUnit=1,1,2.2046),IFERROR(VLOOKUP($W22,FeedLibUser[#All],AY$60,FALSE),\"\")/IF(parmUnit=1,1,2.2046)),AY22),IF(AND(ISNUMBER($AI22),$AJ22<>\"\"),AY22,\"\"))","v":""},{"$f":"IF(ISNUMBER($W22),IF($AH22=FALSE,IF($W22<1000,IFERROR(VLOOKUP($W22,FeedLib[#All],AZ$60,FALSE),\"\")/IF(parmUnit=1,1,2.2046),IFERROR(VLOOKUP($W22,FeedLibUser[#All],AZ$60,FALSE),\"\")/IF(parmUnit=1,1,2.2046)),AZ22),IF(AND(ISNUMBER($AI22),$AJ22<>\"\"),AZ22,\"\"))","v":""},{"$f":"IF(ISNUMBER($W22),IF($AH22=FALSE,IF($W22<1000,IFERROR(VLOOKUP($W22,FeedLib[#All],BA$60,FALSE),\"\")/IF(parmUnit=1,1,2.2046),IFERROR(VLOOKUP($W22,FeedLibUser[#All],BA$60,FALSE),\"\")/IF(parmUnit=1,1,2.2046)),BA22),IF(AND(ISNUMBER($AI22),$AJ22<>\"\"),BA22,\"\"))","v":""},{"$f":"IF(ISNUMBER($W22),IF($AH22=FALSE,IF($W22<1000,IFERROR(VLOOKUP($W22,FeedLib[#All],BB$60,FALSE),\"\"),IFERROR(VLOOKUP($W22,FeedLibUser[#All],BB$60,FALSE),\"\")),BB22),IF(AND(ISNUMBER($AI22),$AJ22<>\"\"),BB22,\"\"))","v":""},{"$f":"IF(ISNUMBER($W22),IF($AH22=FALSE,IF($W22<1000,IFERROR(VLOOKUP($W22,FeedLib[#All],BC$60,FALSE),\"\"),IFERROR(VLOOKUP($W22,FeedLibUser[#All],BC$60,FALSE),\"\")),BC22),IF(AND(ISNUMBER($AI22),$AJ22<>\"\"),BC22,\"\"))","v":""},{"$f":"IF(ISNUMBER($W22),IF($AH22=FALSE,IF($W22<1000,IFERROR(VLOOKUP($W22,FeedLib[#All],BD$60,FALSE),\"\"),IFERROR(VLOOKUP($W22,FeedLibUser[#All],BD$60,FALSE),\"\")),BD22),IF(AND(ISNUMBER($AI22),$AJ22<>\"\"),BD22,\"\"))","v":""},{"$f":"IF(ISNUMBER($W22),IF($AH22=FALSE,IF($W22<1000,IFERROR(VLOOKUP($W22,FeedLib[#All],BE$60,FALSE),\"\"),IFERROR(VLOOKUP($W22,FeedLibUser[#All],BE$60,FALSE),\"\")),BE22),IF(AND(ISNUMBER($AI22),$AJ22<>\"\"),BE22,\"\"))","v":""},{"$f":"IF(ISNUMBER($W22),IF($AH22=FALSE,IF($W22<1000,IFERROR(VLOOKUP($W22,FeedLib[#All],BF$60,FALSE),\"\"),IFERROR(VLOOKUP($W22,FeedLibUser[#All],BF$60,FALSE),\"\")),BF22),IF(AND(ISNUMBER($AI22),$AJ22<>\"\"),BF22,\"\"))","v":""},{"$f":"IF(ISNUMBER($W22),IF($AH22=FALSE,IF($W22<1000,IFERROR(VLOOKUP($W22,FeedLib[#All],BG$60,FALSE),\"\"),IFERROR(VLOOKUP($W22,FeedLibUser[#All],BG$60,FALSE),\"\")),BG22),IF(AND(ISNUMBER($AI22),$AJ22<>\"\"),BG22,\"\"))","v":""},{"$f":"IF(ISNUMBER($W22),IF($AH22=FALSE,IF($W22<1000,IFERROR(VLOOKUP($W22,FeedLib[#All],BH$60,FALSE),\"\"),IFERROR(VLOOKUP($W22,FeedLibUser[#All],BH$60,FALSE),\"\")),BH22),IF(AND(ISNUMBER($AI22),$AJ22<>\"\"),BH22,\"\"))","v":""},{"$f":"IF(ISNUMBER($W22),IF($AH22=FALSE,IF($W22<1000,IFERROR(VLOOKUP($W22,FeedLib[#All],BI$60,FALSE),\"\"),IFERROR(VLOOKUP($W22,FeedLibUser[#All],BI$60,FALSE),\"\")),BI22),IF(AND(ISNUMBER($AI22),$AJ22<>\"\"),BI22,\"\"))","v":""},{"$f":"IF(ISNUMBER($W22),IF($AH22=FALSE,IF($W22<1000,IFERROR(VLOOKUP($W22,FeedLib[#All],BJ$60,FALSE),\"\"),IFERROR(VLOOKUP($W22,FeedLibUser[#All],BJ$60,FALSE),\"\")),BJ22),IF(AND(ISNUMBER($AI22),$AJ22<>\"\"),BJ22,\"\"))","v":""},{"$f":"IF(ISNUMBER($W22),IF($AH22=FALSE,IF($W22<1000,IFERROR(VLOOKUP($W22,FeedLib[#All],BK$60,FALSE),\"\"),IFERROR(VLOOKUP($W22,FeedLibUser[#All],BK$60,FALSE),\"\")),BK22),IF(AND(ISNUMBER($AI22),$AJ22<>\"\"),BK22,\"\"))","v":""},{"$f":"IF(ISNUMBER($W22),IF($AH22=FALSE,IF($W22<1000,IFERROR(VLOOKUP($W22,FeedLib[#All],BL$60,FALSE),\"\"),IFERROR(VLOOKUP($W22,FeedLibUser[#All],BL$60,FALSE),\"\")),BL22),IF(AND(ISNUMBER($AI22),$AJ22<>\"\"),BL22,\"\"))","v":""},{"$f":"IF(ISNUMBER($W22),IF($AH22=FALSE,IF($W22<1000,IFERROR(VLOOKUP($W22,FeedLib[#All],BM$60,FALSE),\"\"),IFERROR(VLOOKUP($W22,FeedLibUser[#All],BM$60,FALSE),\"\")),BM22),IF(AND(ISNUMBER($AI22),$AJ22<>\"\"),BM22,\"\"))","v":""},{"$f":"IF(ISNUMBER($W22),IF($AH22=FALSE,IF($W22<1000,IFERROR(VLOOKUP($W22,FeedLib[#All],BN$60,FALSE),\"\"),IFERROR(VLOOKUP($W22,FeedLibUser[#All],BN$60,FALSE),\"\")),BN22),IF(AND(ISNUMBER($AI22),$AJ22<>\"\"),BN22,\"\"))","v":""},{"$f":"IF(ISNUMBER($W22),IF($AH22=FALSE,IF($W22<1000,IFERROR(VLOOKUP($W22,FeedLib[#All],BO$60,FALSE),\"\"),IFERROR(VLOOKUP($W22,FeedLibUser[#All],BO$60,FALSE),\"\")),BO22),IF(AND(ISNUMBER($AI22),$AJ22<>\"\"),BO22,\"\"))","v":""},{"$f":"IF(ISNUMBER($W22),IF($AH22=FALSE,IF($W22<1000,IFERROR(VLOOKUP($W22,FeedLib[#All],BP$60,FALSE),\"\"),IFERROR(VLOOKUP($W22,FeedLibUser[#All],BP$60,FALSE),\"\")),BP22),IF(AND(ISNUMBER($AI22),$AJ22<>\"\"),BP22,\"\"))","v":""},{"$f":"IF(ISNUMBER($W22),IF($AH22=FALSE,IF($W22<1000,IFERROR(VLOOKUP($W22,FeedLib[#All],BQ$60,FALSE),\"\"),IFERROR(VLOOKUP($W22,FeedLibUser[#All],BQ$60,FALSE),\"\")),BQ22),IF(AND(ISNUMBER($AI22),$AJ22<>\"\"),BQ22,\"\"))","v":""},{"$f":"IF(ISNUMBER($W22),IF($AH22=FALSE,IF($W22<1000,IFERROR(VLOOKUP($W22,FeedLib[#All],BR$60,FALSE),\"\"),IFERROR(VLOOKUP($W22,FeedLibUser[#All],BR$60,FALSE),\"\")),BR22),IF(AND(ISNUMBER($AI22),$AJ22<>\"\"),BR22,\"\"))","v":""},{"$f":"IF(ISNUMBER($W22),IF($AH22=FALSE,IF($W22<1000,IFERROR(VLOOKUP($W22,FeedLib[#All],BS$60,FALSE),\"\"),IFERROR(VLOOKUP($W22,FeedLibUser[#All],BS$60,FALSE),\"\")),BS22),IF(AND(ISNUMBER($AI22),$AJ22<>\"\"),BS22,\"\"))","v":""},{"$f":"IF(ISNUMBER($W22),IF($AH22=FALSE,IF($W22<1000,IFERROR(VLOOKUP($W22,FeedLib[#All],BT$60,FALSE),\"\"),IFERROR(VLOOKUP($W22,FeedLibUser[#All],BT$60,FALSE),\"\")),BT22),IF(AND(ISNUMBER($AI22),$AJ22<>\"\"),BT22,\"\"))","v":""},{"$f":"IF(ISNUMBER($W22),IF($AH22=FALSE,IF($W22<1000,IFERROR(VLOOKUP($W22,FeedLib[#All],BU$60,FALSE),\"\"),IFERROR(VLOOKUP($W22,FeedLibUser[#All],BU$60,FALSE),\"\")),BU22),IF(AND(ISNUMBER($AI22),$AJ22<>\"\"),BU22,\"\"))","v":""},{"$f":"IF(ISNUMBER($W22),IF($AH22=FALSE,IF($W22<1000,IFERROR(VLOOKUP($W22,FeedLib[#All],BV$60,FALSE),\"\"),IFERROR(VLOOKUP($W22,FeedLibUser[#All],BV$60,FALSE),\"\")),BV22),IF(AND(ISNUMBER($AI22),$AJ22<>\"\"),BV22,\"\"))","v":""},{"$f":"IF(ISNUMBER($W22),IF($AH22=FALSE,IF($W22<1000,IFERROR(VLOOKUP($W22,FeedLib[#All],BW$60,FALSE),\"\"),IFERROR(VLOOKUP($W22,FeedLibUser[#All],BW$60,FALSE),\"\")),BW22),IF(AND(ISNUMBER($AI22),$AJ22<>\"\"),BW22,\"\"))","v":""},{"$f":"IF(ISNUMBER($W22),IF($AH22=FALSE,IF($W22<1000,IFERROR(VLOOKUP($W22,FeedLib[#All],BX$60,FALSE),\"\"),IFERROR(VLOOKUP($W22,FeedLibUser[#All],BX$60,FALSE),\"\")),BX22),IF(AND(ISNUMBER($AI22),$AJ22<>\"\"),BX22,\"\"))","v":""},{"$f":"IF(ISNUMBER($W22),IF($AH22=FALSE,IF($W22<1000,IFERROR(VLOOKUP($W22,FeedLib[#All],BY$60,FALSE),\"\"),IFERROR(VLOOKUP($W22,FeedLibUser[#All],BY$60,FALSE),\"\")),BY22),IF(AND(ISNUMBER($AI22),$AJ22<>\"\"),BY22,\"\"))","v":""},{"$f":"IF(ISNUMBER($W22),IF($AH22=FALSE,IF($W22<1000,IFERROR(VLOOKUP($W22,FeedLib[#All],BZ$60,FALSE),\"\"),IFERROR(VLOOKUP($W22,FeedLibUser[#All],BZ$60,FALSE),\"\")),BZ22),IF(AND(ISNUMBER($AI22),$AJ22<>\"\"),BZ22,\"\"))","v":""},{"$f":"IF(ISNUMBER($W22),IF($AH22=FALSE,IF($W22<1000,IFERROR(VLOOKUP($W22,FeedLib[#All],CA$60,FALSE),\"\"),IFERROR(VLOOKUP($W22,FeedLibUser[#All],CA$60,FALSE),\"\")),CA22),IF(AND(ISNUMBER($AI22),$AJ22<>\"\"),CA22,\"\"))","v":""},{"$f":"IF(ISNUMBER($W22),IF($AH22=FALSE,IF($W22<1000,IFERROR(VLOOKUP($W22,FeedLib[#All],CB$60,FALSE),\"\"),IFERROR(VLOOKUP($W22,FeedLibUser[#All],CB$60,FALSE),\"\")),CB22),IF(AND(ISNUMBER($AI22),$AJ22<>\"\"),CB22,\"\"))","v":""},{"$f":"IF(ISNUMBER($W22),IF($AH22=FALSE,IF($W22<1000,IFERROR(VLOOKUP($W22,FeedLib[#All],CC$60,FALSE),\"\"),IFERROR(VLOOKUP($W22,FeedLibUser[#All],CC$60,FALSE),\"\")),CC22),IF(AND(ISNUMBER($AI22),$AJ22<>\"\"),CC22,\"\"))","v":""},{"$f":"IF(ISNUMBER($W22),IF($AH22=FALSE,IF($W22<1000,IFERROR(VLOOKUP($W22,FeedLib[#All],CD$60,FALSE),\"\"),IFERROR(VLOOKUP($W22,FeedLibUser[#All],CD$60,FALSE),\"\")),CD22),IF(AND(ISNUMBER($AI22),$AJ22<>\"\"),CD22,\"\"))","v":""},{"$f":"IF(ISNUMBER($W22),IF($AH22=FALSE,IF($W22<1000,IFERROR(VLOOKUP($W22,FeedLib[#All],CE$60,FALSE),\"\"),IFERROR(VLOOKUP($W22,FeedLibUser[#All],CE$60,FALSE),\"\")),CE22),IF(AND(ISNUMBER($AI22),$AJ22<>\"\"),CE22,\"\"))","v":""},{"$f":"IF(ISNUMBER($W22),IF($AH22=FALSE,IF($W22<1000,IFERROR(VLOOKUP($W22,FeedLib[#All],CF$60,FALSE),\"\"),IFERROR(VLOOKUP($W22,FeedLibUser[#All],CF$60,FALSE),\"\")),CF22),IF(AND(ISNUMBER($AI22),$AJ22<>\"\"),CF22,\"\"))","v":""},{"$f":"IF(ISNUMBER($W22),IF($AH22=FALSE,IF($W22<1000,IFERROR(VLOOKUP($W22,FeedLib[#All],CG$60,FALSE),\"\"),IFERROR(VLOOKUP($W22,FeedLibUser[#All],CG$60,FALSE),\"\")),CG22),IF(AND(ISNUMBER($AI22),$AJ22<>\"\"),CG22,\"\"))","v":""},{"$f":"IF(ISNUMBER($W22),IF($AH22=FALSE,IF($W22<1000,IFERROR(VLOOKUP($W22,FeedLib[#All],CH$60,FALSE),\"\"),IFERROR(VLOOKUP($W22,FeedLibUser[#All],CH$60,FALSE),\"\")),CH22),IF(AND(ISNUMBER($AI22),$AJ22<>\"\"),CH22,\"\"))","v":""},{"$f":"IF(ISNUMBER($W22),IF($AH22=FALSE,IF($W22<1000,IFERROR(VLOOKUP($W22,FeedLib[#All],CI$60,FALSE),\"\"),IFERROR(VLOOKUP($W22,FeedLibUser[#All],CI$60,FALSE),\"\")),CI22),IF(AND(ISNUMBER($AI22),$AJ22<>\"\"),CI22,\"\"))","v":""},{"$f":"IF(ISNUMBER($W22),IF($AH22=FALSE,IF($W22<1000,IFERROR(VLOOKUP($W22,FeedLib[#All],CJ$60,FALSE),\"\"),IFERROR(VLOOKUP($W22,FeedLibUser[#All],CJ$60,FALSE),\"\")),CJ22),IF(AND(ISNUMBER($AI22),$AJ22<>\"\"),CJ22,\"\"))","v":""},{"$f":"IF(ISNUMBER($W22),IF($AH22=FALSE,IF($W22<1000,IFERROR(VLOOKUP($W22,FeedLib[#All],CK$60,FALSE),\"\"),IFERROR(VLOOKUP($W22,FeedLibUser[#All],CK$60,FALSE),\"\")),CK22),IF(AND(ISNUMBER($AI22),$AJ22<>\"\"),CK22,\"\"))","v":""},{"$f":"IF(ISNUMBER($W22),IF($AH22=FALSE,IF($W22<1000,IFERROR(VLOOKUP($W22,FeedLib[#All],CL$60,FALSE),\"\"),IFERROR(VLOOKUP($W22,FeedLibUser[#All],CL$60,FALSE),\"\")),CL22),IF(AND(ISNUMBER($AI22),$AJ22<>\"\"),CL22,\"\"))","v":""},{"$f":"IF(ISNUMBER($W22),IF($AH22=FALSE,IF($W22<1000,IFERROR(VLOOKUP($W22,FeedLib[#All],CM$60,FALSE),\"\"),IFERROR(VLOOKUP($W22,FeedLibUser[#All],CM$60,FALSE),\"\")),CM22),IF(AND(ISNUMBER($AI22),$AJ22<>\"\"),CM22,\"\"))","v":""}]
[null,"Implant",null,2,null,{"$f":"IF(OR(D56<1,D56>2),1,D56)","v":2},null,"1:=No, 2:=Yes",null,null,null,null,null,null,null,null,null,null,null,null,null,null,null,null,null,null,null,null,null,null,null,null,null,null,"","",{"$f":"IF(ISNUMBER($W23),IF($AH23=FALSE,IF($W23<1000,IFERROR(VLOOKUP($W23,FeedLib[#All],AK$60,FALSE),\"\")*(IF(parmUnit=1,1,2000/2204.6)),IFERROR(VLOOKUP($W23,FeedLibUser[#All],AK$60,FALSE),\"\")*(IF(parmUnit=1,1,2000/2204.6))),AK23),IF(AND(ISNUMBER($AI23),$AJ23<>\"\"),AK23,\"\"))","v":""},{"$f":"IF(ISNUMBER($W23),IF($AH23=FALSE,IF($W23<1000,IFERROR(VLOOKUP($W23,FeedLib[#All],AL$60,FALSE),\"\"),IFERROR(VLOOKUP($W23,FeedLibUser[#All],AL$60,FALSE),\"\")),AL23),IF(AND(ISNUMBER($AI23),$AJ23<>\"\"),AL23,\"\"))","v":""},{"$f":"IF(ISNUMBER($W23),IF($AH23=FALSE,IF($W23<1000,IFERROR(VLOOKUP($W23,FeedLib[#All],AM$60,FALSE),\"\"),IFERROR(VLOOKUP($W23,FeedLibUser[#All],AM$60,FALSE),\"\")),AM23),IF(AND(ISNUMBER($AI23),$AJ23<>\"\"),AM23,\"\"))","v":""},{"$f":"IF(ISNUMBER($W23),IF($AH23=FALSE,IF($W23<1000,IFERROR(VLOOKUP($W23,FeedLib[#All],AN$60,FALSE),\"\"),IFERROR(VLOOKUP($W23,FeedLibUser[#All],AN$60,FALSE),\"\")),AN23),IF(AND(ISNUMBER($AI23),$AJ23<>\"\"),AN23,\"\"))","v":""},{"$f":"IF(ISNUMBER($W23),IF($AH23=FALSE,IF($W23<1000,IFERROR(VLOOKUP($W23,FeedLib[#All],AO$60,FALSE),\"\"),IFERROR(VLOOKUP($W23,FeedLibUser[#All],AO$60,FALSE),\"\")),AO23),IF(AND(ISNUMBER($AI23),$AJ23<>\"\"),AO23,\"\"))","v":""},{"$f":"IF(ISNUMBER($W23),IF($AH23=FALSE,IF($W23<1000,IFERROR(VLOOKUP($W23,FeedLib[#All],AP$60,FALSE),\"\"),IFERROR(VLOOKUP($W23,FeedLibUser[#All],AP$60,FALSE),\"\")),AP23),IF(AND(ISNUMBER($AI23),$AJ23<>\"\"),AP23,\"\"))","v":""},{"$f":"IF(ISNUMBER($W23),IF($AH23=FALSE,IF($W23<1000,IFERROR(VLOOKUP($W23,FeedLib[#All],AQ$60,FALSE),\"\"),IFERROR(VLOOKUP($W23,FeedLibUser[#All],AQ$60,FALSE),\"\")),AQ23),IF(AND(ISNUMBER($AI23),$AJ23<>\"\"),AQ23,\"\"))","v":""},{"$f":"IF(ISNUMBER($W23),IF($AH23=FALSE,IF($W23<1000,IFERROR(VLOOKUP($W23,FeedLib[#All],AR$60,FALSE),\"\"),IFERROR(VLOOKUP($W23,FeedLibUser[#All],AR$60,FALSE),\"\")),AR23),IF(AND(ISNUMBER($AI23),$AJ23<>\"\"),AR23,\"\"))","v":""},{"$f":"IF(ISNUMBER($W23),IF($AH23=FALSE,IF($W23<1000,IFERROR(VLOOKUP($W23,FeedLib[#All],AS$60,FALSE),\"\"),IFERROR(VLOOKUP($W23,FeedLibUser[#All],AS$60,FALSE),\"\")),AS23),IF(AND(ISNUMBER($AI23),$AJ23<>\"\"),AS23,\"\"))","v":""},{"$f":"IF(ISNUMBER($W23),IF($AH23=FALSE,IF($W23<1000,IFERROR(VLOOKUP($W23,FeedLib[#All],AT$60,FALSE),\"\"),IFERROR(VLOOKUP($W23,FeedLibUser[#All],AT$60,FALSE),\"\")),AT23),IF(AND(ISNUMBER($AI23),$AJ23<>\"\"),AT23,\"\"))","v":""},{"$f":"IF(ISNUMBER($W23),IF($AH23=FALSE,IF($W23<1000,IFERROR(VLOOKUP($W23,FeedLib[#All],AU$60,FALSE),\"\"),IFERROR(VLOOKUP($W23,FeedLibUser[#All],AU$60,FALSE),\"\")),AU23),IF(AND(ISNUMBER($AI23),$AJ23<>\"\"),AU23,\"\"))","v":""},{"$f":"IF(ISNUMBER($W23),IF($AH23=FALSE,IF($W23<1000,IFERROR(VLOOKUP($W23,FeedLib[#All],AV$60,FALSE),\"\"),IFERROR(VLOOKUP($W23,FeedLibUser[#All],AV$60,FALSE),\"\")),AV23),IF(AND(ISNUMBER($AI23),$AJ23<>\"\"),AV23,\"\"))","v":""},{"$f":"IF(ISNUMBER($W23),IF($AH23=FALSE,IF($W23<1000,IFERROR(VLOOKUP($W23,FeedLib[#All],AW$60,FALSE),\"\"),IFERROR(VLOOKUP($W23,FeedLibUser[#All],AW$60,FALSE),\"\")),AW23),IF(AND(ISNUMBER($AI23),$AJ23<>\"\"),AW23,\"\"))","v":""},{"$f":"IF(ISNUMBER($W23),IF($AH23=FALSE,IF($W23<1000,IFERROR(VLOOKUP($W23,FeedLib[#All],AX$60,FALSE),\"\"),IFERROR(VLOOKUP($W23,FeedLibUser[#All],AX$60,FALSE),\"\")),AX23),IF(AND(ISNUMBER($AI23),$AJ23<>\"\"),AX23,\"\"))","v":""},{"$f":"IF(ISNUMBER($W23),IF($AH23=FALSE,IF($W23<1000,IFERROR(VLOOKUP($W23,FeedLib[#All],AY$60,FALSE),\"\")/IF(parmUnit=1,1,2.2046),IFERROR(VLOOKUP($W23,FeedLibUser[#All],AY$60,FALSE),\"\")/IF(parmUnit=1,1,2.2046)),AY23),IF(AND(ISNUMBER($AI23),$AJ23<>\"\"),AY23,\"\"))","v":""},{"$f":"IF(ISNUMBER($W23),IF($AH23=FALSE,IF($W23<1000,IFERROR(VLOOKUP($W23,FeedLib[#All],AZ$60,FALSE),\"\")/IF(parmUnit=1,1,2.2046),IFERROR(VLOOKUP($W23,FeedLibUser[#All],AZ$60,FALSE),\"\")/IF(parmUnit=1,1,2.2046)),AZ23),IF(AND(ISNUMBER($AI23),$AJ23<>\"\"),AZ23,\"\"))","v":""},{"$f":"IF(ISNUMBER($W23),IF($AH23=FALSE,IF($W23<1000,IFERROR(VLOOKUP($W23,FeedLib[#All],BA$60,FALSE),\"\")/IF(parmUnit=1,1,2.2046),IFERROR(VLOOKUP($W23,FeedLibUser[#All],BA$60,FALSE),\"\")/IF(parmUnit=1,1,2.2046)),BA23),IF(AND(ISNUMBER($AI23),$AJ23<>\"\"),BA23,\"\"))","v":""},{"$f":"IF(ISNUMBER($W23),IF($AH23=FALSE,IF($W23<1000,IFERROR(VLOOKUP($W23,FeedLib[#All],BB$60,FALSE),\"\"),IFERROR(VLOOKUP($W23,FeedLibUser[#All],BB$60,FALSE),\"\")),BB23),IF(AND(ISNUMBER($AI23),$AJ23<>\"\"),BB23,\"\"))","v":""},{"$f":"IF(ISNUMBER($W23),IF($AH23=FALSE,IF($W23<1000,IFERROR(VLOOKUP($W23,FeedLib[#All],BC$60,FALSE),\"\"),IFERROR(VLOOKUP($W23,FeedLibUser[#All],BC$60,FALSE),\"\")),BC23),IF(AND(ISNUMBER($AI23),$AJ23<>\"\"),BC23,\"\"))","v":""},{"$f":"IF(ISNUMBER($W23),IF($AH23=FALSE,IF($W23<1000,IFERROR(VLOOKUP($W23,FeedLib[#All],BD$60,FALSE),\"\"),IFERROR(VLOOKUP($W23,FeedLibUser[#All],BD$60,FALSE),\"\")),BD23),IF(AND(ISNUMBER($AI23),$AJ23<>\"\"),BD23,\"\"))","v":""},{"$f":"IF(ISNUMBER($W23),IF($AH23=FALSE,IF($W23<1000,IFERROR(VLOOKUP($W23,FeedLib[#All],BE$60,FALSE),\"\"),IFERROR(VLOOKUP($W23,FeedLibUser[#All],BE$60,FALSE),\"\")),BE23),IF(AND(ISNUMBER($AI23),$AJ23<>\"\"),BE23,\"\"))","v":""},{"$f":"IF(ISNUMBER($W23),IF($AH23=FALSE,IF($W23<1000,IFERROR(VLOOKUP($W23,FeedLib[#All],BF$60,FALSE),\"\"),IFERROR(VLOOKUP($W23,FeedLibUser[#All],BF$60,FALSE),\"\")),BF23),IF(AND(ISNUMBER($AI23),$AJ23<>\"\"),BF23,\"\"))","v":""},{"$f":"IF(ISNUMBER($W23),IF($AH23=FALSE,IF($W23<1000,IFERROR(VLOOKUP($W23,FeedLib[#All],BG$60,FALSE),\"\"),IFERROR(VLOOKUP($W23,FeedLibUser[#All],BG$60,FALSE),\"\")),BG23),IF(AND(ISNUMBER($AI23),$AJ23<>\"\"),BG23,\"\"))","v":""},{"$f":"IF(ISNUMBER($W23),IF($AH23=FALSE,IF($W23<1000,IFERROR(VLOOKUP($W23,FeedLib[#All],BH$60,FALSE),\"\"),IFERROR(VLOOKUP($W23,FeedLibUser[#All],BH$60,FALSE),\"\")),BH23),IF(AND(ISNUMBER($AI23),$AJ23<>\"\"),BH23,\"\"))","v":""},{"$f":"IF(ISNUMBER($W23),IF($AH23=FALSE,IF($W23<1000,IFERROR(VLOOKUP($W23,FeedLib[#All],BI$60,FALSE),\"\"),IFERROR(VLOOKUP($W23,FeedLibUser[#All],BI$60,FALSE),\"\")),BI23),IF(AND(ISNUMBER($AI23),$AJ23<>\"\"),BI23,\"\"))","v":""},{"$f":"IF(ISNUMBER($W23),IF($AH23=FALSE,IF($W23<1000,IFERROR(VLOOKUP($W23,FeedLib[#All],BJ$60,FALSE),\"\"),IFERROR(VLOOKUP($W23,FeedLibUser[#All],BJ$60,FALSE),\"\")),BJ23),IF(AND(ISNUMBER($AI23),$AJ23<>\"\"),BJ23,\"\"))","v":""},{"$f":"IF(ISNUMBER($W23),IF($AH23=FALSE,IF($W23<1000,IFERROR(VLOOKUP($W23,FeedLib[#All],BK$60,FALSE),\"\"),IFERROR(VLOOKUP($W23,FeedLibUser[#All],BK$60,FALSE),\"\")),BK23),IF(AND(ISNUMBER($AI23),$AJ23<>\"\"),BK23,\"\"))","v":""},{"$f":"IF(ISNUMBER($W23),IF($AH23=FALSE,IF($W23<1000,IFERROR(VLOOKUP($W23,FeedLib[#All],BL$60,FALSE),\"\"),IFERROR(VLOOKUP($W23,FeedLibUser[#All],BL$60,FALSE),\"\")),BL23),IF(AND(ISNUMBER($AI23),$AJ23<>\"\"),BL23,\"\"))","v":""},{"$f":"IF(ISNUMBER($W23),IF($AH23=FALSE,IF($W23<1000,IFERROR(VLOOKUP($W23,FeedLib[#All],BM$60,FALSE),\"\"),IFERROR(VLOOKUP($W23,FeedLibUser[#All],BM$60,FALSE),\"\")),BM23),IF(AND(ISNUMBER($AI23),$AJ23<>\"\"),BM23,\"\"))","v":""},{"$f":"IF(ISNUMBER($W23),IF($AH23=FALSE,IF($W23<1000,IFERROR(VLOOKUP($W23,FeedLib[#All],BN$60,FALSE),\"\"),IFERROR(VLOOKUP($W23,FeedLibUser[#All],BN$60,FALSE),\"\")),BN23),IF(AND(ISNUMBER($AI23),$AJ23<>\"\"),BN23,\"\"))","v":""},{"$f":"IF(ISNUMBER($W23),IF($AH23=FALSE,IF($W23<1000,IFERROR(VLOOKUP($W23,FeedLib[#All],BO$60,FALSE),\"\"),IFERROR(VLOOKUP($W23,FeedLibUser[#All],BO$60,FALSE),\"\")),BO23),IF(AND(ISNUMBER($AI23),$AJ23<>\"\"),BO23,\"\"))","v":""},{"$f":"IF(ISNUMBER($W23),IF($AH23=FALSE,IF($W23<1000,IFERROR(VLOOKUP($W23,FeedLib[#All],BP$60,FALSE),\"\"),IFERROR(VLOOKUP($W23,FeedLibUser[#All],BP$60,FALSE),\"\")),BP23),IF(AND(ISNUMBER($AI23),$AJ23<>\"\"),BP23,\"\"))","v":""},{"$f":"IF(ISNUMBER($W23),IF($AH23=FALSE,IF($W23<1000,IFERROR(VLOOKUP($W23,FeedLib[#All],BQ$60,FALSE),\"\"),IFERROR(VLOOKUP($W23,FeedLibUser[#All],BQ$60,FALSE),\"\")),BQ23),IF(AND(ISNUMBER($AI23),$AJ23<>\"\"),BQ23,\"\"))","v":""},{"$f":"IF(ISNUMBER($W23),IF($AH23=FALSE,IF($W23<1000,IFERROR(VLOOKUP($W23,FeedLib[#All],BR$60,FALSE),\"\"),IFERROR(VLOOKUP($W23,FeedLibUser[#All],BR$60,FALSE),\"\")),BR23),IF(AND(ISNUMBER($AI23),$AJ23<>\"\"),BR23,\"\"))","v":""},{"$f":"IF(ISNUMBER($W23),IF($AH23=FALSE,IF($W23<1000,IFERROR(VLOOKUP($W23,FeedLib[#All],BS$60,FALSE),\"\"),IFERROR(VLOOKUP($W23,FeedLibUser[#All],BS$60,FALSE),\"\")),BS23),IF(AND(ISNUMBER($AI23),$AJ23<>\"\"),BS23,\"\"))","v":""},{"$f":"IF(ISNUMBER($W23),IF($AH23=FALSE,IF($W23<1000,IFERROR(VLOOKUP($W23,FeedLib[#All],BT$60,FALSE),\"\"),IFERROR(VLOOKUP($W23,FeedLibUser[#All],BT$60,FALSE),\"\")),BT23),IF(AND(ISNUMBER($AI23),$AJ23<>\"\"),BT23,\"\"))","v":""},{"$f":"IF(ISNUMBER($W23),IF($AH23=FALSE,IF($W23<1000,IFERROR(VLOOKUP($W23,FeedLib[#All],BU$60,FALSE),\"\"),IFERROR(VLOOKUP($W23,FeedLibUser[#All],BU$60,FALSE),\"\")),BU23),IF(AND(ISNUMBER($AI23),$AJ23<>\"\"),BU23,\"\"))","v":""},{"$f":"IF(ISNUMBER($W23),IF($AH23=FALSE,IF($W23<1000,IFERROR(VLOOKUP($W23,FeedLib[#All],BV$60,FALSE),\"\"),IFERROR(VLOOKUP($W23,FeedLibUser[#All],BV$60,FALSE),\"\")),BV23),IF(AND(ISNUMBER($AI23),$AJ23<>\"\"),BV23,\"\"))","v":""},{"$f":"IF(ISNUMBER($W23),IF($AH23=FALSE,IF($W23<1000,IFERROR(VLOOKUP($W23,FeedLib[#All],BW$60,FALSE),\"\"),IFERROR(VLOOKUP($W23,FeedLibUser[#All],BW$60,FALSE),\"\")),BW23),IF(AND(ISNUMBER($AI23),$AJ23<>\"\"),BW23,\"\"))","v":""},{"$f":"IF(ISNUMBER($W23),IF($AH23=FALSE,IF($W23<1000,IFERROR(VLOOKUP($W23,FeedLib[#All],BX$60,FALSE),\"\"),IFERROR(VLOOKUP($W23,FeedLibUser[#All],BX$60,FALSE),\"\")),BX23),IF(AND(ISNUMBER($AI23),$AJ23<>\"\"),BX23,\"\"))","v":""},{"$f":"IF(ISNUMBER($W23),IF($AH23=FALSE,IF($W23<1000,IFERROR(VLOOKUP($W23,FeedLib[#All],BY$60,FALSE),\"\"),IFERROR(VLOOKUP($W23,FeedLibUser[#All],BY$60,FALSE),\"\")),BY23),IF(AND(ISNUMBER($AI23),$AJ23<>\"\"),BY23,\"\"))","v":""},{"$f":"IF(ISNUMBER($W23),IF($AH23=FALSE,IF($W23<1000,IFERROR(VLOOKUP($W23,FeedLib[#All],BZ$60,FALSE),\"\"),IFERROR(VLOOKUP($W23,FeedLibUser[#All],BZ$60,FALSE),\"\")),BZ23),IF(AND(ISNUMBER($AI23),$AJ23<>\"\"),BZ23,\"\"))","v":""},{"$f":"IF(ISNUMBER($W23),IF($AH23=FALSE,IF($W23<1000,IFERROR(VLOOKUP($W23,FeedLib[#All],CA$60,FALSE),\"\"),IFERROR(VLOOKUP($W23,FeedLibUser[#All],CA$60,FALSE),\"\")),CA23),IF(AND(ISNUMBER($AI23),$AJ23<>\"\"),CA23,\"\"))","v":""},{"$f":"IF(ISNUMBER($W23),IF($AH23=FALSE,IF($W23<1000,IFERROR(VLOOKUP($W23,FeedLib[#All],CB$60,FALSE),\"\"),IFERROR(VLOOKUP($W23,FeedLibUser[#All],CB$60,FALSE),\"\")),CB23),IF(AND(ISNUMBER($AI23),$AJ23<>\"\"),CB23,\"\"))","v":""},{"$f":"IF(ISNUMBER($W23),IF($AH23=FALSE,IF($W23<1000,IFERROR(VLOOKUP($W23,FeedLib[#All],CC$60,FALSE),\"\"),IFERROR(VLOOKUP($W23,FeedLibUser[#All],CC$60,FALSE),\"\")),CC23),IF(AND(ISNUMBER($AI23),$AJ23<>\"\"),CC23,\"\"))","v":""},{"$f":"IF(ISNUMBER($W23),IF($AH23=FALSE,IF($W23<1000,IFERROR(VLOOKUP($W23,FeedLib[#All],CD$60,FALSE),\"\"),IFERROR(VLOOKUP($W23,FeedLibUser[#All],CD$60,FALSE),\"\")),CD23),IF(AND(ISNUMBER($AI23),$AJ23<>\"\"),CD23,\"\"))","v":""},{"$f":"IF(ISNUMBER($W23),IF($AH23=FALSE,IF($W23<1000,IFERROR(VLOOKUP($W23,FeedLib[#All],CE$60,FALSE),\"\"),IFERROR(VLOOKUP($W23,FeedLibUser[#All],CE$60,FALSE),\"\")),CE23),IF(AND(ISNUMBER($AI23),$AJ23<>\"\"),CE23,\"\"))","v":""},{"$f":"IF(ISNUMBER($W23),IF($AH23=FALSE,IF($W23<1000,IFERROR(VLOOKUP($W23,FeedLib[#All],CF$60,FALSE),\"\"),IFERROR(VLOOKUP($W23,FeedLibUser[#All],CF$60,FALSE),\"\")),CF23),IF(AND(ISNUMBER($AI23),$AJ23<>\"\"),CF23,\"\"))","v":""},{"$f":"IF(ISNUMBER($W23),IF($AH23=FALSE,IF($W23<1000,IFERROR(VLOOKUP($W23,FeedLib[#All],CG$60,FALSE),\"\"),IFERROR(VLOOKUP($W23,FeedLibUser[#All],CG$60,FALSE),\"\")),CG23),IF(AND(ISNUMBER($AI23),$AJ23<>\"\"),CG23,\"\"))","v":""},{"$f":"IF(ISNUMBER($W23),IF($AH23=FALSE,IF($W23<1000,IFERROR(VLOOKUP($W23,FeedLib[#All],CH$60,FALSE),\"\"),IFERROR(VLOOKUP($W23,FeedLibUser[#All],CH$60,FALSE),\"\")),CH23),IF(AND(ISNUMBER($AI23),$AJ23<>\"\"),CH23,\"\"))","v":""},{"$f":"IF(ISNUMBER($W23),IF($AH23=FALSE,IF($W23<1000,IFERROR(VLOOKUP($W23,FeedLib[#All],CI$60,FALSE),\"\"),IFERROR(VLOOKUP($W23,FeedLibUser[#All],CI$60,FALSE),\"\")),CI23),IF(AND(ISNUMBER($AI23),$AJ23<>\"\"),CI23,\"\"))","v":""},{"$f":"IF(ISNUMBER($W23),IF($AH23=FALSE,IF($W23<1000,IFERROR(VLOOKUP($W23,FeedLib[#All],CJ$60,FALSE),\"\"),IFERROR(VLOOKUP($W23,FeedLibUser[#All],CJ$60,FALSE),\"\")),CJ23),IF(AND(ISNUMBER($AI23),$AJ23<>\"\"),CJ23,\"\"))","v":""},{"$f":"IF(ISNUMBER($W23),IF($AH23=FALSE,IF($W23<1000,IFERROR(VLOOKUP($W23,FeedLib[#All],CK$60,FALSE),\"\"),IFERROR(VLOOKUP($W23,FeedLibUser[#All],CK$60,FALSE),\"\")),CK23),IF(AND(ISNUMBER($AI23),$AJ23<>\"\"),CK23,\"\"))","v":""},{"$f":"IF(ISNUMBER($W23),IF($AH23=FALSE,IF($W23<1000,IFERROR(VLOOKUP($W23,FeedLib[#All],CL$60,FALSE),\"\"),IFERROR(VLOOKUP($W23,FeedLibUser[#All],CL$60,FALSE),\"\")),CL23),IF(AND(ISNUMBER($AI23),$AJ23<>\"\"),CL23,\"\"))","v":""},{"$f":"IF(ISNUMBER($W23),IF($AH23=FALSE,IF($W23<1000,IFERROR(VLOOKUP($W23,FeedLib[#All],CM$60,FALSE),\"\"),IFERROR(VLOOKUP($W23,FeedLibUser[#All],CM$60,FALSE),\"\")),CM23),IF(AND(ISNUMBER($AI23),$AJ23<>\"\"),CM23,\"\"))","v":""}]
[null,"Grazing unit size","GU",0,{"$f":"CHOOSE(parmUnit,\"ha\",\"acre\")","v":"acre"},{"$f":"D57*IF(parmUnit=1,1,1/2.471054)","v":0},"ha","Grazing unit size per animal",null,null,null,null,null,null,null,null,null,null,null,null,null,null,null,null,null,null,null,null,null,null,null,null,null,null,"","",{"$f":"IF(ISNUMBER($W24),IF($AH24=FALSE,IF($W24<1000,IFERROR(VLOOKUP($W24,FeedLib[#All],AK$60,FALSE),\"\")*(IF(parmUnit=1,1,2000/2204.6)),IFERROR(VLOOKUP($W24,FeedLibUser[#All],AK$60,FALSE),\"\")*(IF(parmUnit=1,1,2000/2204.6))),AK24),IF(AND(ISNUMBER($AI24),$AJ24<>\"\"),AK24,\"\"))","v":""},{"$f":"IF(ISNUMBER($W24),IF($AH24=FALSE,IF($W24<1000,IFERROR(VLOOKUP($W24,FeedLib[#All],AL$60,FALSE),\"\"),IFERROR(VLOOKUP($W24,FeedLibUser[#All],AL$60,FALSE),\"\")),AL24),IF(AND(ISNUMBER($AI24),$AJ24<>\"\"),AL24,\"\"))","v":""},{"$f":"IF(ISNUMBER($W24),IF($AH24=FALSE,IF($W24<1000,IFERROR(VLOOKUP($W24,FeedLib[#All],AM$60,FALSE),\"\"),IFERROR(VLOOKUP($W24,FeedLibUser[#All],AM$60,FALSE),\"\")),AM24),IF(AND(ISNUMBER($AI24),$AJ24<>\"\"),AM24,\"\"))","v":""},{"$f":"IF(ISNUMBER($W24),IF($AH24=FALSE,IF($W24<1000,IFERROR(VLOOKUP($W24,FeedLib[#All],AN$60,FALSE),\"\"),IFERROR(VLOOKUP($W24,FeedLibUser[#All],AN$60,FALSE),\"\")),AN24),IF(AND(ISNUMBER($AI24),$AJ24<>\"\"),AN24,\"\"))","v":""},{"$f":"IF(ISNUMBER($W24),IF($AH24=FALSE,IF($W24<1000,IFERROR(VLOOKUP($W24,FeedLib[#All],AO$60,FALSE),\"\"),IFERROR(VLOOKUP($W24,FeedLibUser[#All],AO$60,FALSE),\"\")),AO24),IF(AND(ISNUMBER($AI24),$AJ24<>\"\"),AO24,\"\"))","v":""},{"$f":"IF(ISNUMBER($W24),IF($AH24=FALSE,IF($W24<1000,IFERROR(VLOOKUP($W24,FeedLib[#All],AP$60,FALSE),\"\"),IFERROR(VLOOKUP($W24,FeedLibUser[#All],AP$60,FALSE),\"\")),AP24),IF(AND(ISNUMBER($AI24),$AJ24<>\"\"),AP24,\"\"))","v":""},{"$f":"IF(ISNUMBER($W24),IF($AH24=FALSE,IF($W24<1000,IFERROR(VLOOKUP($W24,FeedLib[#All],AQ$60,FALSE),\"\"),IFERROR(VLOOKUP($W24,FeedLibUser[#All],AQ$60,FALSE),\"\")),AQ24),IF(AND(ISNUMBER($AI24),$AJ24<>\"\"),AQ24,\"\"))","v":""},{"$f":"IF(ISNUMBER($W24),IF($AH24=FALSE,IF($W24<1000,IFERROR(VLOOKUP($W24,FeedLib[#All],AR$60,FALSE),\"\"),IFERROR(VLOOKUP($W24,FeedLibUser[#All],AR$60,FALSE),\"\")),AR24),IF(AND(ISNUMBER($AI24),$AJ24<>\"\"),AR24,\"\"))","v":""},{"$f":"IF(ISNUMBER($W24),IF($AH24=FALSE,IF($W24<1000,IFERROR(VLOOKUP($W24,FeedLib[#All],AS$60,FALSE),\"\"),IFERROR(VLOOKUP($W24,FeedLibUser[#All],AS$60,FALSE),\"\")),AS24),IF(AND(ISNUMBER($AI24),$AJ24<>\"\"),AS24,\"\"))","v":""},{"$f":"IF(ISNUMBER($W24),IF($AH24=FALSE,IF($W24<1000,IFERROR(VLOOKUP($W24,FeedLib[#All],AT$60,FALSE),\"\"),IFERROR(VLOOKUP($W24,FeedLibUser[#All],AT$60,FALSE),\"\")),AT24),IF(AND(ISNUMBER($AI24),$AJ24<>\"\"),AT24,\"\"))","v":""},{"$f":"IF(ISNUMBER($W24),IF($AH24=FALSE,IF($W24<1000,IFERROR(VLOOKUP($W24,FeedLib[#All],AU$60,FALSE),\"\"),IFERROR(VLOOKUP($W24,FeedLibUser[#All],AU$60,FALSE),\"\")),AU24),IF(AND(ISNUMBER($AI24),$AJ24<>\"\"),AU24,\"\"))","v":""},{"$f":"IF(ISNUMBER($W24),IF($AH24=FALSE,IF($W24<1000,IFERROR(VLOOKUP($W24,FeedLib[#All],AV$60,FALSE),\"\"),IFERROR(VLOOKUP($W24,FeedLibUser[#All],AV$60,FALSE),\"\")),AV24),IF(AND(ISNUMBER($AI24),$AJ24<>\"\"),AV24,\"\"))","v":""},{"$f":"IF(ISNUMBER($W24),IF($AH24=FALSE,IF($W24<1000,IFERROR(VLOOKUP($W24,FeedLib[#All],AW$60,FALSE),\"\"),IFERROR(VLOOKUP($W24,FeedLibUser[#All],AW$60,FALSE),\"\")),AW24),IF(AND(ISNUMBER($AI24),$AJ24<>\"\"),AW24,\"\"))","v":""},{"$f":"IF(ISNUMBER($W24),IF($AH24=FALSE,IF($W24<1000,IFERROR(VLOOKUP($W24,FeedLib[#All],AX$60,FALSE),\"\"),IFERROR(VLOOKUP($W24,FeedLibUser[#All],AX$60,FALSE),\"\")),AX24),IF(AND(ISNUMBER($AI24),$AJ24<>\"\"),AX24,\"\"))","v":""},{"$f":"IF(ISNUMBER($W24),IF($AH24=FALSE,IF($W24<1000,IFERROR(VLOOKUP($W24,FeedLib[#All],AY$60,FALSE),\"\")/IF(parmUnit=1,1,2.2046),IFERROR(VLOOKUP($W24,FeedLibUser[#All],AY$60,FALSE),\"\")/IF(parmUnit=1,1,2.2046)),AY24),IF(AND(ISNUMBER($AI24),$AJ24<>\"\"),AY24,\"\"))","v":""},{"$f":"IF(ISNUMBER($W24),IF($AH24=FALSE,IF($W24<1000,IFERROR(VLOOKUP($W24,FeedLib[#All],AZ$60,FALSE),\"\")/IF(parmUnit=1,1,2.2046),IFERROR(VLOOKUP($W24,FeedLibUser[#All],AZ$60,FALSE),\"\")/IF(parmUnit=1,1,2.2046)),AZ24),IF(AND(ISNUMBER($AI24),$AJ24<>\"\"),AZ24,\"\"))","v":""},{"$f":"IF(ISNUMBER($W24),IF($AH24=FALSE,IF($W24<1000,IFERROR(VLOOKUP($W24,FeedLib[#All],BA$60,FALSE),\"\")/IF(parmUnit=1,1,2.2046),IFERROR(VLOOKUP($W24,FeedLibUser[#All],BA$60,FALSE),\"\")/IF(parmUnit=1,1,2.2046)),BA24),IF(AND(ISNUMBER($AI24),$AJ24<>\"\"),BA24,\"\"))","v":""},{"$f":"IF(ISNUMBER($W24),IF($AH24=FALSE,IF($W24<1000,IFERROR(VLOOKUP($W24,FeedLib[#All],BB$60,FALSE),\"\"),IFERROR(VLOOKUP($W24,FeedLibUser[#All],BB$60,FALSE),\"\")),BB24),IF(AND(ISNUMBER($AI24),$AJ24<>\"\"),BB24,\"\"))","v":""},{"$f":"IF(ISNUMBER($W24),IF($AH24=FALSE,IF($W24<1000,IFERROR(VLOOKUP($W24,FeedLib[#All],BC$60,FALSE),\"\"),IFERROR(VLOOKUP($W24,FeedLibUser[#All],BC$60,FALSE),\"\")),BC24),IF(AND(ISNUMBER($AI24),$AJ24<>\"\"),BC24,\"\"))","v":""},{"$f":"IF(ISNUMBER($W24),IF($AH24=FALSE,IF($W24<1000,IFERROR(VLOOKUP($W24,FeedLib[#All],BD$60,FALSE),\"\"),IFERROR(VLOOKUP($W24,FeedLibUser[#All],BD$60,FALSE),\"\")),BD24),IF(AND(ISNUMBER($AI24),$AJ24<>\"\"),BD24,\"\"))","v":""},{"$f":"IF(ISNUMBER($W24),IF($AH24=FALSE,IF($W24<1000,IFERROR(VLOOKUP($W24,FeedLib[#All],BE$60,FALSE),\"\"),IFERROR(VLOOKUP($W24,FeedLibUser[#All],BE$60,FALSE),\"\")),BE24),IF(AND(ISNUMBER($AI24),$AJ24<>\"\"),BE24,\"\"))","v":""},{"$f":"IF(ISNUMBER($W24),IF($AH24=FALSE,IF($W24<1000,IFERROR(VLOOKUP($W24,FeedLib[#All],BF$60,FALSE),\"\"),IFERROR(VLOOKUP($W24,FeedLibUser[#All],BF$60,FALSE),\"\")),BF24),IF(AND(ISNUMBER($AI24),$AJ24<>\"\"),BF24,\"\"))","v":""},{"$f":"IF(ISNUMBER($W24),IF($AH24=FALSE,IF($W24<1000,IFERROR(VLOOKUP($W24,FeedLib[#All],BG$60,FALSE),\"\"),IFERROR(VLOOKUP($W24,FeedLibUser[#All],BG$60,FALSE),\"\")),BG24),IF(AND(ISNUMBER($AI24),$AJ24<>\"\"),BG24,\"\"))","v":""},{"$f":"IF(ISNUMBER($W24),IF($AH24=FALSE,IF($W24<1000,IFERROR(VLOOKUP($W24,FeedLib[#All],BH$60,FALSE),\"\"),IFERROR(VLOOKUP($W24,FeedLibUser[#All],BH$60,FALSE),\"\")),BH24),IF(AND(ISNUMBER($AI24),$AJ24<>\"\"),BH24,\"\"))","v":""},{"$f":"IF(ISNUMBER($W24),IF($AH24=FALSE,IF($W24<1000,IFERROR(VLOOKUP($W24,FeedLib[#All],BI$60,FALSE),\"\"),IFERROR(VLOOKUP($W24,FeedLibUser[#All],BI$60,FALSE),\"\")),BI24),IF(AND(ISNUMBER($AI24),$AJ24<>\"\"),BI24,\"\"))","v":""},{"$f":"IF(ISNUMBER($W24),IF($AH24=FALSE,IF($W24<1000,IFERROR(VLOOKUP($W24,FeedLib[#All],BJ$60,FALSE),\"\"),IFERROR(VLOOKUP($W24,FeedLibUser[#All],BJ$60,FALSE),\"\")),BJ24),IF(AND(ISNUMBER($AI24),$AJ24<>\"\"),BJ24,\"\"))","v":""},{"$f":"IF(ISNUMBER($W24),IF($AH24=FALSE,IF($W24<1000,IFERROR(VLOOKUP($W24,FeedLib[#All],BK$60,FALSE),\"\"),IFERROR(VLOOKUP($W24,FeedLibUser[#All],BK$60,FALSE),\"\")),BK24),IF(AND(ISNUMBER($AI24),$AJ24<>\"\"),BK24,\"\"))","v":""},{"$f":"IF(ISNUMBER($W24),IF($AH24=FALSE,IF($W24<1000,IFERROR(VLOOKUP($W24,FeedLib[#All],BL$60,FALSE),\"\"),IFERROR(VLOOKUP($W24,FeedLibUser[#All],BL$60,FALSE),\"\")),BL24),IF(AND(ISNUMBER($AI24),$AJ24<>\"\"),BL24,\"\"))","v":""},{"$f":"IF(ISNUMBER($W24),IF($AH24=FALSE,IF($W24<1000,IFERROR(VLOOKUP($W24,FeedLib[#All],BM$60,FALSE),\"\"),IFERROR(VLOOKUP($W24,FeedLibUser[#All],BM$60,FALSE),\"\")),BM24),IF(AND(ISNUMBER($AI24),$AJ24<>\"\"),BM24,\"\"))","v":""},{"$f":"IF(ISNUMBER($W24),IF($AH24=FALSE,IF($W24<1000,IFERROR(VLOOKUP($W24,FeedLib[#All],BN$60,FALSE),\"\"),IFERROR(VLOOKUP($W24,FeedLibUser[#All],BN$60,FALSE),\"\")),BN24),IF(AND(ISNUMBER($AI24),$AJ24<>\"\"),BN24,\"\"))","v":""},{"$f":"IF(ISNUMBER($W24),IF($AH24=FALSE,IF($W24<1000,IFERROR(VLOOKUP($W24,FeedLib[#All],BO$60,FALSE),\"\"),IFERROR(VLOOKUP($W24,FeedLibUser[#All],BO$60,FALSE),\"\")),BO24),IF(AND(ISNUMBER($AI24),$AJ24<>\"\"),BO24,\"\"))","v":""},{"$f":"IF(ISNUMBER($W24),IF($AH24=FALSE,IF($W24<1000,IFERROR(VLOOKUP($W24,FeedLib[#All],BP$60,FALSE),\"\"),IFERROR(VLOOKUP($W24,FeedLibUser[#All],BP$60,FALSE),\"\")),BP24),IF(AND(ISNUMBER($AI24),$AJ24<>\"\"),BP24,\"\"))","v":""},{"$f":"IF(ISNUMBER($W24),IF($AH24=FALSE,IF($W24<1000,IFERROR(VLOOKUP($W24,FeedLib[#All],BQ$60,FALSE),\"\"),IFERROR(VLOOKUP($W24,FeedLibUser[#All],BQ$60,FALSE),\"\")),BQ24),IF(AND(ISNUMBER($AI24),$AJ24<>\"\"),BQ24,\"\"))","v":""},{"$f":"IF(ISNUMBER($W24),IF($AH24=FALSE,IF($W24<1000,IFERROR(VLOOKUP($W24,FeedLib[#All],BR$60,FALSE),\"\"),IFERROR(VLOOKUP($W24,FeedLibUser[#All],BR$60,FALSE),\"\")),BR24),IF(AND(ISNUMBER($AI24),$AJ24<>\"\"),BR24,\"\"))","v":""},{"$f":"IF(ISNUMBER($W24),IF($AH24=FALSE,IF($W24<1000,IFERROR(VLOOKUP($W24,FeedLib[#All],BS$60,FALSE),\"\"),IFERROR(VLOOKUP($W24,FeedLibUser[#All],BS$60,FALSE),\"\")),BS24),IF(AND(ISNUMBER($AI24),$AJ24<>\"\"),BS24,\"\"))","v":""},{"$f":"IF(ISNUMBER($W24),IF($AH24=FALSE,IF($W24<1000,IFERROR(VLOOKUP($W24,FeedLib[#All],BT$60,FALSE),\"\"),IFERROR(VLOOKUP($W24,FeedLibUser[#All],BT$60,FALSE),\"\")),BT24),IF(AND(ISNUMBER($AI24),$AJ24<>\"\"),BT24,\"\"))","v":""},{"$f":"IF(ISNUMBER($W24),IF($AH24=FALSE,IF($W24<1000,IFERROR(VLOOKUP($W24,FeedLib[#All],BU$60,FALSE),\"\"),IFERROR(VLOOKUP($W24,FeedLibUser[#All],BU$60,FALSE),\"\")),BU24),IF(AND(ISNUMBER($AI24),$AJ24<>\"\"),BU24,\"\"))","v":""},{"$f":"IF(ISNUMBER($W24),IF($AH24=FALSE,IF($W24<1000,IFERROR(VLOOKUP($W24,FeedLib[#All],BV$60,FALSE),\"\"),IFERROR(VLOOKUP($W24,FeedLibUser[#All],BV$60,FALSE),\"\")),BV24),IF(AND(ISNUMBER($AI24),$AJ24<>\"\"),BV24,\"\"))","v":""},{"$f":"IF(ISNUMBER($W24),IF($AH24=FALSE,IF($W24<1000,IFERROR(VLOOKUP($W24,FeedLib[#All],BW$60,FALSE),\"\"),IFERROR(VLOOKUP($W24,FeedLibUser[#All],BW$60,FALSE),\"\")),BW24),IF(AND(ISNUMBER($AI24),$AJ24<>\"\"),BW24,\"\"))","v":""},{"$f":"IF(ISNUMBER($W24),IF($AH24=FALSE,IF($W24<1000,IFERROR(VLOOKUP($W24,FeedLib[#All],BX$60,FALSE),\"\"),IFERROR(VLOOKUP($W24,FeedLibUser[#All],BX$60,FALSE),\"\")),BX24),IF(AND(ISNUMBER($AI24),$AJ24<>\"\"),BX24,\"\"))","v":""},{"$f":"IF(ISNUMBER($W24),IF($AH24=FALSE,IF($W24<1000,IFERROR(VLOOKUP($W24,FeedLib[#All],BY$60,FALSE),\"\"),IFERROR(VLOOKUP($W24,FeedLibUser[#All],BY$60,FALSE),\"\")),BY24),IF(AND(ISNUMBER($AI24),$AJ24<>\"\"),BY24,\"\"))","v":""},{"$f":"IF(ISNUMBER($W24),IF($AH24=FALSE,IF($W24<1000,IFERROR(VLOOKUP($W24,FeedLib[#All],BZ$60,FALSE),\"\"),IFERROR(VLOOKUP($W24,FeedLibUser[#All],BZ$60,FALSE),\"\")),BZ24),IF(AND(ISNUMBER($AI24),$AJ24<>\"\"),BZ24,\"\"))","v":""},{"$f":"IF(ISNUMBER($W24),IF($AH24=FALSE,IF($W24<1000,IFERROR(VLOOKUP($W24,FeedLib[#All],CA$60,FALSE),\"\"),IFERROR(VLOOKUP($W24,FeedLibUser[#All],CA$60,FALSE),\"\")),CA24),IF(AND(ISNUMBER($AI24),$AJ24<>\"\"),CA24,\"\"))","v":""},{"$f":"IF(ISNUMBER($W24),IF($AH24=FALSE,IF($W24<1000,IFERROR(VLOOKUP($W24,FeedLib[#All],CB$60,FALSE),\"\"),IFERROR(VLOOKUP($W24,FeedLibUser[#All],CB$60,FALSE),\"\")),CB24),IF(AND(ISNUMBER($AI24),$AJ24<>\"\"),CB24,\"\"))","v":""},{"$f":"IF(ISNUMBER($W24),IF($AH24=FALSE,IF($W24<1000,IFERROR(VLOOKUP($W24,FeedLib[#All],CC$60,FALSE),\"\"),IFERROR(VLOOKUP($W24,FeedLibUser[#All],CC$60,FALSE),\"\")),CC24),IF(AND(ISNUMBER($AI24),$AJ24<>\"\"),CC24,\"\"))","v":""},{"$f":"IF(ISNUMBER($W24),IF($AH24=FALSE,IF($W24<1000,IFERROR(VLOOKUP($W24,FeedLib[#All],CD$60,FALSE),\"\"),IFERROR(VLOOKUP($W24,FeedLibUser[#All],CD$60,FALSE),\"\")),CD24),IF(AND(ISNUMBER($AI24),$AJ24<>\"\"),CD24,\"\"))","v":""},{"$f":"IF(ISNUMBER($W24),IF($AH24=FALSE,IF($W24<1000,IFERROR(VLOOKUP($W24,FeedLib[#All],CE$60,FALSE),\"\"),IFERROR(VLOOKUP($W24,FeedLibUser[#All],CE$60,FALSE),\"\")),CE24),IF(AND(ISNUMBER($AI24),$AJ24<>\"\"),CE24,\"\"))","v":""},{"$f":"IF(ISNUMBER($W24),IF($AH24=FALSE,IF($W24<1000,IFERROR(VLOOKUP($W24,FeedLib[#All],CF$60,FALSE),\"\"),IFERROR(VLOOKUP($W24,FeedLibUser[#All],CF$60,FALSE),\"\")),CF24),IF(AND(ISNUMBER($AI24),$AJ24<>\"\"),CF24,\"\"))","v":""},{"$f":"IF(ISNUMBER($W24),IF($AH24=FALSE,IF($W24<1000,IFERROR(VLOOKUP($W24,FeedLib[#All],CG$60,FALSE),\"\"),IFERROR(VLOOKUP($W24,FeedLibUser[#All],CG$60,FALSE),\"\")),CG24),IF(AND(ISNUMBER($AI24),$AJ24<>\"\"),CG24,\"\"))","v":""},{"$f":"IF(ISNUMBER($W24),IF($AH24=FALSE,IF($W24<1000,IFERROR(VLOOKUP($W24,FeedLib[#All],CH$60,FALSE),\"\"),IFERROR(VLOOKUP($W24,FeedLibUser[#All],CH$60,FALSE),\"\")),CH24),IF(AND(ISNUMBER($AI24),$AJ24<>\"\"),CH24,\"\"))","v":""},{"$f":"IF(ISNUMBER($W24),IF($AH24=FALSE,IF($W24<1000,IFERROR(VLOOKUP($W24,FeedLib[#All],CI$60,FALSE),\"\"),IFERROR(VLOOKUP($W24,FeedLibUser[#All],CI$60,FALSE),\"\")),CI24),IF(AND(ISNUMBER($AI24),$AJ24<>\"\"),CI24,\"\"))","v":""},{"$f":"IF(ISNUMBER($W24),IF($AH24=FALSE,IF($W24<1000,IFERROR(VLOOKUP($W24,FeedLib[#All],CJ$60,FALSE),\"\"),IFERROR(VLOOKUP($W24,FeedLibUser[#All],CJ$60,FALSE),\"\")),CJ24),IF(AND(ISNUMBER($AI24),$AJ24<>\"\"),CJ24,\"\"))","v":""},{"$f":"IF(ISNUMBER($W24),IF($AH24=FALSE,IF($W24<1000,IFERROR(VLOOKUP($W24,FeedLib[#All],CK$60,FALSE),\"\"),IFERROR(VLOOKUP($W24,FeedLibUser[#All],CK$60,FALSE),\"\")),CK24),IF(AND(ISNUMBER($AI24),$AJ24<>\"\"),CK24,\"\"))","v":""},{"$f":"IF(ISNUMBER($W24),IF($AH24=FALSE,IF($W24<1000,IFERROR(VLOOKUP($W24,FeedLib[#All],CL$60,FALSE),\"\"),IFERROR(VLOOKUP($W24,FeedLibUser[#All],CL$60,FALSE),\"\")),CL24),IF(AND(ISNUMBER($AI24),$AJ24<>\"\"),CL24,\"\"))","v":""},{"$f":"IF(ISNUMBER($W24),IF($AH24=FALSE,IF($W24<1000,IFERROR(VLOOKUP($W24,FeedLib[#All],CM$60,FALSE),\"\"),IFERROR(VLOOKUP($W24,FeedLibUser[#All],CM$60,FALSE),\"\")),CM24),IF(AND(ISNUMBER($AI24),$AJ24<>\"\"),CM24,\"\"))","v":""}]
[null,"Days on pasture","DOP",0,"days",{"$f":"D58","v":0},"days","Days of grazing",null,null,null,null,null,null,null,null,null,null,null,null,null,null,null,null,null,null,null,null,null,null,null,null,null,null,"","",{"$f":"IF(ISNUMBER($W25),IF($AH25=FALSE,IF($W25<1000,IFERROR(VLOOKUP($W25,FeedLib[#All],AK$60,FALSE),\"\")*(IF(parmUnit=1,1,2000/2204.6)),IFERROR(VLOOKUP($W25,FeedLibUser[#All],AK$60,FALSE),\"\")*(IF(parmUnit=1,1,2000/2204.6))),AK25),IF(AND(ISNUMBER($AI25),$AJ25<>\"\"),AK25,\"\"))","v":""},{"$f":"IF(ISNUMBER($W25),IF($AH25=FALSE,IF($W25<1000,IFERROR(VLOOKUP($W25,FeedLib[#All],AL$60,FALSE),\"\"),IFERROR(VLOOKUP($W25,FeedLibUser[#All],AL$60,FALSE),\"\")),AL25),IF(AND(ISNUMBER($AI25),$AJ25<>\"\"),AL25,\"\"))","v":""},{"$f":"IF(ISNUMBER($W25),IF($AH25=FALSE,IF($W25<1000,IFERROR(VLOOKUP($W25,FeedLib[#All],AM$60,FALSE),\"\"),IFERROR(VLOOKUP($W25,FeedLibUser[#All],AM$60,FALSE),\"\")),AM25),IF(AND(ISNUMBER($AI25),$AJ25<>\"\"),AM25,\"\"))","v":""},{"$f":"IF(ISNUMBER($W25),IF($AH25=FALSE,IF($W25<1000,IFERROR(VLOOKUP($W25,FeedLib[#All],AN$60,FALSE),\"\"),IFERROR(VLOOKUP($W25,FeedLibUser[#All],AN$60,FALSE),\"\")),AN25),IF(AND(ISNUMBER($AI25),$AJ25<>\"\"),AN25,\"\"))","v":""},{"$f":"IF(ISNUMBER($W25),IF($AH25=FALSE,IF($W25<1000,IFERROR(VLOOKUP($W25,FeedLib[#All],AO$60,FALSE),\"\"),IFERROR(VLOOKUP($W25,FeedLibUser[#All],AO$60,FALSE),\"\")),AO25),IF(AND(ISNUMBER($AI25),$AJ25<>\"\"),AO25,\"\"))","v":""},{"$f":"IF(ISNUMBER($W25),IF($AH25=FALSE,IF($W25<1000,IFERROR(VLOOKUP($W25,FeedLib[#All],AP$60,FALSE),\"\"),IFERROR(VLOOKUP($W25,FeedLibUser[#All],AP$60,FALSE),\"\")),AP25),IF(AND(ISNUMBER($AI25),$AJ25<>\"\"),AP25,\"\"))","v":""},{"$f":"IF(ISNUMBER($W25),IF($AH25=FALSE,IF($W25<1000,IFERROR(VLOOKUP($W25,FeedLib[#All],AQ$60,FALSE),\"\"),IFERROR(VLOOKUP($W25,FeedLibUser[#All],AQ$60,FALSE),\"\")),AQ25),IF(AND(ISNUMBER($AI25),$AJ25<>\"\"),AQ25,\"\"))","v":""},{"$f":"IF(ISNUMBER($W25),IF($AH25=FALSE,IF($W25<1000,IFERROR(VLOOKUP($W25,FeedLib[#All],AR$60,FALSE),\"\"),IFERROR(VLOOKUP($W25,FeedLibUser[#All],AR$60,FALSE),\"\")),AR25),IF(AND(ISNUMBER($AI25),$AJ25<>\"\"),AR25,\"\"))","v":""},{"$f":"IF(ISNUMBER($W25),IF($AH25=FALSE,IF($W25<1000,IFERROR(VLOOKUP($W25,FeedLib[#All],AS$60,FALSE),\"\"),IFERROR(VLOOKUP($W25,FeedLibUser[#All],AS$60,FALSE),\"\")),AS25),IF(AND(ISNUMBER($AI25),$AJ25<>\"\"),AS25,\"\"))","v":""},{"$f":"IF(ISNUMBER($W25),IF($AH25=FALSE,IF($W25<1000,IFERROR(VLOOKUP($W25,FeedLib[#All],AT$60,FALSE),\"\"),IFERROR(VLOOKUP($W25,FeedLibUser[#All],AT$60,FALSE),\"\")),AT25),IF(AND(ISNUMBER($AI25),$AJ25<>\"\"),AT25,\"\"))","v":""},{"$f":"IF(ISNUMBER($W25),IF($AH25=FALSE,IF($W25<1000,IFERROR(VLOOKUP($W25,FeedLib[#All],AU$60,FALSE),\"\"),IFERROR(VLOOKUP($W25,FeedLibUser[#All],AU$60,FALSE),\"\")),AU25),IF(AND(ISNUMBER($AI25),$AJ25<>\"\"),AU25,\"\"))","v":""},{"$f":"IF(ISNUMBER($W25),IF($AH25=FALSE,IF($W25<1000,IFERROR(VLOOKUP($W25,FeedLib[#All],AV$60,FALSE),\"\"),IFERROR(VLOOKUP($W25,FeedLibUser[#All],AV$60,FALSE),\"\")),AV25),IF(AND(ISNUMBER($AI25),$AJ25<>\"\"),AV25,\"\"))","v":""},{"$f":"IF(ISNUMBER($W25),IF($AH25=FALSE,IF($W25<1000,IFERROR(VLOOKUP($W25,FeedLib[#All],AW$60,FALSE),\"\"),IFERROR(VLOOKUP($W25,FeedLibUser[#All],AW$60,FALSE),\"\")),AW25),IF(AND(ISNUMBER($AI25),$AJ25<>\"\"),AW25,\"\"))","v":""},{"$f":"IF(ISNUMBER($W25),IF($AH25=FALSE,IF($W25<1000,IFERROR(VLOOKUP($W25,FeedLib[#All],AX$60,FALSE),\"\"),IFERROR(VLOOKUP($W25,FeedLibUser[#All],AX$60,FALSE),\"\")),AX25),IF(AND(ISNUMBER($AI25),$AJ25<>\"\"),AX25,\"\"))","v":""},{"$f":"IF(ISNUMBER($W25),IF($AH25=FALSE,IF($W25<1000,IFERROR(VLOOKUP($W25,FeedLib[#All],AY$60,FALSE),\"\")/IF(parmUnit=1,1,2.2046),IFERROR(VLOOKUP($W25,FeedLibUser[#All],AY$60,FALSE),\"\")/IF(parmUnit=1,1,2.2046)),AY25),IF(AND(ISNUMBER($AI25),$AJ25<>\"\"),AY25,\"\"))","v":""},{"$f":"IF(ISNUMBER($W25),IF($AH25=FALSE,IF($W25<1000,IFERROR(VLOOKUP($W25,FeedLib[#All],AZ$60,FALSE),\"\")/IF(parmUnit=1,1,2.2046),IFERROR(VLOOKUP($W25,FeedLibUser[#All],AZ$60,FALSE),\"\")/IF(parmUnit=1,1,2.2046)),AZ25),IF(AND(ISNUMBER($AI25),$AJ25<>\"\"),AZ25,\"\"))","v":""},{"$f":"IF(ISNUMBER($W25),IF($AH25=FALSE,IF($W25<1000,IFERROR(VLOOKUP($W25,FeedLib[#All],BA$60,FALSE),\"\")/IF(parmUnit=1,1,2.2046),IFERROR(VLOOKUP($W25,FeedLibUser[#All],BA$60,FALSE),\"\")/IF(parmUnit=1,1,2.2046)),BA25),IF(AND(ISNUMBER($AI25),$AJ25<>\"\"),BA25,\"\"))","v":""},{"$f":"IF(ISNUMBER($W25),IF($AH25=FALSE,IF($W25<1000,IFERROR(VLOOKUP($W25,FeedLib[#All],BB$60,FALSE),\"\"),IFERROR(VLOOKUP($W25,FeedLibUser[#All],BB$60,FALSE),\"\")),BB25),IF(AND(ISNUMBER($AI25),$AJ25<>\"\"),BB25,\"\"))","v":""},{"$f":"IF(ISNUMBER($W25),IF($AH25=FALSE,IF($W25<1000,IFERROR(VLOOKUP($W25,FeedLib[#All],BC$60,FALSE),\"\"),IFERROR(VLOOKUP($W25,FeedLibUser[#All],BC$60,FALSE),\"\")),BC25),IF(AND(ISNUMBER($AI25),$AJ25<>\"\"),BC25,\"\"))","v":""},{"$f":"IF(ISNUMBER($W25),IF($AH25=FALSE,IF($W25<1000,IFERROR(VLOOKUP($W25,FeedLib[#All],BD$60,FALSE),\"\"),IFERROR(VLOOKUP($W25,FeedLibUser[#All],BD$60,FALSE),\"\")),BD25),IF(AND(ISNUMBER($AI25),$AJ25<>\"\"),BD25,\"\"))","v":""},{"$f":"IF(ISNUMBER($W25),IF($AH25=FALSE,IF($W25<1000,IFERROR(VLOOKUP($W25,FeedLib[#All],BE$60,FALSE),\"\"),IFERROR(VLOOKUP($W25,FeedLibUser[#All],BE$60,FALSE),\"\")),BE25),IF(AND(ISNUMBER($AI25),$AJ25<>\"\"),BE25,\"\"))","v":""},{"$f":"IF(ISNUMBER($W25),IF($AH25=FALSE,IF($W25<1000,IFERROR(VLOOKUP($W25,FeedLib[#All],BF$60,FALSE),\"\"),IFERROR(VLOOKUP($W25,FeedLibUser[#All],BF$60,FALSE),\"\")),BF25),IF(AND(ISNUMBER($AI25),$AJ25<>\"\"),BF25,\"\"))","v":""},{"$f":"IF(ISNUMBER($W25),IF($AH25=FALSE,IF($W25<1000,IFERROR(VLOOKUP($W25,FeedLib[#All],BG$60,FALSE),\"\"),IFERROR(VLOOKUP($W25,FeedLibUser[#All],BG$60,FALSE),\"\")),BG25),IF(AND(ISNUMBER($AI25),$AJ25<>\"\"),BG25,\"\"))","v":""},{"$f":"IF(ISNUMBER($W25),IF($AH25=FALSE,IF($W25<1000,IFERROR(VLOOKUP($W25,FeedLib[#All],BH$60,FALSE),\"\"),IFERROR(VLOOKUP($W25,FeedLibUser[#All],BH$60,FALSE),\"\")),BH25),IF(AND(ISNUMBER($AI25),$AJ25<>\"\"),BH25,\"\"))","v":""},{"$f":"IF(ISNUMBER($W25),IF($AH25=FALSE,IF($W25<1000,IFERROR(VLOOKUP($W25,FeedLib[#All],BI$60,FALSE),\"\"),IFERROR(VLOOKUP($W25,FeedLibUser[#All],BI$60,FALSE),\"\")),BI25),IF(AND(ISNUMBER($AI25),$AJ25<>\"\"),BI25,\"\"))","v":""},{"$f":"IF(ISNUMBER($W25),IF($AH25=FALSE,IF($W25<1000,IFERROR(VLOOKUP($W25,FeedLib[#All],BJ$60,FALSE),\"\"),IFERROR(VLOOKUP($W25,FeedLibUser[#All],BJ$60,FALSE),\"\")),BJ25),IF(AND(ISNUMBER($AI25),$AJ25<>\"\"),BJ25,\"\"))","v":""},{"$f":"IF(ISNUMBER($W25),IF($AH25=FALSE,IF($W25<1000,IFERROR(VLOOKUP($W25,FeedLib[#All],BK$60,FALSE),\"\"),IFERROR(VLOOKUP($W25,FeedLibUser[#All],BK$60,FALSE),\"\")),BK25),IF(AND(ISNUMBER($AI25),$AJ25<>\"\"),BK25,\"\"))","v":""},{"$f":"IF(ISNUMBER($W25),IF($AH25=FALSE,IF($W25<1000,IFERROR(VLOOKUP($W25,FeedLib[#All],BL$60,FALSE),\"\"),IFERROR(VLOOKUP($W25,FeedLibUser[#All],BL$60,FALSE),\"\")),BL25),IF(AND(ISNUMBER($AI25),$AJ25<>\"\"),BL25,\"\"))","v":""},{"$f":"IF(ISNUMBER($W25),IF($AH25=FALSE,IF($W25<1000,IFERROR(VLOOKUP($W25,FeedLib[#All],BM$60,FALSE),\"\"),IFERROR(VLOOKUP($W25,FeedLibUser[#All],BM$60,FALSE),\"\")),BM25),IF(AND(ISNUMBER($AI25),$AJ25<>\"\"),BM25,\"\"))","v":""},{"$f":"IF(ISNUMBER($W25),IF($AH25=FALSE,IF($W25<1000,IFERROR(VLOOKUP($W25,FeedLib[#All],BN$60,FALSE),\"\"),IFERROR(VLOOKUP($W25,FeedLibUser[#All],BN$60,FALSE),\"\")),BN25),IF(AND(ISNUMBER($AI25),$AJ25<>\"\"),BN25,\"\"))","v":""},{"$f":"IF(ISNUMBER($W25),IF($AH25=FALSE,IF($W25<1000,IFERROR(VLOOKUP($W25,FeedLib[#All],BO$60,FALSE),\"\"),IFERROR(VLOOKUP($W25,FeedLibUser[#All],BO$60,FALSE),\"\")),BO25),IF(AND(ISNUMBER($AI25),$AJ25<>\"\"),BO25,\"\"))","v":""},{"$f":"IF(ISNUMBER($W25),IF($AH25=FALSE,IF($W25<1000,IFERROR(VLOOKUP($W25,FeedLib[#All],BP$60,FALSE),\"\"),IFERROR(VLOOKUP($W25,FeedLibUser[#All],BP$60,FALSE),\"\")),BP25),IF(AND(ISNUMBER($AI25),$AJ25<>\"\"),BP25,\"\"))","v":""},{"$f":"IF(ISNUMBER($W25),IF($AH25=FALSE,IF($W25<1000,IFERROR(VLOOKUP($W25,FeedLib[#All],BQ$60,FALSE),\"\"),IFERROR(VLOOKUP($W25,FeedLibUser[#All],BQ$60,FALSE),\"\")),BQ25),IF(AND(ISNUMBER($AI25),$AJ25<>\"\"),BQ25,\"\"))","v":""},{"$f":"IF(ISNUMBER($W25),IF($AH25=FALSE,IF($W25<1000,IFERROR(VLOOKUP($W25,FeedLib[#All],BR$60,FALSE),\"\"),IFERROR(VLOOKUP($W25,FeedLibUser[#All],BR$60,FALSE),\"\")),BR25),IF(AND(ISNUMBER($AI25),$AJ25<>\"\"),BR25,\"\"))","v":""},{"$f":"IF(ISNUMBER($W25),IF($AH25=FALSE,IF($W25<1000,IFERROR(VLOOKUP($W25,FeedLib[#All],BS$60,FALSE),\"\"),IFERROR(VLOOKUP($W25,FeedLibUser[#All],BS$60,FALSE),\"\")),BS25),IF(AND(ISNUMBER($AI25),$AJ25<>\"\"),BS25,\"\"))","v":""},{"$f":"IF(ISNUMBER($W25),IF($AH25=FALSE,IF($W25<1000,IFERROR(VLOOKUP($W25,FeedLib[#All],BT$60,FALSE),\"\"),IFERROR(VLOOKUP($W25,FeedLibUser[#All],BT$60,FALSE),\"\")),BT25),IF(AND(ISNUMBER($AI25),$AJ25<>\"\"),BT25,\"\"))","v":""},{"$f":"IF(ISNUMBER($W25),IF($AH25=FALSE,IF($W25<1000,IFERROR(VLOOKUP($W25,FeedLib[#All],BU$60,FALSE),\"\"),IFERROR(VLOOKUP($W25,FeedLibUser[#All],BU$60,FALSE),\"\")),BU25),IF(AND(ISNUMBER($AI25),$AJ25<>\"\"),BU25,\"\"))","v":""},{"$f":"IF(ISNUMBER($W25),IF($AH25=FALSE,IF($W25<1000,IFERROR(VLOOKUP($W25,FeedLib[#All],BV$60,FALSE),\"\"),IFERROR(VLOOKUP($W25,FeedLibUser[#All],BV$60,FALSE),\"\")),BV25),IF(AND(ISNUMBER($AI25),$AJ25<>\"\"),BV25,\"\"))","v":""},{"$f":"IF(ISNUMBER($W25),IF($AH25=FALSE,IF($W25<1000,IFERROR(VLOOKUP($W25,FeedLib[#All],BW$60,FALSE),\"\"),IFERROR(VLOOKUP($W25,FeedLibUser[#All],BW$60,FALSE),\"\")),BW25),IF(AND(ISNUMBER($AI25),$AJ25<>\"\"),BW25,\"\"))","v":""},{"$f":"IF(ISNUMBER($W25),IF($AH25=FALSE,IF($W25<1000,IFERROR(VLOOKUP($W25,FeedLib[#All],BX$60,FALSE),\"\"),IFERROR(VLOOKUP($W25,FeedLibUser[#All],BX$60,FALSE),\"\")),BX25),IF(AND(ISNUMBER($AI25),$AJ25<>\"\"),BX25,\"\"))","v":""},{"$f":"IF(ISNUMBER($W25),IF($AH25=FALSE,IF($W25<1000,IFERROR(VLOOKUP($W25,FeedLib[#All],BY$60,FALSE),\"\"),IFERROR(VLOOKUP($W25,FeedLibUser[#All],BY$60,FALSE),\"\")),BY25),IF(AND(ISNUMBER($AI25),$AJ25<>\"\"),BY25,\"\"))","v":""},{"$f":"IF(ISNUMBER($W25),IF($AH25=FALSE,IF($W25<1000,IFERROR(VLOOKUP($W25,FeedLib[#All],BZ$60,FALSE),\"\"),IFERROR(VLOOKUP($W25,FeedLibUser[#All],BZ$60,FALSE),\"\")),BZ25),IF(AND(ISNUMBER($AI25),$AJ25<>\"\"),BZ25,\"\"))","v":""},{"$f":"IF(ISNUMBER($W25),IF($AH25=FALSE,IF($W25<1000,IFERROR(VLOOKUP($W25,FeedLib[#All],CA$60,FALSE),\"\"),IFERROR(VLOOKUP($W25,FeedLibUser[#All],CA$60,FALSE),\"\")),CA25),IF(AND(ISNUMBER($AI25),$AJ25<>\"\"),CA25,\"\"))","v":""},{"$f":"IF(ISNUMBER($W25),IF($AH25=FALSE,IF($W25<1000,IFERROR(VLOOKUP($W25,FeedLib[#All],CB$60,FALSE),\"\"),IFERROR(VLOOKUP($W25,FeedLibUser[#All],CB$60,FALSE),\"\")),CB25),IF(AND(ISNUMBER($AI25),$AJ25<>\"\"),CB25,\"\"))","v":""},{"$f":"IF(ISNUMBER($W25),IF($AH25=FALSE,IF($W25<1000,IFERROR(VLOOKUP($W25,FeedLib[#All],CC$60,FALSE),\"\"),IFERROR(VLOOKUP($W25,FeedLibUser[#All],CC$60,FALSE),\"\")),CC25),IF(AND(ISNUMBER($AI25),$AJ25<>\"\"),CC25,\"\"))","v":""},{"$f":"IF(ISNUMBER($W25),IF($AH25=FALSE,IF($W25<1000,IFERROR(VLOOKUP($W25,FeedLib[#All],CD$60,FALSE),\"\"),IFERROR(VLOOKUP($W25,FeedLibUser[#All],CD$60,FALSE),\"\")),CD25),IF(AND(ISNUMBER($AI25),$AJ25<>\"\"),CD25,\"\"))","v":""},{"$f":"IF(ISNUMBER($W25),IF($AH25=FALSE,IF($W25<1000,IFERROR(VLOOKUP($W25,FeedLib[#All],CE$60,FALSE),\"\"),IFERROR(VLOOKUP($W25,FeedLibUser[#All],CE$60,FALSE),\"\")),CE25),IF(AND(ISNUMBER($AI25),$AJ25<>\"\"),CE25,\"\"))","v":""},{"$f":"IF(ISNUMBER($W25),IF($AH25=FALSE,IF($W25<1000,IFERROR(VLOOKUP($W25,FeedLib[#All],CF$60,FALSE),\"\"),IFERROR(VLOOKUP($W25,FeedLibUser[#All],CF$60,FALSE),\"\")),CF25),IF(AND(ISNUMBER($AI25),$AJ25<>\"\"),CF25,\"\"))","v":""},{"$f":"IF(ISNUMBER($W25),IF($AH25=FALSE,IF($W25<1000,IFERROR(VLOOKUP($W25,FeedLib[#All],CG$60,FALSE),\"\"),IFERROR(VLOOKUP($W25,FeedLibUser[#All],CG$60,FALSE),\"\")),CG25),IF(AND(ISNUMBER($AI25),$AJ25<>\"\"),CG25,\"\"))","v":""},{"$f":"IF(ISNUMBER($W25),IF($AH25=FALSE,IF($W25<1000,IFERROR(VLOOKUP($W25,FeedLib[#All],CH$60,FALSE),\"\"),IFERROR(VLOOKUP($W25,FeedLibUser[#All],CH$60,FALSE),\"\")),CH25),IF(AND(ISNUMBER($AI25),$AJ25<>\"\"),CH25,\"\"))","v":""},{"$f":"IF(ISNUMBER($W25),IF($AH25=FALSE,IF($W25<1000,IFERROR(VLOOKUP($W25,FeedLib[#All],CI$60,FALSE),\"\"),IFERROR(VLOOKUP($W25,FeedLibUser[#All],CI$60,FALSE),\"\")),CI25),IF(AND(ISNUMBER($AI25),$AJ25<>\"\"),CI25,\"\"))","v":""},{"$f":"IF(ISNUMBER($W25),IF($AH25=FALSE,IF($W25<1000,IFERROR(VLOOKUP($W25,FeedLib[#All],CJ$60,FALSE),\"\"),IFERROR(VLOOKUP($W25,FeedLibUser[#All],CJ$60,FALSE),\"\")),CJ25),IF(AND(ISNUMBER($AI25),$AJ25<>\"\"),CJ25,\"\"))","v":""},{"$f":"IF(ISNUMBER($W25),IF($AH25=FALSE,IF($W25<1000,IFERROR(VLOOKUP($W25,FeedLib[#All],CK$60,FALSE),\"\"),IFERROR(VLOOKUP($W25,FeedLibUser[#All],CK$60,FALSE),\"\")),CK25),IF(AND(ISNUMBER($AI25),$AJ25<>\"\"),CK25,\"\"))","v":""},{"$f":"IF(ISNUMBER($W25),IF($AH25=FALSE,IF($W25<1000,IFERROR(VLOOKUP($W25,FeedLib[#All],CL$60,FALSE),\"\"),IFERROR(VLOOKUP($W25,FeedLibUser[#All],CL$60,FALSE),\"\")),CL25),IF(AND(ISNUMBER($AI25),$AJ25<>\"\"),CL25,\"\"))","v":""},{"$f":"IF(ISNUMBER($W25),IF($AH25=FALSE,IF($W25<1000,IFERROR(VLOOKUP($W25,FeedLib[#All],CM$60,FALSE),\"\"),IFERROR(VLOOKUP($W25,FeedLibUser[#All],CM$60,FALSE),\"\")),CM25),IF(AND(ISNUMBER($AI25),$AJ25<>\"\"),CM25,\"\"))","v":""}]
[null,"Available forage mass","FM",0,{"$f":"CHOOSE(parmUnit,\"kg/ha\",\"lb/acre\")","v":"lb/acre"},{"$f":"D59*IF(parmUnit=1,1,2.471054/2.2046)","v":0},"kg/ha",null,null,null,null,null,null,null,null,null,null,null,null,null,null,null,null,null,null,null,null,null,null,null,null,null,null,null,"","",{"$f":"IF(ISNUMBER($W26),IF($AH26=FALSE,IF($W26<1000,IFERROR(VLOOKUP($W26,FeedLib[#All],AK$60,FALSE),\"\")*(IF(parmUnit=1,1,2000/2204.6)),IFERROR(VLOOKUP($W26,FeedLibUser[#All],AK$60,FALSE),\"\")*(IF(parmUnit=1,1,2000/2204.6))),AK26),IF(AND(ISNUMBER($AI26),$AJ26<>\"\"),AK26,\"\"))","v":""},{"$f":"IF(ISNUMBER($W26),IF($AH26=FALSE,IF($W26<1000,IFERROR(VLOOKUP($W26,FeedLib[#All],AL$60,FALSE),\"\"),IFERROR(VLOOKUP($W26,FeedLibUser[#All],AL$60,FALSE),\"\")),AL26),IF(AND(ISNUMBER($AI26),$AJ26<>\"\"),AL26,\"\"))","v":""},{"$f":"IF(ISNUMBER($W26),IF($AH26=FALSE,IF($W26<1000,IFERROR(VLOOKUP($W26,FeedLib[#All],AM$60,FALSE),\"\"),IFERROR(VLOOKUP($W26,FeedLibUser[#All],AM$60,FALSE),\"\")),AM26),IF(AND(ISNUMBER($AI26),$AJ26<>\"\"),AM26,\"\"))","v":""},{"$f":"IF(ISNUMBER($W26),IF($AH26=FALSE,IF($W26<1000,IFERROR(VLOOKUP($W26,FeedLib[#All],AN$60,FALSE),\"\"),IFERROR(VLOOKUP($W26,FeedLibUser[#All],AN$60,FALSE),\"\")),AN26),IF(AND(ISNUMBER($AI26),$AJ26<>\"\"),AN26,\"\"))","v":""},{"$f":"IF(ISNUMBER($W26),IF($AH26=FALSE,IF($W26<1000,IFERROR(VLOOKUP($W26,FeedLib[#All],AO$60,FALSE),\"\"),IFERROR(VLOOKUP($W26,FeedLibUser[#All],AO$60,FALSE),\"\")),AO26),IF(AND(ISNUMBER($AI26),$AJ26<>\"\"),AO26,\"\"))","v":""},{"$f":"IF(ISNUMBER($W26),IF($AH26=FALSE,IF($W26<1000,IFERROR(VLOOKUP($W26,FeedLib[#All],AP$60,FALSE),\"\"),IFERROR(VLOOKUP($W26,FeedLibUser[#All],AP$60,FALSE),\"\")),AP26),IF(AND(ISNUMBER($AI26),$AJ26<>\"\"),AP26,\"\"))","v":""},{"$f":"IF(ISNUMBER($W26),IF($AH26=FALSE,IF($W26<1000,IFERROR(VLOOKUP($W26,FeedLib[#All],AQ$60,FALSE),\"\"),IFERROR(VLOOKUP($W26,FeedLibUser[#All],AQ$60,FALSE),\"\")),AQ26),IF(AND(ISNUMBER($AI26),$AJ26<>\"\"),AQ26,\"\"))","v":""},{"$f":"IF(ISNUMBER($W26),IF($AH26=FALSE,IF($W26<1000,IFERROR(VLOOKUP($W26,FeedLib[#All],AR$60,FALSE),\"\"),IFERROR(VLOOKUP($W26,FeedLibUser[#All],AR$60,FALSE),\"\")),AR26),IF(AND(ISNUMBER($AI26),$AJ26<>\"\"),AR26,\"\"))","v":""},{"$f":"IF(ISNUMBER($W26),IF($AH26=FALSE,IF($W26<1000,IFERROR(VLOOKUP($W26,FeedLib[#All],AS$60,FALSE),\"\"),IFERROR(VLOOKUP($W26,FeedLibUser[#All],AS$60,FALSE),\"\")),AS26),IF(AND(ISNUMBER($AI26),$AJ26<>\"\"),AS26,\"\"))","v":""},{"$f":"IF(ISNUMBER($W26),IF($AH26=FALSE,IF($W26<1000,IFERROR(VLOOKUP($W26,FeedLib[#All],AT$60,FALSE),\"\"),IFERROR(VLOOKUP($W26,FeedLibUser[#All],AT$60,FALSE),\"\")),AT26),IF(AND(ISNUMBER($AI26),$AJ26<>\"\"),AT26,\"\"))","v":""},{"$f":"IF(ISNUMBER($W26),IF($AH26=FALSE,IF($W26<1000,IFERROR(VLOOKUP($W26,FeedLib[#All],AU$60,FALSE),\"\"),IFERROR(VLOOKUP($W26,FeedLibUser[#All],AU$60,FALSE),\"\")),AU26),IF(AND(ISNUMBER($AI26),$AJ26<>\"\"),AU26,\"\"))","v":""},{"$f":"IF(ISNUMBER($W26),IF($AH26=FALSE,IF($W26<1000,IFERROR(VLOOKUP($W26,FeedLib[#All],AV$60,FALSE),\"\"),IFERROR(VLOOKUP($W26,FeedLibUser[#All],AV$60,FALSE),\"\")),AV26),IF(AND(ISNUMBER($AI26),$AJ26<>\"\"),AV26,\"\"))","v":""},{"$f":"IF(ISNUMBER($W26),IF($AH26=FALSE,IF($W26<1000,IFERROR(VLOOKUP($W26,FeedLib[#All],AW$60,FALSE),\"\"),IFERROR(VLOOKUP($W26,FeedLibUser[#All],AW$60,FALSE),\"\")),AW26),IF(AND(ISNUMBER($AI26),$AJ26<>\"\"),AW26,\"\"))","v":""},{"$f":"IF(ISNUMBER($W26),IF($AH26=FALSE,IF($W26<1000,IFERROR(VLOOKUP($W26,FeedLib[#All],AX$60,FALSE),\"\"),IFERROR(VLOOKUP($W26,FeedLibUser[#All],AX$60,FALSE),\"\")),AX26),IF(AND(ISNUMBER($AI26),$AJ26<>\"\"),AX26,\"\"))","v":""},{"$f":"IF(ISNUMBER($W26),IF($AH26=FALSE,IF($W26<1000,IFERROR(VLOOKUP($W26,FeedLib[#All],AY$60,FALSE),\"\")/IF(parmUnit=1,1,2.2046),IFERROR(VLOOKUP($W26,FeedLibUser[#All],AY$60,FALSE),\"\")/IF(parmUnit=1,1,2.2046)),AY26),IF(AND(ISNUMBER($AI26),$AJ26<>\"\"),AY26,\"\"))","v":""},{"$f":"IF(ISNUMBER($W26),IF($AH26=FALSE,IF($W26<1000,IFERROR(VLOOKUP($W26,FeedLib[#All],AZ$60,FALSE),\"\")/IF(parmUnit=1,1,2.2046),IFERROR(VLOOKUP($W26,FeedLibUser[#All],AZ$60,FALSE),\"\")/IF(parmUnit=1,1,2.2046)),AZ26),IF(AND(ISNUMBER($AI26),$AJ26<>\"\"),AZ26,\"\"))","v":""},{"$f":"IF(ISNUMBER($W26),IF($AH26=FALSE,IF($W26<1000,IFERROR(VLOOKUP($W26,FeedLib[#All],BA$60,FALSE),\"\")/IF(parmUnit=1,1,2.2046),IFERROR(VLOOKUP($W26,FeedLibUser[#All],BA$60,FALSE),\"\")/IF(parmUnit=1,1,2.2046)),BA26),IF(AND(ISNUMBER($AI26),$AJ26<>\"\"),BA26,\"\"))","v":""},{"$f":"IF(ISNUMBER($W26),IF($AH26=FALSE,IF($W26<1000,IFERROR(VLOOKUP($W26,FeedLib[#All],BB$60,FALSE),\"\"),IFERROR(VLOOKUP($W26,FeedLibUser[#All],BB$60,FALSE),\"\")),BB26),IF(AND(ISNUMBER($AI26),$AJ26<>\"\"),BB26,\"\"))","v":""},{"$f":"IF(ISNUMBER($W26),IF($AH26=FALSE,IF($W26<1000,IFERROR(VLOOKUP($W26,FeedLib[#All],BC$60,FALSE),\"\"),IFERROR(VLOOKUP($W26,FeedLibUser[#All],BC$60,FALSE),\"\")),BC26),IF(AND(ISNUMBER($AI26),$AJ26<>\"\"),BC26,\"\"))","v":""},{"$f":"IF(ISNUMBER($W26),IF($AH26=FALSE,IF($W26<1000,IFERROR(VLOOKUP($W26,FeedLib[#All],BD$60,FALSE),\"\"),IFERROR(VLOOKUP($W26,FeedLibUser[#All],BD$60,FALSE),\"\")),BD26),IF(AND(ISNUMBER($AI26),$AJ26<>\"\"),BD26,\"\"))","v":""},{"$f":"IF(ISNUMBER($W26),IF($AH26=FALSE,IF($W26<1000,IFERROR(VLOOKUP($W26,FeedLib[#All],BE$60,FALSE),\"\"),IFERROR(VLOOKUP($W26,FeedLibUser[#All],BE$60,FALSE),\"\")),BE26),IF(AND(ISNUMBER($AI26),$AJ26<>\"\"),BE26,\"\"))","v":""},{"$f":"IF(ISNUMBER($W26),IF($AH26=FALSE,IF($W26<1000,IFERROR(VLOOKUP($W26,FeedLib[#All],BF$60,FALSE),\"\"),IFERROR(VLOOKUP($W26,FeedLibUser[#All],BF$60,FALSE),\"\")),BF26),IF(AND(ISNUMBER($AI26),$AJ26<>\"\"),BF26,\"\"))","v":""},{"$f":"IF(ISNUMBER($W26),IF($AH26=FALSE,IF($W26<1000,IFERROR(VLOOKUP($W26,FeedLib[#All],BG$60,FALSE),\"\"),IFERROR(VLOOKUP($W26,FeedLibUser[#All],BG$60,FALSE),\"\")),BG26),IF(AND(ISNUMBER($AI26),$AJ26<>\"\"),BG26,\"\"))","v":""},{"$f":"IF(ISNUMBER($W26),IF($AH26=FALSE,IF($W26<1000,IFERROR(VLOOKUP($W26,FeedLib[#All],BH$60,FALSE),\"\"),IFERROR(VLOOKUP($W26,FeedLibUser[#All],BH$60,FALSE),\"\")),BH26),IF(AND(ISNUMBER($AI26),$AJ26<>\"\"),BH26,\"\"))","v":""},{"$f":"IF(ISNUMBER($W26),IF($AH26=FALSE,IF($W26<1000,IFERROR(VLOOKUP($W26,FeedLib[#All],BI$60,FALSE),\"\"),IFERROR(VLOOKUP($W26,FeedLibUser[#All],BI$60,FALSE),\"\")),BI26),IF(AND(ISNUMBER($AI26),$AJ26<>\"\"),BI26,\"\"))","v":""},{"$f":"IF(ISNUMBER($W26),IF($AH26=FALSE,IF($W26<1000,IFERROR(VLOOKUP($W26,FeedLib[#All],BJ$60,FALSE),\"\"),IFERROR(VLOOKUP($W26,FeedLibUser[#All],BJ$60,FALSE),\"\")),BJ26),IF(AND(ISNUMBER($AI26),$AJ26<>\"\"),BJ26,\"\"))","v":""},{"$f":"IF(ISNUMBER($W26),IF($AH26=FALSE,IF($W26<1000,IFERROR(VLOOKUP($W26,FeedLib[#All],BK$60,FALSE),\"\"),IFERROR(VLOOKUP($W26,FeedLibUser[#All],BK$60,FALSE),\"\")),BK26),IF(AND(ISNUMBER($AI26),$AJ26<>\"\"),BK26,\"\"))","v":""},{"$f":"IF(ISNUMBER($W26),IF($AH26=FALSE,IF($W26<1000,IFERROR(VLOOKUP($W26,FeedLib[#All],BL$60,FALSE),\"\"),IFERROR(VLOOKUP($W26,FeedLibUser[#All],BL$60,FALSE),\"\")),BL26),IF(AND(ISNUMBER($AI26),$AJ26<>\"\"),BL26,\"\"))","v":""},{"$f":"IF(ISNUMBER($W26),IF($AH26=FALSE,IF($W26<1000,IFERROR(VLOOKUP($W26,FeedLib[#All],BM$60,FALSE),\"\"),IFERROR(VLOOKUP($W26,FeedLibUser[#All],BM$60,FALSE),\"\")),BM26),IF(AND(ISNUMBER($AI26),$AJ26<>\"\"),BM26,\"\"))","v":""},{"$f":"IF(ISNUMBER($W26),IF($AH26=FALSE,IF($W26<1000,IFERROR(VLOOKUP($W26,FeedLib[#All],BN$60,FALSE),\"\"),IFERROR(VLOOKUP($W26,FeedLibUser[#All],BN$60,FALSE),\"\")),BN26),IF(AND(ISNUMBER($AI26),$AJ26<>\"\"),BN26,\"\"))","v":""},{"$f":"IF(ISNUMBER($W26),IF($AH26=FALSE,IF($W26<1000,IFERROR(VLOOKUP($W26,FeedLib[#All],BO$60,FALSE),\"\"),IFERROR(VLOOKUP($W26,FeedLibUser[#All],BO$60,FALSE),\"\")),BO26),IF(AND(ISNUMBER($AI26),$AJ26<>\"\"),BO26,\"\"))","v":""},{"$f":"IF(ISNUMBER($W26),IF($AH26=FALSE,IF($W26<1000,IFERROR(VLOOKUP($W26,FeedLib[#All],BP$60,FALSE),\"\"),IFERROR(VLOOKUP($W26,FeedLibUser[#All],BP$60,FALSE),\"\")),BP26),IF(AND(ISNUMBER($AI26),$AJ26<>\"\"),BP26,\"\"))","v":""},{"$f":"IF(ISNUMBER($W26),IF($AH26=FALSE,IF($W26<1000,IFERROR(VLOOKUP($W26,FeedLib[#All],BQ$60,FALSE),\"\"),IFERROR(VLOOKUP($W26,FeedLibUser[#All],BQ$60,FALSE),\"\")),BQ26),IF(AND(ISNUMBER($AI26),$AJ26<>\"\"),BQ26,\"\"))","v":""},{"$f":"IF(ISNUMBER($W26),IF($AH26=FALSE,IF($W26<1000,IFERROR(VLOOKUP($W26,FeedLib[#All],BR$60,FALSE),\"\"),IFERROR(VLOOKUP($W26,FeedLibUser[#All],BR$60,FALSE),\"\")),BR26),IF(AND(ISNUMBER($AI26),$AJ26<>\"\"),BR26,\"\"))","v":""},{"$f":"IF(ISNUMBER($W26),IF($AH26=FALSE,IF($W26<1000,IFERROR(VLOOKUP($W26,FeedLib[#All],BS$60,FALSE),\"\"),IFERROR(VLOOKUP($W26,FeedLibUser[#All],BS$60,FALSE),\"\")),BS26),IF(AND(ISNUMBER($AI26),$AJ26<>\"\"),BS26,\"\"))","v":""},{"$f":"IF(ISNUMBER($W26),IF($AH26=FALSE,IF($W26<1000,IFERROR(VLOOKUP($W26,FeedLib[#All],BT$60,FALSE),\"\"),IFERROR(VLOOKUP($W26,FeedLibUser[#All],BT$60,FALSE),\"\")),BT26),IF(AND(ISNUMBER($AI26),$AJ26<>\"\"),BT26,\"\"))","v":""},{"$f":"IF(ISNUMBER($W26),IF($AH26=FALSE,IF($W26<1000,IFERROR(VLOOKUP($W26,FeedLib[#All],BU$60,FALSE),\"\"),IFERROR(VLOOKUP($W26,FeedLibUser[#All],BU$60,FALSE),\"\")),BU26),IF(AND(ISNUMBER($AI26),$AJ26<>\"\"),BU26,\"\"))","v":""},{"$f":"IF(ISNUMBER($W26),IF($AH26=FALSE,IF($W26<1000,IFERROR(VLOOKUP($W26,FeedLib[#All],BV$60,FALSE),\"\"),IFERROR(VLOOKUP($W26,FeedLibUser[#All],BV$60,FALSE),\"\")),BV26),IF(AND(ISNUMBER($AI26),$AJ26<>\"\"),BV26,\"\"))","v":""},{"$f":"IF(ISNUMBER($W26),IF($AH26=FALSE,IF($W26<1000,IFERROR(VLOOKUP($W26,FeedLib[#All],BW$60,FALSE),\"\"),IFERROR(VLOOKUP($W26,FeedLibUser[#All],BW$60,FALSE),\"\")),BW26),IF(AND(ISNUMBER($AI26),$AJ26<>\"\"),BW26,\"\"))","v":""},{"$f":"IF(ISNUMBER($W26),IF($AH26=FALSE,IF($W26<1000,IFERROR(VLOOKUP($W26,FeedLib[#All],BX$60,FALSE),\"\"),IFERROR(VLOOKUP($W26,FeedLibUser[#All],BX$60,FALSE),\"\")),BX26),IF(AND(ISNUMBER($AI26),$AJ26<>\"\"),BX26,\"\"))","v":""},{"$f":"IF(ISNUMBER($W26),IF($AH26=FALSE,IF($W26<1000,IFERROR(VLOOKUP($W26,FeedLib[#All],BY$60,FALSE),\"\"),IFERROR(VLOOKUP($W26,FeedLibUser[#All],BY$60,FALSE),\"\")),BY26),IF(AND(ISNUMBER($AI26),$AJ26<>\"\"),BY26,\"\"))","v":""},{"$f":"IF(ISNUMBER($W26),IF($AH26=FALSE,IF($W26<1000,IFERROR(VLOOKUP($W26,FeedLib[#All],BZ$60,FALSE),\"\"),IFERROR(VLOOKUP($W26,FeedLibUser[#All],BZ$60,FALSE),\"\")),BZ26),IF(AND(ISNUMBER($AI26),$AJ26<>\"\"),BZ26,\"\"))","v":""},{"$f":"IF(ISNUMBER($W26),IF($AH26=FALSE,IF($W26<1000,IFERROR(VLOOKUP($W26,FeedLib[#All],CA$60,FALSE),\"\"),IFERROR(VLOOKUP($W26,FeedLibUser[#All],CA$60,FALSE),\"\")),CA26),IF(AND(ISNUMBER($AI26),$AJ26<>\"\"),CA26,\"\"))","v":""},{"$f":"IF(ISNUMBER($W26),IF($AH26=FALSE,IF($W26<1000,IFERROR(VLOOKUP($W26,FeedLib[#All],CB$60,FALSE),\"\"),IFERROR(VLOOKUP($W26,FeedLibUser[#All],CB$60,FALSE),\"\")),CB26),IF(AND(ISNUMBER($AI26),$AJ26<>\"\"),CB26,\"\"))","v":""},{"$f":"IF(ISNUMBER($W26),IF($AH26=FALSE,IF($W26<1000,IFERROR(VLOOKUP($W26,FeedLib[#All],CC$60,FALSE),\"\"),IFERROR(VLOOKUP($W26,FeedLibUser[#All],CC$60,FALSE),\"\")),CC26),IF(AND(ISNUMBER($AI26),$AJ26<>\"\"),CC26,\"\"))","v":""},{"$f":"IF(ISNUMBER($W26),IF($AH26=FALSE,IF($W26<1000,IFERROR(VLOOKUP($W26,FeedLib[#All],CD$60,FALSE),\"\"),IFERROR(VLOOKUP($W26,FeedLibUser[#All],CD$60,FALSE),\"\")),CD26),IF(AND(ISNUMBER($AI26),$AJ26<>\"\"),CD26,\"\"))","v":""},{"$f":"IF(ISNUMBER($W26),IF($AH26=FALSE,IF($W26<1000,IFERROR(VLOOKUP($W26,FeedLib[#All],CE$60,FALSE),\"\"),IFERROR(VLOOKUP($W26,FeedLibUser[#All],CE$60,FALSE),\"\")),CE26),IF(AND(ISNUMBER($AI26),$AJ26<>\"\"),CE26,\"\"))","v":""},{"$f":"IF(ISNUMBER($W26),IF($AH26=FALSE,IF($W26<1000,IFERROR(VLOOKUP($W26,FeedLib[#All],CF$60,FALSE),\"\"),IFERROR(VLOOKUP($W26,FeedLibUser[#All],CF$60,FALSE),\"\")),CF26),IF(AND(ISNUMBER($AI26),$AJ26<>\"\"),CF26,\"\"))","v":""},{"$f":"IF(ISNUMBER($W26),IF($AH26=FALSE,IF($W26<1000,IFERROR(VLOOKUP($W26,FeedLib[#All],CG$60,FALSE),\"\"),IFERROR(VLOOKUP($W26,FeedLibUser[#All],CG$60,FALSE),\"\")),CG26),IF(AND(ISNUMBER($AI26),$AJ26<>\"\"),CG26,\"\"))","v":""},{"$f":"IF(ISNUMBER($W26),IF($AH26=FALSE,IF($W26<1000,IFERROR(VLOOKUP($W26,FeedLib[#All],CH$60,FALSE),\"\"),IFERROR(VLOOKUP($W26,FeedLibUser[#All],CH$60,FALSE),\"\")),CH26),IF(AND(ISNUMBER($AI26),$AJ26<>\"\"),CH26,\"\"))","v":""},{"$f":"IF(ISNUMBER($W26),IF($AH26=FALSE,IF($W26<1000,IFERROR(VLOOKUP($W26,FeedLib[#All],CI$60,FALSE),\"\"),IFERROR(VLOOKUP($W26,FeedLibUser[#All],CI$60,FALSE),\"\")),CI26),IF(AND(ISNUMBER($AI26),$AJ26<>\"\"),CI26,\"\"))","v":""},{"$f":"IF(ISNUMBER($W26),IF($AH26=FALSE,IF($W26<1000,IFERROR(VLOOKUP($W26,FeedLib[#All],CJ$60,FALSE),\"\"),IFERROR(VLOOKUP($W26,FeedLibUser[#All],CJ$60,FALSE),\"\")),CJ26),IF(AND(ISNUMBER($AI26),$AJ26<>\"\"),CJ26,\"\"))","v":""},{"$f":"IF(ISNUMBER($W26),IF($AH26=FALSE,IF($W26<1000,IFERROR(VLOOKUP($W26,FeedLib[#All],CK$60,FALSE),\"\"),IFERROR(VLOOKUP($W26,FeedLibUser[#All],CK$60,FALSE),\"\")),CK26),IF(AND(ISNUMBER($AI26),$AJ26<>\"\"),CK26,\"\"))","v":""},{"$f":"IF(ISNUMBER($W26),IF($AH26=FALSE,IF($W26<1000,IFERROR(VLOOKUP($W26,FeedLib[#All],CL$60,FALSE),\"\"),IFERROR(VLOOKUP($W26,FeedLibUser[#All],CL$60,FALSE),\"\")),CL26),IF(AND(ISNUMBER($AI26),$AJ26<>\"\"),CL26,\"\"))","v":""},{"$f":"IF(ISNUMBER($W26),IF($AH26=FALSE,IF($W26<1000,IFERROR(VLOOKUP($W26,FeedLib[#All],CM$60,FALSE),\"\"),IFERROR(VLOOKUP($W26,FeedLibUser[#All],CM$60,FALSE),\"\")),CM26),IF(AND(ISNUMBER($AI26),$AJ26<>\"\"),CM26,\"\"))","v":""}]
[null,null,null,null,null,null,null,null,null,null,null,null,null,null,null,null,null,null,null,null,null,null,null,null,null,null,null,null,null,null,null,null,null,null,null,null,4,5,6,7,8,9,10,11,12,13,14,15,16,17,18,19,20,21,22,23,24,25,26,27,28,29,30,31,32,33,34,35,36,37,38,39,40,41,42,43,44,45,46,47,48,49,50,51,52,53,54,55,56,57,58]
[]
[null,"Table 4. Environment"]
[null,"Item","Acronym","User","Unit","Metric","Unit","Description"]
[null,"Wind speed","WS",5,{"$f":"CHOOSE(parmUnit,\"km/h\",\"miles/h\")","v":"miles/h"},{"$f":"D64*IF(parmUnit=1,1,1/0.6214)","v":8.04634695848085},"Km/h"]
[null,"Temperature, previous","Tp",40,{"$f":"CHOOSE(parmUnit,\"oC\",\"oF\")","v":"oF"},{"$f":"IF(parmUnit=1,D65,(D65-32)*5/9)","v":4.4444444444444446},"oC"]
[null,"Temperature, current","Tc",30,{"$f":"CHOOSE(parmUnit,\"oC\",\"oF\")","v":"oF"},{"$f":"IF(parmUnit=1,D66,(D66-32)*5/9)","v":-1.1111111111111112},"oC"]
[null,"RH, previous","RHp",65,null,{"$f":"D67","v":65},"%"]
[null,"RH, current","RHc",65,null,{"$f":"D68","v":65},"%"]
[null,"Storm exposure",null,1,null,{"$f":"D69","v":1},null,"1:=No, 2:=Yes"]
[null,"Lowest night temp.","LNT",30,{"$f":"CHOOSE(parmUnit,\"oC\",\"oF\")","v":"oF"},{"$f":"IF(parmUnit=1,D70,(D70-32)*5/9)","v":-1.1111111111111112},"oC","with night cooling if LNT < 20 oC"]
[null,"Hair depth",null,0.2,{"$f":"CHOOSE(parmUnit,\"cm\",\"in\")","v":"in"},{"$f":"D71*IF(parmUnit=1,1,2.54)","v":0.50800000000000001},"cm"]
[null,"Hide",null,2,null,{"$f":"D72","v":2},null,"1:=Thin, 2:=Average, 3:=Thick"]
[null,"Hair coat",null,1,null,{"$f":"D73","v":1},null,"1:=No, 2:=Some, 3:=Mud lower body, 4:=Heavy"]
[null,"Cattle panting",null,1,null,{"$f":"D74","v":1},null,"1:=No, 2:=Rapid shallow, 3:=Open mouth"]
[null,"Mud depth",null,0,{"$f":"CHOOSE(parmUnit,\"cm\",\"in\")","v":"in"},{"$f":"D75*IF(parmUnit=1,1,2.54)","v":0},"cm"]
[]
[]
[null,"Table 5. Advanced options"]
[null,"Item","Acronym","User","Unit","Metric","Unit","Description"]
[null,"Maintenance factor",null,0,"%",{"$f":"D80","v":0},"%","Increases/decreases NE required for maintenance"]
[null,"Adjustments for required NEm",null,1,null,{"$f":"IF(D81=0,FALSE,TRUE)","v":true},null,"Apply environmental adjustment factors (0:=No, 1:=Yes)"]
[null,"Adjustments for predicted DMI",null,1,null,{"$f":"IF(D82=0,FALSE,TRUE)","v":true},null,"Apply environmental adjustment factors (0:=No, 1:=Yes)"]
[null,"Monensin adjustment for DMI",null,-3,"%",{"$f":"(1+D83/100)","v":0.97},null,"Monensin effect on DMI"]
[null,"Implant adjustment for DMI",null,-6,"%",{"$f":"(1+D84/100)","v":0.94},null,"Implant factor on DMI"]
[null,"Ruminal pH",null,0,null,{"$f":"IF(D85>0,D85,0)","v":0},null,"0:=Use default equation"]
[null,"DE to ME efficiency",null,82,"%",{"$f":"IF(D86<=0,82,IF(D86=1,\"Variable\",IF(D86>100,82,D86)))","v":82},"%","0:=Use default value (82%), 1:= Use Galyean et al. (2016)"]
[null,"Tabular ME and NE values for ELS",null,0,null,{"$f":"IF(D87=0,FALSE,TRUE)","v":false},null,"0:=No (calculate from TDN), 1:=Yes (user input)"]
[null,"MCP yield (MCP/TDN, %)",null,0,"%",{"$f":"IF(OR(D88<0,D88>100),0,D88)","v":0},"%","0:=Use default equation. NRC (2000) was 13%"]
[null,"Desired animal ADG",null,1.5,{"$f":"CHOOSE(parmUnit,\"kg/d\",\"lb/d\")","v":"lb/d"},{"$f":"D89*IF(parmUnit=1,1,1/2.2046)","v":0.68039553660527985},"kg/d","Compare with least ME or MP allowable performance"]
[null,"MP to NP efficiency",null,0,"%",{"$f":"IF(OR(D90<=0,D90>100),IF(EQSBW<=300,0.834-EQSBW*0.00114,0.492)*100,IF(AND(D90<1,D90>0),D90*100,D90))","v":49.2},"%",{"$f":"\"0:=Use default value. NRC (2000) was \" & TEXT(IF(EQSBW<=300,0.834-EQSBW*0.00114,0.492),\"#0.0%\")","v":"0:=Use default value. NRC (2000) was 49.2%"}]
[null,"Recycled ruminal N",null,0,null,{"$f":"D91","v":0},null,"0:=None, 1:=NRC (2000), 2:=R&K (2008), 3:=BCNRM (2016)"]

{"sheet":"Parms","index":2,"n_rows":92,"n_cols":7,"rows_kept":92,"cut":false,"hidden":true,"merged":[]}
[]
[null,"Table P1. Parameters"]
[null,"Parameter","Current","Unit","Default","Description","Match?"]
[null,"MPm requirement",{"$f":"Calc!I41","v":3.8},"g/d/kg0.75",3.8,"Coefficient of MP required for maintenance",{"$f":"C4=E4","v":true}]
[null,"BCS submodel",{"$f":"Calc!L142","v":2},null,2,"Option for BCS submodel calculation",{"$f":"C5=E5","v":true}]
[null,"BCS coefficient",{"$f":"Calc!Q142","v":7.11},null,7.1050000000000004,"% change BW/change BCS",false]
[null,"BCS TPWf type 1",{"$f":"Calc!I103","v":0.55000000000000004},"Fraction of weight",0.55000000000000004,"Target pregnancy weight for dual-purpose cow/heifer",true]
[null,"BCS TPWf type 2",{"$f":"Calc!I104","v":0.6},"Fraction of weight",0.6,"Target pregnancy weight for Bos taurus cow/heifer",true]
[null,"BCS TPWf type 3",{"$f":"Calc!I105","v":0.65},"Fraction of weight",0.65,"Target pregnancy weight for Bos indicus cow/heifer",true]
[null,"BCS TPWf type 4",{"$f":"Calc!I106","v":0.55000000000000004},"Fraction of weight",0.55000000000000004,"Target pregnancy weight for dairy cow/heifer",true]
[null,"BCS TCW1 type 1",0.8,"Fraction of weight",0.8,"First target calving weight for dual-purpose heifer",true]
[null,"BCS TCW1 type 2",0.8,"Fraction of weight",0.8,"First target calving weight for Bos taurus heifer",true]
[null,"BCS TCW1 type 3",0.8,"Fraction of weight",0.8,"First target calving weight for Bos indicus heifer",true]
[null,"BCS TCW1 type 4",0.85,"Fraction of weight",0.85,"First target calving weight for dairy heifer",true]
[null,"BCS gestation type 1",280,"days",280,"Gestation length for dual-purpose cow/heifer",true]
[null,"BCS gestation type 2",280,"days",280,"Gestation length for Bos taurus cow/heifer",true]
[null,"BCS gestation type 3",280,"days",280,"Gestation length for Bos indicus cow/heifer",true]
[null,"BCS gestation type 4",280,"days",280,"Gestation length for dairy cow/heifer",true]
[null,"BCS lactation type 1",305,"days",305,"Lactation length for dual-purpose cow/heifer",true]
[null,"BCS lactation type 2",305,"days",305,"Lactation length for Bos taurus cow/heifer",true]
[null,"BCS lactation type 3",305,"days",305,"Lactation length for Bos indicus cow/heifer",true]
[null,"BCS lactation type 4",305,"days",305,"Lactation length for dairy cow/heifer",true]
[null,"Microbial true protein (MTP)",{"$f":"Calc!BH89","v":0.8},"g/g",0.8,null,true]
[null,"Intestinal digestion (ID): MCP",{"$f":"Calc!BH90","v":0.8},"g/g",0.8,null,true]
[null,"RUP ID (<100% forage,default=0.8)",{"$f":"Calc!BH91","v":0.8},"g/g",0.8,"Ruminally undegraded protein intestinal digestibility",true]
[null,"RUP ID (100% forage,default=0.6)",{"$f":"Calc!BH92","v":0.6},"g/g",0.6,"Ruminally undegraded protein intestinal digestibility",true]
[null,"Microbial crude protein (MCP)",{"$f":"Calc!BH93","v":62.5},"%DM",62.5,null,true]
[null,"Microbial carbohydrate",{"$f":"Calc!BH94","v":21.1},"%DM",21.1,null,true]
[null,"Microbial ash",{"$f":"Calc!BH95","v":4.4000000000000004},"%DM",4.4000000000000004,null,true]
[null,"Microbial fat",{"$f":"Calc!BH96","v":12},"%DM",12,null,true]
[null,"Efficiency of RDP for MCP",{"$f":"Calc!BH97","v":100},"%",100,null,true]
[null,"Lignin factor to compute CC",{"$f":"Calc!BH98","v":2.4},"g/g",2.4,null,true]
[null,"Methane conversion",{"$f":"Calc!BO32","v":4.18},"MJ/Mcal",4.1840000000000002,"1 Mcal = 4.184 MJ",false]
[null,"Methane conversion",{"$f":"Calc!BO33","v":55.65},"MJ/Kg",55.65,"1 kg Methane = 55.65 MJ",{"$f":"C34=E34","v":true}]
[null,"Methane conversion",{"$f":"Calc!BO34","v":0.66},"g/L (25oC @ 1 atm)",0.65559999999999996,"1 L Methane = 0.6556 g Methane",false]
[null,"Methane conversion",{"$f":"Calc!BO35","v":16},"g/mol",16,"1 mol Methane = 16 g Methane",true]
[null,"Bacteria CW Arginine",{"$f":"Calc!AZ172","v":3.82},"g/100 g",3.82,"Bacterial cell wall content of Arginine",true]
[null,"Bacteria CW Histidine",{"$f":"Calc!AZ173","v":1.74},"g/100 g",1.74,"Bacterial cell wall content of Histidine",true]
[null,"Bacteria CW Isoleucine",{"$f":"Calc!AZ174","v":4},"g/100 g",4,"Bacterial cell wall content of Isoleucine",true]
[null,"Bacteria CW Leucine",{"$f":"Calc!AZ175","v":5.9},"g/100 g",5.9,"Bacterial cell wall content of Leucine",true]
[null,"Bacteria CW Lysine",{"$f":"Calc!AZ176","v":5.6},"g/100 g",5.6,"Bacterial cell wall content of Lysine",true]
[null,"Bacteria CW Methionine",{"$f":"Calc!AZ177","v":2.4},"g/100 g",2.4,"Bacterial cell wall content of Methionine",true]
[null,"Bacteria CW Cysteine",{"$f":"Calc!AZ178","v":0},"g/100 g",0,"Bacterial cell wall content of Cysteine",true]
[null,"Bacteria CW Phenylalanine",{"$f":"Calc!AZ179","v":4.2},"g/100 g",4.2,"Bacterial cell wall content of Phenylalanine",true]
[null,"Bacteria CW Tyrosine",{"$f":"Calc!AZ180","v":4.32},"g/100 g",4.32,"Bacterial cell wall content of Tyrosine",true]
[null,"Bacteria CW Threonine",{"$f":"Calc!AZ181","v":3.3},"g/100 g",3.3,"Bacterial cell wall content of Threonine",true]
[null,"Bacteria CW Tryptophan",{"$f":"Calc!AZ182","v":1.63},"g/100 g",1.63,"Bacterial cell wall content of Tryptophan",true]
[null,"Bacteria CW Valine",{"$f":"Calc!AZ183","v":4.7},"g/100 g",4.7,"Bacterial cell wall content of Valine",true]
[null,"Bacteria NCW Arginine",{"$f":"Calc!BA172","v":6.96},"g/100 g",6.96,"Bacterial noncell wall content of Arginine",true]
[null,"Bacteria NCW Histidine",{"$f":"Calc!BA173","v":2.69},"g/100 g",2.69,"Bacterial noncell wall content of Histidine",true]
[null,"Bacteria NCW Isoleucine",{"$f":"Calc!BA174","v":5.88},"g/100 g",5.88,"Bacterial noncell wall content of Isoleucine",true]
[null,"Bacteria NCW Leucine",{"$f":"Calc!BA175","v":7.51},"g/100 g",7.51,"Bacterial noncell wall content of Leucine",true]
[null,"Bacteria NCW Lysine",{"$f":"Calc!BA176","v":8.1999999999999993},"g/100 g",8.1999999999999993,"Bacterial noncell wall content of Lysine",true]
[null,"Bacteria NCW Methionine",{"$f":"Calc!BA177","v":2.68},"g/100 g",2.68,"Bacterial noncell wall content of Methionine",true]
[null,"Bacteria NCW Cysteine",{"$f":"Calc!BA178","v":0},"g/100 g",0,"Bacterial noncell wall content of Cysteine",true]
[null,"Bacteria NCW Phenylalanine",{"$f":"Calc!BA179","v":5.16},"g/100 g",5.16,"Bacterial noncell wall content of Phenylalanine",true]
[null,"Bacteria NCW Tyrosine",{"$f":"Calc!BA180","v":4.32},"g/100 g",4.32,"Bacterial noncell wall content of Tyrosine",true]
[null,"Bacteria NCW Threonine",{"$f":"Calc!BA181","v":5.59},"g/100 g",5.59,"Bacterial noncell wall content of Threonine",true]
[null,"Bacteria NCW Tryptophan",{"$f":"Calc!BA182","v":1.63},"g/100 g",1.63,"Bacterial noncell wall content of Tryptophan",true]
[null,"Bacteria NCW Valine",{"$f":"Calc!BA183","v":6.16},"g/100 g",6.16,"Bacterial noncell wall content of Valine",true]
[null,"Bacteria average Arginine",{"$f":"Calc!BB172","v":5.0999999999999996},"g/100 g",5.0999999999999996,null,true]
[null,"Bacteria average Histidine",{"$f":"Calc!BB173","v":2},"g/100 g",2,null,true]
[null,"Bacteria average Isoleucine",{"$f":"Calc!BB174","v":5.7},"g/100 g",5.7,null,true]
[null,"Bacteria average Leucine",{"$f":"Calc!BB175","v":8.1},"g/100 g",8.1,null,true]
[null,"Bacteria average Lysine",{"$f":"Calc!BB176","v":7.9},"g/100 g",7.9,null,true]
[null,"Bacteria average Methionine",{"$f":"Calc!BB177","v":2.6},"g/100 g",2.6,null,{"$f":"C66=E66","v":true}]
[null,"Bacteria average Cysteine",{"$f":"Calc!BB178","v":0},"g/100 g",0,null,true]
[null,"Bacteria average Phenylalanine",{"$f":"Calc!BB179","v":5.0999999999999996},"g/100 g",5.0999999999999996,null,true]
[null,"Bacteria average Tyrosine",{"$f":"Calc!BB180","v":4.32},"g/100 g",4.32,null,true]
[null,"Bacteria average Threonine",{"$f":"Calc!BB181","v":5.8},"g/100 g",5.8,null,true]
[null,"Bacteria average Tryptophan",{"$f":"Calc!BB182","v":1.63},"g/100 g",1.63,null,true]
[null,"Bacteria average Valine",{"$f":"Calc!BB183","v":6.2},"g/100 g",6.2,null,true]
[null,"Max NFC bacteria yield (YG1)",{"$f":"Calc!BC241","v":0.4},"g/g/h",0.4,null,true]
[null,"Max FC bacteria yield (YG2)",{"$f":"Calc!BC242","v":0.4},"g/g/h",0.4,null,true]
[null,"Maintenance NFC bact. (KM1)",{"$f":"Calc!BC243","v":0.15},"g/g/h",0.15,null,true]
[null,"Maintenance FC bact. (KM2)",{"$f":"Calc!BC244","v":0.05},"g/g/h",0.05,null,true]
[null,"Bacterial True Protein (BTP)",{"$f":"Calc!BC245","v":60},"% MCP",60,null,true]
[null,"Bact. Cell Wall Protein (BCWP)",{"$f":"Calc!BC246","v":25},"% MCP",25,null,true]
[null,"Bacterial Nucleic Acids (BNA)",{"$f":"Calc!BC247","v":15},"% MCP",15,null,true]
[null,"CB3 intestinal digestibility",{"$f":"Calc!BC256","v":20},"%",20,null,true]
[null,"Fat intestinal digestibility",{"$f":"Calc!BC257","v":95},"%",95,null,true]
[null,"Ash intestinal digestibility",{"$f":"Calc!BC258","v":50},"%",50,null,true]
[null,"BCHO intestinal digestibility",{"$f":"Calc!BC259","v":95},"%",95,null,true]
[null,"BAFT intestinal digestibility",{"$f":"Calc!BC260","v":95},"%",95,null,true]
[null,"BASH intestinal digestibility",{"$f":"Calc!BC261","v":50},"%",50,null,true]
[null,"Fecal endogenous protein",{"$f":"Calc!BC262","v":30},"g/kg",30,null,true]
[null,"Fecal endogenous fat",{"$f":"Calc!BC263","v":11.9},"g/kg",11.9,null,true]
[null,"Fecal endogenous ash",{"$f":"Calc!BC264","v":17},"g/kg",17,null,true]
[null,"Digestible Energy from TDN",{"$f":"Calc!BC265","v":4.41},"Mcal/kg",4.4089999999999998,null,false]
[null,"NRC (1996, 2000) ionophore & fecal?",{"$f":"BN238","v":0},"0=FALSE",0,"Use NRC (1996, 2000) ionophore and fecal submodels?",true]
[null,"RDP/MCP efficiency = 100% for RNB?",{"$f":"BN239","v":0},"0=FALSE",0,"Use RDP/MCP efficiency of 100% for ruminal N balance?",true]
[null,{"$f":"IF(G92=88,\"DEFAULT parameters were used\",IF(88-G92>1,\"MODIFIED parameters (n = \"&TEXT(88-G92,\"##\")&\") were used\",\"MODIFIED parameter (n = \"&TEXT(88-G92,\"##\")&\") was used\"))","v":"MODIFIED parameters (n = 4) were used"},null,null,null,null,{"$f":"COUNTIF(G4:G91,\"=TRUE\")","v":84}]

{"sheet":"Calc","index":3,"n_rows":476,"n_cols":165,"rows_kept":476,"cut":false,"hidden":true,"merged":[[422,39,422,42],[450,35,450,38],[450,39,450,42],[450,43,450,48],[3,9,3,10],[124,25,124,26],[124,27,124,28],[123,18,123,28],[422,35,422,38],[422,43,422,46],[422,47,422,51],[226,36,226,40],[226,43,226,46],[199,49,199,56],[199,43,199,48],[199,35,199,42],[3,75,3,91],[422,52,422,56],[114,37,114,39],[86,37,86,42],[86,46,86,54],[310,35,310,46],[310,47,310,58],[282,44,282,46],[422,57,422,61],[142,36,142,45],[254,46,254,49],[254,43,254,45],[254,39,254,42],[142,47,142,58],[394,47,394,51],[394,43,394,46],[174,7,174,11],[170,7,170,11],[30,35,30,46],[30,47,30,53],[58,44,58,55],[46,55,46,59],[123,11,123,17],[123,7,123,10],[143,7,143,11],[143,13,143,17],[58,35,58,43],[3,50,3,54],[51,61,51,64],[3,63,3,74],[3,55,3,62],[58,56,58,58],[46,63,47,63],[36,67,36,68],[30,66,30,68],[30,62,30,64]]}
[]
[null,"REQUIREMENT SECTION",null,null,null,null,null,null,null,null,null,null,null,null,null,null,null,null,null,null,null,null,null,null,null,null,null,null,null,null,null,null,"SUPPLY SECTION",null,null,null,null,null,null,null,null,null,null,null,null,null,null,null,null,null,null,null,null,null,null,null,null,null,null,null,null,null,null,null,null,null,null,null,null,null,null,null,null,null,null,null,null,null,null,null,null,null,null,null,null,null,null,null,null,null,null,null,null,null,null,null,null,null,null,null,null,null,null,null,"NUTRIENT BALANCE SECTION"]
[]
[null,"Table R1. Maintenance",null,null,null,null,null,"Dietary energy",null,"Ionophore",null,"DE:ME",null,null,null,null,null,null,null,null,null,null,null,null,null,null,null,null,null,null,null,null,"Table S1. Feed composition",null,null,null,null,null,null,null,null,null,null,null,null,null,null,null,null,null,"Empirical solution",null,null,null,null,"Mechanistic solution",null,null,null,null,null,null,null,"Amino Acids",null,null,null,null,null,null,null,null,null,null,null,"Minerals and vitamins",null,null,null,null,null,null,null,null,null,null,null,null,null,null,null,null,null,null,null,null,null,null,null,null,null,null,null,null,"Table B1. Nitrogen fluxes and balance"]
[null,"Item","Acronym","Value","Units","Description",null,null,null,"Yes","No","Fixed",null,null,null,null,null,null,null,null,null,null,null,null,null,null,null,null,null,null,null,null,"#","ID","Feed","DM","DM","Cost, AF","Forage","DM","CP","SP","ADICP","Sugars","OA","Fat","Ash","Starch","NDF","Lignin","TDN 1x","ME 1x","NEma 1x","NEga 1x","RUP 1x","kd PB","kd CB1","kd CB2","kd CB3","PBID","CB1ID","CB2ID","pef","ARG","HIS","ILE","LEU","LYS","MET","CYS","PHE","TYR","THR","TRP","VAL","Ca","P","Mg","Cl","K","Na","S","Co","Cu","I","Fe","Mn","Se","Zn","VitA","VitD","VitE"]
[null,"Shrunk BW","SBW",{"$f":"AVERAGE(Inputs!F16,Inputs!F17)*0.96","v":480.95799691554021},"kg",null,null,"Diet ME, Mcal/kg",null,{"$f":"IF(parmSolution=1,IF(Inputs!F87=TRUE,AL112,AX112),AP308)","v":2.8380121131647966},{"$f":"J6/D16","v":2.7742053892129004},{"$f":"IF(parmSolution=1,IF(Inputs!F87=TRUE,AL112,IF(BC266=\"Variable\",0.82,BC266/100)*AV112*IF($BP$255=FALSE,$D$16,1)),IF(BC266=\"Variable\",0.82,BC266/100)*AM308*IF($BP$255=FALSE,$D$16,1))","v":2.8380121131647962},null,null,null,null,null,null,null,null,null,null,null,null,null,null,null,null,null,null,null,null,null,null,null,"kg/d","%","$/Tonne","%DM","%AF","%DM","%CP","%CP","%DM","%DM","%DM","%DM","%DM","%DM","%DM","%DM","Mcal/kg","Mcal/kg","Mcal/kg","%CP","%/h","%/h","%/h","%/h","%","%","%","%NDF","%DM","%DM","%DM","%DM","%DM","%DM","%DM","%DM","%DM","%DM","%DM","%DM","%DM","%DM","%DM","%DM","%DM","%DM","%DM","mg/kg","mg/kg","mg/kg","mg/kg","mg/kg","mg/kg","mg/kg","IU/g","IU/g","IU/kg",null,null,null,null,null,null,null,null,null,null,null,null,null,"N Fluxes, g/d",null,null,"ELS","MLS",null,"N balance, g/d","ELS","MLS"]
[null,"Metabolic SBW","MSBW",{"$f":"D6^0.75","v":102.70234563420529},"kg0.75",null,null,"Diet NEma, Mcal/kg",null,{"$f":"IF(parmSolution=1,IF(Inputs!F87=TRUE,AM112,AY112),AQ308)","v":1.8965929251031368},{"$f":"IF($BC$266=\"Variable\",1.1104*K6-0.0946*K6^2+0.0065*K6^3-0.7783,1.37*K6-0.138*K6^2+0.0105*K6^3-1.12)*IF($BP$255=TRUE,1/1.12,1)","v":1.842767906124168},{"$f":"(1.37*L6-0.138*L6^2+0.0105*L6^3-1.12)*IF($BP$255=TRUE,1/1.12,1)","v":1.8965929251031364},null,null,null,null,null,null,null,null,null,null,null,null,null,null,null,null,null,null,null,null,1,{"$f":"IF(Inputs!AI5<>\"\",Inputs!AI5,\"\")","v":301},{"$f":"IF(Inputs!AJ5<>\"\",Inputs!AJ5,\"\")","v":"Barley, Silage"},{"$f":"IF(OptimizingDMR,R171,IF(OptimizingTable,IF(AG7=1,Table!$B$5,0)/IF(parmUnit=1,1,2.2046),IF(OptimizingDiet,Optimizer!H5/IF(parmUnit=1,1,2.2046),IF(StochasticSimulation,IF(AG7=1,Stochastic!$G$10,0)/IF(parmUnit=1,1,2.2046),Inputs!AE5))))","v":2.2679851220175995},{"$f":"IF($AJ$84<>0,AJ7/$AJ$84,0)","v":0.20576131687242799},{"$f":"IF(ISNUMBER(Inputs!AK5),Inputs!AK5,0)*IF(parmUnit=1,1,2204.6/2000)","v":27.557500000000001},{"$f":"IF(ISNUMBER(Inputs!AL5),Inputs!AL5,0)","v":100},{"$f":"IF(ISNUMBER(Inputs!AM5),Inputs!AM5,0)","v":39},{"$f":"IF(ISNUMBER(Inputs!AN5),Inputs!AN5,0)","v":10.4},{"$f":"IF(ISNUMBER(Inputs!AO5),Inputs!AO5,0)","v":70},{"$f":"IF(ISNUMBER(Inputs!AP5),Inputs!AP5,0)","v":6.1},{"$f":"IF(ISNUMBER(Inputs!AQ5),Inputs!AQ5,0)","v":0},{"$f":"IF(ISNUMBER(Inputs!AR5),Inputs!AR5,0)","v":0},{"$f":"IF(ISNUMBER(Inputs!AS5),Inputs!AS5,0)","v":3},{"$f":"IF(ISNUMBER(Inputs!AT5),Inputs!AT5,0)","v":8},{"$f":"IF(ISNUMBER(Inputs!AU5),Inputs!AU5,0)","v":14.06},{"$f":"IF(ISNUMBER(Inputs!AV5),Inputs!AV5,0)","v":48.7},{"$f":"IF(ISNUMBER(Inputs!AW5),Inputs!AW5,0)","v":3.09},{"$f":"IF(ISNUMBER(Inputs!AX5),Inputs!AX5,0)","v":60},{"$f":"IF(ISNUMBER(Inputs!AY5),Inputs!AY5,0)*IF(parmUnit=1,1,2.2046)","v":2.1605080000000001},{"$f":"IF(ISNUMBER(Inputs!AZ5),Inputs!AZ5,0)*IF(parmUnit=1,1,2.2046)","v":1.3007139999999999},{"$f":"IF(ISNUMBER(Inputs!BA5),Inputs!BA5,0)*IF(parmUnit=1,1,2.2046)","v":0.72751800000000011},{"$f":"IF(ISNUMBER(Inputs!BB5),Inputs!BB5,0)","v":14},{"$f":"IF(ISNUMBER(Inputs!BC5),Inputs!BC5,0)","v":8.27},{"$f":"IF(ISNUMBER(Inputs!BD5),Inputs!BD5,0)","v":50},{"$f":"IF(ISNUMBER(Inputs!BE5),Inputs!BE5,0)","v":50},{"$f":"IF(ISNUMBER(Inputs!BF5),Inputs!BF5,0)","v":4},{"$f":"IF(ISNUMBER(Inputs!BG5),Inputs!BG5,0)","v":54},{"$f":"IF(ISNUMBER(Inputs!BH5),Inputs!BH5,0)","v":75},{"$f":"IF(ISNUMBER(Inputs!BI5),Inputs!BI5,0)","v":75},{"$f":"IF(ISNUMBER(Inputs!BJ5),Inputs!BJ5,0)","v":65},{"$f":"IF(ISNUMBER(Inputs!BK5),Inputs!BK5,0)","v":0.15},{"$f":"IF(ISNUMBER(Inputs!BL5),Inputs!BL5,0)","v":0.16},{"$f":"IF(ISNUMBER(Inputs!BM5),Inputs!BM5,0)","v":0.32},{"$f":"IF(ISNUMBER(Inputs!BN5),Inputs!BN5,0)","v":0.56999999999999995},{"$f":"IF(ISNUMBER(Inputs!BO5),Inputs!BO5,0)","v":0.32},{"$f":"IF(ISNUMBER(Inputs!BP5),Inputs!BP5,0)","v":0.15},{"$f":"IF(ISNUMBER(Inputs!BQ5),Inputs!BQ5,0)","v":0},{"$f":"IF(ISNUMBER(Inputs!BR5),Inputs!BR5,0)","v":0.35},{"$f":"IF(ISNUMBER(Inputs!BS5),Inputs!BS5,0)","v":0},{"$f":"IF(ISNUMBER(Inputs!BT5),Inputs!BT5,0)","v":0.35},{"$f":"IF(ISNUMBER(Inputs!BU5),Inputs!BU5,0)","v":0.12},{"$f":"IF(ISNUMBER(Inputs!BV5),Inputs!BV5,0)","v":0.49},{"$f":"IF(ISNUMBER(Inputs!BW5),Inputs!BW5,0)","v":0.52},{"$f":"IF(ISNUMBER(Inputs!BX5),Inputs!BX5,0)","v":0.28999999999999998},{"$f":"IF(ISNUMBER(Inputs!BY5),Inputs!BY5,0)","v":0.19},{"$f":"IF(ISNUMBER(Inputs!BZ5),Inputs!BZ5,0)","v":0.15},{"$f":"IF(ISNUMBER(Inputs!CA5),Inputs!CA5,0)","v":2.57},{"$f":"IF(ISNUMBER(Inputs!CB5),Inputs!CB5,0)","v":0.12},{"$f":"IF(ISNUMBER(Inputs!CC5),Inputs!CC5,0)","v":0.24},{"$f":"IF(ISNUMBER(Inputs!CD5),Inputs!CD5,0)","v":0.72},{"$f":"IF(ISNUMBER(Inputs!CE5),Inputs!CE5,0)","v":7.7},{"$f":"IF(ISNUMBER(Inputs!CF5),Inputs!CF5,0)","v":0},{"$f":"IF(ISNUMBER(Inputs!CG5),Inputs!CG5,0)","v":375},{"$f":"IF(ISNUMBER(Inputs!CH5),Inputs!CH5,0)","v":44.8},{"$f":"IF(ISNUMBER(Inputs!CI5),Inputs!CI5,0)","v":0.15},{"$f":"IF(ISNUMBER(Inputs!CJ5),Inputs!CJ5,0)","v":24.5},{"$f":"IF(ISNUMBER(Inputs!CK5),Inputs!CK5,0)","v":0},{"$f":"IF(ISNUMBER(Inputs!CL5),Inputs!CL5,0)","v":0},{"$f":"IF(ISNUMBER(Inputs!CM5),Inputs!CM5,0)","v":0},null,null,null,null,null,null,null,null,null,null,null,null,null,"Intake N",null,null,{"$f":"AO84*1000/6.25","v":217.0008164746439},{"$f":"AO84*1000/6.25","v":217.0008164746439},null,"Intake",{"$f":"DE7","v":217.0008164746439},{"$f":"DF7","v":217.0008164746439}]
[null,"Basal metabolism","a1",7.6999999999999999E-2,"Mcal/kg0.75",null,null,"Diet NEga, Mcal/kg",null,{"$f":"IF(parmSolution=1,IF(Inputs!F87=TRUE,AN112,AZ112),AR308)","v":1.2573972747731395},{"$f":"IF($BC$266=\"Variable\",1.1376*K6-0.1198*K6^2+0.0076*K6^3-1.2979,1.42*K6-0.174*K6^2+0.0122*K6^3-1.65)","v":1.210710916563642},{"$f":"1.42*L6-0.174*L6^2+0.0122*L6^3-1.65","v":1.2573972747731386},null,null,null,null,null,null,null,null,null,null,null,null,null,null,null,null,null,null,null,null,2,{"$f":"IF(Inputs!AI6<>\"\",Inputs!AI6,\"\")","v":402},{"$f":"IF(Inputs!AJ6<>\"\",Inputs!AJ6,\"\")","v":"Barley Grain, Heavy"},{"$f":"IF(OptimizingDMR,R172,IF(OptimizingTable,IF(AG8=1,Table!$B$5,0)/IF(parmUnit=1,1,2.2046),IF(OptimizingDiet,Optimizer!H6/IF(parmUnit=1,1,2.2046),IF(StochasticSimulation,IF(AG8=1,Stochastic!$G$10,0)/IF(parmUnit=1,1,2.2046),Inputs!AE6))))","v":8.6183434636668785},0.78189300411522644,{"$f":"IF(ISNUMBER(Inputs!AK6),Inputs!AK6,0)*IF(parmUnit=1,1,2204.6/2000)","v":132.27600000000001},{"$f":"IF(ISNUMBER(Inputs!AL6),Inputs!AL6,0)","v":0},{"$f":"IF(ISNUMBER(Inputs!AM6),Inputs!AM6,0)","v":88},{"$f":"IF(ISNUMBER(Inputs!AN6),Inputs!AN6,0)","v":13},{"$f":"IF(ISNUMBER(Inputs!AO6),Inputs!AO6,0)","v":17},{"$f":"IF(ISNUMBER(Inputs!AP6),Inputs!AP6,0)","v":5},{"$f":"IF(ISNUMBER(Inputs!AQ6),Inputs!AQ6,0)","v":0},{"$f":"IF(ISNUMBER(Inputs!AR6),Inputs!AR6,0)","v":0},{"$f":"IF(ISNUMBER(Inputs!AS6),Inputs!AS6,0)","v":2.1},{"$f":"IF(ISNUMBER(Inputs!AT6),Inputs!AT6,0)","v":3},{"$f":"IF(ISNUMBER(Inputs!AU6),Inputs!AU6,0)","v":57.69},{"$f":"IF(ISNUMBER(Inputs!AV6),Inputs!AV6,0)","v":19},{"$f":"IF(ISNUMBER(Inputs!AW6),Inputs!AW6,0)","v":1.91},{"$f":"IF(ISNUMBER(Inputs!AX6),Inputs!AX6,0)","v":84},{"$f":"IF(ISNUMBER(Inputs!AY6),Inputs!AY6,0)*IF(parmUnit=1,1,2.2046)","v":3.0423480000000001},{"$f":"IF(ISNUMBER(Inputs!AZ6),Inputs!AZ6,0)*IF(parmUnit=1,1,2.2046)","v":2.0723240000000001},{"$f":"IF(ISNUMBER(Inputs!BA6),Inputs!BA6,0)*IF(parmUnit=1,1,2.2046)","v":1.3888980000000002},{"$f":"IF(ISNUMBER(Inputs!BB6),Inputs!BB6,0)","v":33.07},{"$f":"IF(ISNUMBER(Inputs!BC6),Inputs!BC6,0)","v":10.4},{"$f":"IF(ISNUMBER(Inputs!BD6),Inputs!BD6,0)","v":30},{"$f":"IF(ISNUMBER(Inputs!BE6),Inputs!BE6,0)","v":30},{"$f":"IF(ISNUMBER(Inputs!BF6),Inputs!BF6,0)","v":5},{"$f":"IF(ISNUMBER(Inputs!BG6),Inputs!BG6,0)","v":79.2},{"$f":"IF(ISNUMBER(Inputs!BH6),Inputs!BH6,0)","v":75},{"$f":"IF(ISNUMBER(Inputs!BI6),Inputs!BI6,0)","v":75},{"$f":"IF(ISNUMBER(Inputs!BJ6),Inputs!BJ6,0)","v":34},{"$f":"IF(ISNUMBER(Inputs!BK6),Inputs!BK6,0)","v":0.43},{"$f":"IF(ISNUMBER(Inputs!BL6),Inputs!BL6,0)","v":0.2},{"$f":"IF(ISNUMBER(Inputs!BM6),Inputs!BM6,0)","v":0.35},{"$f":"IF(ISNUMBER(Inputs!BN6),Inputs!BN6,0)","v":0.61},{"$f":"IF(ISNUMBER(Inputs!BO6),Inputs!BO6,0)","v":0.27},{"$f":"IF(ISNUMBER(Inputs!BP6),Inputs!BP6,0)","v":7.0000000000000007E-2},{"$f":"IF(ISNUMBER(Inputs!BQ6),Inputs!BQ6,0)","v":0},{"$f":"IF(ISNUMBER(Inputs!BR6),Inputs!BR6,0)","v":0.5},{"$f":"IF(ISNUMBER(Inputs!BS6),Inputs!BS6,0)","v":0},{"$f":"IF(ISNUMBER(Inputs!BT6),Inputs!BT6,0)","v":0.28000000000000003},{"$f":"IF(ISNUMBER(Inputs!BU6),Inputs!BU6,0)","v":0.11},{"$f":"IF(ISNUMBER(Inputs!BV6),Inputs!BV6,0)","v":0.43},{"$f":"IF(ISNUMBER(Inputs!BW6),Inputs!BW6,0)","v":0.05},{"$f":"IF(ISNUMBER(Inputs!BX6),Inputs!BX6,0)","v":0.35},{"$f":"IF(ISNUMBER(Inputs!BY6),Inputs!BY6,0)","v":0.12},{"$f":"IF(ISNUMBER(Inputs!BZ6),Inputs!BZ6,0)","v":0.28999999999999998},{"$f":"IF(ISNUMBER(Inputs!CA6),Inputs!CA6,0)","v":0.56999999999999995},{"$f":"IF(ISNUMBER(Inputs!CB6),Inputs!CB6,0)","v":0.01},{"$f":"IF(ISNUMBER(Inputs!CC6),Inputs!CC6,0)","v":0.15},{"$f":"IF(ISNUMBER(Inputs!CD6),Inputs!CD6,0)","v":0.35},{"$f":"IF(ISNUMBER(Inputs!CE6),Inputs!CE6,0)","v":5.3},{"$f":"IF(ISNUMBER(Inputs!CF6),Inputs!CF6,0)","v":0.05},{"$f":"IF(ISNUMBER(Inputs!CG6),Inputs!CG6,0)","v":59.5},{"$f":"IF(ISNUMBER(Inputs!CH6),Inputs!CH6,0)","v":18.3},{"$f":"IF(ISNUMBER(Inputs!CI6),Inputs!CI6,0)","v":0.18},{"$f":"IF(ISNUMBER(Inputs!CJ6),Inputs!CJ6,0)","v":13},{"$f":"IF(ISNUMBER(Inputs!CK6),Inputs!CK6,0)","v":3.8},{"$f":"IF(ISNUMBER(Inputs!CL6),Inputs!CL6,0)","v":0},{"$f":"IF(ISNUMBER(Inputs!CM6),Inputs!CM6,0)","v":26.2},null,null,null,null,null,null,null,null,null,null,null,null,null,null,"Metabolizable N",null,{"$f":"AN140*1000/6.25","v":131.58854301877892},{"$f":"AU308*1000/6.25","v":162.28855920031913},null,"Urinary",{"$f":"DE14","v":117.63337870465556},{"$f":"DF14","v":113.20911371203722}]
[null,"Acclimatization","a2",{"$f":"IF(Inputs!F81=TRUE,0.0007*(20-Inputs!F65),0)","v":1.0888888888888889E-2},"Mcal/kg0.75",null,null,"% Concentrate",null,{"$f":"IF(AJ84<>0,CDMI/AJ84,0)","v":0.79423868312757206},null,null,null,null,null,null,null,null,null,null,null,null,null,null,null,null,null,null,null,null,null,null,3,{"$f":"IF(Inputs!AI7<>\"\",Inputs!AI7,\"\")","v":800},{"$f":"IF(Inputs!AJ7<>\"\",Inputs!AJ7,\"\")","v":"Minerals "},{"$f":"IF(OptimizingDMR,R173,IF(OptimizingTable,IF(AG9=1,Table!$B$5,0)/IF(parmUnit=1,1,2.2046),IF(OptimizingDiet,Optimizer!H7/IF(parmUnit=1,1,2.2046),IF(StochasticSimulation,IF(AG9=1,Stochastic!$G$10,0)/IF(parmUnit=1,1,2.2046),Inputs!AE7))))","v":0.13607910732105596},1.2345679012345678E-2,{"$f":"IF(ISNUMBER(Inputs!AK7),Inputs!AK7,0)*IF(parmUnit=1,1,2204.6/2000)","v":220.46},{"$f":"IF(ISNUMBER(Inputs!AL7),Inputs!AL7,0)","v":0},{"$f":"IF(ISNUMBER(Inputs!AM7),Inputs!AM7,0)","v":99},{"$f":"IF(ISNUMBER(Inputs!AN7),Inputs!AN7,0)","v":0},{"$f":"IF(ISNUMBER(Inputs!AO7),Inputs!AO7,0)","v":0},{"$f":"IF(ISNUMBER(Inputs!AP7),Inputs!AP7,0)","v":0},{"$f":"IF(ISNUMBER(Inputs!AQ7),Inputs!AQ7,0)","v":0},{"$f":"IF(ISNUMBER(Inputs!AR7),Inputs!AR7,0)","v":0},{"$f":"IF(ISNUMBER(Inputs!AS7),Inputs!AS7,0)","v":0},{"$f":"IF(ISNUMBER(Inputs!AT7),Inputs!AT7,0)","v":100},{"$f":"IF(ISNUMBER(Inputs!AU7),Inputs!AU7,0)","v":0},{"$f":"IF(ISNUMBER(Inputs!AV7),Inputs!AV7,0)","v":0},{"$f":"IF(ISNUMBER(Inputs!AW7),Inputs!AW7,0)","v":0},{"$f":"IF(ISNUMBER(Inputs!AX7),Inputs!AX7,0)","v":0},{"$f":"IF(ISNUMBER(Inputs!AY7),Inputs!AY7,0)*IF(parmUnit=1,1,2.2046)","v":0},{"$f":"IF(ISNUMBER(Inputs!AZ7),Inputs!AZ7,0)*IF(parmUnit=1,1,2.2046)","v":0},{"$f":"IF(ISNUMBER(Inputs!BA7),Inputs!BA7,0)*IF(parmUnit=1,1,2.2046)","v":0},{"$f":"IF(ISNUMBER(Inputs!BB7),Inputs!BB7,0)","v":100},{"$f":"IF(ISNUMBER(Inputs!BC7),Inputs!BC7,0)","v":0},{"$f":"IF(ISNUMBER(Inputs!BD7),Inputs!BD7,0)","v":0},{"$f":"IF(ISNUMBER(Inputs!BE7),Inputs!BE7,0)","v":0},{"$f":"IF(ISNUMBER(Inputs!BF7),Inputs!BF7,0)","v":0},{"$f":"IF(ISNUMBER(Inputs!BG7),Inputs!BG7,0)","v":0},{"$f":"IF(ISNUMBER(Inputs!BH7),Inputs!BH7,0)","v":0},{"$f":"IF(ISNUMBER(Inputs!BI7),Inputs!BI7,0)","v":75},{"$f":"IF(ISNUMBER(Inputs!BJ7),Inputs!BJ7,0)","v":0},{"$f":"IF(ISNUMBER(Inputs!BK7),Inputs!BK7,0)","v":0},{"$f":"IF(ISNUMBER(Inputs!BL7),Inputs!BL7,0)","v":0},{"$f":"IF(ISNUMBER(Inputs!BM7),Inputs!BM7,0)","v":0},{"$f":"IF(ISNUMBER(Inputs!BN7),Inputs!BN7,0)","v":0},{"$f":"IF(ISNUMBER(Inputs!BO7),Inputs!BO7,0)","v":0},{"$f":"IF(ISNUMBER(Inputs!BP7),Inputs!BP7,0)","v":0},{"$f":"IF(ISNUMBER(Inputs!BQ7),Inputs!BQ7,0)","v":0},{"$f":"IF(ISNUMBER(Inputs!BR7),Inputs!BR7,0)","v":0},{"$f":"IF(ISNUMBER(Inputs!BS7),Inputs!BS7,0)","v":0},{"$f":"IF(ISNUMBER(Inputs!BT7),Inputs!BT7,0)","v":0},{"$f":"IF(ISNUMBER(Inputs!BU7),Inputs!BU7,0)","v":0},{"$f":"IF(ISNUMBER(Inputs!BV7),Inputs!BV7,0)","v":0},{"$f":"IF(ISNUMBER(Inputs!BW7),Inputs!BW7,0)","v":0},{"$f":"IF(ISNUMBER(Inputs!BX7),Inputs!BX7,0)","v":0},{"$f":"IF(ISNUMBER(Inputs!BY7),Inputs!BY7,0)","v":0},{"$f":"IF(ISNUMBER(Inputs!BZ7),Inputs!BZ7,0)","v":0},{"$f":"IF(ISNUMBER(Inputs!CA7),Inputs!CA7,0)","v":0},{"$f":"IF(ISNUMBER(Inputs!CB7),Inputs!CB7,0)","v":0},{"$f":"IF(ISNUMBER(Inputs!CC7),Inputs!CC7,0)","v":0},{"$f":"IF(ISNUMBER(Inputs!CD7),Inputs!CD7,0)","v":0},{"$f":"IF(ISNUMBER(Inputs!CE7),Inputs!CE7,0)","v":0},{"$f":"IF(ISNUMBER(Inputs!CF7),Inputs!CF7,0)","v":0},{"$f":"IF(ISNUMBER(Inputs!CG7),Inputs!CG7,0)","v":0},{"$f":"IF(ISNUMBER(Inputs!CH7),Inputs!CH7,0)","v":0},{"$f":"IF(ISNUMBER(Inputs!CI7),Inputs!CI7,0)","v":0},{"$f":"IF(ISNUMBER(Inputs!CJ7),Inputs!CJ7,0)","v":0},{"$f":"IF(ISNUMBER(Inputs!CK7),Inputs!CK7,0)","v":0},{"$f":"IF(ISNUMBER(Inputs!CL7),Inputs!CL7,0)","v":0},{"$f":"IF(ISNUMBER(Inputs!CM7),Inputs!CM7,0)","v":0},null,null,null,null,null,null,null,null,null,null,null,null,null,null,"Net N required",null,null,null,null,"Milk",{"$f":"DE12","v":0},{"$f":"DF12","v":0}]
[null,"Breed factor","BE",{"$f":"Inputs!L49","v":1},null,null,null,null,null,null,null,null,null,null,null,null,null,null,null,null,null,null,null,null,null,null,null,null,null,null,null,null,4,{"$f":"IF(Inputs!AI8<>\"\",Inputs!AI8,\"\")","v":""},{"$f":"IF(Inputs!AJ8<>\"\",Inputs!AJ8,\"\")","v":""},{"$f":"IF(OptimizingDMR,R174,IF(OptimizingTable,IF(AG10=1,Table!$B$5,0)/IF(parmUnit=1,1,2.2046),IF(OptimizingDiet,Optimizer!H8/IF(parmUnit=1,1,2.2046),IF(StochasticSimulation,IF(AG10=1,Stochastic!$G$10,0)/IF(parmUnit=1,1,2.2046),Inputs!AE8))))","v":0},0,{"$f":"IF(ISNUMBER(Inputs!AK8),Inputs!AK8,0)*IF(parmUnit=1,1,2204.6/2000)","v":0},{"$f":"IF(ISNUMBER(Inputs!AL8),Inputs!AL8,0)","v":0},{"$f":"IF(ISNUMBER(Inputs!AM8),Inputs!AM8,0)","v":0},{"$f":"IF(ISNUMBER(Inputs!AN8),Inputs!AN8,0)","v":0},{"$f":"IF(ISNUMBER(Inputs!AO8),Inputs!AO8,0)","v":0},{"$f":"IF(ISNUMBER(Inputs!AP8),Inputs!AP8,0)","v":0},{"$f":"IF(ISNUMBER(Inputs!AQ8),Inputs!AQ8,0)","v":0},{"$f":"IF(ISNUMBER(Inputs!AR8),Inputs!AR8,0)","v":0},{"$f":"IF(ISNUMBER(Inputs!AS8),Inputs!AS8,0)","v":0},{"$f":"IF(ISNUMBER(Inputs!AT8),Inputs!AT8,0)","v":0},{"$f":"IF(ISNUMBER(Inputs!AU8),Inputs!AU8,0)","v":0},{"$f":"IF(ISNUMBER(Inputs!AV8),Inputs!AV8,0)","v":0},{"$f":"IF(ISNUMBER(Inputs!AW8),Inputs!AW8,0)","v":0},{"$f":"IF(ISNUMBER(Inputs!AX8),Inputs!AX8,0)","v":0},{"$f":"IF(ISNUMBER(Inputs!AY8),Inputs!AY8,0)*IF(parmUnit=1,1,2.2046)","v":0},{"$f":"IF(ISNUMBER(Inputs!AZ8),Inputs!AZ8,0)*IF(parmUnit=1,1,2.2046)","v":0},{"$f":"IF(ISNUMBER(Inputs!BA8),Inputs!BA8,0)*IF(parmUnit=1,1,2.2046)","v":0},{"$f":"IF(ISNUMBER(Inputs!BB8),Inputs!BB8,0)","v":0},{"$f":"IF(ISNUMBER(Inputs!BC8),Inputs!BC8,0)","v":0},{"$f":"IF(ISNUMBER(Inputs!BD8),Inputs!BD8,0)","v":0},{"$f":"IF(ISNUMBER(Inputs!BE8),Inputs!BE8,0)","v":0},{"$f":"IF(ISNUMBER(Inputs!BF8),Inputs!BF8,0)","v":0},{"$f":"IF(ISNUMBER(Inputs!BG8),Inputs!BG8,0)","v":0},{"$f":"IF(ISNUMBER(Inputs!BH8),Inputs!BH8,0)","v":0},{"$f":"IF(ISNUMBER(Inputs!BI8),Inputs!BI8,0)","v":0},{"$f":"IF(ISNUMBER(Inputs!BJ8),Inputs!BJ8,0)","v":0},{"$f":"IF(ISNUMBER(Inputs!BK8),Inputs!BK8,0)","v":0},{"$f":"IF(ISNUMBER(Inputs!BL8),Inputs!BL8,0)","v":0},{"$f":"IF(ISNUMBER(Inputs!BM8),Inputs!BM8,0)","v":0},{"$f":"IF(ISNUMBER(Inputs!BN8),Inputs!BN8,0)","v":0},{"$f":"IF(ISNUMBER(Inputs!BO8),Inputs!BO8,0)","v":0},{"$f":"IF(ISNUMBER(Inputs!BP8),Inputs!BP8,0)","v":0},{"$f":"IF(ISNUMBER(Inputs!BQ8),Inputs!BQ8,0)","v":0},{"$f":"IF(ISNUMBER(Inputs!BR8),Inputs!BR8,0)","v":0},{"$f":"IF(ISNUMBER(Inputs!BS8),Inputs!BS8,0)","v":0},{"$f":"IF(ISNUMBER(Inputs!BT8),Inputs!BT8,0)","v":0},{"$f":"IF(ISNUMBER(Inputs!BU8),Inputs!BU8,0)","v":0},{"$f":"IF(ISNUMBER(Inputs!BV8),Inputs!BV8,0)","v":0},{"$f":"IF(ISNUMBER(Inputs!BW8),Inputs!BW8,0)","v":0},{"$f":"IF(ISNUMBER(Inputs!BX8),Inputs!BX8,0)","v":0},{"$f":"IF(ISNUMBER(Inputs!BY8),Inputs!BY8,0)","v":0},{"$f":"IF(ISNUMBER(Inputs!BZ8),Inputs!BZ8,0)","v":0},{"$f":"IF(ISNUMBER(Inputs!CA8),Inputs!CA8,0)","v":0},{"$f":"IF(ISNUMBER(Inputs!CB8),Inputs!CB8,0)","v":0},{"$f":"IF(ISNUMBER(Inputs!CC8),Inputs!CC8,0)","v":0},{"$f":"IF(ISNUMBER(Inputs!CD8),Inputs!CD8,0)","v":0},{"$f":"IF(ISNUMBER(Inputs!CE8),Inputs!CE8,0)","v":0},{"$f":"IF(ISNUMBER(Inputs!CF8),Inputs!CF8,0)","v":0},{"$f":"IF(ISNUMBER(Inputs!CG8),Inputs!CG8,0)","v":0},{"$f":"IF(ISNUMBER(Inputs!CH8),Inputs!CH8,0)","v":0},{"$f":"IF(ISNUMBER(Inputs!CI8),Inputs!CI8,0)","v":0},{"$f":"IF(ISNUMBER(Inputs!CJ8),Inputs!CJ8,0)","v":0},{"$f":"IF(ISNUMBER(Inputs!CK8),Inputs!CK8,0)","v":0},{"$f":"IF(ISNUMBER(Inputs!CL8),Inputs!CL8,0)","v":0},{"$f":"IF(ISNUMBER(Inputs!CM8),Inputs!CM8,0)","v":0},null,null,null,null,null,null,null,null,null,null,null,null,null,null,null,"Growth",{"$f":"D97/6.25","v":30.178845687811481},{"$f":"D97/6.25","v":30.178845687811481},null,"Fecal",{"$f":"DE15","v":69.188592082176868},{"$f":"DF15","v":73.612857074795201}]
[null,"Lactation factor","L",{"$f":"IF(parmAnClass=2,Inputs!M49,1)","v":1},null,null,null,null,null,null,null,null,null,null,null,null,null,null,null,null,null,null,null,null,null,null,null,null,null,null,null,null,5,{"$f":"IF(Inputs!AI9<>\"\",Inputs!AI9,\"\")","v":""},{"$f":"IF(Inputs!AJ9<>\"\",Inputs!AJ9,\"\")","v":""},{"$f":"IF(OptimizingDMR,R175,IF(OptimizingTable,IF(AG11=1,Table!$B$5,0)/IF(parmUnit=1,1,2.2046),IF(OptimizingDiet,Optimizer!H9/IF(parmUnit=1,1,2.2046),IF(StochasticSimulation,IF(AG11=1,Stochastic!$G$10,0)/IF(parmUnit=1,1,2.2046),Inputs!AE9))))","v":0},0,{"$f":"IF(ISNUMBER(Inputs!AK9),Inputs!AK9,0)*IF(parmUnit=1,1,2204.6/2000)","v":0},{"$f":"IF(ISNUMBER(Inputs!AL9),Inputs!AL9,0)","v":0},{"$f":"IF(ISNUMBER(Inputs!AM9),Inputs!AM9,0)","v":0},{"$f":"IF(ISNUMBER(Inputs!AN9),Inputs!AN9,0)","v":0},{"$f":"IF(ISNUMBER(Inputs!AO9),Inputs!AO9,0)","v":0},{"$f":"IF(ISNUMBER(Inputs!AP9),Inputs!AP9,0)","v":0},{"$f":"IF(ISNUMBER(Inputs!AQ9),Inputs!AQ9,0)","v":0},{"$f":"IF(ISNUMBER(Inputs!AR9),Inputs!AR9,0)","v":0},{"$f":"IF(ISNUMBER(Inputs!AS9),Inputs!AS9,0)","v":0},{"$f":"IF(ISNUMBER(Inputs!AT9),Inputs!AT9,0)","v":0},{"$f":"IF(ISNUMBER(Inputs!AU9),Inputs!AU9,0)","v":0},{"$f":"IF(ISNUMBER(Inputs!AV9),Inputs!AV9,0)","v":0},{"$f":"IF(ISNUMBER(Inputs!AW9),Inputs!AW9,0)","v":0},{"$f":"IF(ISNUMBER(Inputs!AX9),Inputs!AX9,0)","v":0},{"$f":"IF(ISNUMBER(Inputs!AY9),Inputs!AY9,0)*IF(parmUnit=1,1,2.2046)","v":0},{"$f":"IF(ISNUMBER(Inputs!AZ9),Inputs!AZ9,0)*IF(parmUnit=1,1,2.2046)","v":0},{"$f":"IF(ISNUMBER(Inputs!BA9),Inputs!BA9,0)*IF(parmUnit=1,1,2.2046)","v":0},{"$f":"IF(ISNUMBER(Inputs!BB9),Inputs!BB9,0)","v":0},{"$f":"IF(ISNUMBER(Inputs!BC9),Inputs!BC9,0)","v":0},{"$f":"IF(ISNUMBER(Inputs!BD9),Inputs!BD9,0)","v":0},{"$f":"IF(ISNUMBER(Inputs!BE9),Inputs!BE9,0)","v":0},{"$f":"IF(ISNUMBER(Inputs!BF9),Inputs!BF9,0)","v":0},{"$f":"IF(ISNUMBER(Inputs!BG9),Inputs!BG9,0)","v":0},{"$f":"IF(ISNUMBER(Inputs!BH9),Inputs!BH9,0)","v":0},{"$f":"IF(ISNUMBER(Inputs!BI9),Inputs!BI9,0)","v":0},{"$f":"IF(ISNUMBER(Inputs!BJ9),Inputs!BJ9,0)","v":0},{"$f":"IF(ISNUMBER(Inputs!BK9),Inputs!BK9,0)","v":0},{"$f":"IF(ISNUMBER(Inputs!BL9),Inputs!BL9,0)","v":0},{"$f":"IF(ISNUMBER(Inputs!BM9),Inputs!BM9,0)","v":0},{"$f":"IF(ISNUMBER(Inputs!BN9),Inputs!BN9,0)","v":0},{"$f":"IF(ISNUMBER(Inputs!BO9),Inputs!BO9,0)","v":0},{"$f":"IF(ISNUMBER(Inputs!BP9),Inputs!BP9,0)","v":0},{"$f":"IF(ISNUMBER(Inputs!BQ9),Inputs!BQ9,0)","v":0},{"$f":"IF(ISNUMBER(Inputs!BR9),Inputs!BR9,0)","v":0},{"$f":"IF(ISNUMBER(Inputs!BS9),Inputs!BS9,0)","v":0},{"$f":"IF(ISNUMBER(Inputs!BT9),Inputs!BT9,0)","v":0},{"$f":"IF(ISNUMBER(Inputs!BU9),Inputs!BU9,0)","v":0},{"$f":"IF(ISNUMBER(Inputs!BV9),Inputs!BV9,0)","v":0},{"$f":"IF(ISNUMBER(Inputs!BW9),Inputs!BW9,0)","v":0},{"$f":"IF(ISNUMBER(Inputs!BX9),Inputs!BX9,0)","v":0},{"$f":"IF(ISNUMBER(Inputs!BY9),Inputs!BY9,0)","v":0},{"$f":"IF(ISNUMBER(Inputs!BZ9),Inputs!BZ9,0)","v":0},{"$f":"IF(ISNUMBER(Inputs!CA9),Inputs!CA9,0)","v":0},{"$f":"IF(ISNUMBER(Inputs!CB9),Inputs!CB9,0)","v":0},{"$f":"IF(ISNUMBER(Inputs!CC9),Inputs!CC9,0)","v":0},{"$f":"IF(ISNUMBER(Inputs!CD9),Inputs!CD9,0)","v":0},{"$f":"IF(ISNUMBER(Inputs!CE9),Inputs!CE9,0)","v":0},{"$f":"IF(ISNUMBER(Inputs!CF9),Inputs!CF9,0)","v":0},{"$f":"IF(ISNUMBER(Inputs!CG9),Inputs!CG9,0)","v":0},{"$f":"IF(ISNUMBER(Inputs!CH9),Inputs!CH9,0)","v":0},{"$f":"IF(ISNUMBER(Inputs!CI9),Inputs!CI9,0)","v":0},{"$f":"IF(ISNUMBER(Inputs!CJ9),Inputs!CJ9,0)","v":0},{"$f":"IF(ISNUMBER(Inputs!CK9),Inputs!CK9,0)","v":0},{"$f":"IF(ISNUMBER(Inputs!CL9),Inputs!CL9,0)","v":0},{"$f":"IF(ISNUMBER(Inputs!CM9),Inputs!CM9,0)","v":0},null,null,null,null,null,null,null,null,null,null,null,null,null,null,null,"Pregnancy",{"$f":"D79/6.25","v":0},{"$f":"D79/6.25","v":0},null,"Balance",{"$f":"DI7-(DI8+DI9+DI10)","v":30.178845687811474},{"$f":"DJ7-(DJ8+DJ9+DJ10)","v":30.178845687811474}]
[null,"Plane of nutrition","COMP",{"$f":"0.8+(Inputs!F15-1)*0.05","v":1},null,null,null,null,null,null,null,null,null,null,null,null,null,null,null,null,null,null,null,null,null,null,null,null,null,null,null,null,6,{"$f":"IF(Inputs!AI10<>\"\",Inputs!AI10,\"\")","v":""},{"$f":"IF(Inputs!AJ10<>\"\",Inputs!AJ10,\"\")","v":""},{"$f":"IF(OptimizingDMR,R176,IF(OptimizingTable,IF(AG12=1,Table!$B$5,0)/IF(parmUnit=1,1,2.2046),IF(OptimizingDiet,Optimizer!H10/IF(parmUnit=1,1,2.2046),IF(StochasticSimulation,IF(AG12=1,Stochastic!$G$10,0)/IF(parmUnit=1,1,2.2046),Inputs!AE10))))","v":0},0,{"$f":"IF(ISNUMBER(Inputs!AK10),Inputs!AK10,0)*IF(parmUnit=1,1,2204.6/2000)","v":0},{"$f":"IF(ISNUMBER(Inputs!AL10),Inputs!AL10,0)","v":0},{"$f":"IF(ISNUMBER(Inputs!AM10),Inputs!AM10,0)","v":0},{"$f":"IF(ISNUMBER(Inputs!AN10),Inputs!AN10,0)","v":0},{"$f":"IF(ISNUMBER(Inputs!AO10),Inputs!AO10,0)","v":0},{"$f":"IF(ISNUMBER(Inputs!AP10),Inputs!AP10,0)","v":0},{"$f":"IF(ISNUMBER(Inputs!AQ10),Inputs!AQ10,0)","v":0},{"$f":"IF(ISNUMBER(Inputs!AR10),Inputs!AR10,0)","v":0},{"$f":"IF(ISNUMBER(Inputs!AS10),Inputs!AS10,0)","v":0},{"$f":"IF(ISNUMBER(Inputs!AT10),Inputs!AT10,0)","v":0},{"$f":"IF(ISNUMBER(Inputs!AU10),Inputs!AU10,0)","v":0},{"$f":"IF(ISNUMBER(Inputs!AV10),Inputs!AV10,0)","v":0},{"$f":"IF(ISNUMBER(Inputs!AW10),Inputs!AW10,0)","v":0},{"$f":"IF(ISNUMBER(Inputs!AX10),Inputs!AX10,0)","v":0},{"$f":"IF(ISNUMBER(Inputs!AY10),Inputs!AY10,0)*IF(parmUnit=1,1,2.2046)","v":0},{"$f":"IF(ISNUMBER(Inputs!AZ10),Inputs!AZ10,0)*IF(parmUnit=1,1,2.2046)","v":0},{"$f":"IF(ISNUMBER(Inputs!BA10),Inputs!BA10,0)*IF(parmUnit=1,1,2.2046)","v":0},{"$f":"IF(ISNUMBER(Inputs!BB10),Inputs!BB10,0)","v":0},{"$f":"IF(ISNUMBER(Inputs!BC10),Inputs!BC10,0)","v":0},{"$f":"IF(ISNUMBER(Inputs!BD10),Inputs!BD10,0)","v":0},{"$f":"IF(ISNUMBER(Inputs!BE10),Inputs!BE10,0)","v":0},{"$f":"IF(ISNUMBER(Inputs!BF10),Inputs!BF10,0)","v":0},{"$f":"IF(ISNUMBER(Inputs!BG10),Inputs!BG10,0)","v":0},{"$f":"IF(ISNUMBER(Inputs!BH10),Inputs!BH10,0)","v":0},{"$f":"IF(ISNUMBER(Inputs!BI10),Inputs!BI10,0)","v":0},{"$f":"IF(ISNUMBER(Inputs!BJ10),Inputs!BJ10,0)","v":0},{"$f":"IF(ISNUMBER(Inputs!BK10),Inputs!BK10,0)","v":0},{"$f":"IF(ISNUMBER(Inputs!BL10),Inputs!BL10,0)","v":0},{"$f":"IF(ISNUMBER(Inputs!BM10),Inputs!BM10,0)","v":0},{"$f":"IF(ISNUMBER(Inputs!BN10),Inputs!BN10,0)","v":0},{"$f":"IF(ISNUMBER(Inputs!BO10),Inputs!BO10,0)","v":0},{"$f":"IF(ISNUMBER(Inputs!BP10),Inputs!BP10,0)","v":0},{"$f":"IF(ISNUMBER(Inputs!BQ10),Inputs!BQ10,0)","v":0},{"$f":"IF(ISNUMBER(Inputs!BR10),Inputs!BR10,0)","v":0},{"$f":"IF(ISNUMBER(Inputs!BS10),Inputs!BS10,0)","v":0},{"$f":"IF(ISNUMBER(Inputs!BT10),Inputs!BT10,0)","v":0},{"$f":"IF(ISNUMBER(Inputs!BU10),Inputs!BU10,0)","v":0},{"$f":"IF(ISNUMBER(Inputs!BV10),Inputs!BV10,0)","v":0},{"$f":"IF(ISNUMBER(Inputs!BW10),Inputs!BW10,0)","v":0},{"$f":"IF(ISNUMBER(Inputs!BX10),Inputs!BX10,0)","v":0},{"$f":"IF(ISNUMBER(Inputs!BY10),Inputs!BY10,0)","v":0},{"$f":"IF(ISNUMBER(Inputs!BZ10),Inputs!BZ10,0)","v":0},{"$f":"IF(ISNUMBER(Inputs!CA10),Inputs!CA10,0)","v":0},{"$f":"IF(ISNUMBER(Inputs!CB10),Inputs!CB10,0)","v":0},{"$f":"IF(ISNUMBER(Inputs!CC10),Inputs!CC10,0)","v":0},{"$f":"IF(ISNUMBER(Inputs!CD10),Inputs!CD10,0)","v":0},{"$f":"IF(ISNUMBER(Inputs!CE10),Inputs!CE10,0)","v":0},{"$f":"IF(ISNUMBER(Inputs!CF10),Inputs!CF10,0)","v":0},{"$f":"IF(ISNUMBER(Inputs!CG10),Inputs!CG10,0)","v":0},{"$f":"IF(ISNUMBER(Inputs!CH10),Inputs!CH10,0)","v":0},{"$f":"IF(ISNUMBER(Inputs!CI10),Inputs!CI10,0)","v":0},{"$f":"IF(ISNUMBER(Inputs!CJ10),Inputs!CJ10,0)","v":0},{"$f":"IF(ISNUMBER(Inputs!CK10),Inputs!CK10,0)","v":0},{"$f":"IF(ISNUMBER(Inputs!CL10),Inputs!CL10,0)","v":0},{"$f":"IF(ISNUMBER(Inputs!CM10),Inputs!CM10,0)","v":0},null,null,null,null,null,null,null,null,null,null,null,null,null,null,null,"Lactation (milk)",{"$f":"D59/6.25","v":0},{"$f":"D59/6.25","v":0}]
[null,"Sex factor","SEX",{"$f":"IF(Inputs!F14=1,1.15,1)","v":1},null,"1.15 for bull or 1 for others",null,null,null,null,null,null,null,null,null,null,null,null,null,null,null,null,null,null,null,null,null,null,null,null,null,null,7,{"$f":"IF(Inputs!AI11<>\"\",Inputs!AI11,\"\")","v":""},{"$f":"IF(Inputs!AJ11<>\"\",Inputs!AJ11,\"\")","v":""},{"$f":"IF(OptimizingDMR,R177,IF(OptimizingTable,IF(AG13=1,Table!$B$5,0)/IF(parmUnit=1,1,2.2046),IF(OptimizingDiet,Optimizer!H11/IF(parmUnit=1,1,2.2046),IF(StochasticSimulation,IF(AG13=1,Stochastic!$G$10,0)/IF(parmUnit=1,1,2.2046),Inputs!AE11))))","v":0},0,{"$f":"IF(ISNUMBER(Inputs!AK11),Inputs!AK11,0)*IF(parmUnit=1,1,2204.6/2000)","v":0},{"$f":"IF(ISNUMBER(Inputs!AL11),Inputs!AL11,0)","v":0},{"$f":"IF(ISNUMBER(Inputs!AM11),Inputs!AM11,0)","v":0},{"$f":"IF(ISNUMBER(Inputs!AN11),Inputs!AN11,0)","v":0},{"$f":"IF(ISNUMBER(Inputs!AO11),Inputs!AO11,0)","v":0},{"$f":"IF(ISNUMBER(Inputs!AP11),Inputs!AP11,0)","v":0},{"$f":"IF(ISNUMBER(Inputs!AQ11),Inputs!AQ11,0)","v":0},{"$f":"IF(ISNUMBER(Inputs!AR11),Inputs!AR11,0)","v":0},{"$f":"IF(ISNUMBER(Inputs!AS11),Inputs!AS11,0)","v":0},{"$f":"IF(ISNUMBER(Inputs!AT11),Inputs!AT11,0)","v":0},{"$f":"IF(ISNUMBER(Inputs!AU11),Inputs!AU11,0)","v":0},{"$f":"IF(ISNUMBER(Inputs!AV11),Inputs!AV11,0)","v":0},{"$f":"IF(ISNUMBER(Inputs!AW11),Inputs!AW11,0)","v":0},{"$f":"IF(ISNUMBER(Inputs!AX11),Inputs!AX11,0)","v":0},{"$f":"IF(ISNUMBER(Inputs!AY11),Inputs!AY11,0)*IF(parmUnit=1,1,2.2046)","v":0},{"$f":"IF(ISNUMBER(Inputs!AZ11),Inputs!AZ11,0)*IF(parmUnit=1,1,2.2046)","v":0},{"$f":"IF(ISNUMBER(Inputs!BA11),Inputs!BA11,0)*IF(parmUnit=1,1,2.2046)","v":0},{"$f":"IF(ISNUMBER(Inputs!BB11),Inputs!BB11,0)","v":0},{"$f":"IF(ISNUMBER(Inputs!BC11),Inputs!BC11,0)","v":0},{"$f":"IF(ISNUMBER(Inputs!BD11),Inputs!BD11,0)","v":0},{"$f":"IF(ISNUMBER(Inputs!BE11),Inputs!BE11,0)","v":0},{"$f":"IF(ISNUMBER(Inputs!BF11),Inputs!BF11,0)","v":0},{"$f":"IF(ISNUMBER(Inputs!BG11),Inputs!BG11,0)","v":0},{"$f":"IF(ISNUMBER(Inputs!BH11),Inputs!BH11,0)","v":0},{"$f":"IF(ISNUMBER(Inputs!BI11),Inputs!BI11,0)","v":0},{"$f":"IF(ISNUMBER(Inputs!BJ11),Inputs!BJ11,0)","v":0},{"$f":"IF(ISNUMBER(Inputs!BK11),Inputs!BK11,0)","v":0},{"$f":"IF(ISNUMBER(Inputs!BL11),Inputs!BL11,0)","v":0},{"$f":"IF(ISNUMBER(Inputs!BM11),Inputs!BM11,0)","v":0},{"$f":"IF(ISNUMBER(Inputs!BN11),Inputs!BN11,0)","v":0},{"$f":"IF(ISNUMBER(Inputs!BO11),Inputs!BO11,0)","v":0},{"$f":"IF(ISNUMBER(Inputs!BP11),Inputs!BP11,0)","v":0},{"$f":"IF(ISNUMBER(Inputs!BQ11),Inputs!BQ11,0)","v":0},{"$f":"IF(ISNUMBER(Inputs!BR11),Inputs!BR11,0)","v":0},{"$f":"IF(ISNUMBER(Inputs!BS11),Inputs!BS11,0)","v":0},{"$f":"IF(ISNUMBER(Inputs!BT11),Inputs!BT11,0)","v":0},{"$f":"IF(ISNUMBER(Inputs!BU11),Inputs!BU11,0)","v":0},{"$f":"IF(ISNUMBER(Inputs!BV11),Inputs!BV11,0)","v":0},{"$f":"IF(ISNUMBER(Inputs!BW11),Inputs!BW11,0)","v":0},{"$f":"IF(ISNUMBER(Inputs!BX11),Inputs!BX11,0)","v":0},{"$f":"IF(ISNUMBER(Inputs!BY11),Inputs!BY11,0)","v":0},{"$f":"IF(ISNUMBER(Inputs!BZ11),Inputs!BZ11,0)","v":0},{"$f":"IF(ISNUMBER(Inputs!CA11),Inputs!CA11,0)","v":0},{"$f":"IF(ISNUMBER(Inputs!CB11),Inputs!CB11,0)","v":0},{"$f":"IF(ISNUMBER(Inputs!CC11),Inputs!CC11,0)","v":0},{"$f":"IF(ISNUMBER(Inputs!CD11),Inputs!CD11,0)","v":0},{"$f":"IF(ISNUMBER(Inputs!CE11),Inputs!CE11,0)","v":0},{"$f":"IF(ISNUMBER(Inputs!CF11),Inputs!CF11,0)","v":0},{"$f":"IF(ISNUMBER(Inputs!CG11),Inputs!CG11,0)","v":0},{"$f":"IF(ISNUMBER(Inputs!CH11),Inputs!CH11,0)","v":0},{"$f":"IF(ISNUMBER(Inputs!CI11),Inputs!CI11,0)","v":0},{"$f":"IF(ISNUMBER(Inputs!CJ11),Inputs!CJ11,0)","v":0},{"$f":"IF(ISNUMBER(Inputs!CK11),Inputs!CK11,0)","v":0},{"$f":"IF(ISNUMBER(Inputs!CL11),Inputs!CL11,0)","v":0},{"$f":"IF(ISNUMBER(Inputs!CM11),Inputs!CM11,0)","v":0},null,null,null,null,null,null,null,null,null,null,null,null,null,null,null,"Total",{"$f":"SUM(DE10:DE12)","v":30.178845687811481},{"$f":"SUM(DF10:DF12)","v":30.178845687811481},null,"Ammonia-N, g/d","ELS","MLS"]
[null,"NE maintenance","NEm",{"$f":"D7*((Calc!D8*D10*D11*D12*D13)+Calc!D9)","v":9.026395044072931},"Mcal/d","NEm without stress & physical activity",null,null,null,null,null,null,null,null,null,null,null,null,null,null,null,null,null,null,null,null,null,null,null,null,null,null,8,{"$f":"IF(Inputs!AI12<>\"\",Inputs!AI12,\"\")","v":""},{"$f":"IF(Inputs!AJ12<>\"\",Inputs!AJ12,\"\")","v":""},{"$f":"IF(OptimizingDMR,R178,IF(OptimizingTable,IF(AG14=1,Table!$B$5,0)/IF(parmUnit=1,1,2.2046),IF(OptimizingDiet,Optimizer!H12/IF(parmUnit=1,1,2.2046),IF(StochasticSimulation,IF(AG14=1,Stochastic!$G$10,0)/IF(parmUnit=1,1,2.2046),Inputs!AE12))))","v":0},0,{"$f":"IF(ISNUMBER(Inputs!AK12),Inputs!AK12,0)*IF(parmUnit=1,1,2204.6/2000)","v":0},{"$f":"IF(ISNUMBER(Inputs!AL12),Inputs!AL12,0)","v":0},{"$f":"IF(ISNUMBER(Inputs!AM12),Inputs!AM12,0)","v":0},{"$f":"IF(ISNUMBER(Inputs!AN12),Inputs!AN12,0)","v":0},{"$f":"IF(ISNUMBER(Inputs!AO12),Inputs!AO12,0)","v":0},{"$f":"IF(ISNUMBER(Inputs!AP12),Inputs!AP12,0)","v":0},{"$f":"IF(ISNUMBER(Inputs!AQ12),Inputs!AQ12,0)","v":0},{"$f":"IF(ISNUMBER(Inputs!AR12),Inputs!AR12,0)","v":0},{"$f":"IF(ISNUMBER(Inputs!AS12),Inputs!AS12,0)","v":0},{"$f":"IF(ISNUMBER(Inputs!AT12),Inputs!AT12,0)","v":0},{"$f":"IF(ISNUMBER(Inputs!AU12),Inputs!AU12,0)","v":0},{"$f":"IF(ISNUMBER(Inputs!AV12),Inputs!AV12,0)","v":0},{"$f":"IF(ISNUMBER(Inputs!AW12),Inputs!AW12,0)","v":0},{"$f":"IF(ISNUMBER(Inputs!AX12),Inputs!AX12,0)","v":0},{"$f":"IF(ISNUMBER(Inputs!AY12),Inputs!AY12,0)*IF(parmUnit=1,1,2.2046)","v":0},{"$f":"IF(ISNUMBER(Inputs!AZ12),Inputs!AZ12,0)*IF(parmUnit=1,1,2.2046)","v":0},{"$f":"IF(ISNUMBER(Inputs!BA12),Inputs!BA12,0)*IF(parmUnit=1,1,2.2046)","v":0},{"$f":"IF(ISNUMBER(Inputs!BB12),Inputs!BB12,0)","v":0},{"$f":"IF(ISNUMBER(Inputs!BC12),Inputs!BC12,0)","v":0},{"$f":"IF(ISNUMBER(Inputs!BD12),Inputs!BD12,0)","v":0},{"$f":"IF(ISNUMBER(Inputs!BE12),Inputs!BE12,0)","v":0},{"$f":"IF(ISNUMBER(Inputs!BF12),Inputs!BF12,0)","v":0},{"$f":"IF(ISNUMBER(Inputs!BG12),Inputs!BG12,0)","v":0},{"$f":"IF(ISNUMBER(Inputs!BH12),Inputs!BH12,0)","v":0},{"$f":"IF(ISNUMBER(Inputs!BI12),Inputs!BI12,0)","v":0},{"$f":"IF(ISNUMBER(Inputs!BJ12),Inputs!BJ12,0)","v":0},{"$f":"IF(ISNUMBER(Inputs!BK12),Inputs!BK12,0)","v":0},{"$f":"IF(ISNUMBER(Inputs!BL12),Inputs!BL12,0)","v":0},{"$f":"IF(ISNUMBER(Inputs!BM12),Inputs!BM12,0)","v":0},{"$f":"IF(ISNUMBER(Inputs!BN12),Inputs!BN12,0)","v":0},{"$f":"IF(ISNUMBER(Inputs!BO12),Inputs!BO12,0)","v":0},{"$f":"IF(ISNUMBER(Inputs!BP12),Inputs!BP12,0)","v":0},{"$f":"IF(ISNUMBER(Inputs!BQ12),Inputs!BQ12,0)","v":0},{"$f":"IF(ISNUMBER(Inputs!BR12),Inputs!BR12,0)","v":0},{"$f":"IF(ISNUMBER(Inputs!BS12),Inputs!BS12,0)","v":0},{"$f":"IF(ISNUMBER(Inputs!BT12),Inputs!BT12,0)","v":0},{"$f":"IF(ISNUMBER(Inputs!BU12),Inputs!BU12,0)","v":0},{"$f":"IF(ISNUMBER(Inputs!BV12),Inputs!BV12,0)","v":0},{"$f":"IF(ISNUMBER(Inputs!BW12),Inputs!BW12,0)","v":0},{"$f":"IF(ISNUMBER(Inputs!BX12),Inputs!BX12,0)","v":0},{"$f":"IF(ISNUMBER(Inputs!BY12),Inputs!BY12,0)","v":0},{"$f":"IF(ISNUMBER(Inputs!BZ12),Inputs!BZ12,0)","v":0},{"$f":"IF(ISNUMBER(Inputs!CA12),Inputs!CA12,0)","v":0},{"$f":"IF(ISNUMBER(Inputs!CB12),Inputs!CB12,0)","v":0},{"$f":"IF(ISNUMBER(Inputs!CC12),Inputs!CC12,0)","v":0},{"$f":"IF(ISNUMBER(Inputs!CD12),Inputs!CD12,0)","v":0},{"$f":"IF(ISNUMBER(Inputs!CE12),Inputs!CE12,0)","v":0},{"$f":"IF(ISNUMBER(Inputs!CF12),Inputs!CF12,0)","v":0},{"$f":"IF(ISNUMBER(Inputs!CG12),Inputs!CG12,0)","v":0},{"$f":"IF(ISNUMBER(Inputs!CH12),Inputs!CH12,0)","v":0},{"$f":"IF(ISNUMBER(Inputs!CI12),Inputs!CI12,0)","v":0},{"$f":"IF(ISNUMBER(Inputs!CJ12),Inputs!CJ12,0)","v":0},{"$f":"IF(ISNUMBER(Inputs!CK12),Inputs!CK12,0)","v":0},{"$f":"IF(ISNUMBER(Inputs!CL12),Inputs!CL12,0)","v":0},{"$f":"IF(ISNUMBER(Inputs!CM12),Inputs!CM12,0)","v":0},null,null,null,null,null,null,null,null,null,null,null,null,null,"Urinary N",null,null,{"$f":"IF(DE7>0,(0.2331*LN(DE7)-0.6244)*(DE7-DE13),0)","v":117.63337870465556},{"$f":"DF7-DF13-DF15","v":113.20911371203722},null,"Feedlot (1)",{"$f":"EXP(8.82-1629/(Inputs!F66+273.15)+0.108*BG34)*(14/17)","v":52.805662539395222},{"$f":"EXP(8.82-1629/(Inputs!F66+273.15)+0.108*BG34)*(14/17)","v":52.805662539395222}]
[null,"NE maintenance","NEm",{"$f":"IF(Inputs!F80=0,1,(Inputs!F80/100)+1)*D14","v":9.026395044072931},"Mcal/d","NEm without stress, but with maintenance factor",null,null,null,null,null,null,null,null,null,null,null,null,null,null,null,null,null,null,null,null,null,null,null,null,null,null,9,{"$f":"IF(Inputs!AI13<>\"\",Inputs!AI13,\"\")","v":""},{"$f":"IF(Inputs!AJ13<>\"\",Inputs!AJ13,\"\")","v":""},{"$f":"IF(OptimizingDMR,R179,IF(OptimizingTable,IF(AG15=1,Table!$B$5,0)/IF(parmUnit=1,1,2.2046),IF(OptimizingDiet,Optimizer!H13/IF(parmUnit=1,1,2.2046),IF(StochasticSimulation,IF(AG15=1,Stochastic!$G$10,0)/IF(parmUnit=1,1,2.2046),Inputs!AE13))))","v":0},0,{"$f":"IF(ISNUMBER(Inputs!AK13),Inputs!AK13,0)*IF(parmUnit=1,1,2204.6/2000)","v":0},{"$f":"IF(ISNUMBER(Inputs!AL13),Inputs!AL13,0)","v":0},{"$f":"IF(ISNUMBER(Inputs!AM13),Inputs!AM13,0)","v":0},{"$f":"IF(ISNUMBER(Inputs!AN13),Inputs!AN13,0)","v":0},{"$f":"IF(ISNUMBER(Inputs!AO13),Inputs!AO13,0)","v":0},{"$f":"IF(ISNUMBER(Inputs!AP13),Inputs!AP13,0)","v":0},{"$f":"IF(ISNUMBER(Inputs!AQ13),Inputs!AQ13,0)","v":0},{"$f":"IF(ISNUMBER(Inputs!AR13),Inputs!AR13,0)","v":0},{"$f":"IF(ISNUMBER(Inputs!AS13),Inputs!AS13,0)","v":0},{"$f":"IF(ISNUMBER(Inputs!AT13),Inputs!AT13,0)","v":0},{"$f":"IF(ISNUMBER(Inputs!AU13),Inputs!AU13,0)","v":0},{"$f":"IF(ISNUMBER(Inputs!AV13),Inputs!AV13,0)","v":0},{"$f":"IF(ISNUMBER(Inputs!AW13),Inputs!AW13,0)","v":0},{"$f":"IF(ISNUMBER(Inputs!AX13),Inputs!AX13,0)","v":0},{"$f":"IF(ISNUMBER(Inputs!AY13),Inputs!AY13,0)*IF(parmUnit=1,1,2.2046)","v":0},{"$f":"IF(ISNUMBER(Inputs!AZ13),Inputs!AZ13,0)*IF(parmUnit=1,1,2.2046)","v":0},{"$f":"IF(ISNUMBER(Inputs!BA13),Inputs!BA13,0)*IF(parmUnit=1,1,2.2046)","v":0},{"$f":"IF(ISNUMBER(Inputs!BB13),Inputs!BB13,0)","v":0},{"$f":"IF(ISNUMBER(Inputs!BC13),Inputs!BC13,0)","v":0},{"$f":"IF(ISNUMBER(Inputs!BD13),Inputs!BD13,0)","v":0},{"$f":"IF(ISNUMBER(Inputs!BE13),Inputs!BE13,0)","v":0},{"$f":"IF(ISNUMBER(Inputs!BF13),Inputs!BF13,0)","v":0},{"$f":"IF(ISNUMBER(Inputs!BG13),Inputs!BG13,0)","v":0},{"$f":"IF(ISNUMBER(Inputs!BH13),Inputs!BH13,0)","v":0},{"$f":"IF(ISNUMBER(Inputs!BI13),Inputs!BI13,0)","v":0},{"$f":"IF(ISNUMBER(Inputs!BJ13),Inputs!BJ13,0)","v":0},{"$f":"IF(ISNUMBER(Inputs!BK13),Inputs!BK13,0)","v":0},{"$f":"IF(ISNUMBER(Inputs!BL13),Inputs!BL13,0)","v":0},{"$f":"IF(ISNUMBER(Inputs!BM13),Inputs!BM13,0)","v":0},{"$f":"IF(ISNUMBER(Inputs!BN13),Inputs!BN13,0)","v":0},{"$f":"IF(ISNUMBER(Inputs!BO13),Inputs!BO13,0)","v":0},{"$f":"IF(ISNUMBER(Inputs!BP13),Inputs!BP13,0)","v":0},{"$f":"IF(ISNUMBER(Inputs!BQ13),Inputs!BQ13,0)","v":0},{"$f":"IF(ISNUMBER(Inputs!BR13),Inputs!BR13,0)","v":0},{"$f":"IF(ISNUMBER(Inputs!BS13),Inputs!BS13,0)","v":0},{"$f":"IF(ISNUMBER(Inputs!BT13),Inputs!BT13,0)","v":0},{"$f":"IF(ISNUMBER(Inputs!BU13),Inputs!BU13,0)","v":0},{"$f":"IF(ISNUMBER(Inputs!BV13),Inputs!BV13,0)","v":0},{"$f":"IF(ISNUMBER(Inputs!BW13),Inputs!BW13,0)","v":0},{"$f":"IF(ISNUMBER(Inputs!BX13),Inputs!BX13,0)","v":0},{"$f":"IF(ISNUMBER(Inputs!BY13),Inputs!BY13,0)","v":0},{"$f":"IF(ISNUMBER(Inputs!BZ13),Inputs!BZ13,0)","v":0},{"$f":"IF(ISNUMBER(Inputs!CA13),Inputs!CA13,0)","v":0},{"$f":"IF(ISNUMBER(Inputs!CB13),Inputs!CB13,0)","v":0},{"$f":"IF(ISNUMBER(Inputs!CC13),Inputs!CC13,0)","v":0},{"$f":"IF(ISNUMBER(Inputs!CD13),Inputs!CD13,0)","v":0},{"$f":"IF(ISNUMBER(Inputs!CE13),Inputs!CE13,0)","v":0},{"$f":"IF(ISNUMBER(Inputs!CF13),Inputs!CF13,0)","v":0},{"$f":"IF(ISNUMBER(Inputs!CG13),Inputs!CG13,0)","v":0},{"$f":"IF(ISNUMBER(Inputs!CH13),Inputs!CH13,0)","v":0},{"$f":"IF(ISNUMBER(Inputs!CI13),Inputs!CI13,0)","v":0},{"$f":"IF(ISNUMBER(Inputs!CJ13),Inputs!CJ13,0)","v":0},{"$f":"IF(ISNUMBER(Inputs!CK13),Inputs!CK13,0)","v":0},{"$f":"IF(ISNUMBER(Inputs!CL13),Inputs!CL13,0)","v":0},{"$f":"IF(ISNUMBER(Inputs!CM13),Inputs!CM13,0)","v":0},null,null,null,null,null,null,null,null,null,null,null,null,null,"Fecal N",null,null,{"$f":"DE7-DE13-DE14","v":69.188592082176868},{"$f":"AU280*1000/6.25","v":73.612857074795201},null,"   % of excreted N",{"$f":"IF((D18+DI10)<>0,DI14/(DI8+DI10),0)","v":0.28265231501945526},{"$f":"IF((DJ8+DJ10)<>0,DJ14/(DJ8+DJ10),0)","v":0.28265231501945526}]
[null,"Ionophore factor","ADTVME",{"$f":"IF($BP$255=TRUE,1,IF(Inputs!F55=2,1.023,IF(Inputs!F55=3,1.015,1)))","v":1.0229999999999999},null,"Increase ME by 2.3 for monensin or 1.5 % for lasalocid",null,null,null,null,null,null,null,null,null,null,null,null,null,null,null,null,null,null,null,null,null,null,null,null,null,null,10,{"$f":"IF(Inputs!AI14<>\"\",Inputs!AI14,\"\")","v":""},{"$f":"IF(Inputs!AJ14<>\"\",Inputs!AJ14,\"\")","v":""},{"$f":"IF(OptimizingDMR,R180,IF(OptimizingTable,IF(AG16=1,Table!$B$5,0)/IF(parmUnit=1,1,2.2046),IF(OptimizingDiet,Optimizer!H14/IF(parmUnit=1,1,2.2046),IF(StochasticSimulation,IF(AG16=1,Stochastic!$G$10,0)/IF(parmUnit=1,1,2.2046),Inputs!AE14))))","v":0},0,{"$f":"IF(ISNUMBER(Inputs!AK14),Inputs!AK14,0)*IF(parmUnit=1,1,2204.6/2000)","v":0},{"$f":"IF(ISNUMBER(Inputs!AL14),Inputs!AL14,0)","v":0},{"$f":"IF(ISNUMBER(Inputs!AM14),Inputs!AM14,0)","v":0},{"$f":"IF(ISNUMBER(Inputs!AN14),Inputs!AN14,0)","v":0},{"$f":"IF(ISNUMBER(Inputs!AO14),Inputs!AO14,0)","v":0},{"$f":"IF(ISNUMBER(Inputs!AP14),Inputs!AP14,0)","v":0},{"$f":"IF(ISNUMBER(Inputs!AQ14),Inputs!AQ14,0)","v":0},{"$f":"IF(ISNUMBER(Inputs!AR14),Inputs!AR14,0)","v":0},{"$f":"IF(ISNUMBER(Inputs!AS14),Inputs!AS14,0)","v":0},{"$f":"IF(ISNUMBER(Inputs!AT14),Inputs!AT14,0)","v":0},{"$f":"IF(ISNUMBER(Inputs!AU14),Inputs!AU14,0)","v":0},{"$f":"IF(ISNUMBER(Inputs!AV14),Inputs!AV14,0)","v":0},{"$f":"IF(ISNUMBER(Inputs!AW14),Inputs!AW14,0)","v":0},{"$f":"IF(ISNUMBER(Inputs!AX14),Inputs!AX14,0)","v":0},{"$f":"IF(ISNUMBER(Inputs!AY14),Inputs!AY14,0)*IF(parmUnit=1,1,2.2046)","v":0},{"$f":"IF(ISNUMBER(Inputs!AZ14),Inputs!AZ14,0)*IF(parmUnit=1,1,2.2046)","v":0},{"$f":"IF(ISNUMBER(Inputs!BA14),Inputs!BA14,0)*IF(parmUnit=1,1,2.2046)","v":0},{"$f":"IF(ISNUMBER(Inputs!BB14),Inputs!BB14,0)","v":0},{"$f":"IF(ISNUMBER(Inputs!BC14),Inputs!BC14,0)","v":0},{"$f":"IF(ISNUMBER(Inputs!BD14),Inputs!BD14,0)","v":0},{"$f":"IF(ISNUMBER(Inputs!BE14),Inputs!BE14,0)","v":0},{"$f":"IF(ISNUMBER(Inputs!BF14),Inputs!BF14,0)","v":0},{"$f":"IF(ISNUMBER(Inputs!BG14),Inputs!BG14,0)","v":0},{"$f":"IF(ISNUMBER(Inputs!BH14),Inputs!BH14,0)","v":0},{"$f":"IF(ISNUMBER(Inputs!BI14),Inputs!BI14,0)","v":0},{"$f":"IF(ISNUMBER(Inputs!BJ14),Inputs!BJ14,0)","v":0},{"$f":"IF(ISNUMBER(Inputs!BK14),Inputs!BK14,0)","v":0},{"$f":"IF(ISNUMBER(Inputs!BL14),Inputs!BL14,0)","v":0},{"$f":"IF(ISNUMBER(Inputs!BM14),Inputs!BM14,0)","v":0},{"$f":"IF(ISNUMBER(Inputs!BN14),Inputs!BN14,0)","v":0},{"$f":"IF(ISNUMBER(Inputs!BO14),Inputs!BO14,0)","v":0},{"$f":"IF(ISNUMBER(Inputs!BP14),Inputs!BP14,0)","v":0},{"$f":"IF(ISNUMBER(Inputs!BQ14),Inputs!BQ14,0)","v":0},{"$f":"IF(ISNUMBER(Inputs!BR14),Inputs!BR14,0)","v":0},{"$f":"IF(ISNUMBER(Inputs!BS14),Inputs!BS14,0)","v":0},{"$f":"IF(ISNUMBER(Inputs!BT14),Inputs!BT14,0)","v":0},{"$f":"IF(ISNUMBER(Inputs!BU14),Inputs!BU14,0)","v":0},{"$f":"IF(ISNUMBER(Inputs!BV14),Inputs!BV14,0)","v":0},{"$f":"IF(ISNUMBER(Inputs!BW14),Inputs!BW14,0)","v":0},{"$f":"IF(ISNUMBER(Inputs!BX14),Inputs!BX14,0)","v":0},{"$f":"IF(ISNUMBER(Inputs!BY14),Inputs!BY14,0)","v":0},{"$f":"IF(ISNUMBER(Inputs!BZ14),Inputs!BZ14,0)","v":0},{"$f":"IF(ISNUMBER(Inputs!CA14),Inputs!CA14,0)","v":0},{"$f":"IF(ISNUMBER(Inputs!CB14),Inputs!CB14,0)","v":0},{"$f":"IF(ISNUMBER(Inputs!CC14),Inputs!CC14,0)","v":0},{"$f":"IF(ISNUMBER(Inputs!CD14),Inputs!CD14,0)","v":0},{"$f":"IF(ISNUMBER(Inputs!CE14),Inputs!CE14,0)","v":0},{"$f":"IF(ISNUMBER(Inputs!CF14),Inputs!CF14,0)","v":0},{"$f":"IF(ISNUMBER(Inputs!CG14),Inputs!CG14,0)","v":0},{"$f":"IF(ISNUMBER(Inputs!CH14),Inputs!CH14,0)","v":0},{"$f":"IF(ISNUMBER(Inputs!CI14),Inputs!CI14,0)","v":0},{"$f":"IF(ISNUMBER(Inputs!CJ14),Inputs!CJ14,0)","v":0},{"$f":"IF(ISNUMBER(Inputs!CK14),Inputs!CK14,0)","v":0},{"$f":"IF(ISNUMBER(Inputs!CL14),Inputs!CL14,0)","v":0},{"$f":"IF(ISNUMBER(Inputs!CM14),Inputs!CM14,0)","v":0},null,null,null,null,null,null,null,null,null,null,null,null,null,null,null,null,null,null,null,"(1) Only valid for feedlot animals with ad libitum"]
[null,"Diet NEm","NEma",{"$f":"J7","v":1.8965929251031368},"Mcal/kg","Dietary NEm available for maintenance",null,null,null,null,null,null,null,null,null,null,null,null,null,null,null,null,null,null,null,null,null,null,null,null,null,null,11,{"$f":"IF(Inputs!AI15<>\"\",Inputs!AI15,\"\")","v":""},{"$f":"IF(Inputs!AJ15<>\"\",Inputs!AJ15,\"\")","v":""},{"$f":"IF(OptimizingDMR,R181,IF(OptimizingTable,IF(AG17=1,Table!$B$5,0)/IF(parmUnit=1,1,2.2046),IF(OptimizingDiet,Optimizer!H15/IF(parmUnit=1,1,2.2046),IF(StochasticSimulation,IF(AG17=1,Stochastic!$G$10,0)/IF(parmUnit=1,1,2.2046),Inputs!AE15))))","v":0},0,{"$f":"IF(ISNUMBER(Inputs!AK15),Inputs!AK15,0)*IF(parmUnit=1,1,2204.6/2000)","v":0},{"$f":"IF(ISNUMBER(Inputs!AL15),Inputs!AL15,0)","v":0},{"$f":"IF(ISNUMBER(Inputs!AM15),Inputs!AM15,0)","v":0},{"$f":"IF(ISNUMBER(Inputs!AN15),Inputs!AN15,0)","v":0},{"$f":"IF(ISNUMBER(Inputs!AO15),Inputs!AO15,0)","v":0},{"$f":"IF(ISNUMBER(Inputs!AP15),Inputs!AP15,0)","v":0},{"$f":"IF(ISNUMBER(Inputs!AQ15),Inputs!AQ15,0)","v":0},{"$f":"IF(ISNUMBER(Inputs!AR15),Inputs!AR15,0)","v":0},{"$f":"IF(ISNUMBER(Inputs!AS15),Inputs!AS15,0)","v":0},{"$f":"IF(ISNUMBER(Inputs!AT15),Inputs!AT15,0)","v":0},{"$f":"IF(ISNUMBER(Inputs!AU15),Inputs!AU15,0)","v":0},{"$f":"IF(ISNUMBER(Inputs!AV15),Inputs!AV15,0)","v":0},{"$f":"IF(ISNUMBER(Inputs!AW15),Inputs!AW15,0)","v":0},{"$f":"IF(ISNUMBER(Inputs!AX15),Inputs!AX15,0)","v":0},{"$f":"IF(ISNUMBER(Inputs!AY15),Inputs!AY15,0)*IF(parmUnit=1,1,2.2046)","v":0},{"$f":"IF(ISNUMBER(Inputs!AZ15),Inputs!AZ15,0)*IF(parmUnit=1,1,2.2046)","v":0},{"$f":"IF(ISNUMBER(Inputs!BA15),Inputs!BA15,0)*IF(parmUnit=1,1,2.2046)","v":0},{"$f":"IF(ISNUMBER(Inputs!BB15),Inputs!BB15,0)","v":0},{"$f":"IF(ISNUMBER(Inputs!BC15),Inputs!BC15,0)","v":0},{"$f":"IF(ISNUMBER(Inputs!BD15),Inputs!BD15,0)","v":0},{"$f":"IF(ISNUMBER(Inputs!BE15),Inputs!BE15,0)","v":0},{"$f":"IF(ISNUMBER(Inputs!BF15),Inputs!BF15,0)","v":0},{"$f":"IF(ISNUMBER(Inputs!BG15),Inputs!BG15,0)","v":0},{"$f":"IF(ISNUMBER(Inputs!BH15),Inputs!BH15,0)","v":0},{"$f":"IF(ISNUMBER(Inputs!BI15),Inputs!BI15,0)","v":0},{"$f":"IF(ISNUMBER(Inputs!BJ15),Inputs!BJ15,0)","v":0},{"$f":"IF(ISNUMBER(Inputs!BK15),Inputs!BK15,0)","v":0},{"$f":"IF(ISNUMBER(Inputs!BL15),Inputs!BL15,0)","v":0},{"$f":"IF(ISNUMBER(Inputs!BM15),Inputs!BM15,0)","v":0},{"$f":"IF(ISNUMBER(Inputs!BN15),Inputs!BN15,0)","v":0},{"$f":"IF(ISNUMBER(Inputs!BO15),Inputs!BO15,0)","v":0},{"$f":"IF(ISNUMBER(Inputs!BP15),Inputs!BP15,0)","v":0},{"$f":"IF(ISNUMBER(Inputs!BQ15),Inputs!BQ15,0)","v":0},{"$f":"IF(ISNUMBER(Inputs!BR15),Inputs!BR15,0)","v":0},{"$f":"IF(ISNUMBER(Inputs!BS15),Inputs!BS15,0)","v":0},{"$f":"IF(ISNUMBER(Inputs!BT15),Inputs!BT15,0)","v":0},{"$f":"IF(ISNUMBER(Inputs!BU15),Inputs!BU15,0)","v":0},{"$f":"IF(ISNUMBER(Inputs!BV15),Inputs!BV15,0)","v":0},{"$f":"IF(ISNUMBER(Inputs!BW15),Inputs!BW15,0)","v":0},{"$f":"IF(ISNUMBER(Inputs!BX15),Inputs!BX15,0)","v":0},{"$f":"IF(ISNUMBER(Inputs!BY15),Inputs!BY15,0)","v":0},{"$f":"IF(ISNUMBER(Inputs!BZ15),Inputs!BZ15,0)","v":0},{"$f":"IF(ISNUMBER(Inputs!CA15),Inputs!CA15,0)","v":0},{"$f":"IF(ISNUMBER(Inputs!CB15),Inputs!CB15,0)","v":0},{"$f":"IF(ISNUMBER(Inputs!CC15),Inputs!CC15,0)","v":0},{"$f":"IF(ISNUMBER(Inputs!CD15),Inputs!CD15,0)","v":0},{"$f":"IF(ISNUMBER(Inputs!CE15),Inputs!CE15,0)","v":0},{"$f":"IF(ISNUMBER(Inputs!CF15),Inputs!CF15,0)","v":0},{"$f":"IF(ISNUMBER(Inputs!CG15),Inputs!CG15,0)","v":0},{"$f":"IF(ISNUMBER(Inputs!CH15),Inputs!CH15,0)","v":0},{"$f":"IF(ISNUMBER(Inputs!CI15),Inputs!CI15,0)","v":0},{"$f":"IF(ISNUMBER(Inputs!CJ15),Inputs!CJ15,0)","v":0},{"$f":"IF(ISNUMBER(Inputs!CK15),Inputs!CK15,0)","v":0},{"$f":"IF(ISNUMBER(Inputs!CL15),Inputs!CL15,0)","v":0},{"$f":"IF(ISNUMBER(Inputs!CM15),Inputs!CM15,0)","v":0},null,null,null,null,null,null,null,null,null,null,null,null,null,null,null,null,null,null,null,"access to feed (Todd et al., 2013)."]
[null,"Feed for maintenance","FFM",{"$f":"IF(D17<>0,D15/D17,0)","v":4.7592685412880966},"kg/d",null,null,null,null,null,null,null,null,null,null,null,null,null,null,null,null,null,null,null,null,null,null,null,null,null,null,null,12,{"$f":"IF(Inputs!AI16<>\"\",Inputs!AI16,\"\")","v":""},{"$f":"IF(Inputs!AJ16<>\"\",Inputs!AJ16,\"\")","v":""},{"$f":"IF(OptimizingDMR,R182,IF(OptimizingTable,IF(AG18=1,Table!$B$5,0)/IF(parmUnit=1,1,2.2046),IF(OptimizingDiet,Optimizer!H16/IF(parmUnit=1,1,2.2046),IF(StochasticSimulation,IF(AG18=1,Stochastic!$G$10,0)/IF(parmUnit=1,1,2.2046),Inputs!AE16))))","v":0},0,{"$f":"IF(ISNUMBER(Inputs!AK16),Inputs!AK16,0)*IF(parmUnit=1,1,2204.6/2000)","v":0},{"$f":"IF(ISNUMBER(Inputs!AL16),Inputs!AL16,0)","v":0},{"$f":"IF(ISNUMBER(Inputs!AM16),Inputs!AM16,0)","v":0},{"$f":"IF(ISNUMBER(Inputs!AN16),Inputs!AN16,0)","v":0},{"$f":"IF(ISNUMBER(Inputs!AO16),Inputs!AO16,0)","v":0},{"$f":"IF(ISNUMBER(Inputs!AP16),Inputs!AP16,0)","v":0},{"$f":"IF(ISNUMBER(Inputs!AQ16),Inputs!AQ16,0)","v":0},{"$f":"IF(ISNUMBER(Inputs!AR16),Inputs!AR16,0)","v":0},{"$f":"IF(ISNUMBER(Inputs!AS16),Inputs!AS16,0)","v":0},{"$f":"IF(ISNUMBER(Inputs!AT16),Inputs!AT16,0)","v":0},{"$f":"IF(ISNUMBER(Inputs!AU16),Inputs!AU16,0)","v":0},{"$f":"IF(ISNUMBER(Inputs!AV16),Inputs!AV16,0)","v":0},{"$f":"IF(ISNUMBER(Inputs!AW16),Inputs!AW16,0)","v":0},{"$f":"IF(ISNUMBER(Inputs!AX16),Inputs!AX16,0)","v":0},{"$f":"IF(ISNUMBER(Inputs!AY16),Inputs!AY16,0)*IF(parmUnit=1,1,2.2046)","v":0},{"$f":"IF(ISNUMBER(Inputs!AZ16),Inputs!AZ16,0)*IF(parmUnit=1,1,2.2046)","v":0},{"$f":"IF(ISNUMBER(Inputs!BA16),Inputs!BA16,0)*IF(parmUnit=1,1,2.2046)","v":0},{"$f":"IF(ISNUMBER(Inputs!BB16),Inputs!BB16,0)","v":0},{"$f":"IF(ISNUMBER(Inputs!BC16),Inputs!BC16,0)","v":0},{"$f":"IF(ISNUMBER(Inputs!BD16),Inputs!BD16,0)","v":0},{"$f":"IF(ISNUMBER(Inputs!BE16),Inputs!BE16,0)","v":0},{"$f":"IF(ISNUMBER(Inputs!BF16),Inputs!BF16,0)","v":0},{"$f":"IF(ISNUMBER(Inputs!BG16),Inputs!BG16,0)","v":0},{"$f":"IF(ISNUMBER(Inputs!BH16),Inputs!BH16,0)","v":0},{"$f":"IF(ISNUMBER(Inputs!BI16),Inputs!BI16,0)","v":0},{"$f":"IF(ISNUMBER(Inputs!BJ16),Inputs!BJ16,0)","v":0},{"$f":"IF(ISNUMBER(Inputs!BK16),Inputs!BK16,0)","v":0},{"$f":"IF(ISNUMBER(Inputs!BL16),Inputs!BL16,0)","v":0},{"$f":"IF(ISNUMBER(Inputs!BM16),Inputs!BM16,0)","v":0},{"$f":"IF(ISNUMBER(Inputs!BN16),Inputs!BN16,0)","v":0},{"$f":"IF(ISNUMBER(Inputs!BO16),Inputs!BO16,0)","v":0},{"$f":"IF(ISNUMBER(Inputs!BP16),Inputs!BP16,0)","v":0},{"$f":"IF(ISNUMBER(Inputs!BQ16),Inputs!BQ16,0)","v":0},{"$f":"IF(ISNUMBER(Inputs!BR16),Inputs!BR16,0)","v":0},{"$f":"IF(ISNUMBER(Inputs!BS16),Inputs!BS16,0)","v":0},{"$f":"IF(ISNUMBER(Inputs!BT16),Inputs!BT16,0)","v":0},{"$f":"IF(ISNUMBER(Inputs!BU16),Inputs!BU16,0)","v":0},{"$f":"IF(ISNUMBER(Inputs!BV16),Inputs!BV16,0)","v":0},{"$f":"IF(ISNUMBER(Inputs!BW16),Inputs!BW16,0)","v":0},{"$f":"IF(ISNUMBER(Inputs!BX16),Inputs!BX16,0)","v":0},{"$f":"IF(ISNUMBER(Inputs!BY16),Inputs!BY16,0)","v":0},{"$f":"IF(ISNUMBER(Inputs!BZ16),Inputs!BZ16,0)","v":0},{"$f":"IF(ISNUMBER(Inputs!CA16),Inputs!CA16,0)","v":0},{"$f":"IF(ISNUMBER(Inputs!CB16),Inputs!CB16,0)","v":0},{"$f":"IF(ISNUMBER(Inputs!CC16),Inputs!CC16,0)","v":0},{"$f":"IF(ISNUMBER(Inputs!CD16),Inputs!CD16,0)","v":0},{"$f":"IF(ISNUMBER(Inputs!CE16),Inputs!CE16,0)","v":0},{"$f":"IF(ISNUMBER(Inputs!CF16),Inputs!CF16,0)","v":0},{"$f":"IF(ISNUMBER(Inputs!CG16),Inputs!CG16,0)","v":0},{"$f":"IF(ISNUMBER(Inputs!CH16),Inputs!CH16,0)","v":0},{"$f":"IF(ISNUMBER(Inputs!CI16),Inputs!CI16,0)","v":0},{"$f":"IF(ISNUMBER(Inputs!CJ16),Inputs!CJ16,0)","v":0},{"$f":"IF(ISNUMBER(Inputs!CK16),Inputs!CK16,0)","v":0},{"$f":"IF(ISNUMBER(Inputs!CL16),Inputs!CL16,0)","v":0},{"$f":"IF(ISNUMBER(Inputs!CM16),Inputs!CM16,0)","v":0}]
[null,"Diet NEg","NEga",{"$f":"J8","v":1.2573972747731395},"Mcal/kg","Dietary NEg available for growth",null,null,null,null,null,null,null,null,null,null,null,null,null,null,null,null,null,null,null,null,null,null,null,null,null,null,13,{"$f":"IF(Inputs!AI17<>\"\",Inputs!AI17,\"\")","v":""},{"$f":"IF(Inputs!AJ17<>\"\",Inputs!AJ17,\"\")","v":""},{"$f":"IF(OptimizingDMR,R183,IF(OptimizingTable,IF(AG19=1,Table!$B$5,0)/IF(parmUnit=1,1,2.2046),IF(OptimizingDiet,Optimizer!H17/IF(parmUnit=1,1,2.2046),IF(StochasticSimulation,IF(AG19=1,Stochastic!$G$10,0)/IF(parmUnit=1,1,2.2046),Inputs!AE17))))","v":0},0,{"$f":"IF(ISNUMBER(Inputs!AK17),Inputs!AK17,0)*IF(parmUnit=1,1,2204.6/2000)","v":0},{"$f":"IF(ISNUMBER(Inputs!AL17),Inputs!AL17,0)","v":0},{"$f":"IF(ISNUMBER(Inputs!AM17),Inputs!AM17,0)","v":0},{"$f":"IF(ISNUMBER(Inputs!AN17),Inputs!AN17,0)","v":0},{"$f":"IF(ISNUMBER(Inputs!AO17),Inputs!AO17,0)","v":0},{"$f":"IF(ISNUMBER(Inputs!AP17),Inputs!AP17,0)","v":0},{"$f":"IF(ISNUMBER(Inputs!AQ17),Inputs!AQ17,0)","v":0},{"$f":"IF(ISNUMBER(Inputs!AR17),Inputs!AR17,0)","v":0},{"$f":"IF(ISNUMBER(Inputs!AS17),Inputs!AS17,0)","v":0},{"$f":"IF(ISNUMBER(Inputs!AT17),Inputs!AT17,0)","v":0},{"$f":"IF(ISNUMBER(Inputs!AU17),Inputs!AU17,0)","v":0},{"$f":"IF(ISNUMBER(Inputs!AV17),Inputs!AV17,0)","v":0},{"$f":"IF(ISNUMBER(Inputs!AW17),Inputs!AW17,0)","v":0},{"$f":"IF(ISNUMBER(Inputs!AX17),Inputs!AX17,0)","v":0},{"$f":"IF(ISNUMBER(Inputs!AY17),Inputs!AY17,0)*IF(parmUnit=1,1,2.2046)","v":0},{"$f":"IF(ISNUMBER(Inputs!AZ17),Inputs!AZ17,0)*IF(parmUnit=1,1,2.2046)","v":0},{"$f":"IF(ISNUMBER(Inputs!BA17),Inputs!BA17,0)*IF(parmUnit=1,1,2.2046)","v":0},{"$f":"IF(ISNUMBER(Inputs!BB17),Inputs!BB17,0)","v":0},{"$f":"IF(ISNUMBER(Inputs!BC17),Inputs!BC17,0)","v":0},{"$f":"IF(ISNUMBER(Inputs!BD17),Inputs!BD17,0)","v":0},{"$f":"IF(ISNUMBER(Inputs!BE17),Inputs!BE17,0)","v":0},{"$f":"IF(ISNUMBER(Inputs!BF17),Inputs!BF17,0)","v":0},{"$f":"IF(ISNUMBER(Inputs!BG17),Inputs!BG17,0)","v":0},{"$f":"IF(ISNUMBER(Inputs!BH17),Inputs!BH17,0)","v":0},{"$f":"IF(ISNUMBER(Inputs!BI17),Inputs!BI17,0)","v":0},{"$f":"IF(ISNUMBER(Inputs!BJ17),Inputs!BJ17,0)","v":0},{"$f":"IF(ISNUMBER(Inputs!BK17),Inputs!BK17,0)","v":0},{"$f":"IF(ISNUMBER(Inputs!BL17),Inputs!BL17,0)","v":0},{"$f":"IF(ISNUMBER(Inputs!BM17),Inputs!BM17,0)","v":0},{"$f":"IF(ISNUMBER(Inputs!BN17),Inputs!BN17,0)","v":0},{"$f":"IF(ISNUMBER(Inputs!BO17),Inputs!BO17,0)","v":0},{"$f":"IF(ISNUMBER(Inputs!BP17),Inputs!BP17,0)","v":0},{"$f":"IF(ISNUMBER(Inputs!BQ17),Inputs!BQ17,0)","v":0},{"$f":"IF(ISNUMBER(Inputs!BR17),Inputs!BR17,0)","v":0},{"$f":"IF(ISNUMBER(Inputs!BS17),Inputs!BS17,0)","v":0},{"$f":"IF(ISNUMBER(Inputs!BT17),Inputs!BT17,0)","v":0},{"$f":"IF(ISNUMBER(Inputs!BU17),Inputs!BU17,0)","v":0},{"$f":"IF(ISNUMBER(Inputs!BV17),Inputs!BV17,0)","v":0},{"$f":"IF(ISNUMBER(Inputs!BW17),Inputs!BW17,0)","v":0},{"$f":"IF(ISNUMBER(Inputs!BX17),Inputs!BX17,0)","v":0},{"$f":"IF(ISNUMBER(Inputs!BY17),Inputs!BY17,0)","v":0},{"$f":"IF(ISNUMBER(Inputs!BZ17),Inputs!BZ17,0)","v":0},{"$f":"IF(ISNUMBER(Inputs!CA17),Inputs!CA17,0)","v":0},{"$f":"IF(ISNUMBER(Inputs!CB17),Inputs!CB17,0)","v":0},{"$f":"IF(ISNUMBER(Inputs!CC17),Inputs!CC17,0)","v":0},{"$f":"IF(ISNUMBER(Inputs!CD17),Inputs!CD17,0)","v":0},{"$f":"IF(ISNUMBER(Inputs!CE17),Inputs!CE17,0)","v":0},{"$f":"IF(ISNUMBER(Inputs!CF17),Inputs!CF17,0)","v":0},{"$f":"IF(ISNUMBER(Inputs!CG17),Inputs!CG17,0)","v":0},{"$f":"IF(ISNUMBER(Inputs!CH17),Inputs!CH17,0)","v":0},{"$f":"IF(ISNUMBER(Inputs!CI17),Inputs!CI17,0)","v":0},{"$f":"IF(ISNUMBER(Inputs!CJ17),Inputs!CJ17,0)","v":0},{"$f":"IF(ISNUMBER(Inputs!CK17),Inputs!CK17,0)","v":0},{"$f":"IF(ISNUMBER(Inputs!CL17),Inputs!CL17,0)","v":0},{"$f":"IF(ISNUMBER(Inputs!CM17),Inputs!CM17,0)","v":0}]
[null,"Dry matter intake","DMI",{"$f":"AJ84","v":11.022407693005533},"kg/d",null,null,null,null,null,null,null,null,null,null,null,null,null,null,null,null,null,null,null,null,null,null,null,null,null,null,null,14,{"$f":"IF(Inputs!AI18<>\"\",Inputs!AI18,\"\")","v":""},{"$f":"IF(Inputs!AJ18<>\"\",Inputs!AJ18,\"\")","v":""},{"$f":"IF(OptimizingDMR,R184,IF(OptimizingTable,IF(AG20=1,Table!$B$5,0)/IF(parmUnit=1,1,2.2046),IF(OptimizingDiet,Optimizer!H18/IF(parmUnit=1,1,2.2046),IF(StochasticSimulation,IF(AG20=1,Stochastic!$G$10,0)/IF(parmUnit=1,1,2.2046),Inputs!AE18))))","v":0},0,{"$f":"IF(ISNUMBER(Inputs!AK18),Inputs!AK18,0)*IF(parmUnit=1,1,2204.6/2000)","v":0},{"$f":"IF(ISNUMBER(Inputs!AL18),Inputs!AL18,0)","v":0},{"$f":"IF(ISNUMBER(Inputs!AM18),Inputs!AM18,0)","v":0},{"$f":"IF(ISNUMBER(Inputs!AN18),Inputs!AN18,0)","v":0},{"$f":"IF(ISNUMBER(Inputs!AO18),Inputs!AO18,0)","v":0},{"$f":"IF(ISNUMBER(Inputs!AP18),Inputs!AP18,0)","v":0},{"$f":"IF(ISNUMBER(Inputs!AQ18),Inputs!AQ18,0)","v":0},{"$f":"IF(ISNUMBER(Inputs!AR18),Inputs!AR18,0)","v":0},{"$f":"IF(ISNUMBER(Inputs!AS18),Inputs!AS18,0)","v":0},{"$f":"IF(ISNUMBER(Inputs!AT18),Inputs!AT18,0)","v":0},{"$f":"IF(ISNUMBER(Inputs!AU18),Inputs!AU18,0)","v":0},{"$f":"IF(ISNUMBER(Inputs!AV18),Inputs!AV18,0)","v":0},{"$f":"IF(ISNUMBER(Inputs!AW18),Inputs!AW18,0)","v":0},{"$f":"IF(ISNUMBER(Inputs!AX18),Inputs!AX18,0)","v":0},{"$f":"IF(ISNUMBER(Inputs!AY18),Inputs!AY18,0)*IF(parmUnit=1,1,2.2046)","v":0},{"$f":"IF(ISNUMBER(Inputs!AZ18),Inputs!AZ18,0)*IF(parmUnit=1,1,2.2046)","v":0},{"$f":"IF(ISNUMBER(Inputs!BA18),Inputs!BA18,0)*IF(parmUnit=1,1,2.2046)","v":0},{"$f":"IF(ISNUMBER(Inputs!BB18),Inputs!BB18,0)","v":0},{"$f":"IF(ISNUMBER(Inputs!BC18),Inputs!BC18,0)","v":0},{"$f":"IF(ISNUMBER(Inputs!BD18),Inputs!BD18,0)","v":0},{"$f":"IF(ISNUMBER(Inputs!BE18),Inputs!BE18,0)","v":0},{"$f":"IF(ISNUMBER(Inputs!BF18),Inputs!BF18,0)","v":0},{"$f":"IF(ISNUMBER(Inputs!BG18),Inputs!BG18,0)","v":0},{"$f":"IF(ISNUMBER(Inputs!BH18),Inputs!BH18,0)","v":0},{"$f":"IF(ISNUMBER(Inputs!BI18),Inputs!BI18,0)","v":0},{"$f":"IF(ISNUMBER(Inputs!BJ18),Inputs!BJ18,0)","v":0},{"$f":"IF(ISNUMBER(Inputs!BK18),Inputs!BK18,0)","v":0},{"$f":"IF(ISNUMBER(Inputs!BL18),Inputs!BL18,0)","v":0},{"$f":"IF(ISNUMBER(Inputs!BM18),Inputs!BM18,0)","v":0},{"$f":"IF(ISNUMBER(Inputs!BN18),Inputs!BN18,0)","v":0},{"$f":"IF(ISNUMBER(Inputs!BO18),Inputs!BO18,0)","v":0},{"$f":"IF(ISNUMBER(Inputs!BP18),Inputs!BP18,0)","v":0},{"$f":"IF(ISNUMBER(Inputs!BQ18),Inputs!BQ18,0)","v":0},{"$f":"IF(ISNUMBER(Inputs!BR18),Inputs!BR18,0)","v":0},{"$f":"IF(ISNUMBER(Inputs!BS18),Inputs!BS18,0)","v":0},{"$f":"IF(ISNUMBER(Inputs!BT18),Inputs!BT18,0)","v":0},{"$f":"IF(ISNUMBER(Inputs!BU18),Inputs!BU18,0)","v":0},{"$f":"IF(ISNUMBER(Inputs!BV18),Inputs!BV18,0)","v":0},{"$f":"IF(ISNUMBER(Inputs!BW18),Inputs!BW18,0)","v":0},{"$f":"IF(ISNUMBER(Inputs!BX18),Inputs!BX18,0)","v":0},{"$f":"IF(ISNUMBER(Inputs!BY18),Inputs!BY18,0)","v":0},{"$f":"IF(ISNUMBER(Inputs!BZ18),Inputs!BZ18,0)","v":0},{"$f":"IF(ISNUMBER(Inputs!CA18),Inputs!CA18,0)","v":0},{"$f":"IF(ISNUMBER(Inputs!CB18),Inputs!CB18,0)","v":0},{"$f":"IF(ISNUMBER(Inputs!CC18),Inputs!CC18,0)","v":0},{"$f":"IF(ISNUMBER(Inputs!CD18),Inputs!CD18,0)","v":0},{"$f":"IF(ISNUMBER(Inputs!CE18),Inputs!CE18,0)","v":0},{"$f":"IF(ISNUMBER(Inputs!CF18),Inputs!CF18,0)","v":0},{"$f":"IF(ISNUMBER(Inputs!CG18),Inputs!CG18,0)","v":0},{"$f":"IF(ISNUMBER(Inputs!CH18),Inputs!CH18,0)","v":0},{"$f":"IF(ISNUMBER(Inputs!CI18),Inputs!CI18,0)","v":0},{"$f":"IF(ISNUMBER(Inputs!CJ18),Inputs!CJ18,0)","v":0},{"$f":"IF(ISNUMBER(Inputs!CK18),Inputs!CK18,0)","v":0},{"$f":"IF(ISNUMBER(Inputs!CL18),Inputs!CL18,0)","v":0},{"$f":"IF(ISNUMBER(Inputs!CM18),Inputs!CM18,0)","v":0}]
[null,"Surface area","SA",{"$f":"0.09*Inputs!F17^0.67","v":6.5874841646730156},"m2",null,null,null,null,null,null,null,null,null,null,null,null,null,null,null,null,null,null,null,null,null,null,null,null,null,null,null,15,{"$f":"IF(Inputs!AI19<>\"\",Inputs!AI19,\"\")","v":""},{"$f":"IF(Inputs!AJ19<>\"\",Inputs!AJ19,\"\")","v":""},{"$f":"IF(OptimizingDMR,R185,IF(OptimizingTable,IF(AG21=1,Table!$B$5,0)/IF(parmUnit=1,1,2.2046),IF(OptimizingDiet,Optimizer!H19/IF(parmUnit=1,1,2.2046),IF(StochasticSimulation,IF(AG21=1,Stochastic!$G$10,0)/IF(parmUnit=1,1,2.2046),Inputs!AE19))))","v":0},0,{"$f":"IF(ISNUMBER(Inputs!AK19),Inputs!AK19,0)*IF(parmUnit=1,1,2204.6/2000)","v":0},{"$f":"IF(ISNUMBER(Inputs!AL19),Inputs!AL19,0)","v":0},{"$f":"IF(ISNUMBER(Inputs!AM19),Inputs!AM19,0)","v":0},{"$f":"IF(ISNUMBER(Inputs!AN19),Inputs!AN19,0)","v":0},{"$f":"IF(ISNUMBER(Inputs!AO19),Inputs!AO19,0)","v":0},{"$f":"IF(ISNUMBER(Inputs!AP19),Inputs!AP19,0)","v":0},{"$f":"IF(ISNUMBER(Inputs!AQ19),Inputs!AQ19,0)","v":0},{"$f":"IF(ISNUMBER(Inputs!AR19),Inputs!AR19,0)","v":0},{"$f":"IF(ISNUMBER(Inputs!AS19),Inputs!AS19,0)","v":0},{"$f":"IF(ISNUMBER(Inputs!AT19),Inputs!AT19,0)","v":0},{"$f":"IF(ISNUMBER(Inputs!AU19),Inputs!AU19,0)","v":0},{"$f":"IF(ISNUMBER(Inputs!AV19),Inputs!AV19,0)","v":0},{"$f":"IF(ISNUMBER(Inputs!AW19),Inputs!AW19,0)","v":0},{"$f":"IF(ISNUMBER(Inputs!AX19),Inputs!AX19,0)","v":0},{"$f":"IF(ISNUMBER(Inputs!AY19),Inputs!AY19,0)*IF(parmUnit=1,1,2.2046)","v":0},{"$f":"IF(ISNUMBER(Inputs!AZ19),Inputs!AZ19,0)*IF(parmUnit=1,1,2.2046)","v":0},{"$f":"IF(ISNUMBER(Inputs!BA19),Inputs!BA19,0)*IF(parmUnit=1,1,2.2046)","v":0},{"$f":"IF(ISNUMBER(Inputs!BB19),Inputs!BB19,0)","v":0},{"$f":"IF(ISNUMBER(Inputs!BC19),Inputs!BC19,0)","v":0},{"$f":"IF(ISNUMBER(Inputs!BD19),Inputs!BD19,0)","v":0},{"$f":"IF(ISNUMBER(Inputs!BE19),Inputs!BE19,0)","v":0},{"$f":"IF(ISNUMBER(Inputs!BF19),Inputs!BF19,0)","v":0},{"$f":"IF(ISNUMBER(Inputs!BG19),Inputs!BG19,0)","v":0},{"$f":"IF(ISNUMBER(Inputs!BH19),Inputs!BH19,0)","v":0},{"$f":"IF(ISNUMBER(Inputs!BI19),Inputs!BI19,0)","v":0},{"$f":"IF(ISNUMBER(Inputs!BJ19),Inputs!BJ19,0)","v":0},{"$f":"IF(ISNUMBER(Inputs!BK19),Inputs!BK19,0)","v":0},{"$f":"IF(ISNUMBER(Inputs!BL19),Inputs!BL19,0)","v":0},{"$f":"IF(ISNUMBER(Inputs!BM19),Inputs!BM19,0)","v":0},{"$f":"IF(ISNUMBER(Inputs!BN19),Inputs!BN19,0)","v":0},{"$f":"IF(ISNUMBER(Inputs!BO19),Inputs!BO19,0)","v":0},{"$f":"IF(ISNUMBER(Inputs!BP19),Inputs!BP19,0)","v":0},{"$f":"IF(ISNUMBER(Inputs!BQ19),Inputs!BQ19,0)","v":0},{"$f":"IF(ISNUMBER(Inputs!BR19),Inputs!BR19,0)","v":0},{"$f":"IF(ISNUMBER(Inputs!BS19),Inputs!BS19,0)","v":0},{"$f":"IF(ISNUMBER(Inputs!BT19),Inputs!BT19,0)","v":0},{"$f":"IF(ISNUMBER(Inputs!BU19),Inputs!BU19,0)","v":0},{"$f":"IF(ISNUMBER(Inputs!BV19),Inputs!BV19,0)","v":0},{"$f":"IF(ISNUMBER(Inputs!BW19),Inputs!BW19,0)","v":0},{"$f":"IF(ISNUMBER(Inputs!BX19),Inputs!BX19,0)","v":0},{"$f":"IF(ISNUMBER(Inputs!BY19),Inputs!BY19,0)","v":0},{"$f":"IF(ISNUMBER(Inputs!BZ19),Inputs!BZ19,0)","v":0},{"$f":"IF(ISNUMBER(Inputs!CA19),Inputs!CA19,0)","v":0},{"$f":"IF(ISNUMBER(Inputs!CB19),Inputs!CB19,0)","v":0},{"$f":"IF(ISNUMBER(Inputs!CC19),Inputs!CC19,0)","v":0},{"$f":"IF(ISNUMBER(Inputs!CD19),Inputs!CD19,0)","v":0},{"$f":"IF(ISNUMBER(Inputs!CE19),Inputs!CE19,0)","v":0},{"$f":"IF(ISNUMBER(Inputs!CF19),Inputs!CF19,0)","v":0},{"$f":"IF(ISNUMBER(Inputs!CG19),Inputs!CG19,0)","v":0},{"$f":"IF(ISNUMBER(Inputs!CH19),Inputs!CH19,0)","v":0},{"$f":"IF(ISNUMBER(Inputs!CI19),Inputs!CI19,0)","v":0},{"$f":"IF(ISNUMBER(Inputs!CJ19),Inputs!CJ19,0)","v":0},{"$f":"IF(ISNUMBER(Inputs!CK19),Inputs!CK19,0)","v":0},{"$f":"IF(ISNUMBER(Inputs!CL19),Inputs!CL19,0)","v":0},{"$f":"IF(ISNUMBER(Inputs!CM19),Inputs!CM19,0)","v":0}]
[null,"Metabolizable energy","ME",{"$f":"J6","v":2.8380121131647966},"Mcal/kg",null,null,null,null,null,null,null,null,null,null,null,null,null,null,null,null,null,null,null,null,null,null,null,null,null,null,null,16,{"$f":"IF(Inputs!AI20<>\"\",Inputs!AI20,\"\")","v":""},{"$f":"IF(Inputs!AJ20<>\"\",Inputs!AJ20,\"\")","v":""},{"$f":"IF(OptimizingDMR,R186,IF(OptimizingTable,IF(AG22=1,Table!$B$5,0)/IF(parmUnit=1,1,2.2046),IF(OptimizingDiet,Optimizer!H20/IF(parmUnit=1,1,2.2046),IF(StochasticSimulation,IF(AG22=1,Stochastic!$G$10,0)/IF(parmUnit=1,1,2.2046),Inputs!AE20))))","v":0},0,{"$f":"IF(ISNUMBER(Inputs!AK20),Inputs!AK20,0)*IF(parmUnit=1,1,2204.6/2000)","v":0},{"$f":"IF(ISNUMBER(Inputs!AL20),Inputs!AL20,0)","v":0},{"$f":"IF(ISNUMBER(Inputs!AM20),Inputs!AM20,0)","v":0},{"$f":"IF(ISNUMBER(Inputs!AN20),Inputs!AN20,0)","v":0},{"$f":"IF(ISNUMBER(Inputs!AO20),Inputs!AO20,0)","v":0},{"$f":"IF(ISNUMBER(Inputs!AP20),Inputs!AP20,0)","v":0},{"$f":"IF(ISNUMBER(Inputs!AQ20),Inputs!AQ20,0)","v":0},{"$f":"IF(ISNUMBER(Inputs!AR20),Inputs!AR20,0)","v":0},{"$f":"IF(ISNUMBER(Inputs!AS20),Inputs!AS20,0)","v":0},{"$f":"IF(ISNUMBER(Inputs!AT20),Inputs!AT20,0)","v":0},{"$f":"IF(ISNUMBER(Inputs!AU20),Inputs!AU20,0)","v":0},{"$f":"IF(ISNUMBER(Inputs!AV20),Inputs!AV20,0)","v":0},{"$f":"IF(ISNUMBER(Inputs!AW20),Inputs!AW20,0)","v":0},{"$f":"IF(ISNUMBER(Inputs!AX20),Inputs!AX20,0)","v":0},{"$f":"IF(ISNUMBER(Inputs!AY20),Inputs!AY20,0)*IF(parmUnit=1,1,2.2046)","v":0},{"$f":"IF(ISNUMBER(Inputs!AZ20),Inputs!AZ20,0)*IF(parmUnit=1,1,2.2046)","v":0},{"$f":"IF(ISNUMBER(Inputs!BA20),Inputs!BA20,0)*IF(parmUnit=1,1,2.2046)","v":0},{"$f":"IF(ISNUMBER(Inputs!BB20),Inputs!BB20,0)","v":0},{"$f":"IF(ISNUMBER(Inputs!BC20),Inputs!BC20,0)","v":0},{"$f":"IF(ISNUMBER(Inputs!BD20),Inputs!BD20,0)","v":0},{"$f":"IF(ISNUMBER(Inputs!BE20),Inputs!BE20,0)","v":0},{"$f":"IF(ISNUMBER(Inputs!BF20),Inputs!BF20,0)","v":0},{"$f":"IF(ISNUMBER(Inputs!BG20),Inputs!BG20,0)","v":0},{"$f":"IF(ISNUMBER(Inputs!BH20),Inputs!BH20,0)","v":0},{"$f":"IF(ISNUMBER(Inputs!BI20),Inputs!BI20,0)","v":0},{"$f":"IF(ISNUMBER(Inputs!BJ20),Inputs!BJ20,0)","v":0},{"$f":"IF(ISNUMBER(Inputs!BK20),Inputs!BK20,0)","v":0},{"$f":"IF(ISNUMBER(Inputs!BL20),Inputs!BL20,0)","v":0},{"$f":"IF(ISNUMBER(Inputs!BM20),Inputs!BM20,0)","v":0},{"$f":"IF(ISNUMBER(Inputs!BN20),Inputs!BN20,0)","v":0},{"$f":"IF(ISNUMBER(Inputs!BO20),Inputs!BO20,0)","v":0},{"$f":"IF(ISNUMBER(Inputs!BP20),Inputs!BP20,0)","v":0},{"$f":"IF(ISNUMBER(Inputs!BQ20),Inputs!BQ20,0)","v":0},{"$f":"IF(ISNUMBER(Inputs!BR20),Inputs!BR20,0)","v":0},{"$f":"IF(ISNUMBER(Inputs!BS20),Inputs!BS20,0)","v":0},{"$f":"IF(ISNUMBER(Inputs!BT20),Inputs!BT20,0)","v":0},{"$f":"IF(ISNUMBER(Inputs!BU20),Inputs!BU20,0)","v":0},{"$f":"IF(ISNUMBER(Inputs!BV20),Inputs!BV20,0)","v":0},{"$f":"IF(ISNUMBER(Inputs!BW20),Inputs!BW20,0)","v":0},{"$f":"IF(ISNUMBER(Inputs!BX20),Inputs!BX20,0)","v":0},{"$f":"IF(ISNUMBER(Inputs!BY20),Inputs!BY20,0)","v":0},{"$f":"IF(ISNUMBER(Inputs!BZ20),Inputs!BZ20,0)","v":0},{"$f":"IF(ISNUMBER(Inputs!CA20),Inputs!CA20,0)","v":0},{"$f":"IF(ISNUMBER(Inputs!CB20),Inputs!CB20,0)","v":0},{"$f":"IF(ISNUMBER(Inputs!CC20),Inputs!CC20,0)","v":0},{"$f":"IF(ISNUMBER(Inputs!CD20),Inputs!CD20,0)","v":0},{"$f":"IF(ISNUMBER(Inputs!CE20),Inputs!CE20,0)","v":0},{"$f":"IF(ISNUMBER(Inputs!CF20),Inputs!CF20,0)","v":0},{"$f":"IF(ISNUMBER(Inputs!CG20),Inputs!CG20,0)","v":0},{"$f":"IF(ISNUMBER(Inputs!CH20),Inputs!CH20,0)","v":0},{"$f":"IF(ISNUMBER(Inputs!CI20),Inputs!CI20,0)","v":0},{"$f":"IF(ISNUMBER(Inputs!CJ20),Inputs!CJ20,0)","v":0},{"$f":"IF(ISNUMBER(Inputs!CK20),Inputs!CK20,0)","v":0},{"$f":"IF(ISNUMBER(Inputs!CL20),Inputs!CL20,0)","v":0},{"$f":"IF(ISNUMBER(Inputs!CM20),Inputs!CM20,0)","v":0}]
[null,"ME intake","MEI",{"$f":"D20*D22","v":31.281726548990545},"Mcal/d",null,null,null,null,null,null,null,null,null,null,null,null,null,null,null,null,null,null,null,null,null,null,null,null,null,null,null,17,{"$f":"IF(Inputs!AI21<>\"\",Inputs!AI21,\"\")","v":""},{"$f":"IF(Inputs!AJ21<>\"\",Inputs!AJ21,\"\")","v":""},{"$f":"IF(OptimizingDMR,R187,IF(OptimizingTable,IF(AG23=1,Table!$B$5,0)/IF(parmUnit=1,1,2.2046),IF(OptimizingDiet,Optimizer!H21/IF(parmUnit=1,1,2.2046),IF(StochasticSimulation,IF(AG23=1,Stochastic!$G$10,0)/IF(parmUnit=1,1,2.2046),Inputs!AE21))))","v":0},0,{"$f":"IF(ISNUMBER(Inputs!AK21),Inputs!AK21,0)*IF(parmUnit=1,1,2204.6/2000)","v":0},{"$f":"IF(ISNUMBER(Inputs!AL21),Inputs!AL21,0)","v":0},{"$f":"IF(ISNUMBER(Inputs!AM21),Inputs!AM21,0)","v":0},{"$f":"IF(ISNUMBER(Inputs!AN21),Inputs!AN21,0)","v":0},{"$f":"IF(ISNUMBER(Inputs!AO21),Inputs!AO21,0)","v":0},{"$f":"IF(ISNUMBER(Inputs!AP21),Inputs!AP21,0)","v":0},{"$f":"IF(ISNUMBER(Inputs!AQ21),Inputs!AQ21,0)","v":0},{"$f":"IF(ISNUMBER(Inputs!AR21),Inputs!AR21,0)","v":0},{"$f":"IF(ISNUMBER(Inputs!AS21),Inputs!AS21,0)","v":0},{"$f":"IF(ISNUMBER(Inputs!AT21),Inputs!AT21,0)","v":0},{"$f":"IF(ISNUMBER(Inputs!AU21),Inputs!AU21,0)","v":0},{"$f":"IF(ISNUMBER(Inputs!AV21),Inputs!AV21,0)","v":0},{"$f":"IF(ISNUMBER(Inputs!AW21),Inputs!AW21,0)","v":0},{"$f":"IF(ISNUMBER(Inputs!AX21),Inputs!AX21,0)","v":0},{"$f":"IF(ISNUMBER(Inputs!AY21),Inputs!AY21,0)*IF(parmUnit=1,1,2.2046)","v":0},{"$f":"IF(ISNUMBER(Inputs!AZ21),Inputs!AZ21,0)*IF(parmUnit=1,1,2.2046)","v":0},{"$f":"IF(ISNUMBER(Inputs!BA21),Inputs!BA21,0)*IF(parmUnit=1,1,2.2046)","v":0},{"$f":"IF(ISNUMBER(Inputs!BB21),Inputs!BB21,0)","v":0},{"$f":"IF(ISNUMBER(Inputs!BC21),Inputs!BC21,0)","v":0},{"$f":"IF(ISNUMBER(Inputs!BD21),Inputs!BD21,0)","v":0},{"$f":"IF(ISNUMBER(Inputs!BE21),Inputs!BE21,0)","v":0},{"$f":"IF(ISNUMBER(Inputs!BF21),Inputs!BF21,0)","v":0},{"$f":"IF(ISNUMBER(Inputs!BG21),Inputs!BG21,0)","v":0},{"$f":"IF(ISNUMBER(Inputs!BH21),Inputs!BH21,0)","v":0},{"$f":"IF(ISNUMBER(Inputs!BI21),Inputs!BI21,0)","v":0},{"$f":"IF(ISNUMBER(Inputs!BJ21),Inputs!BJ21,0)","v":0},{"$f":"IF(ISNUMBER(Inputs!BK21),Inputs!BK21,0)","v":0},{"$f":"IF(ISNUMBER(Inputs!BL21),Inputs!BL21,0)","v":0},{"$f":"IF(ISNUMBER(Inputs!BM21),Inputs!BM21,0)","v":0},{"$f":"IF(ISNUMBER(Inputs!BN21),Inputs!BN21,0)","v":0},{"$f":"IF(ISNUMBER(Inputs!BO21),Inputs!BO21,0)","v":0},{"$f":"IF(ISNUMBER(Inputs!BP21),Inputs!BP21,0)","v":0},{"$f":"IF(ISNUMBER(Inputs!BQ21),Inputs!BQ21,0)","v":0},{"$f":"IF(ISNUMBER(Inputs!BR21),Inputs!BR21,0)","v":0},{"$f":"IF(ISNUMBER(Inputs!BS21),Inputs!BS21,0)","v":0},{"$f":"IF(ISNUMBER(Inputs!BT21),Inputs!BT21,0)","v":0},{"$f":"IF(ISNUMBER(Inputs!BU21),Inputs!BU21,0)","v":0},{"$f":"IF(ISNUMBER(Inputs!BV21),Inputs!BV21,0)","v":0},{"$f":"IF(ISNUMBER(Inputs!BW21),Inputs!BW21,0)","v":0},{"$f":"IF(ISNUMBER(Inputs!BX21),Inputs!BX21,0)","v":0},{"$f":"IF(ISNUMBER(Inputs!BY21),Inputs!BY21,0)","v":0},{"$f":"IF(ISNUMBER(Inputs!BZ21),Inputs!BZ21,0)","v":0},{"$f":"IF(ISNUMBER(Inputs!CA21),Inputs!CA21,0)","v":0},{"$f":"IF(ISNUMBER(Inputs!CB21),Inputs!CB21,0)","v":0},{"$f":"IF(ISNUMBER(Inputs!CC21),Inputs!CC21,0)","v":0},{"$f":"IF(ISNUMBER(Inputs!CD21),Inputs!CD21,0)","v":0},{"$f":"IF(ISNUMBER(Inputs!CE21),Inputs!CE21,0)","v":0},{"$f":"IF(ISNUMBER(Inputs!CF21),Inputs!CF21,0)","v":0},{"$f":"IF(ISNUMBER(Inputs!CG21),Inputs!CG21,0)","v":0},{"$f":"IF(ISNUMBER(Inputs!CH21),Inputs!CH21,0)","v":0},{"$f":"IF(ISNUMBER(Inputs!CI21),Inputs!CI21,0)","v":0},{"$f":"IF(ISNUMBER(Inputs!CJ21),Inputs!CJ21,0)","v":0},{"$f":"IF(ISNUMBER(Inputs!CK21),Inputs!CK21,0)","v":0},{"$f":"IF(ISNUMBER(Inputs!CL21),Inputs!CL21,0)","v":0},{"$f":"IF(ISNUMBER(Inputs!CM21),Inputs!CM21,0)","v":0}]
[null,"Heat production","HE",{"$f":"D23-(D20-D18)*IF(parmAnClass=1,Calc!J8,Calc!J7)","v":23.406472448096089},"Mcal/d",null,null,null,null,null,null,null,null,null,null,null,null,null,null,null,null,null,null,null,null,null,null,null,null,null,null,null,18,{"$f":"IF(Inputs!AI22<>\"\",Inputs!AI22,\"\")","v":""},{"$f":"IF(Inputs!AJ22<>\"\",Inputs!AJ22,\"\")","v":""},{"$f":"IF(OptimizingDMR,R188,IF(OptimizingTable,IF(AG24=1,Table!$B$5,0)/IF(parmUnit=1,1,2.2046),IF(OptimizingDiet,Optimizer!H22/IF(parmUnit=1,1,2.2046),IF(StochasticSimulation,IF(AG24=1,Stochastic!$G$10,0)/IF(parmUnit=1,1,2.2046),Inputs!AE22))))","v":0},0,{"$f":"IF(ISNUMBER(Inputs!AK22),Inputs!AK22,0)*IF(parmUnit=1,1,2204.6/2000)","v":0},{"$f":"IF(ISNUMBER(Inputs!AL22),Inputs!AL22,0)","v":0},{"$f":"IF(ISNUMBER(Inputs!AM22),Inputs!AM22,0)","v":0},{"$f":"IF(ISNUMBER(Inputs!AN22),Inputs!AN22,0)","v":0},{"$f":"IF(ISNUMBER(Inputs!AO22),Inputs!AO22,0)","v":0},{"$f":"IF(ISNUMBER(Inputs!AP22),Inputs!AP22,0)","v":0},{"$f":"IF(ISNUMBER(Inputs!AQ22),Inputs!AQ22,0)","v":0},{"$f":"IF(ISNUMBER(Inputs!AR22),Inputs!AR22,0)","v":0},{"$f":"IF(ISNUMBER(Inputs!AS22),Inputs!AS22,0)","v":0},{"$f":"IF(ISNUMBER(Inputs!AT22),Inputs!AT22,0)","v":0},{"$f":"IF(ISNUMBER(Inputs!AU22),Inputs!AU22,0)","v":0},{"$f":"IF(ISNUMBER(Inputs!AV22),Inputs!AV22,0)","v":0},{"$f":"IF(ISNUMBER(Inputs!AW22),Inputs!AW22,0)","v":0},{"$f":"IF(ISNUMBER(Inputs!AX22),Inputs!AX22,0)","v":0},{"$f":"IF(ISNUMBER(Inputs!AY22),Inputs!AY22,0)*IF(parmUnit=1,1,2.2046)","v":0},{"$f":"IF(ISNUMBER(Inputs!AZ22),Inputs!AZ22,0)*IF(parmUnit=1,1,2.2046)","v":0},{"$f":"IF(ISNUMBER(Inputs!BA22),Inputs!BA22,0)*IF(parmUnit=1,1,2.2046)","v":0},{"$f":"IF(ISNUMBER(Inputs!BB22),Inputs!BB22,0)","v":0},{"$f":"IF(ISNUMBER(Inputs!BC22),Inputs!BC22,0)","v":0},{"$f":"IF(ISNUMBER(Inputs!BD22),Inputs!BD22,0)","v":0},{"$f":"IF(ISNUMBER(Inputs!BE22),Inputs!BE22,0)","v":0},{"$f":"IF(ISNUMBER(Inputs!BF22),Inputs!BF22,0)","v":0},{"$f":"IF(ISNUMBER(Inputs!BG22),Inputs!BG22,0)","v":0},{"$f":"IF(ISNUMBER(Inputs!BH22),Inputs!BH22,0)","v":0},{"$f":"IF(ISNUMBER(Inputs!BI22),Inputs!BI22,0)","v":0},{"$f":"IF(ISNUMBER(Inputs!BJ22),Inputs!BJ22,0)","v":0},{"$f":"IF(ISNUMBER(Inputs!BK22),Inputs!BK22,0)","v":0},{"$f":"IF(ISNUMBER(Inputs!BL22),Inputs!BL22,0)","v":0},{"$f":"IF(ISNUMBER(Inputs!BM22),Inputs!BM22,0)","v":0},{"$f":"IF(ISNUMBER(Inputs!BN22),Inputs!BN22,0)","v":0},{"$f":"IF(ISNUMBER(Inputs!BO22),Inputs!BO22,0)","v":0},{"$f":"IF(ISNUMBER(Inputs!BP22),Inputs!BP22,0)","v":0},{"$f":"IF(ISNUMBER(Inputs!BQ22),Inputs!BQ22,0)","v":0},{"$f":"IF(ISNUMBER(Inputs!BR22),Inputs!BR22,0)","v":0},{"$f":"IF(ISNUMBER(Inputs!BS22),Inputs!BS22,0)","v":0},{"$f":"IF(ISNUMBER(Inputs!BT22),Inputs!BT22,0)","v":0},{"$f":"IF(ISNUMBER(Inputs!BU22),Inputs!BU22,0)","v":0},{"$f":"IF(ISNUMBER(Inputs!BV22),Inputs!BV22,0)","v":0},{"$f":"IF(ISNUMBER(Inputs!BW22),Inputs!BW22,0)","v":0},{"$f":"IF(ISNUMBER(Inputs!BX22),Inputs!BX22,0)","v":0},{"$f":"IF(ISNUMBER(Inputs!BY22),Inputs!BY22,0)","v":0},{"$f":"IF(ISNUMBER(Inputs!BZ22),Inputs!BZ22,0)","v":0},{"$f":"IF(ISNUMBER(Inputs!CA22),Inputs!CA22,0)","v":0},{"$f":"IF(ISNUMBER(Inputs!CB22),Inputs!CB22,0)","v":0},{"$f":"IF(ISNUMBER(Inputs!CC22),Inputs!CC22,0)","v":0},{"$f":"IF(ISNUMBER(Inputs!CD22),Inputs!CD22,0)","v":0},{"$f":"IF(ISNUMBER(Inputs!CE22),Inputs!CE22,0)","v":0},{"$f":"IF(ISNUMBER(Inputs!CF22),Inputs!CF22,0)","v":0},{"$f":"IF(ISNUMBER(Inputs!CG22),Inputs!CG22,0)","v":0},{"$f":"IF(ISNUMBER(Inputs!CH22),Inputs!CH22,0)","v":0},{"$f":"IF(ISNUMBER(Inputs!CI22),Inputs!CI22,0)","v":0},{"$f":"IF(ISNUMBER(Inputs!CJ22),Inputs!CJ22,0)","v":0},{"$f":"IF(ISNUMBER(Inputs!CK22),Inputs!CK22,0)","v":0},{"$f":"IF(ISNUMBER(Inputs!CL22),Inputs!CL22,0)","v":0},{"$f":"IF(ISNUMBER(Inputs!CM22),Inputs!CM22,0)","v":0}]
[null,"HE per surface area","HE/SA",{"$f":"IF(D21<>0,D24/D21,0)","v":3.5531732392798734},"Mcal/d/m2",null,null,null,null,null,null,null,null,null,null,null,null,null,null,null,null,null,null,null,null,null,null,null,null,null,null,null,19,{"$f":"IF(Inputs!AI23<>\"\",Inputs!AI23,\"\")","v":""},{"$f":"IF(Inputs!AJ23<>\"\",Inputs!AJ23,\"\")","v":""},{"$f":"IF(OptimizingDMR,R189,IF(OptimizingTable,IF(AG25=1,Table!$B$5,0)/IF(parmUnit=1,1,2.2046),IF(OptimizingDiet,Optimizer!H23/IF(parmUnit=1,1,2.2046),IF(StochasticSimulation,IF(AG25=1,Stochastic!$G$10,0)/IF(parmUnit=1,1,2.2046),Inputs!AE23))))","v":0},0,{"$f":"IF(ISNUMBER(Inputs!AK23),Inputs!AK23,0)*IF(parmUnit=1,1,2204.6/2000)","v":0},{"$f":"IF(ISNUMBER(Inputs!AL23),Inputs!AL23,0)","v":0},{"$f":"IF(ISNUMBER(Inputs!AM23),Inputs!AM23,0)","v":0},{"$f":"IF(ISNUMBER(Inputs!AN23),Inputs!AN23,0)","v":0},{"$f":"IF(ISNUMBER(Inputs!AO23),Inputs!AO23,0)","v":0},{"$f":"IF(ISNUMBER(Inputs!AP23),Inputs!AP23,0)","v":0},{"$f":"IF(ISNUMBER(Inputs!AQ23),Inputs!AQ23,0)","v":0},{"$f":"IF(ISNUMBER(Inputs!AR23),Inputs!AR23,0)","v":0},{"$f":"IF(ISNUMBER(Inputs!AS23),Inputs!AS23,0)","v":0},{"$f":"IF(ISNUMBER(Inputs!AT23),Inputs!AT23,0)","v":0},{"$f":"IF(ISNUMBER(Inputs!AU23),Inputs!AU23,0)","v":0},{"$f":"IF(ISNUMBER(Inputs!AV23),Inputs!AV23,0)","v":0},{"$f":"IF(ISNUMBER(Inputs!AW23),Inputs!AW23,0)","v":0},{"$f":"IF(ISNUMBER(Inputs!AX23),Inputs!AX23,0)","v":0},{"$f":"IF(ISNUMBER(Inputs!AY23),Inputs!AY23,0)*IF(parmUnit=1,1,2.2046)","v":0},{"$f":"IF(ISNUMBER(Inputs!AZ23),Inputs!AZ23,0)*IF(parmUnit=1,1,2.2046)","v":0},{"$f":"IF(ISNUMBER(Inputs!BA23),Inputs!BA23,0)*IF(parmUnit=1,1,2.2046)","v":0},{"$f":"IF(ISNUMBER(Inputs!BB23),Inputs!BB23,0)","v":0},{"$f":"IF(ISNUMBER(Inputs!BC23),Inputs!BC23,0)","v":0},{"$f":"IF(ISNUMBER(Inputs!BD23),Inputs!BD23,0)","v":0},{"$f":"IF(ISNUMBER(Inputs!BE23),Inputs!BE23,0)","v":0},{"$f":"IF(ISNUMBER(Inputs!BF23),Inputs!BF23,0)","v":0},{"$f":"IF(ISNUMBER(Inputs!BG23),Inputs!BG23,0)","v":0},{"$f":"IF(ISNUMBER(Inputs!BH23),Inputs!BH23,0)","v":0},{"$f":"IF(ISNUMBER(Inputs!BI23),Inputs!BI23,0)","v":0},{"$f":"IF(ISNUMBER(Inputs!BJ23),Inputs!BJ23,0)","v":0},{"$f":"IF(ISNUMBER(Inputs!BK23),Inputs!BK23,0)","v":0},{"$f":"IF(ISNUMBER(Inputs!BL23),Inputs!BL23,0)","v":0},{"$f":"IF(ISNUMBER(Inputs!BM23),Inputs!BM23,0)","v":0},{"$f":"IF(ISNUMBER(Inputs!BN23),Inputs!BN23,0)","v":0},{"$f":"IF(ISNUMBER(Inputs!BO23),Inputs!BO23,0)","v":0},{"$f":"IF(ISNUMBER(Inputs!BP23),Inputs!BP23,0)","v":0},{"$f":"IF(ISNUMBER(Inputs!BQ23),Inputs!BQ23,0)","v":0},{"$f":"IF(ISNUMBER(Inputs!BR23),Inputs!BR23,0)","v":0},{"$f":"IF(ISNUMBER(Inputs!BS23),Inputs!BS23,0)","v":0},{"$f":"IF(ISNUMBER(Inputs!BT23),Inputs!BT23,0)","v":0},{"$f":"IF(ISNUMBER(Inputs!BU23),Inputs!BU23,0)","v":0},{"$f":"IF(ISNUMBER(Inputs!BV23),Inputs!BV23,0)","v":0},{"$f":"IF(ISNUMBER(Inputs!BW23),Inputs!BW23,0)","v":0},{"$f":"IF(ISNUMBER(Inputs!BX23),Inputs!BX23,0)","v":0},{"$f":"IF(ISNUMBER(Inputs!BY23),Inputs!BY23,0)","v":0},{"$f":"IF(ISNUMBER(Inputs!BZ23),Inputs!BZ23,0)","v":0},{"$f":"IF(ISNUMBER(Inputs!CA23),Inputs!CA23,0)","v":0},{"$f":"IF(ISNUMBER(Inputs!CB23),Inputs!CB23,0)","v":0},{"$f":"IF(ISNUMBER(Inputs!CC23),Inputs!CC23,0)","v":0},{"$f":"IF(ISNUMBER(Inputs!CD23),Inputs!CD23,0)","v":0},{"$f":"IF(ISNUMBER(Inputs!CE23),Inputs!CE23,0)","v":0},{"$f":"IF(ISNUMBER(Inputs!CF23),Inputs!CF23,0)","v":0},{"$f":"IF(ISNUMBER(Inputs!CG23),Inputs!CG23,0)","v":0},{"$f":"IF(ISNUMBER(Inputs!CH23),Inputs!CH23,0)","v":0},{"$f":"IF(ISNUMBER(Inputs!CI23),Inputs!CI23,0)","v":0},{"$f":"IF(ISNUMBER(Inputs!CJ23),Inputs!CJ23,0)","v":0},{"$f":"IF(ISNUMBER(Inputs!CK23),Inputs!CK23,0)","v":0},{"$f":"IF(ISNUMBER(Inputs!CL23),Inputs!CL23,0)","v":0},{"$f":"IF(ISNUMBER(Inputs!CM23),Inputs!CM23,0)","v":0}]
[null,"Wind speed","WS",{"$f":"MIN(32,Inputs!F64)","v":8.04634695848085},"km/h","0 < WS < 32 KPH",null,null,null,null,null,null,null,null,null,null,null,null,null,null,null,null,null,null,null,null,null,null,null,null,null,null,20,{"$f":"IF(Inputs!AI24<>\"\",Inputs!AI24,\"\")","v":""},{"$f":"IF(Inputs!AJ24<>\"\",Inputs!AJ24,\"\")","v":""},{"$f":"IF(OptimizingDMR,R190,IF(OptimizingTable,IF(AG26=1,Table!$B$5,0)/IF(parmUnit=1,1,2.2046),IF(OptimizingDiet,Optimizer!H24/IF(parmUnit=1,1,2.2046),IF(StochasticSimulation,IF(AG26=1,Stochastic!$G$10,0)/IF(parmUnit=1,1,2.2046),Inputs!AE24))))","v":0},0,{"$f":"IF(ISNUMBER(Inputs!AK24),Inputs!AK24,0)*IF(parmUnit=1,1,2204.6/2000)","v":0},{"$f":"IF(ISNUMBER(Inputs!AL24),Inputs!AL24,0)","v":0},{"$f":"IF(ISNUMBER(Inputs!AM24),Inputs!AM24,0)","v":0},{"$f":"IF(ISNUMBER(Inputs!AN24),Inputs!AN24,0)","v":0},{"$f":"IF(ISNUMBER(Inputs!AO24),Inputs!AO24,0)","v":0},{"$f":"IF(ISNUMBER(Inputs!AP24),Inputs!AP24,0)","v":0},{"$f":"IF(ISNUMBER(Inputs!AQ24),Inputs!AQ24,0)","v":0},{"$f":"IF(ISNUMBER(Inputs!AR24),Inputs!AR24,0)","v":0},{"$f":"IF(ISNUMBER(Inputs!AS24),Inputs!AS24,0)","v":0},{"$f":"IF(ISNUMBER(Inputs!AT24),Inputs!AT24,0)","v":0},{"$f":"IF(ISNUMBER(Inputs!AU24),Inputs!AU24,0)","v":0},{"$f":"IF(ISNUMBER(Inputs!AV24),Inputs!AV24,0)","v":0},{"$f":"IF(ISNUMBER(Inputs!AW24),Inputs!AW24,0)","v":0},{"$f":"IF(ISNUMBER(Inputs!AX24),Inputs!AX24,0)","v":0},{"$f":"IF(ISNUMBER(Inputs!AY24),Inputs!AY24,0)*IF(parmUnit=1,1,2.2046)","v":0},{"$f":"IF(ISNUMBER(Inputs!AZ24),Inputs!AZ24,0)*IF(parmUnit=1,1,2.2046)","v":0},{"$f":"IF(ISNUMBER(Inputs!BA24),Inputs!BA24,0)*IF(parmUnit=1,1,2.2046)","v":0},{"$f":"IF(ISNUMBER(Inputs!BB24),Inputs!BB24,0)","v":0},{"$f":"IF(ISNUMBER(Inputs!BC24),Inputs!BC24,0)","v":0},{"$f":"IF(ISNUMBER(Inputs!BD24),Inputs!BD24,0)","v":0},{"$f":"IF(ISNUMBER(Inputs!BE24),Inputs!BE24,0)","v":0},{"$f":"IF(ISNUMBER(Inputs!BF24),Inputs!BF24,0)","v":0},{"$f":"IF(ISNUMBER(Inputs!BG24),Inputs!BG24,0)","v":0},{"$f":"IF(ISNUMBER(Inputs!BH24),Inputs!BH24,0)","v":0},{"$f":"IF(ISNUMBER(Inputs!BI24),Inputs!BI24,0)","v":0},{"$f":"IF(ISNUMBER(Inputs!BJ24),Inputs!BJ24,0)","v":0},{"$f":"IF(ISNUMBER(Inputs!BK24),Inputs!BK24,0)","v":0},{"$f":"IF(ISNUMBER(Inputs!BL24),Inputs!BL24,0)","v":0},{"$f":"IF(ISNUMBER(Inputs!BM24),Inputs!BM24,0)","v":0},{"$f":"IF(ISNUMBER(Inputs!BN24),Inputs!BN24,0)","v":0},{"$f":"IF(ISNUMBER(Inputs!BO24),Inputs!BO24,0)","v":0},{"$f":"IF(ISNUMBER(Inputs!BP24),Inputs!BP24,0)","v":0},{"$f":"IF(ISNUMBER(Inputs!BQ24),Inputs!BQ24,0)","v":0},{"$f":"IF(ISNUMBER(Inputs!BR24),Inputs!BR24,0)","v":0},{"$f":"IF(ISNUMBER(Inputs!BS24),Inputs!BS24,0)","v":0},{"$f":"IF(ISNUMBER(Inputs!BT24),Inputs!BT24,0)","v":0},{"$f":"IF(ISNUMBER(Inputs!BU24),Inputs!BU24,0)","v":0},{"$f":"IF(ISNUMBER(Inputs!BV24),Inputs!BV24,0)","v":0},{"$f":"IF(ISNUMBER(Inputs!BW24),Inputs!BW24,0)","v":0},{"$f":"IF(ISNUMBER(Inputs!BX24),Inputs!BX24,0)","v":0},{"$f":"IF(ISNUMBER(Inputs!BY24),Inputs!BY24,0)","v":0},{"$f":"IF(ISNUMBER(Inputs!BZ24),Inputs!BZ24,0)","v":0},{"$f":"IF(ISNUMBER(Inputs!CA24),Inputs!CA24,0)","v":0},{"$f":"IF(ISNUMBER(Inputs!CB24),Inputs!CB24,0)","v":0},{"$f":"IF(ISNUMBER(Inputs!CC24),Inputs!CC24,0)","v":0},{"$f":"IF(ISNUMBER(Inputs!CD24),Inputs!CD24,0)","v":0},{"$f":"IF(ISNUMBER(Inputs!CE24),Inputs!CE24,0)","v":0},{"$f":"IF(ISNUMBER(Inputs!CF24),Inputs!CF24,0)","v":0},{"$f":"IF(ISNUMBER(Inputs!CG24),Inputs!CG24,0)","v":0},{"$f":"IF(ISNUMBER(Inputs!CH24),Inputs!CH24,0)","v":0},{"$f":"IF(ISNUMBER(Inputs!CI24),Inputs!CI24,0)","v":0},{"$f":"IF(ISNUMBER(Inputs!CJ24),Inputs!CJ24,0)","v":0},{"$f":"IF(ISNUMBER(Inputs!CK24),Inputs!CK24,0)","v":0},{"$f":"IF(ISNUMBER(Inputs!CL24),Inputs!CL24,0)","v":0},{"$f":"IF(ISNUMBER(Inputs!CM24),Inputs!CM24,0)","v":0}]
[null,"Hair coat factor",null,{"$f":"CHOOSE(Inputs!F73,1,0.8,0.5,0.2)","v":1},null,"1 = 1, 2 = 0.8, 3 = 0.5, 4 = 0.2",null,null,null,null,null,null,null,null,null,null,null,null,null,null,null,null,null,null,null,null,null,null,null,null,null,null,21,{"$f":"IF(Inputs!AI25<>\"\",Inputs!AI25,\"\")","v":""},{"$f":"IF(Inputs!AJ25<>\"\",Inputs!AJ25,\"\")","v":""},{"$f":"IF(OptimizingDMR,R191,IF(OptimizingTable,IF(AG27=1,Table!$B$5,0)/IF(parmUnit=1,1,2.2046),IF(OptimizingDiet,Optimizer!H25/IF(parmUnit=1,1,2.2046),IF(StochasticSimulation,IF(AG27=1,Stochastic!$G$10,0)/IF(parmUnit=1,1,2.2046),Inputs!AE25))))","v":0},0,{"$f":"IF(ISNUMBER(Inputs!AK25),Inputs!AK25,0)*IF(parmUnit=1,1,2204.6/2000)","v":0},{"$f":"IF(ISNUMBER(Inputs!AL25),Inputs!AL25,0)","v":0},{"$f":"IF(ISNUMBER(Inputs!AM25),Inputs!AM25,0)","v":0},{"$f":"IF(ISNUMBER(Inputs!AN25),Inputs!AN25,0)","v":0},{"$f":"IF(ISNUMBER(Inputs!AO25),Inputs!AO25,0)","v":0},{"$f":"IF(ISNUMBER(Inputs!AP25),Inputs!AP25,0)","v":0},{"$f":"IF(ISNUMBER(Inputs!AQ25),Inputs!AQ25,0)","v":0},{"$f":"IF(ISNUMBER(Inputs!AR25),Inputs!AR25,0)","v":0},{"$f":"IF(ISNUMBER(Inputs!AS25),Inputs!AS25,0)","v":0},{"$f":"IF(ISNUMBER(Inputs!AT25),Inputs!AT25,0)","v":0},{"$f":"IF(ISNUMBER(Inputs!AU25),Inputs!AU25,0)","v":0},{"$f":"IF(ISNUMBER(Inputs!AV25),Inputs!AV25,0)","v":0},{"$f":"IF(ISNUMBER(Inputs!AW25),Inputs!AW25,0)","v":0},{"$f":"IF(ISNUMBER(Inputs!AX25),Inputs!AX25,0)","v":0},{"$f":"IF(ISNUMBER(Inputs!AY25),Inputs!AY25,0)*IF(parmUnit=1,1,2.2046)","v":0},{"$f":"IF(ISNUMBER(Inputs!AZ25),Inputs!AZ25,0)*IF(parmUnit=1,1,2.2046)","v":0},{"$f":"IF(ISNUMBER(Inputs!BA25),Inputs!BA25,0)*IF(parmUnit=1,1,2.2046)","v":0},{"$f":"IF(ISNUMBER(Inputs!BB25),Inputs!BB25,0)","v":0},{"$f":"IF(ISNUMBER(Inputs!BC25),Inputs!BC25,0)","v":0},{"$f":"IF(ISNUMBER(Inputs!BD25),Inputs!BD25,0)","v":0},{"$f":"IF(ISNUMBER(Inputs!BE25),Inputs!BE25,0)","v":0},{"$f":"IF(ISNUMBER(Inputs!BF25),Inputs!BF25,0)","v":0},{"$f":"IF(ISNUMBER(Inputs!BG25),Inputs!BG25,0)","v":0},{"$f":"IF(ISNUMBER(Inputs!BH25),Inputs!BH25,0)","v":0},{"$f":"IF(ISNUMBER(Inputs!BI25),Inputs!BI25,0)","v":0},{"$f":"IF(ISNUMBER(Inputs!BJ25),Inputs!BJ25,0)","v":0},{"$f":"IF(ISNUMBER(Inputs!BK25),Inputs!BK25,0)","v":0},{"$f":"IF(ISNUMBER(Inputs!BL25),Inputs!BL25,0)","v":0},{"$f":"IF(ISNUMBER(Inputs!BM25),Inputs!BM25,0)","v":0},{"$f":"IF(ISNUMBER(Inputs!BN25),Inputs!BN25,0)","v":0},{"$f":"IF(ISNUMBER(Inputs!BO25),Inputs!BO25,0)","v":0},{"$f":"IF(ISNUMBER(Inputs!BP25),Inputs!BP25,0)","v":0},{"$f":"IF(ISNUMBER(Inputs!BQ25),Inputs!BQ25,0)","v":0},{"$f":"IF(ISNUMBER(Inputs!BR25),Inputs!BR25,0)","v":0},{"$f":"IF(ISNUMBER(Inputs!BS25),Inputs!BS25,0)","v":0},{"$f":"IF(ISNUMBER(Inputs!BT25),Inputs!BT25,0)","v":0},{"$f":"IF(ISNUMBER(Inputs!BU25),Inputs!BU25,0)","v":0},{"$f":"IF(ISNUMBER(Inputs!BV25),Inputs!BV25,0)","v":0},{"$f":"IF(ISNUMBER(Inputs!BW25),Inputs!BW25,0)","v":0},{"$f":"IF(ISNUMBER(Inputs!BX25),Inputs!BX25,0)","v":0},{"$f":"IF(ISNUMBER(Inputs!BY25),Inputs!BY25,0)","v":0},{"$f":"IF(ISNUMBER(Inputs!BZ25),Inputs!BZ25,0)","v":0},{"$f":"IF(ISNUMBER(Inputs!CA25),Inputs!CA25,0)","v":0},{"$f":"IF(ISNUMBER(Inputs!CB25),Inputs!CB25,0)","v":0},{"$f":"IF(ISNUMBER(Inputs!CC25),Inputs!CC25,0)","v":0},{"$f":"IF(ISNUMBER(Inputs!CD25),Inputs!CD25,0)","v":0},{"$f":"IF(ISNUMBER(Inputs!CE25),Inputs!CE25,0)","v":0},{"$f":"IF(ISNUMBER(Inputs!CF25),Inputs!CF25,0)","v":0},{"$f":"IF(ISNUMBER(Inputs!CG25),Inputs!CG25,0)","v":0},{"$f":"IF(ISNUMBER(Inputs!CH25),Inputs!CH25,0)","v":0},{"$f":"IF(ISNUMBER(Inputs!CI25),Inputs!CI25,0)","v":0},{"$f":"IF(ISNUMBER(Inputs!CJ25),Inputs!CJ25,0)","v":0},{"$f":"IF(ISNUMBER(Inputs!CK25),Inputs!CK25,0)","v":0},{"$f":"IF(ISNUMBER(Inputs!CL25),Inputs!CL25,0)","v":0},{"$f":"IF(ISNUMBER(Inputs!CM25),Inputs!CM25,0)","v":0}]
[null,"Hide factor",null,{"$f":"CHOOSE(Inputs!F72,0.8,1,1.2)","v":1},null,"1 = 0.8, 2 = 1, 3 = 1.2",null,null,null,null,null,null,null,null,null,null,null,null,null,null,null,null,null,null,null,null,null,null,null,null,null,null,22,{"$f":"IF(Inputs!AI26<>\"\",Inputs!AI26,\"\")","v":""},{"$f":"IF(Inputs!AJ26<>\"\",Inputs!AJ26,\"\")","v":""},{"$f":"IF(OptimizingDMR,R192,IF(OptimizingTable,IF(AG28=1,Table!$B$5,0)/IF(parmUnit=1,1,2.2046),IF(OptimizingDiet,Optimizer!H26/IF(parmUnit=1,1,2.2046),IF(StochasticSimulation,IF(AG28=1,Stochastic!$G$10,0)/IF(parmUnit=1,1,2.2046),Inputs!AE26))))","v":0},0,{"$f":"IF(ISNUMBER(Inputs!AK26),Inputs!AK26,0)*IF(parmUnit=1,1,2204.6/2000)","v":0},{"$f":"IF(ISNUMBER(Inputs!AL26),Inputs!AL26,0)","v":0},{"$f":"IF(ISNUMBER(Inputs!AM26),Inputs!AM26,0)","v":0},{"$f":"IF(ISNUMBER(Inputs!AN26),Inputs!AN26,0)","v":0},{"$f":"IF(ISNUMBER(Inputs!AO26),Inputs!AO26,0)","v":0},{"$f":"IF(ISNUMBER(Inputs!AP26),Inputs!AP26,0)","v":0},{"$f":"IF(ISNUMBER(Inputs!AQ26),Inputs!AQ26,0)","v":0},{"$f":"IF(ISNUMBER(Inputs!AR26),Inputs!AR26,0)","v":0},{"$f":"IF(ISNUMBER(Inputs!AS26),Inputs!AS26,0)","v":0},{"$f":"IF(ISNUMBER(Inputs!AT26),Inputs!AT26,0)","v":0},{"$f":"IF(ISNUMBER(Inputs!AU26),Inputs!AU26,0)","v":0},{"$f":"IF(ISNUMBER(Inputs!AV26),Inputs!AV26,0)","v":0},{"$f":"IF(ISNUMBER(Inputs!AW26),Inputs!AW26,0)","v":0},{"$f":"IF(ISNUMBER(Inputs!AX26),Inputs!AX26,0)","v":0},{"$f":"IF(ISNUMBER(Inputs!AY26),Inputs!AY26,0)*IF(parmUnit=1,1,2.2046)","v":0},{"$f":"IF(ISNUMBER(Inputs!AZ26),Inputs!AZ26,0)*IF(parmUnit=1,1,2.2046)","v":0},{"$f":"IF(ISNUMBER(Inputs!BA26),Inputs!BA26,0)*IF(parmUnit=1,1,2.2046)","v":0},{"$f":"IF(ISNUMBER(Inputs!BB26),Inputs!BB26,0)","v":0},{"$f":"IF(ISNUMBER(Inputs!BC26),Inputs!BC26,0)","v":0},{"$f":"IF(ISNUMBER(Inputs!BD26),Inputs!BD26,0)","v":0},{"$f":"IF(ISNUMBER(Inputs!BE26),Inputs!BE26,0)","v":0},{"$f":"IF(ISNUMBER(Inputs!BF26),Inputs!BF26,0)","v":0},{"$f":"IF(ISNUMBER(Inputs!BG26),Inputs!BG26,0)","v":0},{"$f":"IF(ISNUMBER(Inputs!BH26),Inputs!BH26,0)","v":0},{"$f":"IF(ISNUMBER(Inputs!BI26),Inputs!BI26,0)","v":0},{"$f":"IF(ISNUMBER(Inputs!BJ26),Inputs!BJ26,0)","v":0},{"$f":"IF(ISNUMBER(Inputs!BK26),Inputs!BK26,0)","v":0},{"$f":"IF(ISNUMBER(Inputs!BL26),Inputs!BL26,0)","v":0},{"$f":"IF(ISNUMBER(Inputs!BM26),Inputs!BM26,0)","v":0},{"$f":"IF(ISNUMBER(Inputs!BN26),Inputs!BN26,0)","v":0},{"$f":"IF(ISNUMBER(Inputs!BO26),Inputs!BO26,0)","v":0},{"$f":"IF(ISNUMBER(Inputs!BP26),Inputs!BP26,0)","v":0},{"$f":"IF(ISNUMBER(Inputs!BQ26),Inputs!BQ26,0)","v":0},{"$f":"IF(ISNUMBER(Inputs!BR26),Inputs!BR26,0)","v":0},{"$f":"IF(ISNUMBER(Inputs!BS26),Inputs!BS26,0)","v":0},{"$f":"IF(ISNUMBER(Inputs!BT26),Inputs!BT26,0)","v":0},{"$f":"IF(ISNUMBER(Inputs!BU26),Inputs!BU26,0)","v":0},{"$f":"IF(ISNUMBER(Inputs!BV26),Inputs!BV26,0)","v":0},{"$f":"IF(ISNUMBER(Inputs!BW26),Inputs!BW26,0)","v":0},{"$f":"IF(ISNUMBER(Inputs!BX26),Inputs!BX26,0)","v":0},{"$f":"IF(ISNUMBER(Inputs!BY26),Inputs!BY26,0)","v":0},{"$f":"IF(ISNUMBER(Inputs!BZ26),Inputs!BZ26,0)","v":0},{"$f":"IF(ISNUMBER(Inputs!CA26),Inputs!CA26,0)","v":0},{"$f":"IF(ISNUMBER(Inputs!CB26),Inputs!CB26,0)","v":0},{"$f":"IF(ISNUMBER(Inputs!CC26),Inputs!CC26,0)","v":0},{"$f":"IF(ISNUMBER(Inputs!CD26),Inputs!CD26,0)","v":0},{"$f":"IF(ISNUMBER(Inputs!CE26),Inputs!CE26,0)","v":0},{"$f":"IF(ISNUMBER(Inputs!CF26),Inputs!CF26,0)","v":0},{"$f":"IF(ISNUMBER(Inputs!CG26),Inputs!CG26,0)","v":0},{"$f":"IF(ISNUMBER(Inputs!CH26),Inputs!CH26,0)","v":0},{"$f":"IF(ISNUMBER(Inputs!CI26),Inputs!CI26,0)","v":0},{"$f":"IF(ISNUMBER(Inputs!CJ26),Inputs!CJ26,0)","v":0},{"$f":"IF(ISNUMBER(Inputs!CK26),Inputs!CK26,0)","v":0},{"$f":"IF(ISNUMBER(Inputs!CL26),Inputs!CL26,0)","v":0},{"$f":"IF(ISNUMBER(Inputs!CM26),Inputs!CM26,0)","v":0}]
[null,"External insulation","EI",{"$f":"MAX(0,6.1816-0.5575*D26+0.0152*D26^2+5.298*Inputs!F71-0.4297*(Inputs!F71)^2-0.1029*D26*Inputs!F71)*Calc!D27*Calc!D28","v":4.8397513965359265},"oC m2 d/Mcal","EI > 0"]
[null,"Tissue insulation ","TI",{"$f":"IF(Inputs!F12*30.4<30,2.5,IF(Inputs!F12*30.4<=183,6.5,IF(Inputs!F12*30.4<=363,5.1875+(0.3125*Inputs!F15),5.25+(0.75*Inputs!F15))))","v":9},"oC m2 d/Mcal"]
[null,"Total insulation","IN",{"$f":"D29+D30","v":13.839751396535927},"oC m2 d/Mcal",null,null,null,null,null,null,null,null,null,null,null,null,null,null,null,null,null,null,null,null,null,null,null,null,null,null,null,"Table S2. Carbohydrate and protein fractions, and methane",null,null,"Carbohydrate fractions",null,null,null,null,null,null,null,null,null,null,null,"Protein fractions",null,null,null,null,null,null,null,"Summary",null,null,"Value","Unit",null,"(g CH4/d)","Dietary Forage (% DM)",null,null,null,"Methane Conversions"]
[null,"Lower critical temp.","LCT",{"$f":"39-0.85*D31*D25","v":-2.798779155389056},"oC",null,null,null,null,null,null,null,null,null,null,null,null,null,null,null,null,null,null,null,null,null,null,null,null,null,null,null,"#","ID","Feed","CHO","NFC","CA","CB1","CB2","CB3","CC","CA","CB1","CB2","CB3","CC","CP","PA","PB","PC","PA","PB","PC",null,"DM",null,null,{"$f":"IF(AN84<>0,DMI*100/AN84,0)","v":69.999664260533834},"%AF",null,null,"High","Med","Low",null,4.18,"MJ/Mcal"]
[null,"ME cold stress","MEcs",{"$f":"IF(D32>Inputs!F66,D21*(D32-Inputs!F66)/Calc!D31,0)","v":0},"Mcal/d",null,null,null,null,null,null,null,null,null,null,null,null,null,null,null,null,null,null,null,null,null,null,null,null,null,null,null,null,null,null,"%DM","%DM","%DM","%DM","%DM","%DM","%DM","% CHO","% CHO","% CHO","% CHO","% CHO","%DM","%DM","%DM","%DM","%CP","%CP","%CP",null,"Forage",null,null,{"$f":"IF(AJ84<>0,AM84*100/AJ84,0)","v":20.5761316872428},"%DM",null,"Mills et al. (2003)",null,null,null,null,55.65,"MJ/Kg"]
[null,"NEma/ME","km",{"$f":"IF(L6<>0,D17/L6,0)","v":0.66828218114550608},null,"Partial efficiency of use of ME for NE for maintenance",null,null,null,null,null,null,null,null,null,null,null,null,null,null,null,null,null,null,null,null,null,null,null,null,null,null,1,{"$f":"$AH$7","v":301},{"$f":"$AI7","v":"Barley, Silage"},{"$f":"MAX(0,100-AO7-AT7-AU7-AS7)","v":78.599999999999994},{"$f":"AJ34-AO34-AP34","v":29.899999999999988},{"$f":"AR7","v":0},{"$f":"AV7","v":14.06},{"$f":"MAX(0,AK34-AL34-AM34)","v":15.839999999999987},{"$f":"AW7-AP34","v":41.284000000000006},{"$f":"AX7*$BH$98","v":7.4159999999999995},{"$f":"IF($AJ34<>0,AL34*100/$AJ34,0)","v":0},{"$f":"IF($AJ34<>0,AM34*100/$AJ34,0)","v":17.888040712468193},{"$f":"IF($AJ34<>0,AN34*100/$AJ34,0)","v":20.152671755725176},{"$f":"IF($AJ34<>0,AO34*100/$AJ34,0)","v":52.524173027989832},{"$f":"IF($AJ34<>0,AP34*100/$AJ34,0)","v":9.4351145038167932},{"$f":"AO7","v":10.4},{"$f":"(AP7/100)*AV34","v":7.2799999999999994},{"$f":"((100-AP7-AQ7)/100)*AV34","v":2.4855999999999998},{"$f":"(AQ7/100)*AV34","v":0.63439999999999996},{"$f":"IF($AV34<>0,AW34*100/$AV34,0)","v":69.999999999999986},{"$f":"IF($AV34<>0,AX34*100/$AV34,0)","v":23.899999999999995},6.1,null,"CP",null,null,{"$f":"IF(AJ84<>0,AO84*100/AJ84,0)","v":12.304526748971192},"%DM",null,"   NL2",{"$f":"45.98*(1-EXP(-0.003*AO112*4.184))*(1000/$BO$33)","v":272.03101790285768},null,null,null,0.66,"g/L (25oC @ 1 atm)"]
[null,"NE cold stress","NEcs",{"$f":"D33*D34","v":0},"Mcal/d",null,null,null,null,null,null,null,null,null,null,null,null,null,null,null,null,null,null,null,null,null,null,null,null,null,null,null,2,{"$f":"$AH$8","v":402},{"$f":"$AI8","v":"Barley Grain, Heavy"},{"$f":"MAX(0,100-AO8-AT8-AU8)","v":81.900000000000006},{"$f":"AJ35-AO35-AP35","v":62.900000000000006},{"$f":"AR8","v":0},{"$f":"AV8","v":57.69},{"$f":"MAX(0,AK35-AL35-AM35)","v":5.210000000000008},{"$f":"AW8-AP35","v":14.416},{"$f":"AX8*$BH$98","v":4.5839999999999996},{"$f":"IF($AJ35<>0,AL35*100/$AJ35,0)","v":0},{"$f":"IF($AJ35<>0,AM35*100/$AJ35,0)","v":70.439560439560438},{"$f":"IF($AJ35<>0,AN35*100/$AJ35,0)","v":6.3614163614163708},{"$f":"IF($AJ35<>0,AO35*100/$AJ35,0)","v":17.601953601953603},{"$f":"IF($AJ35<>0,AP35*100/$AJ35,0)","v":5.5970695970695967},13,{"$f":"(AP8/100)*AV35","v":2.21},10.14,{"$f":"(AQ8/100)*AV35","v":0.65},{"$f":"IF($AV35<>0,AW35*100/$AV35,0)","v":17},{"$f":"IF($AV35<>0,AX35*100/$AV35,0)","v":78},{"$f":"IF($AV35<>0,AY35*100/$AV35,0)","v":5},null,"Fat",null,null,{"$f":"IF(AJ84<>0,AQ84*100/AJ84,0)","v":2.2592592592592595},"%DM",null,"IPCC (2006)",null,null,null,null,16,"g/mol"]
[null,"NEm heat stress factor",null,{"$f":"CHOOSE(Inputs!F74,1,1.07,1.18)","v":1},null,null,null,null,null,null,null,null,null,null,null,null,null,null,null,null,null,null,null,null,null,null,null,null,null,null,null,null,3,{"$f":"$AH$9","v":800},"Minerals ",0,0,0,0,{"$f":"MAX(0,AK36-AL36-AM36)","v":0},{"$f":"AW9-AP36","v":0},0,0,0,0,0,0,0,0,0,0,0,0,0,null,"Ash",null,null,{"$f":"IF(AJ84<>0,AR84*100/AJ84,0)","v":5.2263374485596712},"%DM",null,"   Tier II",{"$f":"(BG45*0.065)*(BO32/BO33)*1000","v":227.97446941578258},{"$f":"(BG45*0.065)*(BO32/BO33)*1000","v":227.97446941578258},{"$f":"(BG45*0.03)*(BO32/BO33)*1000","v":105.21898588420731}]
[null,"NE heat stress","NEhs",{"$f":"D14*(D36-1)","v":0},"Mcal/d",null,null,null,null,null,null,null,null,null,null,null,null,null,null,null,null,null,null,null,null,null,null,null,null,null,null,null,4,{"$f":"$AH$10","v":""},"",100,100,0,0,100,0,0,0,0,100,0,0,0,0,0,0,0,0,0,null,"CHO",null,null,{"$f":"IF(AJ84<>0,AS84*100/AJ84,0)","v":80.209876543209887},"%DM",null,"Ellis et al. (2007)",null,null,null,null,"Units","Methane (CH4)"]
[null,"NEm adjusted","NEm,cshs",{"$f":"IF(Inputs!F81=TRUE,IF(D35>0,D35,D37),0)+D15","v":9.026395044072931},"Mcal/d","NEm with stress and physical activity",null,null,null,null,null,null,null,null,null,null,null,null,null,null,null,null,null,null,null,null,null,null,null,null,null,null,5,{"$f":"$AH$11","v":""},"",100,100,0,0,100,0,0,0,0,100,0,0,0,0,0,0,0,0,0,null,"NFC",null,null,{"$f":"IF(AJ84<>0,AT84*100/AJ84,0)","v":55.333333333333343},"%DM",null,"   Eq. 9b",null,null,{"$f":"(0.357+0.0591*(AO112*4.184)+0.05*BG33)*1000/$BO$33","v":166.2700154359147},null,null,"ELS","MLS"]
[null,"Feed for maintenance","FFM",{"$f":"IF(D17<>0,D38/D17,0)","v":4.7592685412880966},"kg/d",null,null,null,null,null,null,null,null,null,null,null,null,null,null,null,null,null,null,null,null,null,null,null,null,null,null,null,6,{"$f":"$AH$12","v":""},"",100,100,0,0,100,0,0,0,0,100,0,0,0,0,0,0,0,0,0,null,"Sugars",null,null,{"$f":"IF(AJ84<>0,AU84*100/AJ84,0)","v":0},"%DM",null,"   Eq. 10b",null,null,{"$f":"(-1.02+0.681*DMI+0.0481*BG33)*1000/$BO$33","v":134.33911182557318},null,{"$f":"BC452","v":"MJ/d"},{"$f":"BD452","v":11.551401614805405},{"$f":"BB452","v":8.0626855058063445}]
[null,"ME for maintenance","MEm",{"$f":"IF(D34<>0,D38/D34,0)","v":13.50686176997977},"Mcal/d","MEm with stress and physical activity",null,null,null,null,null,null,null,null,null,null,null,null,null,null,null,null,null,null,null,null,null,null,null,null,null,null,7,{"$f":"$AH$13","v":""},"",100,100,0,0,100,0,0,0,0,100,0,0,0,0,0,0,0,0,0,null,"Starch",null,null,{"$f":"IF(AJ84<>0,AV84*100/AJ84,0)","v":48.000411522633748},"%DM",null,"   Eq. 12b",null,{"$f":"(2.7+1.16*DMI-15.8*AQ84)*1000/$BO$33","v":207.57235606119326},null,null,"Mcal/d",{"$f":"BD453","v":2.76349320928359},{"$f":"BB453","v":1.9288721305756806}]
[null,"Metabolizable protein","MPm",{"$f":"IF(DMI>0,I41*D6^0.75,0)","v":390.26891340998009},"g/d",null,null,"MPm",3.8,"g/d/kg0.75",null,null,null,null,null,null,null,null,null,null,null,null,null,null,null,null,null,null,null,null,null,null,8,{"$f":"$AH$14","v":""},"",100,100,0,0,100,0,0,0,0,100,0,0,0,0,0,0,0,0,0,null,"Pectin",null,null,{"$f":"IF(AJ84<>0,AW84*100/AJ84,0)","v":7.3329218106995917},"%DM",null,"Ellis et al. (2009)",null,null,null,null,"% GE",{"$f":"BD454","v":5.9182956664197004},4.1308715842378287]
[null,null,null,null,null,null,null,null,null,null,null,null,null,null,null,null,null,null,null,null,null,null,null,null,null,null,null,null,null,null,null,null,9,{"$f":"$AH$15","v":""},"",100,100,0,0,100,0,0,0,0,100,0,0,0,0,0,0,0,0,0,null,"NDF",null,null,{"$f":"IF(AJ84<>0,AX84*100/AJ84,0)","v":24.876543209876548},"%DM",null,"   Eq. G",{"$f":"(-1.01+2.76*AX84+0.722*AV84)*1000/$BO$33","v":186.48448938627791},null,{"$f":"(-1.01+2.76*AX84+0.722*AV84)*1000/$BO$33","v":186.48448938627791},null,"g/d",207.57235606119326,144.8820396371311]
[null,null,null,null,null,null,null,null,null,null,null,null,null,null,null,null,null,null,null,null,null,null,null,null,null,null,null,null,null,null,null,null,10,{"$f":"$AH$16","v":""},"",100,100,0,0,100,0,0,0,0,100,0,0,0,0,0,0,0,0,0,null,"Lignin",null,null,{"$f":"IF(AJ84<>0,AY84*100/AJ84,0)","v":2.1292181069958849},"%DM",null,"   Eq. N",{"$f":"IF(AND($BO$33<>0,BG42<>0),(2.68-1.14*BG40/BG42+0.786*DMI)*1000/$BO$33,0)","v":164.31142959791887},null,null,null,"g/kg DM",18.831852517387105,13.144318707161286]
[null,"Table R2. Lactation",null,null,null,null,null,"Indexes",null,null,null,null,null,null,null,null,null,null,null,null,null,null,null,null,null,null,null,null,null,null,null,null,11,{"$f":"$AH$17","v":""},"",100,100,0,0,100,0,0,0,0,100,0,0,0,0,0,0,0,0,0,null,"Gross Energy (GE)",null,null,{"$f":"(4.15*BG37+5.65*BG34+9.4*BG35)/100","v":4.2362860082304534},"Mcal/kg",null,"Ricci et al. (2013)",null,null,null,null,{"$f":"BC457","v":"mol/d"},12.973272253824579,9.0551274773206938]
[null,"Item","Acronym","Value","Units","Description",null,"MY/ME",{"$f":"IF(D57<>0,D55/D57,0)","v":0},"kg/Mcal",null,null,null,null,null,null,null,null,null,null,null,null,null,null,null,null,null,null,null,null,null,null,12,{"$f":"$AH$18","v":""},"",100,100,0,0,100,0,0,0,0,100,0,0,0,0,0,0,0,0,0,null,"GE intake (GEI)",null,null,{"$f":"AJ84*BG44","v":46.694071486891055},"Mcal/d",null,"   GEI eq.",{"$f":"74.34+0.57*GEI*$BO$32-10.61*0-69.67*IF(isLactating,1,0)-0.22*GEI*$BO$32*0+0.57*GEI*$BO$32*IF(isLactating,1,0)","v":185.59329472466663},null,{"$f":"74.34+0.57*GEI*$BO$32-10.61*1-69.67*IF(isLactating,1,0)-0.22*GEI*$BO$32*1+0.57*GEI*$BO$32*IF(isLactating,1,0)","v":132.04342658532161}]
[null,"Is it a lactating animal?",null,{"$f":"IF(AND(parmAnClass=2,Inputs!F27>0,Inputs!F27<=VLOOKUP(Inputs!F20,Calc!$H$103:$L$106,5)),TRUE,FALSE)","v":false},null,null,null,"MY/MP",{"$f":"IF(D60>0,D55/(D60/1000),0)","v":0},"kg/kg MP",null,null,null,null,null,null,null,null,null,null,null,null,null,null,null,null,null,null,null,null,null,null,13,{"$f":"$AH$19","v":""},"",100,{"$f":"AJ46-AO46-AP46","v":100},0,0,{"$f":"MAX(0,AK46-AL46-AM46)","v":100},0,0,0,0,100,0,0,0,0,0,0,0,0,0,null,null,null,null,null,null,null,"Escobar-Bahamondes and Beauchemin (p.c.)"]
[null,"Week peak milk","T",{"$f":"IF(isLactating=FALSE,0,8.5)","v":0},"wk","This value is fixed at 8.5 weeks",null,null,null,null,null,null,null,null,null,null,null,null,null,null,null,null,null,null,null,null,null,null,null,null,null,null,14,{"$f":"$AH$20","v":""},"",100,100,0,0,100,0,0,0,0,100,0,0,0,0,0,0,0,0,0,null,"Methane Production Summary (ELS)",null,null,null,null,null,"   Eq. 16.8",{"$f":"71.5 +0.12*(SBW/0.96)+0.1*DMI^3-244.8*AQ84^3","v":261.75439577219061},{"$f":"AVERAGE(BK47,BM48)","v":198.25414914235523}]
[null,"Intermediate rate","k",{"$f":"IF(isLactating=FALSE,0,1/D47)","v":0},"1/wk",null,null,null,null,null,null,null,null,null,null,null,null,null,null,null,null,null,null,null,null,null,null,null,null,null,null,null,15,{"$f":"$AH$21","v":""},"",100,100,0,0,100,0,0,0,0,100,0,0,0,0,0,0,0,0,0,null,"Min","Median","Average","Max","Units",null,"   Eq. 16.9",null,null,{"$f":"IF(AX84<>0,-10.1+0.21*(SBW/0.96)+0.36*DMI^2-69.2*AQ84^3+13*AO84/AX84-4.9*AV84/AX84,0)","v":134.75390251251986}]
[null,"Peak milk yield","PKYD",{"$f":"IF(isLactating=FALSE,0,Inputs!O49)*IF(parmUnit=1,1,1/2.2046)","v":0},"kg/d","From breeds' table",null,null,null,null,null,null,null,null,null,null,null,null,null,null,null,null,null,null,null,null,null,null,null,null,null,null,16,{"$f":"$AH$21","v":""},"",100,{"$f":"AJ49-AO49-AP49","v":100},{"$f":"AR22","v":0},{"$f":"AV22","v":0},{"$f":"MAX(0,AK49-AL49-AM49)","v":100},{"$f":"AW22-AP49","v":0},0,0,0,100,0,0,{"$f":"AO22","v":0},{"$f":"(AP22/100)*AV49","v":0},{"$f":"((100-AP22-AQ22)/100)*AV49","v":0},{"$f":"(AQ22/100)*AV49","v":0},0,0,0,null,{"$f":"IF($BG$33<=20,MIN($BM$34:$BM$51),IF($BG$33<=40,MIN($BL$34:$BL$51),MIN($BK$34:$BK$51)))*$BO$33/1000","v":11.032843399772068},{"$f":"IF($BG$33<=20,MEDIAN($BM$34:$BM$51),IF($BG$33<=40,MEDIAN($BL$34:$BL$51),MEDIAN($BK$34:$BK$51)))*$BO$33/1000","v":11.551401614805405},{"$f":"IF($BG$33<=20,AVERAGE($BM$34:$BM$51),IF($BG$33<=40,AVERAGE($BL$34:$BL$51),AVERAGE($BK$34:$BK$51)))*$BO$33/1000","v":11.757008079188591},{"$f":"IF($BG$33<=20,MAX($BM$34:$BM$51),IF($BG$33<=40,MAX($BL$34:$BL$51),MAX($BK$34:$BK$51)))*$BO$33/1000","v":12.686779222988299},"MJ/d",null,"Moraes et al. (2014)"]
[null,"Ajusted PKYD","aPKYD",{"$f":"(0.125*Inputs!F28+0.375)*Calc!D49","v":0},"kg/d",null,null,null,null,null,null,null,null,null,null,null,null,null,null,null,null,null,null,null,null,null,null,null,null,null,null,null,17,"","",100,100,0,0,100,0,0,0,0,100,0,0,0,0,0,0,0,0,0,null,{"$f":"BD49/$BO$32","v":2.6394362200411647},{"$f":"BE49/$BO$32","v":2.76349320928359},{"$f":"BF49/$BO$32","v":2.8126813586575579},{"$f":"BG49/$BO$32","v":3.0351146466479189},"Mcal/d",null,"   Animal",{"$f":"IF(OR(Inputs!F14=1,Inputs!F14=2),-0.221+0.048*GEI*BO32+0.005*SBW,-1.487+0.046*GEI*BO32+0.032*BG42+0.006*SBW)*1000/BO33","v":207.59188657156372}]
[null,"Intermediate rate","a",{"$f":"IF(isLactating=FALSE,0,1/(D50*D48*EXP(1)))","v":0},null,null,null,null,null,null,null,null,null,null,null,null,null,null,null,null,null,null,null,null,null,null,null,null,null,null,null,null,18,"","",{"$f":"MAX(0,100-AO24-AT24-AU24)","v":100},100,0,0,100,0,0,0,0,100,0,0,0,0,0,0,0,0,0,null,{"$f":"IF($BG$45<>0,BD50*100/$BG$45,0)","v":5.6526152806832517},{"$f":"IF($BG$45<>0,BE50*100/$BG$45,0)","v":5.9182956664197004},{"$f":"IF($BG$45<>0,BF50*100/$BG$45,0)","v":6.0236369823676501},{"$f":"IF($BG$45<>0,BG50*100/$BG$45,0)","v":6.5000000000000009},"% GE",null,"   Diet",{"$f":"IF(OR(Inputs!F14=1,Inputs!F14=2),0.743+0.054*GEI*BO32,-0.163+0.051*GEI*BO32+0.038*BG42)*1000/BO33","v":202.74547737683827}]
[null,"Weeks since calving","n",{"$f":"IF(isLactating=FALSE,0,Inputs!F27/7)","v":0},"wk",null,null,null,null,null,null,null,null,null,null,null,null,null,null,null,null,null,null,null,null,null,null,null,null,null,null,null,19,"","",100,100,0,0,100,0,0,0,0,100,0,0,0,0,0,0,0,0,0,null,{"$f":"(BD49/$BO$33)*1000","v":198.25414914235523},{"$f":"(BE49/$BO$33)*1000","v":207.57235606119326},{"$f":"(BF49/$BO$33)*1000","v":211.26699153977702},{"$f":"(BG49/$BO$33)*1000","v":227.97446941578255},"g/d",null,"Median CH4"]
[null,"Age factor for Yn",null,{"$f":"IF(isLactating=FALSE,0,IF(Inputs!F12/12<2,0.74,IF(Inputs!F12/12<3,0.88,1)))","v":0},null,"0 < Age < 2 = 0.74, 2 < Age < 3 yr = 0.88, Age > 3 yr = 1",null,null,null,null,null,null,null,null,null,null,null,null,null,null,null,null,null,null,null,null,null,null,null,null,null,null,20,"","",100,100,0,0,100,0,0,0,0,100,0,0,0,0,0,0,0,0,0,null,{"$f":"IF(DMI<>0,BD52/DMI,0)","v":17.986464905318368},{"$f":"IF(DMI<>0,BE52/DMI,0)","v":18.831852517387105},{"$f":"IF(DMI<>0,BF52/DMI,0)","v":19.167045660435903},{"$f":"IF(DMI<>0,BG52/DMI,0)","v":20.682819558602233},"g/kg DM",null,"   MJ/d",{"$f":"BK54*$BO$33/1000","v":11.417637151864284},{"$f":"BL54*$BO$33/1000","v":11.551401614805405},{"$f":"BM54*$BO$33/1000","v":7.4875131239574388}]
[null,"Energy content of milk","E",{"$f":"IF(isLactating=FALSE,0,0.092*Inputs!P49+0.049*Inputs!R49-0.0569)","v":0},"Mcal/kg","NEm milk energy content equivalent",null,null,null,null,null,null,null,null,null,null,null,null,null,null,null,null,null,null,null,null,null,null,null,null,null,null,21,"","",100,100,0,0,100,0,0,0,0,100,0,0,0,0,0,0,0,0,0,null,{"$f":"BD52/$BO$35","v":12.390884321397202},{"$f":"BE52/$BO$35","v":12.973272253824579},{"$f":"BF52/$BO$35","v":13.204186971236064},{"$f":"BG52/$BO$35","v":14.248404338486409},"mol/d",null,"   g/d",{"$f":"MEDIAN(BK34:BK51)","v":205.16868197420098},{"$f":"MEDIAN(BL34:BL51)","v":207.57235606119326},{"$f":"MEDIAN(BM34:BM51)","v":134.54650716904652}]
[null,"Daily milk yield (MY)","Yn",{"$f":"IF(isLactating=FALSE,0,IF(Inputs!F29>0,Inputs!F29,D52/(D51*EXP(D48*D52))*D53))","v":0},"kg/d","Daily milk yield at wk of lactation",null,null,null,null,null,null,null,null,null,null,null,null,null,null,null,null,null,null,null,null,null,null,null,null,null,null,22,"","",100,100,0,0,100,0,0,0,0,100,0,0,0,0,0,0,0,0,0,null,null,null,null,null,null,null,"% GE",{"$f":"IF(AND(GEI<>0,$BO$32<>0),(BK53/$BO$32)*100/GEI,0)","v":5.8497621959592205},{"$f":"IF(AND(GEI<>0,$BO$32<>0),(BL53/$BO$32)*100/GEI,0)","v":5.9182956664197004},{"$f":"IF(AND(GEI<>0,$BO$32<>0),(BM53/$BO$32)*100/GEI,0)","v":3.836185248462114}]
[null,"Daily milk energy","YEn",{"$f":"D54*D55","v":0},"Mcal/d",null,null,null,null,null,null,null,null,null,null,null,null,null,null,null,null,null,null,null,null,null,null,null,null,null,null,null,"Diet (sum or average)",null,null,{"$f":"SUMPRODUCT($AK$7:$AK$28,AJ34:AJ55)","v":80.209876543209887},{"$f":"SUMPRODUCT($AK$7:$AK$28,AK34:AK55)","v":55.333333333333343},0,48.000411522633755,7.3329218106995926,19.766419753086424,5.1101234567901237,{"$f":"IF($AJ$56<>0,SUMPRODUCT($AK$7:$AK$28,$AJ$34:$AJ$55,AQ34:AQ55)/$AJ$56,0)","v":0},{"$f":"IF($AJ$56<>0,SUMPRODUCT($AK$7:$AK$28,$AJ$34:$AJ$55,AR34:AR55)/$AJ$56,0)","v":59.843517520907092},{"$f":"IF($AJ$56<>0,SUMPRODUCT($AK$7:$AK$28,$AJ$34:$AJ$55,AS34:AS55)/$AJ$56,0)","v":9.1421681801857311},{"$f":"IF($AJ$56<>0,SUMPRODUCT($AK$7:$AK$28,$AJ$34:$AJ$55,AT34:AT55)/$AJ$56,0)","v":24.64337386486071},{"$f":"IF($AJ$56<>0,SUMPRODUCT($AK$7:$AK$28,$AJ$34:$AJ$55,AU34:AU55)/$AJ$56,0)","v":6.3709404340464824},{"$f":"SUMPRODUCT($AK$7:$AK$28,AV34:AV55)","v":12.304526748971195},{"$f":"SUMPRODUCT($AK$7:$AK$28,AW34:AW55)","v":3.2259259259259259},{"$f":"SUMPRODUCT($AK$7:$AK$28,AX34:AX55)","v":8.439835390946504},{"$f":"SUMPRODUCT($AK$7:$AK$28,AY34:AY55)","v":0.63876543209876546},{"$f":"IF($AJ$56<>0,SUMPRODUCT($AK$7:$AK$28,$AV$34:$AV$55,AZ34:AZ55)/$AV$56,0)","v":26.217391304347824},{"$f":"IF($AJ$56<>0,SUMPRODUCT($AK$7:$AK$28,$AV$34:$AV$55,BA34:BA55)/$AV$56,0)","v":68.591304347826082},{"$f":"IF($AJ$56<>0,SUMPRODUCT($AK$7:$AK$28,$AV$34:$AV$55,BB34:BB55)/$AV$56,0)","v":5.1913043478260859},null,null,null,null,null,null,null,"g/kg DM",{"$f":"IF(DMI<>0,BK54/DMI,0)","v":18.613780916885741},{"$f":"IF(DMI<>0,BL54/DMI,0)","v":18.831852517387105},{"$f":"IF(DMI<>0,BM54/DMI,0)","v":12.206634967279012}]
[null,"Daily milk energy","MEl",{"$f":"IF(D34<>0,D56/D34,0)","v":0},"Mcal/d","Assuming an efficiency similar to km"]
[null,"Daily milk fat yield","YFatn",{"$f":"D55*(Inputs!P49/100)","v":0},"kg/d"]
[null,"Daily milk protein yld","YProtn",{"$f":"D55*(Inputs!Q49/100)","v":0},"kg/d",null,null,null,null,null,null,null,null,null,null,null,null,null,null,null,null,null,null,null,null,null,null,null,null,null,null,null,"Table S3. Diet cost and nutrient intake",null,null,"Basic Chemistry",null,null,null,null,null,null,null,null,"Carbohydrate",null,null,null,null,null,null,null,null,null,null,null,"Protein"]
[null,"Daily milk MP","MPl",{"$f":"(D59/0.65)*1000","v":0},"g/d","Metabolizable protein (MP) with 65% of efficiency",null,null,null,null,null,null,null,null,null,null,null,null,null,null,null,null,null,null,null,null,null,null,null,null,null,null,"#","ID","Feed","DM","DM","Cost","Forage","As-fed","CP","OA","Fat","Ash","CHO","NFC","Sugars","Starch","Pectin","NDF","Lignin","CA","CB1","CB2","CB3","CC","PA","PB","PC"]
[null,"Feed for lactation","FFL",{"$f":"IF(D17<>0,D56/D17,0)","v":0},"kg/d","Amount of DM needed for lactation",null,null,null,null,null,null,null,null,null,null,null,null,null,null,null,null,null,null,null,null,null,null,null,null,null,null,null,null,null,"kg/d","%","$/d","kg/d","kg/d","kg/d","kg/d","kg/d","kg/d","kg/d","kg/d","kg/d","kg/d","kg/d","kg/d","kg/d","kg/d","kg/d","kg/d","kg/d","kg/d","kg/d","kg/d","kg/d"]
[null,"Total MY","TotalY",{"$f":"IF(isLactating=FALSE,0,IF(Inputs!F29>0,0,(-7/(D51*D48)*(D52*EXP(-D48*D52)+(EXP(-D48*D52)-1)/D48))*D53))","v":0},"kg","Total milk yield for the n weeks of lactation",null,null,null,null,null,null,null,null,null,null,null,null,null,null,null,null,null,null,null,null,null,null,null,null,null,null,1,{"$f":"$AH$7","v":301},{"$f":"$AI7","v":"Barley, Silage"},{"$f":"AJ7","v":2.2679851220175995},{"$f":"IF($AJ$84<>0,AJ62*100/$AJ$84,0)","v":20.5761316872428},{"$f":"IF(AN7<>0,(AL7/1000)/(AN7/100)*AJ7,0)","v":0.16025641025641027},{"$f":"AJ7*AM7/100","v":2.2679851220175995},{"$f":"IF(AN7<>0,AJ62/(AN7/100),0)","v":5.8153464667117936},{"$f":"$AJ7*AO7/100","v":0.23587045268983037},{"$f":"$AJ7*AS7/100","v":0},{"$f":"AJ7*AT7/100","v":6.8039553660527996E-2},{"$f":"AJ7*AU7/100","v":0.18143880976140797},{"$f":"(AJ34/100)*AJ7","v":1.782636305905833},{"$f":"MAX(0,AJ7-(AO62+AQ62+AR62+AX62))","v":0.67812755148326231},{"$f":"AJ7*AR7/100","v":0},{"$f":"AJ7*AV7/100","v":0.31887870815567448},{"$f":"AJ7*AN34/100","v":0.3592488433275875},{"$f":"AJ7*AW7/100","v":1.1045087544225709},{"$f":"AJ7*AX7/100","v":7.0080740270343819E-2},{"$f":"(AL34/100)*$AJ62","v":0},{"$f":"(AM34/100)*$AJ62","v":0.31887870815567448},{"$f":"(AN34/100)*$AJ62","v":0.3592488433275875},{"$f":"(AO34/100)*$AJ62","v":0.93631497777374584},{"$f":"(AP34/100)*$AJ62","v":0.16819377664882515},{"$f":"$AJ62*(AW34/100)","v":0.16510931688288122},{"$f":"$AJ62*(AX34/100)","v":5.637303819286945E-2},{"$f":"$AJ62*(AY34/100)","v":1.4388097614079651E-2}]
[null,"Total milk energy","TotalE",{"$f":"D62*D54","v":0},"Mcal",null,null,null,null,null,null,null,null,null,null,null,null,null,null,null,null,null,null,null,null,null,null,null,null,null,null,null,2,{"$f":"$AH$8","v":402},{"$f":"$AI8","v":"Barley Grain, Heavy"},8.6183434636668785,78.189300411522638,1.2954545454545456,0,9.7935721178032704,{"$f":"$AJ8*AO8/100","v":1.1203846502766941},0,0.18098521273700446,0.25855030391000633,{"$f":"(AJ35/100)*AJ8","v":7.0584232967431744},5.4209380386464669,{"$f":"AJ8*AR8/100","v":0},4.971922344189422,0.44901569445704503,1.637485258096707,0.16461036015603739,{"$f":"(AL35/100)*$AJ63","v":0},4.971922344189422,0.44901569445704503,1.2424203937222174,0.39506486437448968,0.19046539054703801,0.8739000272158215,5.6019232513834713E-2]
[null,"Total milk fat yield","TotalFat",{"$f":"D62*(Inputs!P49/100)","v":0},"kg",null,null,null,null,null,null,null,null,null,null,null,null,null,null,null,null,null,null,null,null,null,null,null,null,null,null,null,3,{"$f":"$AH$9","v":800},"Minerals ",0.13607910732105596,1.2345679012345678,3.0303030303030304E-2,0,0.13745364375864239,0,0,0,0.13607910732105596,0,0,0,0,0,0,0,0,0,0,0,0,0,0,0]
[null,"Total milk protein yield","TotalProt",{"$f":"D62*(Inputs!Q49/100)","v":0},"kg",null,null,null,null,null,null,null,null,null,null,null,null,null,null,null,null,null,null,null,null,null,null,null,null,null,null,null,4,{"$f":"$AH$10","v":""},"",0,0,0,0,0,0,0,0,0,0,0,0,0,0,0,0,0,0,0,0,0,0,0,0]
[null,"Total milk MP","TotalMPl",{"$f":"(D65/0.65)","v":0},"kg","Metabolizable protein (MP) with 65% of efficiency",null,null,null,null,null,null,null,null,null,null,null,null,null,null,null,null,null,null,null,null,null,null,null,null,null,null,5,{"$f":"$AH$11","v":""},"",0,0,0,0,0,0,0,0,0,0,0,0,0,0,0,0,0,0,0,0,0,0,0,0]
[null,null,null,null,null,null,null,null,null,null,null,null,null,null,null,null,null,null,null,null,null,null,null,null,null,null,null,null,null,null,null,null,6,{"$f":"$AH$12","v":""},"",0,0,0,0,0,0,0,0,0,0,0,0,0,0,0,0,0,0,0,0,0,0,0,0]
[null,null,null,null,null,null,null,null,null,null,null,null,null,null,null,null,null,null,null,null,null,null,null,null,null,null,null,null,null,null,null,null,7,{"$f":"$AH$13","v":""},"",0,0,0,0,0,0,0,0,0,0,0,0,0,0,0,0,0,0,0,0,0,0,0,0]
[null,"Table R3. Pregnancy",null,null,null,null,null,"Indexes",null,null,null,null,null,null,null,null,null,null,null,null,null,null,null,null,null,null,null,null,null,null,null,null,8,{"$f":"$AH$14","v":""},"",0,0,0,0,0,0,0,0,0,0,0,0,0,0,0,0,0,0,0,0,0,0,0,0]
[null,"Item","Acronym","Value","Units","Description",null,"ME/ADG",{"$f":"IF(D81<>0,D77/D81,0)","v":0},"Mcal/kg",null,null,null,null,null,null,null,null,null,null,null,null,null,null,null,null,null,null,null,null,null,null,9,{"$f":"$AH$15","v":""},"",0,0,0,0,0,0,0,0,0,0,0,0,0,0,0,0,0,0,0,0,0,0,0,0]
[null,"Is it a pregnant animal?",null,{"$f":"IF(AND(OR(parmAnClass=2,parmAnClass=3,parmAnClass=4),Inputs!F25>0),TRUE,FALSE)","v":false},null,null,null,"MP/ADG",{"$f":"IF(D81<>0,(D80/1000)/D81,0)","v":0},"kg/kg",null,null,null,null,null,null,null,null,null,null,null,null,null,null,null,null,null,null,null,null,null,null,10,{"$f":"$AH$16","v":""},"",0,0,0,0,0,0,0,0,0,0,0,0,0,0,0,0,0,0,0,0,0,0,0,0]
[null,"Calf birth weight","CBW",{"$f":"IF(isPregnant=FALSE,0,Inputs!F26)","v":0},"kg",null,null,null,null,null,null,null,null,null,null,null,null,null,null,null,null,null,null,null,null,null,null,null,null,null,null,null,11,{"$f":"$AH$17","v":""},"",0,0,0,0,0,0,0,0,0,0,0,0,0,0,0,0,0,0,0,0,0,0,0,0]
[null,"Days pregnant","DP",{"$f":"IF(isPregnant=FALSE,0,Inputs!F25)","v":0},"days",null,null,null,null,null,null,null,null,null,null,null,null,null,null,null,null,null,null,null,null,null,null,null,null,null,null,null,12,{"$f":"$AH$18","v":""},"",0,0,0,0,0,0,0,0,0,0,0,0,0,0,0,0,0,0,0,0,0,0,0,0]
[null,"NEma/ME","km",{"$f":"IF(isPregnant=FALSE,0,D34)","v":0},null,"Uses a variable km rather than the fixed one of 0.6",null,null,null,null,null,null,null,null,null,null,null,null,null,null,null,null,null,null,null,null,null,null,null,null,null,null,13,{"$f":"$AH$19","v":""},"",0,0,0,0,0,0,0,0,0,0,0,0,0,0,0,0,0,0,0,0,0,0,0,0]
[null,"NE for pregnancy","NEy",{"$f":"IF(isPregnant=FALSE,0,(D72*(0.05855-0.0000996*D73)*EXP((0.03233-0.0000275*D73)*D73))/1000)","v":0},"Mcal/d",{"$f":"\"The NEm for pregnancy is \"&TEXT(D77*D74,\"#0.000\")&\" Mcal/d\"","v":"The NEm for pregnancy is 0.000 Mcal/d"},null,null,null,null,null,null,null,null,null,null,null,null,null,null,null,null,null,null,null,null,null,null,null,null,null,null,14,{"$f":"$AH$19","v":""},"",{"$f":"AJ20","v":0},0,0,{"$f":"AJ20*AM20/100","v":0},0,{"$f":"$AJ20*AO20/100","v":0},{"$f":"$AJ20*AS20/100","v":0},{"$f":"AJ20*AT20/100","v":0},{"$f":"AJ20*AU20/100","v":0},{"$f":"(AJ47/100)*AJ20","v":0},{"$f":"MAX(0,AJ20-(AO75+AQ75+AR75+AX75))","v":0},{"$f":"AJ20*AR20/100","v":0},{"$f":"AJ20*AV20/100","v":0},{"$f":"AJ20*AN47/100","v":0},{"$f":"AJ20*AW20/100","v":0},{"$f":"AJ20*AX20/100","v":0},{"$f":"(AL47/100)*$AJ75","v":0},{"$f":"(AM47/100)*$AJ75","v":0},{"$f":"(AN47/100)*$AJ75","v":0},{"$f":"(AO47/100)*$AJ75","v":0},{"$f":"(AP47/100)*$AJ75","v":0},{"$f":"$AJ75*(AW47/100)","v":0},{"$f":"$AJ75*(AX47/100)","v":0},{"$f":"$AJ75*(AY47/100)","v":0}]
[null,"Partial efficiency","ky",{"$f":"IF(isPregnant=FALSE,0,0.13)","v":0},null,"Fixed partial efficiency of use of ME for pregnancy (0.13)",null,null,null,null,null,null,null,null,null,null,null,null,null,null,null,null,null,null,null,null,null,null,null,null,null,null,15,"","",0,0,0,0,0,0,0,0,0,0,0,0,0,0,0,0,0,0,0,0,0,0,0,0]
[null,"ME for pregnancy","MEy",{"$f":"IF(isPregnant=FALSE,0,D75/D76)","v":0},"Mcal/d",null,null,null,null,null,null,null,null,null,null,null,null,null,null,null,null,null,null,null,null,null,null,null,null,null,null,null,16,"","",0,0,0,0,0,0,0,0,0,0,0,0,0,0,0,0,0,0,0,0,0,0,0,0]
[null,"Feed for pregnancy","FFP",{"$f":"IF(D22<>0,D77/D22,0)","v":0},"kg/d","Amount of DM needed for pregnancy",null,null,null,null,null,null,null,null,null,null,null,null,null,null,null,null,null,null,null,null,null,null,null,null,null,null,17,"","",0,0,0,0,0,0,0,0,0,0,0,0,0,0,0,0,0,0,0,0,0,0,0,0]
[null,"Conceptus net protein","Ypn",{"$f":"IF(isPregnant=FALSE,0,D72*(0.001669-0.00000211*D73)*EXP((0.0278-0.0000176*D73)*D73)*6.25)","v":0},"g/d",null,null,null,null,null,null,null,null,null,null,null,null,null,null,null,null,null,null,null,null,null,null,null,null,null,null,null,18,"","",0,0,0,0,0,0,0,0,0,0,0,0,0,0,0,0,0,0,0,0,0,0,0,0]
[null,"Metabolizable protein","MPp",{"$f":"IF(isPregnant=FALSE,0,D79/0.65)","v":0},"g/d","Fixed efficiency of use of MP for pregnancy of 65%",null,null,null,null,null,null,null,null,null,null,null,null,null,null,null,null,null,null,null,null,null,null,null,null,null,null,19,"","",0,0,0,0,0,0,0,0,0,0,0,0,0,0,0,0,0,0,0,0,0,0,0,0]
[null,"ADG gravid uterus","ADGpreg",{"$f":"IF(isPregnant,Inputs!F26*0.01828*(0.02-0.0000286*Inputs!F25)*EXP(0.02*Inputs!F25-0.0000143*Inputs!F25*Inputs!F25),0)","v":0},"kg/d","Average daily gain due to gravid uterus",null,null,null,null,null,null,null,null,null,null,null,null,null,null,null,null,null,null,null,null,null,null,null,null,null,null,20,"","",0,0,0,0,0,{"$f":"$AJ26*AO26/100","v":0},0,0,0,0,0,0,0,0,0,0,0,0,0,0,0,0,0,0]
[null,"Conceptus weight","CW",{"$f":"IF(isPregnant,Inputs!F26*0.01828*EXP(0.02*Inputs!F25-0.0000143*Inputs!F25*Inputs!F25),0)","v":0},"kg","Gravid uterus weight",null,null,null,null,null,null,null,null,null,null,null,null,null,null,null,null,null,null,null,null,null,null,null,null,null,null,21,"","",0,0,0,0,0,0,0,0,0,0,0,0,0,0,0,0,0,0,0,0,0,0,0,0]
[null,null,null,null,null,null,null,null,null,null,null,null,null,null,null,null,null,null,null,null,null,null,null,null,null,null,null,null,null,null,null,null,22,"","",0,0,0,0,0,0,0,0,0,0,0,0,0,0,0,0,0,0,0,0,0,0,0,0]
[null,null,null,null,null,null,null,null,null,null,null,null,null,null,null,null,null,null,null,null,null,null,null,null,null,null,null,null,null,null,null,null,"Diet (sum or average)",null,null,{"$f":"SUM(AJ62:AJ83)","v":11.022407693005533},{"$f":"SUM(AK62:AK83)","v":100.00000000000001},{"$f":"SUM(AL62:AL83)","v":1.4860139860139863},{"$f":"SUM(AM62:AM83)","v":2.2679851220175995},{"$f":"SUM(AN62:AN83)","v":15.746372228273705},{"$f":"SUM(AO62:AO83)","v":1.3562551029665244},{"$f":"SUM(AP62:AP83)","v":0},0.24902476639753246,0.57606822099247024,8.8410596026490076,6.0990655901297295,0,5.2908010523450963,0.80826453778463248,2.7419940125192781,0.23469110042638119,0,5.2908010523450963,0.80826453778463248,2.1787353714959634,0.5632586410233148,0.35557470742991926,0.93027306540869092,7.0407330127914364E-2]
[null,"Table R4. Growth",null,null,null,null,null,"Grade","SRW","Marbling",null,null,null,"%EBF"]
[null,"Item","Acronym","Value","Units","Description",null,1,400,"Devoid of marbling, 22% body fat",null,null,null,22]
[null,"Empty BW","EBW",{"$f":"D6*0.891","v":428.53357525174636},"kg",null,null,2,435,"Traces of marbling, 25% body fat",null,null,null,25,null,null,null,null,null,null,null,null,null,null,null,null,null,null,null,null,null,null,"Table S4. Energy and RUP intakes:: Empirical solution",null,null,null,null,{"$f":"\"Tabular ME and NE \"&IF(Inputs!F55=1,\"(without ionophore adjustment)\",\"(with ionophore adjustment)\")","v":"Tabular ME and NE (with ionophore adjustment)"},null,null,null,null,null,null,null,null,{"$f":"\"Calculated DE, ME, and NE \"&IF(Inputs!F55=1,\"(without ionophore adjustment)\",\"(with ionophore adjustment)\")","v":"Calculated DE, ME, and NE (with ionophore adjustment)"},null,null,null,null,null,null,null,null,null,"Coefficients",null,null,"Value","Unit"]
[null,"Std reference SBW","SRW",{"$f":"VLOOKUP(Inputs!F19,Calc!$H$86:$N$89,2)","v":462},"kg",{"$f":"VLOOKUP(Inputs!F19,Calc!$H$86:$N$89,3)","v":"Slight marbling, 27% body fat"},null,3,462,"Slight marbling, 27% body fat",null,null,null,27,null,null,null,null,null,null,null,null,null,null,null,null,null,null,null,null,null,null,"#","ID","Feed","TDN 1x","TDN 1x","ME 1x","NEma 1x","NEga 1x","ME 1x","NEma 1x","NEga 1x","RUP 1x","RUP 1x","RDP 1x","DE","DE","ME/DE","ME 1x","NEma 1x","NEga 1x","ME 1x","NEma 1x","NEga 1x",null,"Microbial crude protein (MCP)",null,null,{"$f":"Inputs!F88/100","v":0},"g/g"]
[null,"Mature SBW","MSBW",{"$f":"Inputs!F18*0.96","v":582.20085276240582},"kg",null,null,4,478,"Small marbling, 28% body fat",null,null,null,28,null,null,null,null,null,null,null,null,null,null,null,null,null,null,null,null,null,null,null,null,null,"%DM","kg/d","Mcal/kg","Mcal/kg","Mcal/kg","Mcal/d","Mcal/d","Mcal/d","%CP","kg/d","kg/d","Mcal/d","Mcal/kg","%","Mcal/kg","Mcal/kg","Mcal/kg","Mcal/d","Mcal/d","Mcal/d",null,"Microbial true protein (MTP)",null,null,0.8,"g/g"]
[null,"Equivalent SBW","EQSBW",{"$f":"(D6-D82)*(D88/D89)","v":381.65968586387442},"kg","SBW is adjusted for CW",null,null,null,null,null,null,null,null,null,null,null,null,null,null,null,null,null,null,null,null,null,null,null,null,null,null,1,{"$f":"$AH7","v":301},{"$f":"$AI7","v":"Barley, Silage"},{"$f":"AY7","v":60},{"$f":"AJ62*AJ90/100","v":1.3607910732105597},{"$f":"IF(Inputs!$F$87=TRUE,AZ7,Calc!AX90)","v":2.2196235599999996},{"$f":"IF(Inputs!$F$87=TRUE,BA7,AY90)","v":1.355818283593015},{"$f":"IF(Inputs!$F$87=TRUE,BB7,AZ90)","v":0.7780275481063077},{"$f":"AJ62*AL90","v":5.0340732105597379},{"$f":"AJ62*AM90","v":3.0749756953483964},{"$f":"AJ62*AN90","v":1.7645549036249379},{"$f":"BC7","v":14},{"$f":"AO62*(AR90/100)","v":3.3021863376576255E-2},{"$f":"AO62-AS90","v":0.20284858931325411},{"$f":"AK90*$BC$265","v":6.0010886328585684},{"$f":"IF(AJ62<>0,AU90/AJ62,0)","v":2.6459999999999999},{"$f":"IF($BC$266>0,IF($BC$266=\"Variable\",IF(AV90>0,(0.9611*AV90-0.2999)*100/AV90,0),$BC$266),0)","v":82},{"$f":"AV90*AW90*IF($BP$255=FALSE,$D$16,1)/100","v":2.2196235599999996},{"$f":"IF($AX90>0,IF($BC$266=\"Variable\",1.1104*$AX90-0.0946*$AX90^2+0.0065*$AX90^3-0.7783,1.37*$AX90-0.138*$AX90^2+0.0105*$AX90^3-1.12),0)*IF($BP$255=TRUE,1.12,1)","v":1.355818283593015},{"$f":"IF(AX90>0,IF($BC$266=\"Variable\",1.1376*AX90-0.1198*AX90^2+0.0076*AX90^3-1.2979,1.42*AX90-0.174*AX90^2+0.0122*AX90^3-1.65),0)","v":0.7780275481063077},{"$f":"AX90*$AJ62","v":5.0340732105597379},{"$f":"AY90*$AJ62","v":3.0749756953483964},{"$f":"AZ90*$AJ62","v":1.7645549036249379},null,"Intestinal digestion (ID): MCP",null,null,0.8,"g/g"]
[null,"Equivalent EBW","EQEBW",{"$f":"D90*0.891","v":340.05878010471213},"kg",null,null,null,null,null,null,null,null,null,null,null,null,null,null,null,null,null,null,null,null,null,null,null,null,null,null,null,2,{"$f":"$AH8","v":402},{"$f":"$AI8","v":"Barley Grain, Heavy"},{"$f":"AY8","v":84},{"$f":"AJ63*AJ91/100","v":7.2394085094801781},{"$f":"IF(Inputs!$F$87=TRUE,AZ8,Calc!AX91)","v":3.1074729839999997},{"$f":"IF(Inputs!$F$87=TRUE,BA8,AY91)","v":2.1197295383376349},{"$f":"IF(Inputs!$F$87=TRUE,BB8,AZ91)","v":1.4484850491166839},{"$f":"AJ63*AL91","v":26.781269480177809},{"$f":"AJ63*AM91","v":18.268557211473766},{"$f":"AJ63*AN91","v":12.483541655273969},{"$f":"BC8","v":33.07},{"$f":"AO63*(AR91/100)","v":0.37051120384650271},{"$f":"AO63-AS91","v":0.74987344643019138},{"$f":"AK91*$BC$265","v":31.925791526807586},{"$f":"IF(AJ63<>0,AU91/AJ63,0)","v":3.7044000000000001},{"$f":"IF($BC$266>0,IF($BC$266=\"Variable\",IF(AV91>0,(0.9611*AV91-0.2999)*100/AV91,0),$BC$266),0)","v":82},{"$f":"AV91*AW91*IF($BP$255=FALSE,$D$16,1)/100","v":3.1074729839999997},{"$f":"IF($AX91>0,IF($BC$266=\"Variable\",1.1104*$AX91-0.0946*$AX91^2+0.0065*$AX91^3-0.7783,1.37*$AX91-0.138*$AX91^2+0.0105*$AX91^3-1.12),0)*IF($BP$255=TRUE,1.12,1)","v":2.1197295383376349},{"$f":"IF(AX91>0,IF($BC$266=\"Variable\",1.1376*AX91-0.1198*AX91^2+0.0076*AX91^3-1.2979,1.42*AX91-0.174*AX91^2+0.0122*AX91^3-1.65),0)","v":1.4484850491166839},{"$f":"AX91*$AJ63","v":26.781269480177809},18.268557211473766,12.483541655273969,null,"RUP ID (<100% forage,default=0.8)",null,null,0.8,"g/g"]
[null,"Is it a growing or finishing?",null,{"$f":"IF(OR(parmAnClass=1,parmAnClass=4),TRUE,FALSE)","v":true},null,null,null,"Indexes",null,null,null,null,null,null,null,null,null,null,null,null,null,null,null,null,null,null,null,null,null,null,null,null,3,800,"Minerals ",0,0,{"$f":"IF(Inputs!$F$87=TRUE,AZ9,Calc!AX92)","v":0},{"$f":"IF(Inputs!$F$87=TRUE,BA9,AY92)","v":0},{"$f":"IF(Inputs!$F$87=TRUE,BB9,AZ92)","v":0},0,0,0,100,0,0,0,{"$f":"IF(AJ64<>0,AU92/AJ64,0)","v":0},82,0,0,0,0,0,0,null,"RUP ID (100% forage,default=0.6)",null,null,0.6,"g/g"]
[null,"Retained energy","RE",{"$f":"IF(isGrowingFinishing,(D20-D39-D78-D61)*J8,0)","v":7.8752541008944572},"Mcal/d","NE available for growth",null,"ME/SWG",{"$f":"IF(D96>0,D94/D96,0)","v":11.33800037353701},"Mcal/kg",null,null,null,null,null,null,null,null,null,null,null,null,null,null,null,null,null,null,null,null,null,null,4,"","",0,0,{"$f":"IF(Inputs!$F$87=TRUE,AZ10,Calc!AX93)","v":0},{"$f":"IF(Inputs!$F$87=TRUE,BA10,AY93)","v":0},{"$f":"IF(Inputs!$F$87=TRUE,BB10,AZ93)","v":0},0,0,0,0,0,0,0,0,82,0,0,0,0,0,0,null,"Microbial crude protein (MCP)",null,null,62.5,"%DM"]
[null,"MEg retained",null,{"$f":"IF(AND(L6>0,J8>0),D93/(J8/L6),0)","v":17.774864779010773},"Mcal/d","ME available for growth",null,"MP/SWG",{"$f":"IF(D96>0,(D99/1000)/D96,0)","v":0.24453875703067918},"kg/kg",null,null,null,null,null,null,null,null,null,null,null,null,null,null,null,null,null,null,null,null,null,null,5,"","",0,0,{"$f":"IF(Inputs!$F$87=TRUE,AZ11,Calc!AX94)","v":0},{"$f":"IF(Inputs!$F$87=TRUE,BA11,AY94)","v":0},{"$f":"IF(Inputs!$F$87=TRUE,BB11,AZ94)","v":0},0,0,0,0,0,0,0,0,82,0,0,0,0,0,0,null,"Microbial carbohydrate",null,null,21.1,"%DM"]
[null,"Empty weight gain","EWG",{"$f":"IF(D93>0,12.341*(D91^-0.6837)*(D93^0.9116),0)","v":1.505087242798153},"kg/d",null,null,null,null,null,null,null,null,null,null,null,null,null,null,null,null,null,null,null,null,null,null,null,null,null,null,null,6,"","",0,0,{"$f":"IF(Inputs!$F$87=TRUE,AZ12,Calc!AX95)","v":0},{"$f":"IF(Inputs!$F$87=TRUE,BA12,AY95)","v":0},{"$f":"IF(Inputs!$F$87=TRUE,BB12,AZ95)","v":0},0,0,0,0,0,0,0,0,82,0,0,0,0,0,0,null,"Microbial ash",null,null,4.4000000000000004,"%DM"]
[null,"Shrunk weight gain","SWG",{"$f":"IF(D93>0,13.91*(D90^-0.6837)*(D93^0.9116),0)","v":1.5677248362504432},"kg/d",null,null,null,null,null,null,null,null,null,null,null,null,null,null,null,null,null,null,null,null,null,null,null,null,null,null,null,7,"","",0,0,{"$f":"IF(Inputs!$F$87=TRUE,AZ13,Calc!AX96)","v":0},{"$f":"IF(Inputs!$F$87=TRUE,BA13,AY96)","v":0},{"$f":"IF(Inputs!$F$87=TRUE,BB13,AZ96)","v":0},0,0,0,0,0,0,0,0,82,0,0,0,0,0,0,null,"Microbial fat",null,null,12,"%DM"]
[null,"Net protein gain","NPg",{"$f":"IF(D96>0,D96*(268-29.4*D93/D96),0)","v":188.61778554882176},"g/d",null,null,null,null,null,null,null,null,null,null,null,null,null,null,null,null,null,null,null,null,null,null,null,null,null,null,null,8,"","",0,0,{"$f":"IF(Inputs!$F$87=TRUE,AZ14,Calc!AX97)","v":0},{"$f":"IF(Inputs!$F$87=TRUE,BA14,AY97)","v":0},{"$f":"IF(Inputs!$F$87=TRUE,BB14,AZ97)","v":0},0,0,0,0,0,0,0,0,82,0,0,0,0,0,0,null,"Efficiency of RDP for MCP",null,null,100,"%"]
[null,"NPg/MPg",null,{"$f":"Inputs!$F$90","v":49.2},"%",null,null,null,null,null,null,null,null,null,null,null,null,null,null,null,null,null,null,null,null,null,null,null,null,null,null,null,9,"","",0,0,{"$f":"IF(Inputs!$F$87=TRUE,AZ15,Calc!AX98)","v":0},{"$f":"IF(Inputs!$F$87=TRUE,BA15,AY98)","v":0},{"$f":"IF(Inputs!$F$87=TRUE,BB15,AZ98)","v":0},0,0,0,0,0,0,0,0,82,0,0,0,0,0,0,null,"Lignin factor to compute CC",null,null,2.4,"g/g"]
[null,"Metabolizable protein","MPg",{"$f":"D97/(D98/100)","v":383.36948282280844},"g/d",null,null,null,null,null,null,null,null,null,null,null,null,null,null,null,null,null,null,null,null,null,null,null,null,null,null,null,10,"","",0,0,{"$f":"IF(Inputs!$F$87=TRUE,AZ16,Calc!AX99)","v":0},{"$f":"IF(Inputs!$F$87=TRUE,BA16,AY99)","v":0},{"$f":"IF(Inputs!$F$87=TRUE,BB16,AZ99)","v":0},0,0,0,0,0,0,0,0,82,0,0,0,0,0,0,null,"RDP",null,null,{"$f":"AT112","v":0.95272203574344549},"kg/d"]
[null,null,null,null,null,null,null,null,null,null,null,null,null,null,null,null,null,null,null,null,null,null,null,null,null,null,null,null,null,null,null,null,11,"","",0,0,{"$f":"IF(Inputs!$F$87=TRUE,AZ17,Calc!AX100)","v":0},{"$f":"IF(Inputs!$F$87=TRUE,BA17,AY100)","v":0},{"$f":"IF(Inputs!$F$87=TRUE,BB17,AZ100)","v":0},0,0,0,0,0,0,0,0,82,0,0,0,0,0,0,null,"RDP",null,null,{"$f":"IF(AO84<>0,AT112*100/AO84,0)","v":70.246521739130429},"%CP"]
[null,null,null,null,null,null,null,null,null,null,null,null,null,null,null,null,null,null,null,null,null,null,null,null,null,null,null,null,null,null,null,null,12,"","",0,0,{"$f":"IF(Inputs!$F$87=TRUE,AZ18,Calc!AX101)","v":0},{"$f":"IF(Inputs!$F$87=TRUE,BA18,AY101)","v":0},{"$f":"IF(Inputs!$F$87=TRUE,BB18,AZ101)","v":0},0,0,0,0,0,0,0,0,82,0,0,0,0,0,0,null,"RDP",null,null,{"$f":"IF(AJ84<>0,AT112*100/AJ84,0)","v":8.6435020576131691},"%DM"]
[null,"Table R5. Target gain",null,null,null,null,null,"Brd type","TPWf","TCW1","Gestation","Lactation",null,null,null,null,null,null,null,null,null,null,null,null,null,null,null,null,null,null,null,null,13,"","",0,{"$f":"AJ74*AJ102/100","v":0},{"$f":"IF(Inputs!$F$87=TRUE,AZ19,Calc!AX102)","v":0},{"$f":"IF(Inputs!$F$87=TRUE,BA19,AY102)","v":0},{"$f":"IF(Inputs!$F$87=TRUE,BB19,AZ102)","v":0},0,0,0,0,0,0,0,0,82,0,0,0,0,0,0,null,"RUP",null,null,{"$f":"AS112","v":0.40353306722307897},"kg/d"]
[null,"Item","Acronym","Value","Units","Description",null,1,0.55000000000000004,0.8,280,305,null,null,null,null,null,null,null,null,null,null,null,null,null,null,null,null,null,null,null,null,14,"","",0,0,{"$f":"IF(Inputs!$F$87=TRUE,AZ20,Calc!AX103)","v":0},{"$f":"IF(Inputs!$F$87=TRUE,BA20,AY103)","v":0},{"$f":"IF(Inputs!$F$87=TRUE,BB20,AZ103)","v":0},0,0,0,0,0,0,0,0,82,0,0,0,0,0,0,null,"RUP",null,null,{"$f":"IF(AO84<>0,AS112*100/AO84,0)","v":29.753478260869567},"%CP"]
[null,"Pregnancy weight","TPW",{"$f":"D89*VLOOKUP(Inputs!F20,Calc!$H$103:$K$106,2,FALSE)","v":349.32051165744349},"kg","Target pregnant weight",null,2,0.6,0.8,280,305,null,null,null,null,null,null,null,null,null,null,null,null,null,null,null,null,null,null,null,null,15,"","",0,0,{"$f":"IF(Inputs!$F$87=TRUE,AZ21,Calc!AX104)","v":0},{"$f":"IF(Inputs!$F$87=TRUE,BA21,AY104)","v":0},{"$f":"IF(Inputs!$F$87=TRUE,BB21,AZ104)","v":0},0,0,0,0,0,0,0,0,82,0,0,0,0,0,0,null,"RUP",null,null,{"$f":"IF(AJ84<>0,AS112*100/AJ84,0)","v":3.6610246913580244},"%DM"]
[null,"Pregnant age","TPA",{"$f":"Inputs!F30*30.4-VLOOKUP(Inputs!F20,Calc!$H$103:$K$106,4,FALSE)","v":-280},"days","Target pregnant age (age at conception)",null,3,0.65,0.8,280,305,null,null,null,null,null,null,null,null,null,null,null,null,null,null,null,null,null,null,null,null,16,"","",{"$f":"AY22","v":0},0,{"$f":"IF(Inputs!$F$87=TRUE,AZ22,Calc!AX105)","v":0},{"$f":"IF(Inputs!$F$87=TRUE,BA22,AY105)","v":0},{"$f":"IF(Inputs!$F$87=TRUE,BB22,AZ105)","v":0},0,0,0,{"$f":"BC22","v":0},{"$f":"AO77*(AR105/100)","v":0},{"$f":"AO77-AS105","v":0},0,0,82,0,0,0,0,0,0,null,"RDP:RUP",null,null,{"$f":"IF(BH102<>0,BH99/BH102,0)","v":2.3609515876843044}]
[null,"ADG before 1st preg.","ADGbp",{"$f":"IF(OR((Calc!D105-Inputs!F12*30.4)<0,(D104-D6)<0),0,(D104-D6)/(Calc!D105-Inputs!F12*30.4))","v":0},"kg/d","Average daily gain before first pregnancy",null,4,0.55000000000000004,0.85,280,305,null,null,null,null,null,null,null,null,null,null,null,null,null,null,null,null,null,null,null,null,17,"","",0,0,{"$f":"IF(Inputs!$F$87=TRUE,AZ23,Calc!AX106)","v":0},{"$f":"IF(Inputs!$F$87=TRUE,BA23,AY106)","v":0},{"$f":"IF(Inputs!$F$87=TRUE,BB23,AZ106)","v":0},0,0,0,0,0,0,0,0,82,0,0,0,0,0,0,null,"TDN allowable MCP",null,null,{"$f":"AJ140","v":0.79094736369409413},"kg/d"]
[null,"First calving weight","TCW1",{"$f":"D89*VLOOKUP(Inputs!F20,Calc!$H$103:$K$106,3,FALSE)","v":465.76068220992465},"kg","Body weight at first calving",null,null,null,null,null,null,null,null,null,null,null,null,null,null,null,null,null,null,null,null,null,null,null,null,null,null,18,"","",0,0,{"$f":"IF(Inputs!$F$87=TRUE,AZ24,Calc!AX107)","v":0},{"$f":"IF(Inputs!$F$87=TRUE,BA24,AY107)","v":0},{"$f":"IF(Inputs!$F$87=TRUE,BB24,AZ107)","v":0},0,0,0,0,0,0,0,0,82,0,0,0,0,0,0,null,"RDP required",null,null,{"$f":"BH106","v":0.79094736369409413},"kg/d"]
[null,"ADG after 1st preg.","ADGap",{"$f":"IF((D107-D6)<0,0,IF(D6>D104,(D107-D6)/(J112-J110),(D107-D104)/(VLOOKUP(Inputs!F20,Calc!$H$103:$K$106,4,FALSE)-Inputs!F25)))","v":0},"kg/d","Average daily gain after first pregnancy",null,null,null,null,null,null,"Next","Each",null,null,null,null,null,null,null,null,null,null,null,null,null,null,null,null,null,null,19,"","",0,0,{"$f":"IF(Inputs!$F$87=TRUE,AZ25,Calc!AX108)","v":0},{"$f":"IF(Inputs!$F$87=TRUE,BA25,AY108)","v":0},{"$f":"IF(Inputs!$F$87=TRUE,BB25,AZ108)","v":0},0,0,0,0,0,0,0,0,82,0,0,0,0,0,0,null,"RDP available",null,null,{"$f":"AT112","v":0.95272203574344549},"kg/d"]
[null,"Second calving weight","TCW2",{"$f":"D89*0.92","v":535.62478454141342},"kg","Body weght at second calving",null,null,null,"Days","Months","BW","ADG","ADG",null,null,null,null,null,null,null,null,null,null,null,null,null,null,null,null,null,null,20,"","",0,0,{"$f":"IF(Inputs!$F$87=TRUE,AZ26,Calc!AX109)","v":0},{"$f":"IF(Inputs!$F$87=TRUE,BA26,AY109)","v":0},{"$f":"IF(Inputs!$F$87=TRUE,BB26,AZ109)","v":0},0,0,0,0,0,0,0,0,82,0,0,0,0,0,0,null,"RDP balance",null,null,{"$f":"BH108-BH107","v":0.16177467204935136},"kg/d"]
[null,"ADG after 1st calving","ADGac1",{"$f":"IF((D109-D6)<0,0,IF(D6>D107,(D109-D6)/(J113-J110),IF(Inputs!F31>0,(D109-D107)/(Inputs!F31*30.4),0)))","v":-0.12844639949688255},"kg/d","Average daily gain after first calving",null,"Current",null,{"$f":"K110*30.4","v":425.59999999999997},{"$f":"Inputs!F12","v":14},{"$f":"D6","v":480.95799691554021},{"$f":"D106","v":0},{"$f":"IF(L111>$L$110,(L111-$L$110)/(J111-$J$110),0)","v":0},null,null,null,null,null,null,null,null,null,null,null,null,null,null,null,null,null,null,21,"","",0,0,{"$f":"IF(Inputs!$F$87=TRUE,AZ27,Calc!AX110)","v":0},{"$f":"IF(Inputs!$F$87=TRUE,BA27,AY110)","v":0},{"$f":"IF(Inputs!$F$87=TRUE,BB27,AZ110)","v":0},0,0,0,0,0,0,0,0,82,0,0,0,0,0,0,null,"RDP allowable MCP",null,null,{"$f":"IF(BH109<0,BH108,BH106)","v":0.79094736369409413},"kg/d"]
[null,"Third calving weight","TCW3",{"$f":"D89*0.96","v":558.91281865190956},"kg","Body weight at third calving",null,"1st Pregnancy",null,{"$f":"D105","v":-280},{"$f":"J111/30.4","v":-9.2105263157894743},{"$f":"D104","v":349.32051165744349},{"$f":"D108","v":0},{"$f":"IF(L112>$L$110,(L112-$L$110)/(J112-$J$110),0)","v":0},null,null,null,null,null,null,null,null,null,null,null,null,null,null,null,null,null,null,22,"","",0,0,{"$f":"IF(Inputs!$F$87=TRUE,AZ28,Calc!AX111)","v":0},{"$f":"IF(Inputs!$F$87=TRUE,BA28,AY111)","v":0},{"$f":"IF(Inputs!$F$87=TRUE,BB28,AZ111)","v":0},0,0,0,0,0,0,0,{"$f":"IF(AJ83<>0,AU111/AJ83,0)","v":0},82,0,0,0,0,0,0,null,"Tabular ME:DE",null,null,{"$f":"IF(AV112<>0,AL112*100/AV112,0)","v":83.885999999999981},"%"]
[null,"ADG after 2nd calving","ADGac2",{"$f":"IF(Inputs!F31>0,IF((D111-D6)<0,0,IF(D6>D111,(D111-D6)/(J114-J110),(D111-D109)/(Inputs!F31*30.4))),0)","v":0},"kg/d","Average daily gain after second calving",null,"1st calving",null,{"$f":"Inputs!F30*30.4","v":0},{"$f":"J112/30.4","v":0},{"$f":"D107","v":465.76068220992465},{"$f":"D110","v":-0.12844639949688255},{"$f":"IF(L113>$L$110,(L113-$L$110)/(J113-$J$110),0)","v":-0.12844639949688255},null,null,null,null,null,null,null,null,null,null,null,null,null,null,null,null,null,null,"Diet (sum or average)",null,null,{"$f":"SUMPRODUCT(AK7:AK28,AJ90:AJ111)","v":78.024691358024711},{"$f":"SUM(AK90:AK111)","v":8.6001995826907383},{"$f":"IF($AJ$84<>0,SUMPRODUCT(AL90:AL111,$AJ$62:$AJ$83)/$AJ$84,0)","v":2.8864240533333332},{"$f":"IF($AJ$84<>0,SUMPRODUCT(AM90:AM111,$AJ$62:$AJ$83)/$AJ$84,0)","v":1.936376652114409},{"$f":"IF($AJ$84<>0,SUMPRODUCT(AN90:AN111,$AJ$62:$AJ$83)/$AJ$84,0)","v":1.2926482993312154},{"$f":"SUM(AO90:AO111)","v":31.815342690737545},{"$f":"SUM(AP90:AP111)","v":21.343532906822162},{"$f":"SUM(AQ90:AQ111)","v":14.248096558898908},{"$f":"IF($AV$56<>0,SUMPRODUCT($AK$7:$AK$28,$AV$34:$AV$55,AR90:AR111)/$AV$56,0)","v":29.753478260869564},{"$f":"SUM(AS90:AS111)","v":0.40353306722307897},{"$f":"SUM(AT90:AT111)","v":0.95272203574344549},{"$f":"SUM(AU90:AU111)","v":37.926880159666155},{"$f":"IF(DMI<>0,SUMPRODUCT($AJ$62:$AJ$83,AV90:AV111)/DMI,0)","v":3.4408888888888893},{"$f":"IF(DMI<>0,SUMPRODUCT($AJ$62:$AJ$83,AW90:AW111)/DMI,0)","v":82.000000000000014},{"$f":"IF($AJ$84<>0,SUMPRODUCT(AX90:AX111,$AJ$62:$AJ$83)/$AJ$84,0)","v":2.8864240533333332},{"$f":"IF($AJ$84<>0,SUMPRODUCT(AY90:AY111,$AJ$62:$AJ$83)/$AJ$84,0)","v":1.936376652114409},{"$f":"IF($AJ$84<>0,SUMPRODUCT(AZ90:AZ111,$AJ$62:$AJ$83)/$AJ$84,0)","v":1.2926482993312154},{"$f":"SUM(BA90:BA111)","v":31.815342690737545},{"$f":"SUM(BB90:BB111)","v":21.343532906822162},{"$f":"SUM(BC90:BC111)","v":14.248096558898908},null,"Calculated ME:DE",null,null,{"$f":"IF(AV112<>0,AX112*100/AV112,0)","v":83.885999999999981},"%"]
[null,"Fourth calving weight","TCW4",{"$f":"D89","v":582.20085276240582},"kg","Body weight at fourth calving",null,"2nd calving",null,{"$f":"J112+Inputs!F31*30.4","v":0},{"$f":"J113/30.4","v":0},{"$f":"D109","v":535.62478454141342},{"$f":"D112","v":0},{"$f":"IF(L114>$L$110,(L114-$L$110)/(J114-$J$110),0)","v":-0.18316452475650696}]
[null,"ADG after 3rd calving","ADGac3",{"$f":"IF(Inputs!F31>0,IF((D113-D6)<0,0,IF(D6>D113,(D113-D6)/(J115-J110),(D113-MAX(D111,D6))/(Inputs!F31*30.4))),0)","v":0},"kg/d","Average daily gain after third calving",null,"3rd calving",null,{"$f":"J113+Inputs!F31*30.4","v":0},{"$f":"J114/30.4","v":0},{"$f":"D111","v":558.91281865190956},{"$f":"D114","v":0},{"$f":"IF(L115>$L$110,(L115-$L$110)/(J115-$J$110),0)","v":-0.23788265001613162}]
[null,"Is it a cow or replacement heifer?",null,{"$f":"IF(parmAnClass=1,FALSE,TRUE)","v":false},null,null,null,"4th calving",null,{"$f":"J114+Inputs!F31*30.4","v":0},{"$f":"J115/30.4","v":0},{"$f":"D113","v":582.20085276240582},null,null,null,null,null,null,null,null,null,null,null,null,null,null,null,null,null,null,null,null,"Table S5. Metabolizable protein (MP):: Empirical solution",null,null,null,null,"Metabolizable Protein",null,null,null,"Ruminal N",null,"Value","Unit"]
[null,{"$f":"IF(M116<=0,\"Target ADG (gravid uterus ADG only)\",\"Target ADG (including gravid uterus ADG)\")","v":"Target ADG (gravid uterus ADG only)"},null,{"$f":"IF(D115,MAX(0,M116)+MAX(0,D81),0)","v":0},"kg/d","Target average daily gain from current SBW",null,{"$f":"IF(M116<0,\"Target ADG (heifer is heavier than target BW)\",\"Target ADG\")","v":"Target ADG"},null,null,null,null,{"$f":"IF(parmAnClass=4,IF(Inputs!F12*30.4<Calc!D105,Calc!D106,IF(Calc!D73<>280,(Calc!D107-SBW)/(280-Calc!D73),0)),VLOOKUP(J110+1,J110:N115,5))","v":0},null,null,null,null,null,null,null,null,null,null,null,null,null,null,null,null,null,null,null,"#","ID","Feed","MCP","MTP","Bacteria","Feeds","Total",null,"Available N",null,{"$f":"AT112*1000/6.25","v":152.43552571895128},"g/d"]
[null,{"$f":"IF(M116<=0,\"Target EWG (gravid uterus ADG only)\",\"Target EWG (including gravid uterus ADG)\")","v":"Target EWG (gravid uterus ADG only)"},null,{"$f":"D116*0.956","v":0},"kg/d","Target empty weight gain from current SBW",null,null,null,null,null,null,null,null,null,null,null,null,null,null,null,null,null,null,null,null,null,null,null,null,null,null,null,null,null,"kg/d","kg/d","kg/d","kg/d","kg/d",null,"Required N",null,{"$f":"AJ140*1000/6.25","v":126.55157819105507},"g/d"]
[null,"NEg required ",null,{"$f":"0.0635*(D90^0.75)*(D117^1.097)","v":0},"Mcal/d",null,null,null,null,null,null,null,null,null,null,null,null,null,null,null,null,null,null,null,null,null,null,null,null,null,null,null,1,{"$f":"$AH7","v":301},{"$f":"$AI7","v":"Barley, Silage"},{"$f":"IF($AK$112>0,(AK90/$AK$112)*$AJ$140,0)","v":0.12514989931868575},{"$f":"AJ118*$BH$89","v":0.10011991945494861},{"$f":"AK118*$BH$90","v":8.0095935563958887E-2},{"$f":"AS90*IF(AM7<100,IF($BH$91<=0,BH7/100,$BH$91),IF($BH$92<=0,BH7/100,$BH$92))","v":1.9813118025945754E-2},{"$f":"AL118+AM118","v":9.9909053589904637E-2},null,"Balance N",{"$f":"IF(AR117<>0,AR118/AR117,0)","v":0.20453279127676452},{"$f":"AR116-AR117","v":25.883947527896211},"g/d"]
[null,"MEg required",null,{"$f":"IF(AND(L6>0,J8>0),D118/(J8/L6),0)","v":0},"Mcal/d",null,null,"Indexes",null,null,null,null,null,null,null,null,null,null,null,null,null,null,null,null,null,null,null,null,null,null,null,null,2,{"$f":"$AH8","v":402},{"$f":"$AI8","v":"Barley Grain, Heavy"},{"$f":"IF($AK$112>0,(AK91/$AK$112)*$AJ$140,0)","v":0.66579746437540832},{"$f":"AJ119*$BH$89","v":0.53263797150032666},{"$f":"AK119*$BH$90","v":0.42611037720026135},{"$f":"AS91*IF(AM8<100,IF($BH$91<=0,BH8/100,$BH$91),IF($BH$92<=0,BH8/100,$BH$92))","v":0.29640896307720216},{"$f":"AL119+AM119","v":0.72251934027746345}]
[null,"NPg required",null,{"$f":"IF(D116<>0,D116*(268-29.4*D118/D116),0)","v":0},"g/d",null,null,"ME/ADG",{"$f":"IF(D116<>0,D119/D116,0)","v":0},"Mcal/kg",null,null,null,null,null,null,null,null,null,null,null,null,null,null,null,null,null,null,null,null,null,null,3,800,"Minerals ",0,0,0,0,0,null,"TDN",null,{"$f":"AJ112","v":78.024691358024711},"%"]
[null,"MPg required",null,{"$f":"D120/(D98/100)","v":0},"g/d",null,null,"MP/ADG",{"$f":"IF(D116<>0,(D121/1000)/D116,0)","v":0},"kg/kg",null,null,null,null,null,null,null,null,null,null,null,null,null,null,null,null,null,null,null,null,null,null,4,"","",0,0,0,0,0,null,"TDN intake",null,{"$f":"AK112*1000","v":8600.1995826907387},"g/d"]
[null,null,null,null,null,null,null,null,null,null,null,null,null,null,null,null,null,null,null,null,null,null,null,null,null,null,null,null,null,null,null,null,5,"","",0,0,0,0,0,null,"Microbial CP/TDN",null,{"$f":"IF($AK$112>0,AJ140*100/$AK$112,0)","v":9.1968489345991546},"%"]
[null,null,null,null,null,null,null,null,null,null,null,null,null,null,null,null,null,null,null,null,null,null,null,null,null,null,null,null,null,null,null,null,6,"","",0,0,0,0,0,null,"Microbial TP/TDN",null,{"$f":"IF($AK$112>0,AK140*100/$AK$112,0)","v":7.3574791476793227},"%"]
[null,"Table R6. Body reserves",null,null,null,null,null,"Predicted Body Composition",null,null,null,"1. Beef NRC (1996, 2000)",null,null,null,null,null,null,"2. Current Beef Committee; based on Fox et al. (1999, J. Dairy Sci. 82:1968)",null,null,null,null,null,null,null,null,null,null,null,null,null,7,"","",0,0,0,0,0,null,"Microbial MP/TDN",null,{"$f":"IF($AK$112>0,AL140*100/$AK$112,0)","v":5.8859833181434595},"%"]
[null,"Item","Acronym","Value","Units","Description",null,"BCS","Fat","Prot","Ash","EBW@BCS","EBW","TF","TP","ER","Lose BCS","Gain BCS","EBW","EBW@BCS","TF","TP","ER","Lose BCS","Gain BCS","     Lose BCS     ",null,"     Gain BCS     ",null,null,null,null,8,"","",0,0,0,0,0]
[null,"Is it a cow?",null,{"$f":"IF(OR(parmAnClass=1,parmAnClass=4),FALSE,IF(Inputs!F14=4,TRUE,FALSE))","v":false},null,null,null,null,"% EBW","% EBW","% EBW","kg","% EBW5","kg","kg","Mcal","Mcal","Mcal","% EBW5","kg","kg","kg","Mcal","Mcal","Mcal","DSBW/DBCS","DTE/DBCS","DSBW/DBCS","DTE/DBCS",null,null,null,9,"","",0,0,0,0,0,null,"Fat-free TDN",null,{"$f":"AJ112-2.25*BG35","v":72.941358024691382},"%"]
[null,"Body condition score","BCS",{"$f":"IF(isCow,Inputs!F15,0)","v":0},null,"Current BCS",null,1,{"$f":"IF(isCow,(0.037683*H127)*100,0)","v":0},{"$f":"IF(isCow,(0.200886-0.0066762*H127)*100,0)","v":0},{"$f":"IF(isCow,(0.078982-0.00438*H127)*100,0)","v":0},{"$f":"IF(isCow,$D$133/(K127/100),0)","v":0},{"$f":"IF(isCow,L127*100/$L$131,0)","v":0},{"$f":"L127*I127/100","v":0},{"$f":"L127*J127/100","v":0},{"$f":"9.4*N127+5.7*O127","v":0},"—",{"$f":"P128-P127","v":0},{"$f":"100*(1-($Q$142/100)*(5-H127))","v":71.56},{"$f":"$T$139*(S127/100)","v":0},{"$f":"T127*I127/100","v":0},{"$f":"T127*J127/100","v":0},{"$f":"9.4*U127+5.7*V127","v":0},"—",{"$f":"W128-W127","v":0},"—","—",{"$f":"(T128-T127)/0.851","v":0},{"$f":"IF(AB127<>0,Y127/AB127,0)","v":0},null,null,null,10,"","",0,0,0,0,0,null,"FFTDN intake",null,{"$f":"AR126*DMI*10","v":8039.8938582962919},"g/d"]
[null,"Actual fat","AF",{"$f":"IF(isCow,(0.037683*D127)*100,0)","v":0},"% EBW","Empty body fat at current BCS",null,2,{"$f":"IF(isCow,(0.037683*H128)*100,0)","v":0},{"$f":"IF(isCow,(0.200886-0.0066762*H128)*100,0)","v":0},{"$f":"IF(isCow,(0.078982-0.00438*H128)*100,0)","v":0},{"$f":"IF(isCow,$D$133/(K128/100),0)","v":0},{"$f":"IF(isCow,L128*100/$L$131,0)","v":0},{"$f":"L128*I128/100","v":0},0,{"$f":"9.4*N128+5.7*O128","v":0},{"$f":"P128-P127","v":0},{"$f":"P129-P128","v":0},{"$f":"100*(1-($Q$142/100)*(5-H128))","v":78.67},{"$f":"$T$139*(S128/100)","v":0},{"$f":"T128*I128/100","v":0},{"$f":"T128*J128/100","v":0},{"$f":"9.4*U128+5.7*V128","v":0},{"$f":"W128-W127","v":0},{"$f":"W129-W128","v":0},{"$f":"(T128-T127)/0.851","v":0},{"$f":"IF(Z128<>0,X128/Z128,0)","v":0},0,{"$f":"IF(AB128<>0,Y128/AB128,0)","v":0},null,null,null,11,"","",0,0,0,0,0,null,"Microbial CP/FFTDN",null,{"$f":"IF($AR$127>0,AJ140*100/(AR127/1000),0)","v":9.8377836528018694},"%"]
[null,"Actual protein","AP",{"$f":"IF(isCow,(0.200886-0.0066762*D127)*100,0)","v":0},"% EBW","Empty body protein at current BCS",null,3,0,0,0,0,{"$f":"IF(isCow,L129*100/$L$131,0)","v":0},0,{"$f":"L129*J129/100","v":0},0,{"$f":"P129-P128","v":0},{"$f":"P130-P129","v":0},85.78,0,0,0,0,0,{"$f":"W130-W129","v":0},0,{"$f":"IF(Z129<>0,X129/Z129,0)","v":0},0,{"$f":"IF(AB129<>0,Y129/AB129,0)","v":0},null,null,null,12,"","",0,0,0,0,0,null,"Microbial TP/FFTDN",null,{"$f":"IF($AR$127>0,AK140*100/(AR127/1000),0)","v":7.8702269222414944},"%"]
[null,"Actual water","AW",{"$f":"IF(isCow,(0.766637-0.034506*D127)*100,0)","v":0},"% EBW","Empty body water at current BCS",null,4,0,{"$f":"IF(isCow,(0.200886-0.0066762*H130)*100,0)","v":0},{"$f":"IF(isCow,(0.078982-0.00438*H130)*100,0)","v":0},{"$f":"IF(isCow,$D$133/(K130/100),0)","v":0},{"$f":"IF(isCow,L130*100/$L$131,0)","v":0},0,0,0,0,0,92.89,0,0,0,0,0,0,0,{"$f":"IF(Z130<>0,X130/Z130,0)","v":0},0,{"$f":"IF(AB130<>0,Y130/AB130,0)","v":0},null,null,null,13,"","",0,0,0,0,0,null,"Microbial MP/TDN",null,{"$f":"IF($AR$127>0,AL140*100/(AR127/1000),0)","v":6.2961815377931964},"%"]
[null,"Actual ash","AA",{"$f":"IF(isCow,(0.078982-0.00438*D127)*100,0)","v":0},"% EBW","Empty body ash at current BCS",null,5,{"$f":"IF(isCow,(0.037683*H131)*100,0)","v":0},0,0,{"$f":"IF(isCow,$D$133/(K131/100),0)","v":0},{"$f":"IF(isCow,L131*100/$L$131,0)","v":0},0,0,{"$f":"9.4*N131+5.7*O131","v":0},0,0,100,{"$f":"$T$139*(S131/100)","v":0},0,0,0,0,0,0,{"$f":"IF(Z131<>0,X131/Z131,0)","v":0},0,{"$f":"IF(AB131<>0,Y131/AB131,0)","v":0},null,null,null,14,"","",0,0,0,0,0]
[null,"Empty body weight","EBW",{"$f":"IF(isCow,0.851*D6,0)","v":0},"kg","Empty body weight for mature cows",null,6,0,{"$f":"IF(isCow,(0.200886-0.0066762*H132)*100,0)","v":0},0,0,0,0,0,0,0,{"$f":"P133-P132","v":0},107.11,0,0,{"$f":"T132*J132/100","v":0},0,0,0,0,{"$f":"IF(Z132>0,X132/Z132,0)","v":0},0,{"$f":"IF(AB132>0,Y132/AB132,0)","v":0},null,null,null,15,"","",0,0,0,0,0,null,"Diet RDP",null,{"$f":"AT112","v":0.95272203574344549},"kg/d"]
[null,"Total ash","TA",{"$f":"D132*D131/100","v":0},"kg","Total empty body ash",null,7,0,0,0,0,0,0,0,0,0,0,114.21999999999998,0,0,0,0,0,0,0,0,0,0,null,null,null,16,"","",0,0,0,0,{"$f":"AL133+AM133","v":0},null,"Diet RUP",null,{"$f":"AS112","v":0.40353306722307897},"kg/d"]
[null,"Total fat","TF",{"$f":"D132*D128/100","v":0},"kg","Total empty body fat",null,8,0,0,0,0,0,0,0,0,0,0,121.33,0,0,0,0,0,0,0,0,0,0,null,null,null,17,"","",0,0,0,0,0,null,"RUP ID",null,{"$f":"IF(AR133<>0,AR135*100/AR133,0)","v":78.363362705127642},"%"]
[null,"Total protein ","TP",{"$f":"D132*D129/100","v":0},"kg","Total empty body protein",null,9,0,0,0,{"$f":"IF(isCow,$D$133/(K135/100),0)","v":0},{"$f":"IF(isCow,L135*100/$L$131,0)","v":0},0,0,0,0,"—",128.44,{"$f":"$T$139*(S135/100)","v":0},0,0,0,0,"—",0,0,"—","—",null,null,null,18,"","",0,0,0,0,0,null,"MP from RUP",null,{"$f":"AM140","v":0.31622208110314792},"kg/d"]
[null,"Ash at BCS 1","AA1",{"$f":"IF(isCow,(0.078982-0.00438*1)*100,0)","v":0},"% EBW","Empty body ash at BCS 1",null,{"$f":"MAX(1,(D127-1))","v":1},0,0,0,0,0,{"$f":"L136*I136/100","v":0},{"$f":"L136*J136/100","v":0},{"$f":"9.4*N136+5.7*O136","v":0},null,null,71.56,0,0,0,{"$f":"9.4*U136+5.7*V136","v":0},"—","—","—","—","—","—",null,null,null,19,"","",0,0,0,0,0,null,"MP from bacteria",null,{"$f":"AL140","v":0.50620631276422023},"kg/d"]
[null,"Fat as BCS 1","AF1",{"$f":"IF(isCow,(0.037683*1)*100,0)","v":0},"% EBW","Empty body fat at BCS 1",null,{"$f":"D127","v":0},0,0,0,0,0,{"$f":"L137*I137/100","v":0},{"$f":"L137*J137/100","v":0},0,null,null,64.45,0,0,0,{"$f":"9.4*U137+5.7*V137","v":0},{"$f":"W137-W136","v":0},{"$f":"W138-W137","v":0},0,{"$f":"IF(Z137>0,X137/Z137,0)","v":0},{"$f":"(T138-T137)/0.851","v":0},{"$f":"IF(AB137>0,Y137/AB137,0)","v":0},null,null,null,20,"","",0,0,0,0,0,null,"Total MP",null,{"$f":"AN140","v":0.82242839386736821},"kg/d"]
[null,"Protein at BCS 1","AP1",{"$f":"IF(isCow,(0.200886-0.0066762*1)*100,0)","v":0},"% EBW","Empty body protein at BCS 1",null,{"$f":"MIN(9,(D127+1))","v":1},0,0,0,0,{"$f":"IF(isCow,L138*100/$L$131,0)","v":0},{"$f":"L138*I138/100","v":0},{"$f":"L138*J138/100","v":0},{"$f":"9.4*N138+5.7*O138","v":0},null,null,71.56,0,0,0,{"$f":"9.4*U138+5.7*V138","v":0},"—","—","—","—","—","—",null,null,null,21,"","",0,0,0,0,0,null,"RUP MP",null,{"$f":"IF(AR137<>0,AR135*100/AR137,0)","v":38.449801035705072},"% MP"]
[null,"EBW at BCS 1","EBW1",{"$f":"IF(isCow,CHOOSE(L142,D133/(D136/100),(D132/(1-0.0685*(5-D127)))*(1-0.0685*(5-1))),0)","v":0},"kg","Empty body weight at BCS 1, assuming constant ash",null,null,null,null,null,null,null,null,null,null,null,null,{"$f":"100*(1-($Q$142/100)*(5-H137))","v":64.45},{"$f":"D132/(S139/100)","v":0},null,null,null,null,null,null,null,null,null,null,null,null,22,"","",0,{"$f":"AJ139*$BH$89","v":0},0,0,0]
[null,"Total fat at BCS 1","TF1",{"$f":"D139*D137/100","v":0},"kg","Total empty body fat at BCS 1, assuming constant ash",null,"1. Beef NRC (1996, 2000)",null,null,null,null,null,null,null,null,null,null,null,null,null,null,null,null,null,null,null,null,null,null,null,null,"Diet (sum or average)",null,null,{"$f":"IF($AK$112>0,IF($BH$88>0,$BH$88*$AK$112,IF($BG$35<3.9,42.73+0.087*$AK$112*1000,53.33+0.096*(($AJ$112-2.25*$BG$35)/100)*DMI*1000)/1000),0)","v":0.79094736369409413},{"$f":"SUM(AK118:AK139)","v":0.63275789095527524},{"$f":"SUM(AL118:AL139)","v":0.50620631276422023},{"$f":"SUM(AM118:AM139)","v":0.31622208110314792},0.82242839386736821]
[null,"Total protein at BCS 1","TP1",{"$f":"D139*D138/100","v":0},"kg","Total empty body protein at BCS 1, with constant ash",null,"2. Current Beef Committee"]
[null,"Mobilizable fat","FM",{"$f":"D134-D140","v":0},"kg","Amount of mobilizable fat from BCS 1",null,"What submodel to use (default=2)?",null,null,null,2,null,"% change BW/change BCS",null,null,7.11]
[null,"Mobilizable protein","PM",{"$f":"D135-D141","v":0},"kg","Amount of mobilizable protein from BCS 1",null,null,null,null,null,null,null,null,null,null,null,null,null,null,null,null,null,null,null,null,null,null,null,null,null,null,"Table S6. Feedstuffs and bacterial  AA:: Empirical solution",null,null,null,"Feedstuffs",null,null,null,null,null,null,null,null,null,null,"Bacteria"]
[null,"Energy reserves","ER",{"$f":"9.4*D142+5.7*D143","v":0},"Mcal","Amount of energy from body reserves from BCS 1",null,"1. Beef NRC (1996, 2000)",null,null,null,null,null,"2. Current Beef Committee",null,null,null,null,null,null,null,null,null,null,null,null,null,null,null,null,null,null,"#","ID","Feed","ARG","HIS","ILE","LEU","LYS","MET","CYS","PHE","TYR","THR","TRP","VAL","ARG","HIS","ILE","LEU","LYS","MET","CYS","PHE","TYR","THR","TRP","VAL"]
[null,"ER lost with 1 BCS",null,{"$f":"CHOOSE(L142,P137-P136,W137-W136)","v":0},"Mcal","Amount of body energy to lose 1 BCS from actual BCS",null,"ER lost with 1 BCS",null,null,{"$f":"P137-P136","v":0},"Mcal",null,"ER lost with 1 BCS",null,null,{"$f":"W137-W136","v":0},"Mcal",null,null,null,null,null,null,null,null,null,null,null,null,null,null,null,null,null,"g/d","g/d","g/d","g/d","g/d","g/d","g/d","g/d","g/d","g/d","g/d","g/d","g/d","g/d","g/d","g/d","g/d","g/d","g/d","g/d","g/d","g/d","g/d","g/d"]
[null,"ER gained with 1 BCS",null,{"$f":"CHOOSE(L142,P138-P137,W138-W137)","v":0},"Mcal","Amount of body energy to gain 1 BCS from actual BCS",null,"ER gained with 1 BCS",null,null,{"$f":"P138-P137","v":0},"Mcal",null,"ER gained with 1 BCS",null,null,{"$f":"W138-W137","v":0},"Mcal",null,null,null,null,null,null,null,null,null,null,null,null,null,null,1,{"$f":"$AH7","v":301},{"$f":"$AI7","v":"Barley, Silage"},{"$f":"($AM118*1000)*IF($AO7>0,BL7/$AO7,0)","v":0.28576612537421758},{"$f":"($AM118*1000)*IF($AO7>0,BM7/$AO7,0)","v":0.30481720039916543},0.60963440079833087,1.0859112764220269,0.60963440079833087,0.28576612537421758,0,0.66678762587317442,0,0.66678762587317442,0.22861290029937409,0.93350267622244421,{"$f":"($AL118*1000)*(BB$172/100)","v":4.0848927137619029},{"$f":"($AL118*1000)*(BB$173/100)","v":1.6019187112791777},{"$f":"($AL118*1000)*(BB$174/100)","v":4.5654683271456564},{"$f":"($AL118*1000)*(BB$175/100)","v":6.4877707806806706},{"$f":"($AL118*1000)*(BB$176/100)","v":6.3275789095527522},{"$f":"($AL118*1000)*(BB$177/100)","v":2.0824943246629313},{"$f":"($AL118*1000)*(BB$178/100)","v":0},{"$f":"($AL118*1000)*(BB$179/100)","v":4.0848927137619029},{"$f":"($AL118*1000)*(BB$180/100)","v":3.4601444163630242},{"$f":"($AL118*1000)*(BB$181/100)","v":4.6455642627096152},{"$f":"($AL118*1000)*(BB$182/100)","v":1.3055637496925299},{"$f":"($AL118*1000)*(BB$183/100)","v":4.9659480049654512}]
[null,"ME reserve balance",null,{"$f":"IF(isCow,Reports!F15,0)","v":0},"Mcal/d",null,null,"ME reserve balance",null,null,{"$f":"IF(isCow,Reports!F15,0)","v":0},"Mcal/d",null,"ME reserve balance",null,null,{"$f":"IF(isCow,Reports!F15,0)","v":0},"Mcal/d",null,null,null,null,null,null,null,null,null,null,null,null,null,null,2,{"$f":"$AH8","v":402},{"$f":"$AI8","v":"Barley Grain, Heavy"},{"$f":"($AM119*1000)*IF($AO8>0,BL8/$AO8,0)","v":9.8042964710151459},4.5601378934954182,7.9802413136169799,13.908420575161024,6.1561861562188138,1.5960482627233963,0,11.400344733738544,0,6.3841930508935851,2.5080758414224795,9.8042964710151459,21.731629237213326,8.5222075440052265,24.288291500414896,34.514940553221166,33.662719798820646,11.078869807206795,{"$f":"($AL119*1000)*(BB$178/100)","v":0},21.731629237213326,18.40796829505129,24.714401877615156,6.9455991483642592,26.418843386416203]
[null,{"$f":"IF(D147<0,\"Days to lose 1 BCS\",\"Days to gain 1 BCS\")","v":"Days to gain 1 BCS"},null,{"$f":"IF(isCow,IF(D147=0,0,IF(D147<0,D145*0.8,D146)/ABS(D147)),0)","v":0},"days","Assuming 80% efficiency if mobilizing body reserves",null,{"$f":"IF(K147<0,\"Days to lose 1 BCS\",\"Days to gain 1 BCS\")","v":"Days to gain 1 BCS"},null,null,{"$f":"IF(isCow,IF(K147=0,0,IF(K147<0,(K145*0.8)/D34,K146/D34)/ABS(K147)),0)","v":0},"days",null,{"$f":"IF(Q147<0,\"Days to lose 1 BCS\",\"Days to gain 1 BCS\")","v":"Days to gain 1 BCS"},null,null,{"$f":"IF(isCow,IF(Q147=0,0,IF(Q147<0,(Q145*0.8)/D34,Q146/D34)/ABS(Q147)),0)","v":0},"days",null,null,null,null,null,null,null,null,null,null,null,null,null,null,3,800,"Minerals ",0,0,0,0,0,0,0,0,0,0,0,0,0,0,0,0,0,0,0,0,0,0,0,0]
[null,null,null,null,null,null,null,null,null,null,null,null,null,null,null,null,null,null,null,null,null,null,null,null,null,null,null,null,null,null,null,null,4,"","",0,0,0,0,0,0,0,0,0,0,0,0,0,0,0,0,0,0,0,0,0,0,0,0]
[null,null,null,null,null,null,null,null,null,null,null,null,null,null,null,null,null,null,null,null,null,null,null,null,null,null,null,null,null,null,null,null,5,"","",0,0,0,0,0,0,0,0,0,0,0,0,0,0,0,0,0,0,0,0,0,0,0,0]
[null,"Table R7. Minerals and vitamins",null,null,null,null,null,null,"Ca","P","Mg","Cl","K","Na","S","Co","Cu","I","Fe","Mn","Se","Zn","Vit A","Vit D","Vit E",null,null,null,null,null,null,null,6,"","",0,0,0,0,0,0,0,0,0,0,0,0,0,0,0,0,0,0,0,0,0,0,0,0]
[null,"Item","Acronym","Value","Units","Description",null,null,"g/d","g/d","g/d","g/d","g/d","g/d","g/d","mg/d","mg/d","mg/d","mg/d","mg/d","mg/d","mg/d","1000 IU/d","1000 IU/d","IU/d",null,null,null,null,null,null,null,7,"","",0,0,0,0,0,0,0,0,0,0,0,0,0,0,0,0,0,0,0,0,0,0,0,0]
[null,"Calcium","Ca",{"$f":"I157","v":41.597231852931323},"g/d",{"$f":"\"Maximum tolerable is \" & TEXT(I$158,\"0.0\") & \" g/d\"","v":"Maximum tolerable is 220.4 g/d"},null,"M",{"$f":"0.0154*D6/0.5","v":14.813506304998638},{"$f":"0.016*D6/0.68","v":11.316658750953886},null,null,null,null,null,null,null,null,null,null,null,null,null,null,null,null,null,null,null,null,null,null,8,"","",0,0,0,0,0,0,0,0,0,0,0,0,0,0,0,0,0,0,0,0,0,0,0,0]
[null,"Phosphorus","P",{"$f":"J157","v":22.134443510371604},"g/d",{"$f":"\"Maximum tolerable is \" & TEXT(J$158,\"0.0\") & \" g/d\"","v":"Maximum tolerable is 77.2 g/d"},null,"G",{"$f":"IF(AND(isLactating=FALSE,OR(isPregnant=FALSE,D73<(2/3)*VLOOKUP(Inputs!F20,Calc!$H$103:$L$106,4))),D97*0.071/0.5,0)","v":26.783725547932686},{"$f":"IF(AND(isLactating=FALSE,OR(isPregnant=FALSE,D73<(2/3)*VLOOKUP(Inputs!F20,Calc!$H$103:$L$106,4))),D97*0.039/0.68,0)","v":10.817784759417718},{"$f":"IF(AND(isLactating=FALSE,isPregnant=FALSE),(0.1/100)*AJ84*1000,0)","v":11.022407693005533},{"$f":"IF(AND(isLactating=FALSE,isPregnant=FALSE),0,0)","v":0},{"$f":"IF(AND(isLactating=FALSE,isPregnant=FALSE),(0.6/100)*AJ84*1000,0)","v":66.134446158033199},{"$f":"IF(AND(isLactating=FALSE,isPregnant=FALSE),(0.07/100)*AJ84*1000,0)","v":7.7156853851038738},{"$f":"IF(AND(isLactating=FALSE,isPregnant=FALSE),(0.15/100)*AJ84*1000,0)","v":16.5336115395083},{"$f":"IF(AND(isLactating=FALSE,isPregnant=FALSE),0.15*AJ84,0)","v":1.6533611539508299},{"$f":"IF(AND(isLactating=FALSE,isPregnant=FALSE),10*AJ84,0)","v":110.22407693005533},{"$f":"IF(AND(isLactating=FALSE,isPregnant=FALSE),0.5*AJ84,0)","v":5.5112038465027666},{"$f":"IF(AND(isLactating=FALSE,isPregnant=FALSE),50*AJ84,0)","v":551.12038465027672},{"$f":"IF(AND(isLactating=FALSE,isPregnant=FALSE),20*AJ84,0)","v":220.44815386011066},{"$f":"IF(AND(isLactating=FALSE,isPregnant=FALSE),0.1*AJ84,0)","v":1.1022407693005534},{"$f":"IF(AND(isLactating=FALSE,isPregnant=FALSE),30*AJ84,0)","v":330.672230790166},{"$f":"IF(AND(W155=0,W156=0),MAX(IF(Inputs!$F$14=1,3900,2200)*$AJ$84,IF(Inputs!$F$14=1,84,47)*SBW)/1000,0)","v":24.249296924612171},{"$f":"IF(AND(X155=0,X156=0),MAX(IF(Inputs!$F$14=1,275,275)*$AJ$84,5.7*SBW)/1000,0)","v":3.0311621155765214},{"$f":"IF(AND(Y155=0,Y156=0),MAX(IF(Inputs!$F$14=1,35,35)*$AJ$84,0.73*SBW),0)","v":385.78426925519364},null,null,null,null,null,null,null,9,"","",0,0,0,0,0,0,0,0,0,0,0,0,0,0,0,0,0,0,0,0,0,0,0,0]
[null,"Magnesium","Mg",{"$f":"K157","v":11.022407693005533},"g/d",{"$f":"\"Maximum tolerable is \" & TEXT(K$158,\"0.0\") & \" g/d\"","v":"Maximum tolerable is 44.1 g/d"},null,"L",{"$f":"IF(isLactating,IF(AND(isPregnant,D73>(2/3)*VLOOKUP(Inputs!F20,Calc!$H$103:$L$106,4)),0,D55*1.23/0.5),0)","v":0},{"$f":"IF(isLactating,IF(AND(isPregnant,D73>(2/3)*VLOOKUP(Inputs!F20,Calc!$H$103:$L$106,4)),0,D55*0.95/0.68),0)","v":0},{"$f":"IF(isLactating,IF(Inputs!F27<=60,0.2/100,IF(isPregnant=FALSE,0.12/100,0))*AJ84*1000,0)","v":0},{"$f":"IF(isLactating,IF(Inputs!F27<=60,0,0),0)","v":0},{"$f":"IF(isLactating,IF(Inputs!F27<=60,0.7/100,IF(isPregnant=FALSE,0.6/100,0))*AJ84*1000,0)","v":0},{"$f":"IF(isLactating,IF(Inputs!F27<=60,0.1/100,IF(isPregnant=FALSE,0.07/100,0))*AJ84*1000,0)","v":0},{"$f":"IF(isLactating,IF(Inputs!F27<=60,0.15/100,IF(isPregnant=FALSE,0.15/100,0))*AJ84*1000,0)","v":0},{"$f":"IF(isLactating,IF(Inputs!F27<=60,0.15,IF(isPregnant=FALSE,0.15,0))*AJ84,0)","v":0},{"$f":"IF(isLactating,IF(Inputs!F27<=60,10,IF(isPregnant=FALSE,10,0))*AJ84,0)","v":0},{"$f":"IF(isLactating,IF(Inputs!F27<=60,0.5,IF(isPregnant=FALSE,0.5,0))*AJ84,0)","v":0},{"$f":"IF(isLactating,IF(Inputs!F27<=60,50,IF(isPregnant=FALSE,50,0))*AJ84,0)","v":0},{"$f":"IF(isLactating,IF(Inputs!F27<=60,40,IF(isPregnant=FALSE,40,0))*AJ84,0)","v":0},{"$f":"IF(isLactating,IF(Inputs!F27<=60,0.1,IF(isPregnant=FALSE,0.1,0))*AJ84,0)","v":0},{"$f":"IF(isLactating,IF(Inputs!F27<=60,30,IF(isPregnant=FALSE,30,0))*AJ84,0)","v":0},{"$f":"IF(AND(isLactating,Inputs!$F$14=4),IF(AND(isPregnant,D73>(2/3)*VLOOKUP(Inputs!F20,Calc!$H$103:$L$106,4)),0,MAX(3900*$AJ$84,84*SBW)/1000),0)","v":0},{"$f":"IF(AND(isLactating,Inputs!$F$14=4),IF(AND(isPregnant,D73>(2/3)*VLOOKUP(Inputs!F20,Calc!$H$103:$L$106,4)),0,MAX(275*$AJ$84,5.7*SBW)/1000),0)","v":0},{"$f":"IF(AND(isLactating,Inputs!$F$14=4),IF(AND(isPregnant,D73>(2/3)*VLOOKUP(Inputs!F20,Calc!$H$103:$L$106,4)),0,MAX(35*$AJ$84,0.73*SBW)),0)","v":0},null,null,null,null,null,null,null,10,"","",0,0,0,0,0,0,0,0,0,0,0,0,0,0,0,0,0,0,0,0,0,0,0,0]
[null,"Chlorine","Cl",{"$f":"L157","v":0},"g/d",null,null,"P",{"$f":"IF(isPregnant,IF(D73>(2/3)*VLOOKUP(Inputs!F20,Calc!$H$103:$L$106,4),D72*13.7/90,0)/0.5,0)","v":0},{"$f":"IF(isPregnant,IF(D73>(2/3)*VLOOKUP(Inputs!F20,Calc!$H$103:$L$106,4),D72*7.6/90,0)/0.68,0)","v":0},{"$f":"IF(AND(isPregnant,K155=0),(0.12/100)*AJ84*1000,0)","v":0},{"$f":"IF(AND(isPregnant,L155=0),0,0)","v":0},{"$f":"IF(AND(isPregnant,M155=0),(0.6/100)*AJ84*1000,0)","v":0},{"$f":"IF(AND(isPregnant,N155=0),(0.07/100)*AJ84*1000,0)","v":0},{"$f":"IF(AND(isPregnant,O155=0),(0.15/100)*AJ84*1000,0)","v":0},{"$f":"IF(AND(isPregnant,P155=0),0.15*AJ84,0)","v":0},{"$f":"IF(AND(isPregnant,Q155=0),10*AJ84,0)","v":0},{"$f":"IF(AND(isPregnant,R155=0),0.5*AJ84,0)","v":0},{"$f":"IF(AND(isPregnant,S155=0),50*AJ84,0)","v":0},{"$f":"IF(AND(isPregnant,T155=0),40*AJ84,0)","v":0},{"$f":"IF(AND(isPregnant,U155=0),0.1*AJ84,0)","v":0},{"$f":"IF(AND(isPregnant,V155=0),30*AJ84,0)","v":0},{"$f":"IF(AND(isPregnant,W155=0),MAX(2800*$AJ$84,60*SBW)/1000,0)","v":0},{"$f":"IF(AND(isPregnant,X155=0),MAX(275*$AJ$84,5.7*SBW)/1000,0)","v":0},{"$f":"IF(AND(isPregnant,Y155=0),MAX(35*$AJ$84,0.73*SBW),0)","v":0},null,null,null,null,null,null,null,11,"","",0,0,0,0,0,0,0,0,0,0,0,0,0,0,0,0,0,0,0,0,0,0,0,0]
[null,"Potassium","K",{"$f":"M157","v":66.134446158033199},"g/d",{"$f":"\"Maximum tolerable is \" & TEXT(M$158,\"0.0\") & \" g/d\"","v":"Maximum tolerable is 220.4 g/d"},null,"Sum",{"$f":"SUM(I153:I156)","v":41.597231852931323},{"$f":"SUM(J153:J156)","v":22.134443510371604},{"$f":"SUM(K153:K156)","v":11.022407693005533},{"$f":"SUM(L153:L156)","v":0},{"$f":"SUM(M153:M156)","v":66.134446158033199},7.7156853851038738,16.5336115395083,1.6533611539508299,110.22407693005533,5.5112038465027666,551.12038465027672,220.44815386011066,1.1022407693005534,330.672230790166,24.249296924612171,3.0311621155765214,385.78426925519364,null,null,null,null,null,null,null,12,"","",0,0,0,0,0,0,0,0,0,0,0,0,0,0,0,0,0,0,0,0,0,0,0,0]
[null,"Sodium","Na",{"$f":"N157","v":7.7156853851038738},"g/d",null,null,"Tolerable",{"$f":"0.02*DMI*1000","v":220.44815386011066},{"$f":"0.007*DMI*1000","v":77.156853851038733},{"$f":"(0.4/100)*DMI*1000","v":44.089630772022133},"––",{"$f":"(2/100)*DMI*1000","v":220.44815386011066},"––",{"$f":"(0.4/100)*DMI*1000","v":44.089630772022133},{"$f":"25*DMI","v":275.56019232513836},{"$f":"40*DMI","v":440.89630772022133},{"$f":"50*DMI","v":551.12038465027672},{"$f":"500*DMI","v":5511.2038465027663},{"$f":"1000*DMI","v":11022.407693005533},{"$f":"5*DMI","v":55.112038465027666},{"$f":"500*DMI","v":5511.2038465027663},"––","––","––",null,null,null,null,null,null,null,13,"","",0,0,0,0,0,0,0,0,0,0,0,0,0,0,0,0,0,0,0,0,0,0,0,0]
[null,"Sulfur","S",{"$f":"O157","v":16.5336115395083},"g/d",{"$f":"\"Maximum tolerable is \" & TEXT(O$158,\"0.0\") & \" g/d\"","v":"Maximum tolerable is 44.1 g/d"},null,"M = maintenance, G = growth or finishing, L = lactation, and P = pregnancy",null,null,null,null,null,null,null,null,null,null,null,null,null,null,null,null,null,null,null,null,null,null,null,null,14,"","",0,0,0,0,0,0,0,0,0,0,0,0,0,0,0,0,0,0,0,0,0,0,0,0]
[null,"Cobalt","Co",{"$f":"P157","v":1.6533611539508299},"mg/d",{"$f":"\"Maximum tolerable is \" & TEXT(P$158,\"0.0\") & \" mg/d\"","v":"Maximum tolerable is 275.6 mg/d"},null,"Vitamin values are the maximum of calculated values based on DMI or SBW daily recommendations",null,null,null,null,null,null,null,null,null,null,null,null,null,null,null,null,null,null,null,null,null,null,null,null,15,"","",0,0,0,0,0,0,0,0,0,0,0,0,0,0,0,0,0,0,0,0,0,0,0,0]
[null,"Copper","Cu",{"$f":"Q157","v":110.22407693005533},"mg/d",{"$f":"\"Maximum tolerable is \" & TEXT(Q$158,\"0.0\") & \" mg/d\"","v":"Maximum tolerable is 440.9 mg/d"},null,"For newly received calves, it is recommended 400 to 500 UI/d of vitamin E",null,null,null,null,null,null,null,null,null,null,null,null,null,null,null,null,null,null,null,null,null,null,null,null,16,"","",0,0,0,0,0,0,0,0,0,0,0,0,0,0,0,0,0,0,0,0,0,0,0,0]
[null,"Iodine","I",{"$f":"R157","v":5.5112038465027666},"mg/d",{"$f":"\"Maximum tolerable is \" & TEXT(R$158,\"0.0\") & \" mg/d\"","v":"Maximum tolerable is 551.1 mg/d"},null,null,null,null,null,null,null,null,null,null,null,null,null,null,null,null,null,null,null,null,null,null,null,null,null,null,17,"","",0,{"$f":"($AM134*1000)*IF($AO23>0,BM23/$AO23,0)","v":0},{"$f":"($AM134*1000)*IF($AO23>0,BN23/$AO23,0)","v":0},{"$f":"($AM134*1000)*IF($AO23>0,BO23/$AO23,0)","v":0},{"$f":"($AM134*1000)*IF($AO23>0,BP23/$AO23,0)","v":0},{"$f":"($AM134*1000)*IF($AO23>0,BQ23/$AO23,0)","v":0},{"$f":"($AM134*1000)*IF($AO23>0,BR23/$AO23,0)","v":0},{"$f":"($AM134*1000)*IF($AO23>0,BS23/$AO23,0)","v":0},{"$f":"($AM134*1000)*IF($AO23>0,BT23/$AO23,0)","v":0},{"$f":"($AM134*1000)*IF($AO23>0,BU23/$AO23,0)","v":0},{"$f":"($AM134*1000)*IF($AO23>0,BV23/$AO23,0)","v":0},{"$f":"($AM134*1000)*IF($AO23>0,BW23/$AO23,0)","v":0},0,0,0,0,0,0,0,0,0,0,0,0]
[null,"Iron","Fe",{"$f":"S157","v":551.12038465027672},"mg/d",{"$f":"\"Maximum tolerable is \" & TEXT(S$158,\"0.0\") & \" mg/d (\"& TEXT(S$158/1000,\"0.00\") & \" g/d)\"","v":"Maximum tolerable is 5511.2 mg/d (5.51 g/d)"},null,null,null,null,null,null,null,null,null,null,null,null,null,null,null,null,null,null,null,null,null,null,null,null,null,null,18,"","",0,0,0,0,0,0,0,0,0,0,0,0,0,0,0,0,0,0,0,0,0,0,0,0]
[null,"Manganese","Mn",{"$f":"T157","v":220.44815386011066},"mg/d",{"$f":"\"Maximum tolerable is \" & TEXT(T$158,\"0.0\") & \" mg/d (\" & TEXT(T$158/1000,\"0.00\") & \" g/d)\"","v":"Maximum tolerable is 11022.4 mg/d (11.02 g/d)"},null,null,null,null,null,null,null,null,null,null,null,null,null,null,null,null,null,null,null,null,null,null,null,null,null,null,19,"","",0,0,0,0,0,0,0,0,0,0,0,0,0,0,0,0,0,0,0,0,0,0,0,0]
[null,"Selenium","Se",{"$f":"U157","v":1.1022407693005534},"mg/d",{"$f":"\"Maximum tolerable is \" & TEXT(U$158,\"0.0\") & \" mg/d\"","v":"Maximum tolerable is 55.1 mg/d"},null,null,null,null,null,null,null,null,null,null,null,null,null,null,null,null,null,null,null,null,null,null,null,null,null,null,20,"","",0,0,0,0,0,0,0,0,0,0,0,0,0,0,0,0,0,0,0,0,0,0,0,0]
[null,"Zinc","Zn",{"$f":"V157","v":330.672230790166},"mg/d",{"$f":"\"Maximum tolerable is \" & TEXT(V$158,\"0.0\") & \" mg/d (\" & TEXT(V$158/1000,\"0.00\") & \" g/d)\"","v":"Maximum tolerable is 5511.2 mg/d (5.51 g/d)"},null,null,null,null,null,null,null,null,null,null,null,null,null,null,null,null,null,null,null,null,null,null,null,null,null,null,21,"","",0,0,0,0,0,0,0,0,0,0,0,0,0,0,0,0,0,0,0,0,0,0,0,0]
[null,"Vitamin A","Vit A",{"$f":"W157","v":24.249296924612171},"1000 UI/d","Vitamin values are the maximum of calculated values",null,null,null,null,null,null,null,null,null,null,null,null,null,null,null,null,null,null,null,null,null,null,null,null,null,null,22,"","",0,0,0,0,0,0,0,0,0,0,0,0,0,0,0,0,0,0,0,0,0,0,0,0]
[null,"Vitamin D","Vit D",{"$f":"X157","v":3.0311621155765214},"1000 UI/d","   based on DMI or SBW daily recommendations. It is",null,null,null,null,null,null,null,null,null,null,null,null,null,null,null,null,null,null,null,null,null,null,null,null,null,null,"Diet (sum or average)",null,null,{"$f":"SUM(AJ146:AJ167)","v":10.090062596389364},{"$f":"SUM(AK146:AK167)","v":4.8649550938945838},8.5898757144153102,14.994331851583052,6.765820557017145,1.8818143880976139,{"$f":"SUM(AP146:AP167)","v":0},12.067132359611719,0,7.0509806767667591,2.7366887417218537,10.73779914723759,25.816521950975229,10.124126255284404,28.853759827560552,41.002711333901836,39.990298708373402,{"$f":"SUM(BA146:BA167)","v":13.161364131869727},{"$f":"SUM(BB146:BB167)","v":0},25.816521950975229,21.868112711414316,29.359966140324772,8.2511628980567888,31.384791391381654]
[null,"Vitamin E","Vit E",{"$f":"Y157","v":385.78426925519364},"UI/d","   suggested 400 to 500 UI Vit E/d for newly arrived calves"]
[]
[null,"Table R8. Dry matter intake and water intake",null,null,null,null,null,"Optimization",null,null,null,null,null,{"$f":"IF(Inputs!AJ5<>\"\",Inputs!AJ5,\"\")","v":"Barley, Silage"},null,null,null,{"$f":"Q171*$K$173","v":0},null,null,null,null,null,null,null,null,null,null,null,null,null,null,"Table S7. Supply of metabolizable amino acids:: Empirical solution",null,null,null,null,null,null,null,null,null,null,null,null,null,null,null,"Bacterial amino acids",null,null,"CW1","NCW1","Mean","Unit"]
[null,"Item","Acronym","Value","Units","Description",null,"Optimizing DMI required?",null,null,false,"DMR",null,{"$f":"IF(Inputs!AJ6<>\"\",Inputs!AJ6,\"\")","v":"Barley Grain, Heavy"},null,null,null,{"$f":"Q172*$K$173","v":0},null,null,null,null,null,null,null,null,null,null,null,null,null,null,"#","ID","Feed","ARG","HIS","ILE","LEU","LYS","MET","CYS","PHE","TYR","THR","TRP","VAL",null,"Arginine",null,null,3.82,6.96,5.0999999999999996,"g/100 g"]
[null,"Are adjustment factors being used?",null,{"$f":"parmDMIadjust","v":true},null,"Except for ADTV that is always applied",null,"Relative DMI",null,null,1,{"$f":"SUM(R171:R192)","v":0},null,{"$f":"IF(Inputs!AJ7<>\"\",Inputs!AJ7,\"\")","v":"Minerals "},null,null,null,0,null,null,null,null,null,null,null,null,null,null,null,null,null,null,null,null,null,"g/d","g/d","g/d","g/d","g/d","g/d","g/d","g/d","g/d","g/d","g/d","g/d",null,"Histidine",null,null,1.74,2.69,2,"g/100 g"]
[null,"Age effect",null,1,"dmnl","Effect of age on intake",null,null,null,null,null,null,null,{"$f":"IF(Inputs!AJ8<>\"\",Inputs!AJ8,\"\")","v":""},null,null,null,0,null,null,null,null,null,null,null,null,null,null,null,null,null,null,1,{"$f":"$AH7","v":301},{"$f":"$AI7","v":"Barley, Silage"},{"$f":"AJ146+AV146","v":4.3706588391361203},1.9067359116783431,5.1751027279439876,7.5736820571026975,6.9372133103510834,2.3682604500371487,{"$f":"AP146+BB146","v":0},4.7516803396350777,3.4601444163630242,5.3123518885827892,1.5341766499919038,5.8994506811878953,null,"Isoleucine",null,null,4,5.88,5.7,"g/100 g"]
[null,"Empty body effect","BFAT",{"$f":"IF(D90<350,1,0.7714+0.00196*D90-0.00000371*D90^2)","v":0.97903911462432491},"dmnl","Effect of body fat on intake",null,"Dry Matter Required (DMR) (Growing/Finishing)",null,null,null,null,null,{"$f":"IF(Inputs!AJ9<>\"\",Inputs!AJ9,\"\")","v":""},null,null,null,0,null,null,null,null,null,null,null,null,null,null,null,null,null,null,2,{"$f":"$AH8","v":402},{"$f":"$AI8","v":"Barley Grain, Heavy"},{"$f":"AJ147+AV147","v":31.535925708228472},13.082345437500646,32.268532814031879,48.42336112838219,39.818905955039462,12.674918069930191,0,33.131973970951869,18.40796829505129,31.098594928508742,9.4536749897867391,36.223139857431349,null,"Leucine",null,null,5.9,7.51,8.1,"g/100 g"]
[null,"Breed type effect","BI",{"$f":"CHOOSE(Inputs!F20,1.04,1,1,1.08)","v":1},"dmnl","Effect of breed type on intake",null,"ME allowable performance",null,null,{"$f":"IF(parmAnClass=1,Reports!D16*IF(parmUnit=1,1,1/2.2046),0)","v":1.5677248362504435},"kg/d",null,{"$f":"IF(Inputs!AJ10<>\"\",Inputs!AJ10,\"\")","v":""},null,null,null,0,null,null,null,null,null,null,null,null,null,null,null,null,null,null,3,800,"Minerals ",{"$f":"AJ148+AV148","v":0},0,0,0,0,0,0,0,0,{"$f":"AS148+BE148","v":0},0,0,null,"Lysine",null,null,5.6,8.1999999999999993,7.9,"g/100 g"]
[null,"Effective temperature","CETI",{"$f":"27.88-(0.456*Inputs!F66)+(0.010754*Inputs!F66^2)-(0.4905*Inputs!F68)+(0.00088*Inputs!F68^2)+(1.1507*Inputs!F64/3.6)-(0.126447*Inputs!F64/3.6^2)+(0.019876*Inputs!F66*Inputs!F68)-(0.046313*Inputs!F66*Inputs!F64/3.6)+(0.4167*8)","v":4.7419894008749655},"oC","Current effective temperature index",null,"MP allowable performance",null,null,{"$f":"IF(parmAnClass=1,Reports!D17*IF(parmUnit=1,1,1/2.2046),0)","v":2.5518841641684014},"kg/d",null,{"$f":"IF(Inputs!AJ11<>\"\",Inputs!AJ11,\"\")","v":""},null,null,null,0,null,null,null,null,null,null,null,null,null,null,null,null,null,null,4,"","",{"$f":"AJ149+AV149","v":0},0,0,0,0,0,0,0,0,0,0,0,null,"Methionine",null,null,2.4,2.68,2.6,"g/100 g"]
[null,"Effect of night cooling","DMINC",{"$f":"(119.62-0.9708*D177)/100","v":1.150164766896306},"dmnl","Effect of night cooling on intake",null,"Least allowable performance",null,null,{"$f":"MIN(K176:K177)","v":1.5677248362504435},"kg/d",null,{"$f":"IF(Inputs!AJ12<>\"\",Inputs!AJ12,\"\")","v":""},null,null,null,0,null,null,null,null,null,null,null,null,null,null,null,null,null,null,5,"","",{"$f":"AJ150+AV150","v":0},0,0,0,0,0,0,0,0,0,0,0,null,"Cysteine",null,null,0,0,0,"g/100 g"]
[null,"Temperature effect","TEMP1",{"$f":"IF(AND(Inputs!F69=2,Inputs!F66<13),1,IF(Inputs!F66>20,IF(Inputs!F70>20,D178,(1-D178)*0.75+D178),IF(Inputs!F66<-20,1.16,(1.0433-(0.0044*Inputs!F66)+(0.0001*Inputs!F66^2)))))","v":1.0483123456790122},"dmnl","Effect of temperature on intake",null,"Desired performance (ADG)",null,null,{"$f":"Inputs!F89","v":0.68039553660527985},"kg/d",null,{"$f":"IF(Inputs!AJ13<>\"\",Inputs!AJ13,\"\")","v":""},null,null,null,0,null,null,null,null,null,null,null,null,null,null,null,null,null,null,6,"","",{"$f":"AJ151+AV151","v":0},0,0,0,0,0,0,0,0,0,0,0,null,"Phenylalanine",null,null,4.2,5.16,5.0999999999999996,"g/100 g"]
[null,"Mud depth effect","MUD1",{"$f":"1-0.01*Inputs!F75","v":1},"dmnl","Effect of mud depth on intake",null,"Difference",null,null,{"$f":"(K178-K179)","v":0.8873292996451636},"kg/d",null,{"$f":"IF(Inputs!AJ14<>\"\",Inputs!AJ14,\"\")","v":""},null,null,null,0,null,null,null,null,null,null,null,null,null,null,null,null,null,null,7,"","",{"$f":"AJ152+AV152","v":0},0,0,0,0,0,0,0,0,0,0,0,null,"Tyrosine",null,null,4.32,4.32,4.32,"g/100 g"]
[null,"Additive effect","ADTVDMI",{"$f":"CHOOSE(Inputs!F56,CHOOSE(Inputs!F55,Inputs!F84,Inputs!F84*Inputs!F83,Inputs!F84),CHOOSE(Inputs!F55,1,1*Inputs!F83,1))","v":0.97},"dmnl","Effect of monensin or anabolic implant on intake",null,"DMI required (DMIR)",null,null,{"$f":"L173","v":0},"kg/d",null,{"$f":"IF(Inputs!AJ15<>\"\",Inputs!AJ15,\"\")","v":""},null,null,null,0,null,null,null,null,null,null,null,null,null,null,null,null,null,null,8,"","",{"$f":"AJ153+AV153","v":0},0,0,0,0,0,0,0,0,0,0,0,null,"Threonine",null,null,3.3,5.59,5.8,"g/100 g"]
[null,"Forage daily allowance","FA",{"$f":"IF(AND(Inputs!F58>0),(Inputs!F59*1000*Inputs!F57)/(SBW*Inputs!F58),0)","v":0},"g/kg SBW/d",null,null,"Intake change",null,null,{"$f":"(K173-1)","v":0},null,null,{"$f":"IF(Inputs!AJ16<>\"\",Inputs!AJ16,\"\")","v":""},null,null,null,0,null,null,null,null,null,null,null,null,null,null,null,null,null,null,9,"","",{"$f":"AJ154+AV154","v":0},0,0,0,0,0,0,0,0,0,0,0,null,"Tryptophan",null,null,1.63,1.63,1.63,"g/100 g"]
[null,"Grazing intake","GI",{"$f":"MAX((D6^0.75)*IF(Inputs!F13=2,(0.2435*K7-0.0466*K7^2-0.0869)/IF(K7<=1,0.95,K7),(0.2435*K7-0.0466*K7^2-0.1128)/IF(K7<=1,0.95,K7)),(SBW*(1.2425+1.9218*K7-0.7259*K7^2)/100))*1000/SBW","v":23.589371000448608},"g/kg SBW","Unadjusted predicted DMI for grazing animals",null,null,null,null,null,null,null,{"$f":"IF(Inputs!AJ17<>\"\",Inputs!AJ17,\"\")","v":""},null,null,null,0,null,null,null,null,null,null,null,null,null,null,null,null,null,null,10,"","",{"$f":"AJ155+AV155","v":0},0,0,0,0,0,0,0,0,0,0,0,null,"Valine",null,null,4.7,6.16,6.2,"g/100 g"]
[null,"Grazing effect","GRAZE",{"$f":"IF(OR(D182>4*D183,Inputs!F59>1150,Inputs!F57<=0,Inputs!F58<=0,Inputs!F59<=0),1,(0.17*Inputs!F59-0.000074*Inputs!F59^ 2+2.4)/100)","v":1},"dmnl","Effect of grazing and forage allowance on intake",null,"Item",null,null,"Before","After",null,{"$f":"IF(Inputs!AJ18<>\"\",Inputs!AJ18,\"\")","v":""},null,null,null,0,null,null,null,null,null,null,null,null,null,null,null,null,null,null,11,"","",{"$f":"AJ156+AV156","v":0},0,0,0,0,0,0,0,0,0,0,0,null,"1 CW = cell wall and NCW = noncell wall"]
[null,"Initial SBW","ISBW",{"$f":"Inputs!F16*0.96","v":379.7151410686746},"kg","Initial shrunk body weight",null,null,null,null,null,null,null,{"$f":"IF(Inputs!AJ19<>\"\",Inputs!AJ19,\"\")","v":""},null,null,null,0,null,null,null,null,null,null,null,null,null,null,null,null,null,null,12,"","",{"$f":"AJ157+AV157","v":0},0,0,0,0,0,0,0,0,0,0,0]
[null,"Beef calf or yearling",null,{"$f":"(D6^0.75)*IF(Inputs!F13=2,(0.2435*K7-0.0466*K7^2-0.0869)/IF(K7<=1,0.95,K7),(0.2435*K7-0.0466*K7^2-0.1128)/IF(K7<=1,0.95,K7))*IF(parmDMIadjust=FALSE,1,D175*D179*D180)*D181*D176*D184","v":11.294993587984438},"kg/d",{"$f":"IF(parmDMIadjust,\"NRC (1996, 2000), with adjustments\",\"NRC (1996, 2000), without adjustments\")","v":"NRC (1996, 2000), with adjustments"},null,null,null,null,null,null,null,{"$f":"IF(Inputs!AJ20<>\"\",Inputs!AJ20,\"\")","v":""},null,null,null,0,null,null,null,null,null,null,null,null,null,null,null,null,null,null,13,"","",{"$f":"AJ158+AV158","v":0},0,0,0,0,0,0,0,0,0,0,0]
[null,"Growing-finishing cattle (NEm)",null,{"$f":"(SBW*(1.2425+1.9218*K7-0.7259*K7^2)/100)*IF(parmDMIadjust=FALSE,1,D175*D179*D180)*D181*D176*D184","v":11.103407958698432},"kg/d",{"$f":"IF(parmDMIadjust,\"Current Beef Committee, with adjustments\",\"Current Beef Committee, without adjustments\")","v":"Current Beef Committee, with adjustments"},null,null,null,null,null,null,null,{"$f":"IF(Inputs!AJ21<>\"\",Inputs!AJ21,\"\")","v":""},null,null,null,0,null,null,null,null,null,null,null,null,null,null,null,null,null,null,14,"","",{"$f":"AJ159+AV159","v":0},0,0,0,0,0,0,0,0,0,0,0]
[null,"Growing-finishing cattle (ISBW)",null,{"$f":"IF(OR(Inputs!F14=1,Inputs!F14=2),3.83+0.0143*D185,3.184+0.01536*D185)*IF(parmDMIadjust=FALSE,1,D175*D179*D180)*D181*D176","v":9.2187071307754085},"kg/d",{"$f":"IF(parmDMIadjust,\"Current Beef Committee, with adjustments\",\"Current Beef Committee, without adjustments\")","v":"Current Beef Committee, with adjustments"},null,null,null,null,null,null,null,{"$f":"IF(Inputs!AJ22<>\"\",Inputs!AJ22,\"\")","v":""},null,null,null,0,null,null,null,null,null,null,null,null,null,null,null,null,null,null,15,"","",{"$f":"AJ160+AV160","v":0},0,0,0,0,0,0,0,0,0,0,0]
[null,"Beef cow",null,{"$f":"(D6^0.75)*IF(D73>93,(0.04631+0.04997*K7^2)/IF(K7<=1,0.95,K7),(0.0384+0.04997*K7^2)/IF(K7<=1,0.95,K7))*IF(parmDMIadjust=FALSE,1,D179*D180)*D184+0.2*D55","v":12.157577594236765},"kg/d","Lactating, pregnant, or non-pregnant beef cows",null,null,null,null,null,null,null,{"$f":"IF(Inputs!AJ23<>\"\",Inputs!AJ23,\"\")","v":""},null,null,null,0,null,null,null,null,null,null,null,null,null,null,null,null,null,null,16,"","",{"$f":"AJ161+AV161","v":0},0,0,0,0,0,0,0,0,0,0,0]
[null,"Beef cow (1.1 % of BW/dietary NDF)",null,{"$f":"IF(BG42<>0,0.011*(SBW-D82)/(BG42/100),0)","v":21.26717495045887},"kg/d","Uses cow SBW minus conceptus weight",null,null,null,null,null,null,null,{"$f":"IF(Inputs!AJ24<>\"\",Inputs!AJ24,\"\")","v":""},null,null,null,0,null,null,null,null,null,null,null,null,null,null,null,null,null,null,17,"","",{"$f":"AJ162+AV162","v":0},0,0,0,0,0,0,0,0,0,0,0]
[null,"Predicted DMI","DMI",{"$f":"IF(OR(parmAnClass=1,parmAnClass=4),D187,D189)","v":11.103407958698432},"kg/d","For growing-finishing, it uses the NEm equation",null,null,null,null,null,null,null,{"$f":"IF(Inputs!AJ25<>\"\",Inputs!AJ25,\"\")","v":""},null,null,null,0,null,null,null,null,null,null,null,null,null,null,null,null,null,null,18,"","",{"$f":"AJ163+AV163","v":0},0,0,0,0,0,0,0,0,0,0,0]
[null,"Predicted WI","WI",{"$f":"IF(Inputs!F13=1,7.3+0.0805*SBW-0.00008*SBW^2-1.225*D177+0.0411*D177^2+0.0023268*SBW*D177,6.336+0.1057*SBW-0.0000963*SBW^2-1.6*D177+0.056*D177^2+0.00226*SBW*D177)","v":33.723522763814671},"L/d","Water intake",null,null,null,null,null,null,null,{"$f":"IF(Inputs!AJ26<>\"\",Inputs!AJ26,\"\")","v":""},null,null,null,0,null,null,null,null,null,null,null,null,null,null,null,null,null,null,19,"","",{"$f":"AJ164+AV164","v":0},0,0,0,0,0,0,0,0,0,0,0]
[null,null,null,null,null,null,null,null,null,null,null,null,null,null,null,null,null,null,null,null,null,null,null,null,null,null,null,null,null,null,null,null,20,"","",{"$f":"AJ165+AV165","v":0},0,0,0,0,0,0,0,0,0,0,0]
[null,"Table R9. Amino acids",null,null,null,null,null,null,null,"ARG","HIS","ILE","LEU","LYS","MET","CYS","PHE","TYR","THR","TRP","VAL",null,null,null,null,null,null,null,null,null,null,null,21,"","",{"$f":"AJ166+AV166","v":0},0,0,0,0,0,0,0,0,0,0,0]
[null,"Item","Acronym","Value","Units","Description",null,"Composition, g of AA/100 g of protein",null,null,null,null,null,null,null,null,null,null,null,null,null,null,null,null,null,null,null,null,null,null,null,null,22,"","",{"$f":"AJ167+AV167","v":0},0,0,0,0,0,0,0,0,0,0,0]
[null,"Arginine","Arg",{"$f":"J211","v":25.53006707568202},"g/d",null,null,"   Tissue",null,3.3,2.5,2.8,6.7,6.4,2,"––",3.5,"––",3.9,0.6,4,null,null,null,null,null,null,null,null,null,null,null,"Diet (sum or average)",null,null,{"$f":"SUM(AJ174:AJ195)","v":35.906584547364595},{"$f":"SUM(AK174:AK195)","v":14.989081349178988},37.443635541975866,55.997043185484884,46.756119265390545,15.04317851996734,0,37.883654310586948,21.868112711414316,36.410946817091528,10.987851639778643,42.122590538619242]
[null,"Histidine","His",{"$f":"K211","v":19.340959905819712},"g/d",null,null,"   Milk",null,3.4,2.74,5.79,9.18,7.62,2.71,"––",4.75,"––",3.72,1.51,5.89]
[null,"Isoleucine","Ile",{"$f":"L211","v":21.661875094518077},"g/d",null,null,"Partial MP efficiency of use, %"]
[null,"Leucine","Leu",{"$f":"M211","v":51.833772547596837},"g/d",null,null,"   Growth",null,{"$f":"Inputs!$F$90/100","v":0.49200000000000005},{"$f":"Inputs!$F$90/100","v":0.49200000000000005},{"$f":"Inputs!$F$90/100","v":0.49200000000000005},{"$f":"Inputs!$F$90/100","v":0.49200000000000005},{"$f":"Inputs!$F$90/100","v":0.49200000000000005},{"$f":"Inputs!$F$90/100","v":0.49200000000000005},"––",{"$f":"Inputs!$F$90/100","v":0.49200000000000005},"––",{"$f":"Inputs!$F$90/100","v":0.49200000000000005},{"$f":"Inputs!$F$90/100","v":0.49200000000000005},{"$f":"Inputs!$F$90/100","v":0.49200000000000005},null,null,null,null,null,null,null,null,null,null,null,"Table S8. Fractional passage rate, ruminally degraded carbohydrate and protein, and ruminally escaped carbohdyrate and protein:: Mechanistic solution"]
[null,"Lysine","Lys",{"$f":"N211","v":49.512857358898465},"g/d",null,null,"   Lactation",null,0.85,0.9,0.62,0.72,0.88,0.98,"––",1,"––",0.83,0.85,0.72,null,null,null,null,null,null,null,null,null,null,null,"#","ID","Feed","kp (Seo et al. 2006), %/h",null,null,null,null,null,null,null,"Ruminally degraded (RD), kg/d",null,null,null,null,null,"Ruminally escaped (RE), kg/d"]
[null,"Methionine","Met",{"$f":"O211","v":15.47276792465577},"g/d",null,null,"   Pregnancy",null,0.66,0.85,0.66,0.66,0.85,0.85,"––",0.85,"––",0.85,0.85,0.66,null,null,null,null,null,null,null,null,null,null,null,null,null,null,"FDMI","FpBW","CDMI","CpBW","kp_F","kp_C","kp_L","kp","RDCA","RDCB1","RDCB2","RDCB3","RDPA","RDPB","RECB1","RECB2","RECB3","RECC","REPB","REPC","REFAT","REASH"]
[null,"Cysteine","Cys","––","g/d",null,null,"Net AA requirement, g/d",null,null,null,null,null,null,null,null,null,null,null,null,null,null,null,null,null,null,null,null,null,null,null,null,1,{"$f":"$AH7","v":301},{"$f":"$AI7","v":"Barley, Silage"},{"$f":"AJ62*AM7/100","v":2.2679851220175995},{"$f":"AJ202*1000/SBW","v":4.7155575675267851},{"$f":"AJ62*(100-AM7)/100","v":0},{"$f":"AL202*1000/SBW","v":0},{"$f":"2.365+0.0214*AK202+0.0734*AM202+0.069*AJ202","v":2.6224039053642878},{"$f":"1.169+0.1375*AK202+0.1721*AM202","v":1.817389165534933},{"$f":"4.524+0.0223*AK202+0.2046*AM202+0.344*AJ202","v":5.4093438157299012},{"$f":"IF(AM7>0,AN202,AO202)","v":2.6224039053642878},{"$f":"AZ62","v":0},{"$f":"IF(BE7+$AQ202>0,BA62*(BE7/(BE7+$AQ202)),0)","v":0.30298759130155228},{"$f":"IF(BF7+$AQ202>0,BB62*(BF7/(BF7+$AQ202)),0)","v":0.34134590655878982},{"$f":"IF(AP230+$AQ202>0,BC62*(AP230/(AP230+$AQ202)),0)","v":0.56554386664051748},{"$f":"BE62","v":0.16510931688288122},{"$f":"IF(BD7+$AQ202>0,BF62*(BD7/(BD7+$AQ202)),0)","v":4.2800930805130526E-2},{"$f":"IF(BE7+$AQ202>0,BA62*($AQ202/(BE7+$AQ202)),0)","v":1.589111685412219E-2},{"$f":"IF(BF7+$AQ202>0,BB62*($AQ202/(BF7+$AQ202)),0)","v":1.7902936768797676E-2},{"$f":"IF(AP230+$AQ202>0,BC62*($AQ202/(AP230+$AQ202)),0)","v":0.3707711111332283},{"$f":"BD62","v":0.16819377664882515},{"$f":"IF(BD7+$AQ202>0,BF62*($AQ202/(BD7+$AQ202)),0)","v":1.3572107387738929E-2},{"$f":"BG62","v":1.4388097614079651E-2},{"$f":"AQ62","v":6.8039553660527996E-2},{"$f":"AR62","v":0.18143880976140797}]
[null,"Phenylalanine","Phe",{"$f":"Q211","v":27.077343868147601},"g/d",null,null,"   Growth",null,{"$f":"(J196/100)*$D$97","v":6.2243869231111182},{"$f":"(K196/100)*$D$97","v":4.7154446387205438},5.2812979953670087,12.637391631771058,12.071538275124592,3.7723557109764352,"––",{"$f":"(Q196/100)*$D$97","v":6.6016224942087618},"––",{"$f":"(S196/100)*$D$97","v":7.3560936364040481},{"$f":"(T196/100)*$D$97","v":1.1317067132929306},{"$f":"(U196/100)*$D$97","v":7.5447114219528704},null,null,null,null,null,null,null,null,null,null,null,2,{"$f":"$AH8","v":402},{"$f":"$AI8","v":"Barley Grain, Heavy"},{"$f":"AJ63*AM8/100","v":0},0,{"$f":"AJ63*(100-AM8)/100","v":8.6183434636668785},{"$f":"AL203*1000/SBW","v":17.919118756601783},{"$f":"2.365+0.0214*AK203+0.0734*AM203+0.069*AJ203","v":3.6802633167345711},{"$f":"1.169+0.1375*AK203+0.1721*AM203","v":4.2528803380111668},{"$f":"4.524+0.0223*AK203+0.2046*AM203+0.344*AJ203","v":8.1902516976007256},{"$f":"IF(AM8>0,AN203,AO203)","v":4.2528803380111668},{"$f":"AZ63","v":0},4.3546022656716303,0.3932653458857554,{"$f":"IF(AP231+$AQ203>0,BC63*(AP231/(AP231+$AQ203)),0)","v":0.65879348604285815},{"$f":"BE63","v":0.19046539054703801},{"$f":"IF(BD8+$AQ203>0,BF63*(BD8/(BD8+$AQ203)),0)","v":0.62025759259548652},0.6173200785177918,5.575034857128966E-2,{"$f":"IF(AP231+$AQ203>0,BC63*($AQ203/(AP231+$AQ203)),0)","v":0.58362690767935921},{"$f":"BD63","v":0.39506486437448968},{"$f":"IF(BD8+$AQ203>0,BF63*($AQ203/(BD8+$AQ203)),0)","v":0.25364243462033509},{"$f":"BG63","v":5.6019232513834713E-2},0.18098521273700446,0.25855030391000633]
[null,"Tyrosine","Tyr","––","g/d",null,null,"   Lactation",null,{"$f":"(J197/100)*($D$59*1000)","v":0},0,0,0,0,0,"––",{"$f":"(Q197/100)*($D$59*1000)","v":0},"––",{"$f":"(S197/100)*($D$59*1000)","v":0},{"$f":"(T197/100)*($D$59*1000)","v":0},{"$f":"(U197/100)*($D$59*1000)","v":0},null,null,null,null,null,null,null,null,null,null,null,3,800,"Minerals ",0,0,0.13607910732105596,0.28293345405160708,2.3857673155273882,1.2176928474422817,4.5818881846989585,1.2176928474422817,0,0,0,0,0,0,0,0,0,0,0,0,0,0.13607910732105596]
[null,"Threonine","Thr",{"$f":"S211","v":30.171897453078749},"g/d",null,null,"   Pregnancy",null,{"$f":"(J196/100)*$D$79","v":0},0,0,0,0,0,"––",{"$f":"(Q196/100)*$D$79","v":0},"––",{"$f":"(S196/100)*$D$79","v":0},{"$f":"(T196/100)*$D$79","v":0},{"$f":"(U196/100)*$D$79","v":0},null,null,null,null,null,null,null,null,null,null,null,4,"","",0,0,0,0,2.3650000000000002,1.169,4.524,1.169,0,0,0,0,0,0,0,0,0,0,0,0,0,0]
[null,"Tryptophan","Trp",{"$f":"T211","v":4.6418303773967313},"g/d",null,null,"Metabolizable AA requirement, g/d",null,null,null,null,null,null,null,null,null,null,null,null,null,null,null,null,null,null,null,null,null,null,null,null,5,"","",0,0,0,0,2.3650000000000002,1.169,4.524,1.169,0,0,0,0,0,0,0,0,0,0,0,0,0,0]
[null,"Valine","Val",{"$f":"U211","v":30.94553584931154},"g/d",null,null,"   Maintenance",null,{"$f":"(J196/100)*$D$41","v":12.878874142529343},9.7567228352495032,10.927529575479442,26.148017198468668,24.977210458238726,7.8053782681996022,"––",{"$f":"(Q196/100)*$D$41","v":13.659411969349303},"––",{"$f":"(S196/100)*$D$41","v":15.220487622989223},{"$f":"(T196/100)*$D$41","v":2.3416134804598805},{"$f":"(U196/100)*$D$41","v":15.610756536399204},null,null,null,null,null,null,null,null,null,null,null,6,"","",0,0,0,0,2.3650000000000002,1.169,4.524,1.169,0,0,0,0,0,0,0,0,0,0,0,0,0,0]
[null,null,null,null,null,null,null,"   Growth",null,{"$f":"IF(J199>0,J203/J199,0)","v":12.651192933152679},9.5842370705702091,10.734345519038635,25.685755349128165,24.535646900659739,7.6673896564561685,"––",{"$f":"IF(Q199>0,Q203/Q199,0)","v":13.417931898798296},"––",{"$f":"IF(S199>0,S203/S199,0)","v":14.951409830089528},2.3002168969368504,15.334779312912337,null,null,null,null,null,null,null,null,null,null,null,7,"","",0,0,0,0,2.3650000000000002,1.169,4.524,1.169,0,0,0,0,0,0,0,0,0,0,0,0,0,0]
[null,null,null,null,null,null,null,"   Lactation",null,{"$f":"IF(J200>0,J204/J200,0)","v":0},{"$f":"IF(K200>0,K204/K200,0)","v":0},0,0,{"$f":"IF(N200>0,N204/N200,0)","v":0},{"$f":"IF(O200>0,O204/O200,0)","v":0},"––",{"$f":"IF(Q200>0,Q204/Q200,0)","v":0},"––",0,0,0,null,null,null,null,null,null,null,null,null,null,null,8,"","",0,0,0,0,2.3650000000000002,1.169,4.524,1.169,0,0,0,0,0,0,0,0,0,0,0,0,0,0]
[null,null,null,null,null,null,null,"   Pregnancy",null,0,0,0,0,{"$f":"IF(N201>0,N205/N201,0)","v":0},{"$f":"IF(O201>0,O205/O201,0)","v":0},"––",{"$f":"IF(Q201>0,Q205/Q201,0)","v":0},"––",0,0,0,null,null,null,null,null,null,null,null,null,null,null,9,"","",0,0,0,0,2.3650000000000002,1.169,4.524,1.169,0,0,0,0,0,0,0,0,0,0,0,0,0,0]
[null,null,null,null,null,null,null,"Total, g/d",null,{"$f":"SUM(J207:J210)","v":25.53006707568202},19.340959905819712,21.661875094518077,51.833772547596837,49.512857358898465,15.47276792465577,"––",{"$f":"SUM(Q207:Q210)","v":27.077343868147601},"––",{"$f":"SUM(S207:S210)","v":30.171897453078749},{"$f":"SUM(T207:T210)","v":4.6418303773967313},{"$f":"SUM(U207:U210)","v":30.94553584931154},null,null,null,null,null,null,null,null,null,null,null,10,"","",0,0,0,0,2.3650000000000002,1.169,4.524,1.169,0,0,0,0,0,0,0,0,0,0,{"$f":"IF(BD16+$AQ211>0,BF71*($AQ211/(BD16+$AQ211)),0)","v":0},0,0,0]
[null,null,null,null,null,null,null,"Gross MP efficiency of use, %",null,null,null,null,null,null,null,null,null,null,null,null,null,null,null,null,null,null,null,null,null,null,null,null,11,"","",0,0,0,0,2.3650000000000002,1.169,4.524,1.169,0,0,0,0,0,0,0,0,0,0,0,0,0,0]
[null,null,null,null,null,null,null,"   Growth",null,{"$f":"IF(J$211>0,J203/J$211,0)","v":0.24380613277119004},{"$f":"IF(K$211>0,K203/K$211,0)","v":0.24380613277119004},0.24380613277119001,0.24380613277119001,0.24380613277119001,0.24380613277119004,"––",{"$f":"IF(Q$211>0,Q203/Q$211,0)","v":0.24380613277119001},"––",0.24380613277119004,{"$f":"IF(T$211>0,T203/T$211,0)","v":0.24380613277119004},0.24380613277119004,null,null,null,null,null,null,null,null,null,null,null,12,"","",0,0,0,0,2.3650000000000002,1.169,4.524,1.169,0,0,0,0,0,0,0,0,0,0,0,0,0,0]
[null,null,null,null,null,null,null,"   Lactation",null,{"$f":"IF(J$211>0,J204/J$211,0)","v":0},0,0,0,0,0,"––",{"$f":"IF(Q$211>0,Q204/Q$211,0)","v":0},"––",0,{"$f":"IF(T$211>0,T204/T$211,0)","v":0},0,null,null,null,null,null,null,null,null,null,null,null,13,"","",0,0,0,0,2.3650000000000002,1.169,4.524,1.169,0,0,0,0,0,0,0,0,0,0,0,0,0,0]
[null,null,null,null,null,null,null,"   Pregnancy",null,{"$f":"IF(J$211>0,J205/J$211,0)","v":0},{"$f":"IF(K$211>0,K205/K$211,0)","v":0},0,0,0,0,"––",{"$f":"IF(Q$211>0,Q205/Q$211,0)","v":0},"––",0,{"$f":"IF(T$211>0,T205/T$211,0)","v":0},0,null,null,null,null,null,null,null,null,null,null,null,14,"","",0,0,0,0,2.3650000000000002,1.169,4.524,1.169,0,0,0,0,0,0,0,0,0,0,0,0,0,0]
[null,null,null,null,null,null,null,null,null,null,null,null,null,null,null,null,null,null,null,null,null,null,null,null,null,null,null,null,null,null,null,null,15,"","",0,0,0,0,2.3650000000000002,1.169,4.524,1.169,0,0,0,0,0,0,0,0,0,0,0,0,0,0]
[null,null,null,null,null,null,null,null,null,null,null,null,null,null,null,null,null,null,null,null,null,null,null,null,null,null,null,null,null,null,null,null,16,"","",0,0,0,0,2.3650000000000002,1.169,4.524,1.169,0,0,0,0,0,0,0,0,0,0,0,0,0,0]
[null,null,null,null,null,null,null,null,null,null,null,null,null,null,null,null,null,null,null,null,null,null,null,null,null,null,null,null,null,null,null,null,17,"","",0,0,0,0,2.3650000000000002,1.169,4.524,1.169,0,0,0,0,0,0,0,0,0,0,0,0,0,0]
[null,null,null,null,null,null,null,null,null,null,null,null,null,null,null,null,null,null,null,null,null,null,null,null,null,null,null,null,null,null,null,null,18,"","",0,0,0,0,2.3650000000000002,1.169,4.524,1.169,0,0,0,0,0,0,0,0,0,0,0,0,0,0]
[null,null,null,null,null,null,null,null,null,null,null,null,null,null,null,null,null,null,null,null,null,null,null,null,null,null,null,null,null,null,null,null,19,"","",0,0,0,0,2.3650000000000002,1.169,4.524,1.169,0,0,0,0,0,0,0,0,0,0,0,0,0,0]
[null,null,null,null,null,null,null,null,null,null,null,null,null,null,null,null,null,null,null,null,null,null,null,null,null,null,null,null,null,null,null,null,20,"","",0,0,0,0,2.3650000000000002,1.169,4.524,1.169,0,0,0,0,0,0,0,0,0,0,0,0,0,0]
[null,null,null,null,null,null,null,null,null,null,null,null,null,null,null,null,null,null,null,null,null,null,null,null,null,null,null,null,null,null,null,null,21,"","",0,0,0,0,2.3650000000000002,1.169,4.524,1.169,0,0,0,0,0,0,0,0,0,0,0,0,0,0]
[null,null,null,null,null,null,null,null,null,null,null,null,null,null,null,null,null,null,null,null,null,null,null,null,null,null,null,null,null,null,null,null,22,"","",0,0,0,0,2.3650000000000002,1.169,4.524,1.169,0,0,0,0,0,0,0,0,0,0,0,0,0,0]
[null,null,null,null,null,null,null,null,null,null,null,null,null,null,null,null,null,null,null,null,null,null,null,null,null,null,null,null,null,null,null,null,"Diet (sum or average)",null,null,{"$f":"SUM(AJ202:AJ223)","v":2.2679851220175995},{"$f":"SUM(AK202:AK223)","v":4.7155575675267851},{"$f":"SUM(AL202:AL223)","v":8.7544225709879342},null,null,null,null,{"$f":"SUMPRODUCT(AQ202:AQ223,AK7:AK28)","v":3.8799199095994363},{"$f":"SUM(AR202:AR223)","v":0},{"$f":"SUM(AS202:AS223)","v":4.6575898569731828},0.73461125244454517,1.2243373526833756,{"$f":"SUM(AV202:AV223)","v":0.35557470742991926},0.66305852340061699,0.63321119537191395,7.3653285340087332E-2,0.95439801881258757,0.5632586410233148,{"$f":"SUM(BB202:BB223)","v":0.26721454200807404},7.0407330127914364E-2,0.24902476639753246,0.57606822099247024]
[]
[]
[null,null,null,null,null,null,null,null,null,null,null,null,null,null,null,null,null,null,null,null,null,null,null,null,null,null,null,null,null,null,null,null,"Table S9. Bacterial yield:: Mechanistic solution",null,null,null,"Bacterial Yield",null,null,null,null,null,null,"Bacterial Protein Fractions",null,null,null,null,null,null,null,"Coefficients",null,null,"Value","Unit"]
[null,null,null,null,null,null,null,null,null,null,null,null,null,null,null,null,null,null,null,null,null,null,null,null,null,null,null,null,null,null,null,null,"#","ID","Feed","peNDF","CA","CB1","CB2","CB3","CB3*","kd* CB3","BACT","BCP","BTP","BCWP","BNA","BCHO","BFAT","BASH",null,"RDP",null,null,{"$f":"AV224+AW224","v":1.0186332308305364},"kg/d"]
[null,null,null,null,null,null,null,null,null,null,null,null,null,null,null,null,null,null,null,null,null,null,null,null,null,null,null,null,null,null,null,null,null,null,null,"kg/d","g/g CA","g/g CB1","g/g CB2","g/g CB3","g/g CB3","%/h","kg/d","kg/d","kg/d","kg/d","kg/d","kg/d","kg/d","kg/d",null,"RDP",null,null,{"$f":"IF(AO84>0,BC228*100/AO84,0)","v":75.106315073210737},"%CP"]
[null,null,null,null,null,null,null,null,null,null,null,null,null,null,null,null,null,null,null,null,null,null,null,null,null,null,null,null,null,null,null,null,1,{"$f":"$AH7","v":301},{"$f":"$AI7","v":"Barley, Silage"},{"$f":"(AW7/100)*(BK7/100)*AJ62","v":0.71793069037467128},{"$f":"$BC$241","v":0.4},{"$f":"IF(BE7>0,1/($BC$243/(BE7/100)+1/$BC$241),0)","v":0.35714285714285715},{"$f":"IF(BF7>0,1/($BC$243/(BF7/100)+1/$BC$241),0)","v":0.35714285714285715},{"$f":"IF(BG7>0,1/($BC$244/(AP230/100)+1/$BC$242),0)","v":0.26666666666666666},{"$f":"IF(BG7>0,$BC$250*(1/($BC$251/(BG7/100)+1/$BC$242)),0)","v":0.18095625855847419},{"$f":"MIN(BG7,(($BC$251*AO230*$BC$242/($BC$242-AO230))+$BC$251*$BC$242)*100)","v":4},{"$f":"AK230*AR202+AL230*AS202+AM230*AT202+AN230*AU202","v":0.38093080414949831},{"$f":"AQ230*$BH$93/100","v":0.23808175259343645},{"$f":"($BC$245/100)*AR230","v":0.14284905155606187},{"$f":"($BC$246/100)*AR230","v":5.9520438148359112E-2},{"$f":"($BC$247/100)*AR230","v":3.5712262889015467E-2},{"$f":"($BH$94/100)*AQ230","v":8.037639967554415E-2},{"$f":"($BH$96/100)*AQ230","v":4.5711696497939797E-2},{"$f":"($BH$95/100)*AQ230","v":1.6760955382577929E-2},null,"RDP",null,null,{"$f":"IF(AJ84>0,BC228*100/AJ84,0)","v":9.2414766283497976},"%DM"]
[null,null,null,null,null,null,null,null,null,null,null,null,null,null,null,null,null,null,null,null,null,null,null,null,null,null,null,null,null,null,null,null,2,{"$f":"$AH8","v":402},{"$f":"$AI8","v":"Barley Grain, Heavy"},0.55674498775288039,0.4,{"$f":"IF(BE8>0,1/($BC$243/(BE8/100)+1/$BC$241),0)","v":0.33333333333333331},0.33333333333333331,{"$f":"IF(BG8>0,1/($BC$244/(AP231/100)+1/$BC$242),0)","v":0.28236363299656531},{"$f":"IF(BG8>0,$BC$250*(1/($BC$251/(BG8/100)+1/$BC$242)),0)","v":0.19583475108345985},4.800618043369548,{"$f":"AK231*AR203+AL231*AS203+AM231*AT203+AN231*AU203","v":1.7686418592993287},{"$f":"AQ231*$BH$93/100","v":1.1054011620620805},{"$f":"($BC$245/100)*AR231","v":0.66324069723724832},{"$f":"($BC$246/100)*AR231","v":0.27635029051552013},{"$f":"($BC$247/100)*AR231","v":0.16581017430931208},0.37318343231215839,0.21223702311591944,7.7820241809170465E-2,null,"RUP",null,null,{"$f":"BB224+BC224","v":0.33762187213598838},"kg/d"]
[null,null,null,null,null,null,null,null,null,null,null,null,null,null,null,null,null,null,null,null,null,null,null,null,null,null,null,null,null,null,null,null,3,800,"Minerals ",0,0.4,0,0,0,0,0,0,0,0,0,0,0,0,0,null,"RUP",null,null,{"$f":"IF(AO84>0,BC231*100/AO84,0)","v":24.893684926789298},"%CP"]
[null,null,null,null,null,null,null,null,null,null,null,null,null,null,null,null,null,null,null,null,null,null,null,null,null,null,null,null,null,null,null,null,4,"","",0,0.4,0,0,0,0,0,0,0,0,0,0,0,0,0,null,"RUP",null,null,{"$f":"IF(AJ84>0,BC231*100/AJ84,0)","v":3.0630501206213991},"%DM"]
[null,null,null,null,null,null,null,null,null,null,null,null,null,null,null,null,null,null,null,null,null,null,null,null,null,null,null,null,null,null,null,null,5,"","",0,0.4,0,0,0,0,0,0,0,0,0,0,0,0,0,null,"RDP:RUP",null,null,{"$f":"IF(BC231>0,BC228/BC231,0)","v":3.0170830591812137}]
[null,null,null,null,null,null,null,null,null,null,null,null,null,null,null,null,null,null,null,null,null,null,null,null,null,null,null,null,null,null,null,null,6,"","",0,0.4,0,0,0,0,0,0,0,0,0,0,0,0,0,null,"Total Fermented OM",null,null,{"$f":"SUM(AR224:AW224)","v":7.6351716929316407},"kg/d"]
[null,null,null,null,null,null,null,null,null,null,null,null,null,null,null,null,null,null,null,null,null,null,null,null,null,null,null,null,null,null,null,null,7,"","",0,0.4,0,0,0,0,0,0,0,0,0,0,0,0,0,null,"TDN allowable MCP",null,null,{"$f":"AR252","v":1.3434829146555169},"kg/d"]
[null,null,null,null,null,null,null,null,null,null,null,null,null,null,null,null,null,null,null,null,null,null,null,null,null,null,null,null,null,null,null,null,8,"","",0,0.4,0,0,0,0,0,0,0,0,0,0,0,0,0,null,"RDP required",null,null,{"$f":"BC236/($BH$97/100)","v":1.3434829146555169},"kg/d"]
[null,null,null,null,null,null,null,null,null,null,null,null,null,null,null,null,null,null,null,null,null,null,null,null,null,null,null,null,null,null,null,null,9,"","",0,0.4,0,0,0,0,0,0,0,0,0,0,0,0,0,null,"RDP + Recycled N available",null,null,{"$f":"AV224+AW224+6.25*BI263/1000","v":1.0186332308305364},"kg/d"]
[null,null,null,null,null,null,null,null,null,null,null,null,null,null,null,null,null,null,null,null,null,null,null,null,null,null,null,null,null,null,null,null,10,"","",0,0.4,0,0,0,0,0,0,{"$f":"AQ239*$BH$93/100","v":0},0,0,0,0,0,0,null,"RDP balance",null,null,{"$f":"BC238-BC237","v":-0.32484968382498058},"kg/d"]
[null,null,null,null,null,null,null,null,null,null,null,null,null,null,null,null,null,null,null,null,null,null,null,null,null,null,null,null,null,null,null,null,11,"","",0,0.4,0,0,0,0,0,0,0,0,0,0,0,0,0,null,"RDP allowable MCP",null,null,{"$f":"IF(BC239<0,BC238*($BH$97/100),BC236)","v":1.0186332308305364},"kg/d"]
[null,null,null,null,null,null,null,null,null,null,null,null,null,null,null,null,null,null,null,null,null,null,null,null,null,null,null,null,null,null,null,null,12,"","",0,0.4,0,0,0,0,0,0,0,0,0,0,0,0,0,null,"Max NFC bacteria yield (YG1)",null,null,0.4,"g/g/h"]
[null,null,null,null,null,null,null,null,null,null,null,null,null,null,null,null,null,null,null,null,null,null,null,null,null,null,null,null,null,null,null,null,13,"","",0,0.4,0,0,0,0,0,0,0,0,0,0,0,0,0,null,"Max FC bacteria yield (YG2)",null,null,0.4,"g/g/h"]
[null,null,null,null,null,null,null,null,null,null,null,null,null,null,null,null,null,null,null,null,null,null,null,null,null,null,null,null,null,null,null,null,14,"","",0,0.4,0,0,0,0,0,0,0,0,0,0,0,0,0,null,"Maintenance NFC bact. (KM1)",null,null,0.15,"g/g/h"]
[null,null,null,null,null,null,null,null,null,null,null,null,null,null,null,null,null,null,null,null,null,null,null,null,null,null,null,null,null,null,null,null,15,"","",0,0.4,0,0,0,0,0,0,0,0,0,0,0,0,0,null,"Maintenance FC bact. (KM2)",null,null,0.05,"g/g/h"]
[null,null,null,null,null,null,null,null,null,null,null,null,null,null,null,null,null,null,null,null,null,null,null,null,null,null,null,null,null,null,null,null,16,"","",{"$f":"(AW22/100)*(BK22/100)*AJ77","v":0},0.4,0,0,0,0,0,0,0,0,0,0,0,0,0,null,"Bacterial True Protein (BTP)",null,null,60,"% MCP"]
[null,null,null,null,null,null,null,null,null,null,null,null,null,null,null,null,null,null,null,null,null,null,null,null,null,null,null,null,null,null,null,null,17,"","",0,0.4,0,0,0,0,0,0,0,0,0,0,0,0,0,null,"Bact. Cell Wall Protein (BCWP)",null,null,25,"% MCP"]
[null,null,null,null,null,null,null,null,null,null,null,null,null,null,null,null,null,null,null,null,null,null,null,null,null,null,null,null,null,null,null,null,18,"","",0,0.4,0,0,0,0,0,0,0,0,0,0,0,0,0,null,"Bacterial Nucleic Acids (BNA)",null,null,15,"% MCP"]
[null,null,null,null,null,null,null,null,null,null,null,null,null,null,null,null,null,null,null,null,null,null,null,null,null,null,null,null,null,null,null,null,19,"","",0,0.4,0,0,0,0,0,0,0,0,0,0,0,0,0,null,"peNDF",null,null,{"$f":"IF(DMI>0,AJ252*100/DMI,0)","v":11.564403292181073},"% DM"]
[null,null,null,null,null,null,null,null,null,null,null,null,null,null,null,null,null,null,null,null,null,null,null,null,null,null,null,null,null,null,null,null,20,"","",0,0.4,0,0,0,0,0,0,0,0,0,0,0,0,0,null,"Ruminal pH",null,null,{"$f":"IF(Inputs!F85>0,Inputs!F85,IF(peNDF>0,AY284,AY289))","v":5.8994473251028809}]
[null,null,null,null,null,null,null,null,null,null,null,null,null,null,null,null,null,null,null,null,null,null,null,null,null,null,null,null,null,null,null,null,21,"","",0,0.4,0,0,0,0,0,0,0,0,0,0,0,0,0,null,"Relative Y of FC bacteria",null,null,{"$f":"IF(BC249>=5.7,(1-EXP(-5.624*(BC249-5.7)^0.909))/0.9968,0)","v":0.72951367068263295},"g/g"]
[null,null,null,null,null,null,null,null,null,null,null,null,null,null,null,null,null,null,null,null,null,null,null,null,null,null,null,null,null,null,null,null,22,"","",0,0.4,0,0,0,0,0,0,0,0,0,0,0,0,0,null,"KM2*",null,null,{"$f":"0.1409-0.0135*BC249","v":6.1257461111111106E-2},"g/g/h"]
[null,null,null,null,null,null,null,null,null,null,null,null,null,null,null,null,null,null,null,null,null,null,null,null,null,null,null,null,null,null,null,null,"Diet (sum or average)",null,null,{"$f":"SUM(AJ230:AJ251)","v":1.2746756781275517},null,null,null,null,null,null,{"$f":"SUM(AQ230:AQ251)","v":2.149572663448827},{"$f":"SUM(AR230:AR251)","v":1.3434829146555169},0.80608974879331019,0.33587072866387924,0.20152243719832755,0.45355983198770256,0.25794871961385923,9.4581197191748401E-2]
[null,null,null,null,null,null,null,null,null,null,null,null,null,null,null,null,null,null,null,null,null,null,null,null,null,null,null,null,null,null,null,null,null,null,null,null,null,null,null,null,null,null,null,null,null,null,null,null,null,null,null,null,null,null,null,null,null,null,null,null,null,null,null,null,null,null,null,null,null,null,null,null,null,null,null,null,null,null,null,null,null,null,null,null,null,null,null,null,null,null,null,null,null,null,null,null,null,null,null,null,null,null,null,null,null,null,null,null,null,null,null,null,null,null,null,null,null,null,null,null,null,null,null,null,null,null,null,null,null,null,null,null,null,null,null,null,null,null,null,null,null,null,null,null,null,null,null,null,null,null,null,null,null,null,null,null,null,null,null,null,null,null,null,null," "]
[]
[null,null,null,null,null,null,null,null,null,null,null,null,null,null,null,null,null,null,null,null,null,null,null,null,null,null,null,null,null,null,null,null,"Table S10. Intestinal digestibility, fecal output, and endogenous matter:: Mechanistic solution",null,null,null,null,null,null,"Feedstuff + Bacterial Matter",null,null,null,"Endogenous + Bacterial Matter",null,null,"Fecal Matter",null,null,null,null,"Coefficients",null,null,"Value","Unit",null,"Recycled N (UUA)",null,null,"Value","Unit",null,"Use NRC (1996, 2000) ionophore & fecal?",null,null,null,false]
[null,null,null,null,null,null,null,null,null,null,null,null,null,null,null,null,null,null,null,null,null,null,null,null,null,null,null,null,null,null,null,null,"#","ID","Feed","DIGP","DIGC","DIGF","DIGA","FEP","FEC","FEF","FEA","FEENGP","FEENGF","FEENGA","FEPROT","FECHO","FEFAT","FEASH",null,"CB3 intestinal digestibility",null,null,20,"%",null,"NRC (1985)",null,null,{"$f":"((121.7-12.01*AV56+0.3235*AV56^2)/100)*(AO84*1000)/6.25","v":49.695312918472922},"g/d",null,"Use RDP/MCP efficiency = 100% for RNB?",null,null,null,false]
[null,null,null,null,null,null,null,null,null,null,null,null,null,null,null,null,null,null,null,null,null,null,null,null,null,null,null,null,null,null,null,null,null,null,null,"kg/d","kg/d","kg/d","kg/d","kg/d","kg/d","kg/d","kg/d","kg/d","kg/d","kg/d","kg/d","kg/d","kg/d","kg/d",null,"Fat intestinal digestibility",null,null,95,"%",null,"Reynolds and Kristensen (2008)",null,null,{"$f":"IF(AV56>0,(1.161-0.329*LN(AV56))*(0.7*AO84*1000/6.25-13.74),0)","v":46.314295054215883},"g/d"]
[null,null,null,null,null,null,null,null,null,null,null,null,null,null,null,null,null,null,null,null,null,null,null,null,null,null,null,null,null,null,null,null,1,{"$f":"$AH7","v":301},{"$f":"$AI7","v":"Barley, Silage"},{"$f":"(BH7/100)*BB202+AS230+AU230","v":0.18589025243445637},{"$f":"(BI7/100)*AX202+(BJ7/100)*AY202+($BC$256/100)*AZ202+($BC$259/100)*AV230","v":0.1758573421356025},{"$f":"($BC$257/100)*BD202+($BC$260/100)*AW230","v":0.1080636876505444},{"$f":"($BC$258/100)*BE202+($BC$261/100)*AX230","v":9.9099882571992953E-2},{"$f":"(1-BH7/100)*BB202+BC202+AT230","v":8.015170516079867E-2},{"$f":"(1-BI7/100)*AX202+(1-BJ7/100)*AY202+(1-$BC$256/100)*AZ202+(1-$BC$259/100)*AV230+BA202","v":0.47727799894491496},{"$f":"(1-$BC$257/100)*BD202+(1-$BC$260/100)*AW230","v":5.6875625079233945E-3},{"$f":"(1-$BC$258/100)*BE202+(1-$BC$261/100)*AX230","v":9.9099882571992953E-2},{"$f":"IF($BP$255=FALSE,($BC$262/1000)*AJ62,0.09*(AN258+AO258+AP258+AS258+AQ258+AT258)/0.91+AT230)","v":6.8039553660527982E-2},{"$f":"($BC$263/1000)*AJ62+IF($BP$255=FALSE,0,(1-$BC$260/100)*AW230)","v":2.6989022952009434E-2},{"$f":"($BC$264/1000)*AJ62+IF($BP$255=FALSE,0,(1-$BC$261/100)*AX230)","v":3.8555747074299193E-2},{"$f":"(1-BH7/100)*BB202+BC202+AR258","v":8.867082067296754E-2},{"$f":"AO258","v":0.47727799894491496},{"$f":"(1-$BC$257/100)*BD202+AS258","v":3.0391000635035838E-2},{"$f":"(1-$BC$258/100)*BE202+AT258","v":0.12927515195500316},null,"Ash intestinal digestibility",null,null,50,"%",null,"Current Beef Committee",null,"NI/CP",{"$f":"MAX(0,IF(BH258=\"NI\",(0.0988+0.92*EXP(-0.0124*AO84*1000/6.25)),(-0.1113+0.996*EXP(-0.0616*AV56)))*(0.745*AO84*1000/6.25-11.98))","v":53.205374102919613},"g/d"]
[null,null,null,null,null,null,null,null,null,null,null,null,null,null,null,null,null,null,null,null,null,null,null,null,null,null,null,null,null,null,null,null,2,{"$f":"$AH8","v":402},{"$f":"$AI8","v":"Barley Grain, Heavy"},{"$f":"(BH8/100)*BB203+AS231+AU231","v":1.0299356797658659},{"$f":"(BI8/100)*AX203+(BJ8/100)*AY203+($BC$256/100)*AZ203+($BC$259/100)*AV231","v":0.9760524625492335},0.37356112406027764,0.1681852728595884,{"$f":"(1-BH8/100)*BB203+BC203+AT231","v":0.38512714943038451},{"$f":"(1-BI8/100)*AX203+(1-BJ8/100)*AY203+(1-$BC$256/100)*AZ203+(1-$BC$259/100)*AV231+BA203","v":1.0488931689058554},{"$f":"(1-$BC$257/100)*BD203+(1-$BC$260/100)*AW231","v":1.9661111792646211E-2},0.1681852728595884,0.25855030391000633,0.10255828721763587,0.14651183888233696,{"$f":"(1-BH8/100)*BB203+BC203+AR259","v":0.36732716282487077},{"$f":"AO259","v":1.0488931689058554},{"$f":"(1-$BC$257/100)*BD203+AS259","v":0.11160754785448609},{"$f":"(1-$BC$258/100)*BE203+AT259","v":0.27578699083734015},null,"BCHO intestinal digestibility",null,null,95,"%",null,"Recycled N",null,null,{"$f":"IF(Inputs!$F$91=1,Calc!BI256,IF(Inputs!$F$91=2,Calc!BI257,IF(Inputs!$F$91=3,Calc!BI258,0)))","v":0},"g/d"]
[null,null,null,null,null,null,null,null,null,null,null,null,null,null,null,null,null,null,null,null,null,null,null,null,null,null,null,null,null,null,null,null,3,800,"Minerals ",{"$f":"(BH9/100)*BB204+AS232+AU232","v":0},0,0,6.8039553660527982E-2,0,{"$f":"(1-BI9/100)*AX204+(1-BJ9/100)*AY204+(1-$BC$256/100)*AZ204+(1-$BC$259/100)*AV232+BA204","v":0},0,6.8039553660527982E-2,4.0823732196316785E-3,1.6193413771205662E-3,2.3133448244579517E-3,{"$f":"(1-BH9/100)*BB204+BC204+AR260","v":4.0823732196316785E-3},0,1.6193413771205662E-3,7.0352898484985937E-2,null,"BAFT intestinal digestibility",null,null,95,"%"]
[null,null,null,null,null,null,null,null,null,null,null,null,null,null,null,null,null,null,null,null,null,null,null,null,null,null,null,null,null,null,null,null,4,"","",0,0,0,0,0,0,0,0,0,0,0,0,0,0,0,null,"BASH intestinal digestibility",null,null,50,"%",null,"Ruminal N",null,null,"Value","Unit"]
[null,null,null,null,null,null,null,null,null,null,null,null,null,null,null,null,null,null,null,null,null,null,null,null,null,null,null,null,null,null,null,null,5,"","",0,0,0,0,0,0,0,0,0,0,0,0,{"$f":"AO262","v":0},{"$f":"(1-$BC$257/100)*BD206+AS262","v":0},{"$f":"(1-$BC$258/100)*BE206+AT262","v":0},null,"Fecal endogenous protein",null,null,30,"g/kg",null,"Available N",null,null,{"$f":"1000*(AV224+AW224)/6.25","v":162.98131693288582},"g/d"]
[null,null,null,null,null,null,null,null,null,null,null,null,null,null,null,null,null,null,null,null,null,null,null,null,null,null,null,null,null,null,null,null,6,"","",0,0,0,0,0,0,0,0,0,0,0,0,0,0,0,null,"Fecal endogenous fat",null,null,11.9,"g/kg",null,"Recycled N",null,null,{"$f":"BI259","v":0},"g/d"]
[null,null,null,null,null,null,null,null,null,null,null,null,null,null,null,null,null,null,null,null,null,null,null,null,null,null,null,null,null,null,null,null,7,"","",0,0,0,0,0,0,0,0,0,0,0,0,0,0,0,null,"Fecal endogenous ash",null,null,17,"g/kg",null,"Required N",null,null,{"$f":"(1000*AR252/6.25)/IF(BP256=FALSE,IF($BH$97/100<>0,$BH$97/100,1),1)","v":214.9572663448827},"g/d"]
[null,null,null,null,null,null,null,null,null,null,null,null,null,null,null,null,null,null,null,null,null,null,null,null,null,null,null,null,null,null,null,null,8,"","",0,0,0,0,0,0,0,0,0,0,0,0,0,0,0,null,"Digestible Energy from TDN",null,null,4.41,"Mcal/kg",null,"N balance",null,{"$f":"IF(BI264>0,BI265/BI264,0)","v":-0.24179666170765957},{"$f":"BI262+BI263-BI264","v":-51.975949411996879},"g/d"]
[null,null,null,null,null,null,null,null,null,null,null,null,null,null,null,null,null,null,null,null,null,null,null,null,null,null,null,null,null,null,null,null,9,"","",0,0,0,0,0,0,0,0,0,0,0,0,0,0,0,null,"DE to ME efficiency of use",null,null,{"$f":"IF(Inputs!F86<0,0,Inputs!F86)","v":82},"%"]
[null,null,null,null,null,null,null,null,null,null,null,null,null,null,null,null,null,null,null,null,null,null,null,null,null,null,null,null,null,null,null,null,10,"","",0,0,0,0,{"$f":"(1-BH16/100)*BB211+BC211+AT239","v":0},0,0,0,0,0,0,{"$f":"(1-BH16/100)*BB211+BC211+AR267","v":0},0,0,0]
[null,null,null,null,null,null,null,null,null,null,null,null,null,null,null,null,null,null,null,null,null,null,null,null,null,null,null,null,null,null,null,null,11,"","",0,0,0,0,0,0,0,0,0,0,0,0,0,0,0,null,"Diet kinetics (kd) and intestinal digestibility (ID)"]
[null,null,null,null,null,null,null,null,null,null,null,null,null,null,null,null,null,null,null,null,null,null,null,null,null,null,null,null,null,null,null,null,12,"","",0,0,0,0,0,0,0,0,0,0,0,0,0,0,0,null,"Kd PB",{"$f":"IF((BF84-AW224)<>0,AW224*AQ224/(BF84-AW224),0)","v":9.6275223153608387},null,"PBID",{"$f":"IF(BB224<>0,SUMPRODUCT(BH7:BH28,BB202:BB223)/BB224,0)","v":77.92006551888673}]
[null,null,null,null,null,null,null,null,null,null,null,null,null,null,null,null,null,null,null,null,null,null,null,null,null,null,null,null,null,null,null,null,13,"","",0,0,0,0,0,0,0,0,0,0,0,0,0,0,0,null,"kd CB1",{"$f":"IF((BA84-AS224)<>0,AS224*AQ224/(BA84-AS224),0)","v":28.538780976866153},null,"CB1ID",{"$f":"IF(AX224<>0,SUMPRODUCT(BI7:BI28,AX202:AX223)/AX224,0)","v":75}]
[null,null,null,null,null,null,null,null,null,null,null,null,null,null,null,null,null,null,null,null,null,null,null,null,null,null,null,null,null,null,null,null,14,"","",0,0,0,0,0,0,0,0,0,0,0,0,0,0,0,null,"Kd CB2",{"$f":"IF((BB84-AT224)<>0,AT224*AQ224/(BB84-AT224),0)","v":38.697972683970299},null,"CB2ID",{"$f":"IF(AY224<>0,SUMPRODUCT(BJ7:BJ28,AY202:AY223)/AY224,0)","v":75}]
[null,null,null,null,null,null,null,null,null,null,null,null,null,null,null,null,null,null,null,null,null,null,null,null,null,null,null,null,null,null,null,null,15,"","",0,0,0,0,0,0,0,0,0,0,0,0,0,0,0,null,"kd CB3",{"$f":"IF((BC84-AU224)<>0,AU224*AQ224/(BC84-AU224),0)","v":4.977305879838906},null,"pef",{"$f":"IF(AX84<>0,AJ252*100/AX84,0)","v":46.487179487179489}]
[null,null,null,null,null,null,null,null,null,null,null,null,null,null,null,null,null,null,null,null,null,null,null,null,null,null,null,null,null,null,null,null,16,"","",0,{"$f":"(BI22/100)*AX217+(BJ22/100)*AY217+($BC$256/100)*AZ217+($BC$259/100)*AV245","v":0},{"$f":"($BC$257/100)*BD217+($BC$260/100)*AW245","v":0},{"$f":"($BC$258/100)*BE217+($BC$261/100)*AX245","v":0},{"$f":"(1-BH22/100)*BB217+BC217+AT245","v":0},0,{"$f":"(1-$BC$257/100)*BD217+(1-$BC$260/100)*AW245","v":0},{"$f":"(1-$BC$258/100)*BE217+(1-$BC$261/100)*AX245","v":0},0,0,0,{"$f":"(1-BH22/100)*BB217+BC217+AR273","v":0},{"$f":"AO273","v":0},0,0]
[null,null,null,null,null,null,null,null,null,null,null,null,null,null,null,null,null,null,null,null,null,null,null,null,null,null,null,null,null,null,null,null,17,"","",0,0,0,0,0,0,0,0,0,0,0,0,0,0,0]
[null,null,null,null,null,null,null,null,null,null,null,null,null,null,null,null,null,null,null,null,null,null,null,null,null,null,null,null,null,null,null,null,18,"","",0,0,0,0,0,0,0,0,0,0,0,0,0,0,0]
[null,null,null,null,null,null,null,null,null,null,null,null,null,null,null,null,null,null,null,null,null,null,null,null,null,null,null,null,null,null,null,null,19,"","",0,0,0,0,0,0,0,0,0,0,0,0,0,0,0]
[null,null,null,null,null,null,null,null,null,null,null,null,null,null,null,null,null,null,null,null,null,null,null,null,null,null,null,null,null,null,null,null,20,"","",0,0,0,0,0,0,0,0,0,0,0,0,0,0,0]
[null,null,null,null,null,null,null,null,null,null,null,null,null,null,null,null,null,null,null,null,null,null,null,null,null,null,null,null,null,null,null,null,21,"","",0,0,0,0,0,0,0,0,0,0,0,0,0,0,0]
[null,null,null,null,null,null,null,null,null,null,null,null,null,null,null,null,null,null,null,null,null,null,null,null,null,null,null,null,null,null,null,null,22,"","",0,0,0,0,0,{"$f":"(1-BI28/100)*AX223+(1-BJ28/100)*AY223+(1-$BC$256/100)*AZ223+(1-$BC$259/100)*AV251+BA223","v":0},0,0,0,0,0,0,0,0,0]
[null,null,null,null,null,null,null,null,null,null,null,null,null,null,null,null,null,null,null,null,null,null,null,null,null,null,null,null,null,null,null,null,"Diet (sum or average)",null,null,{"$f":"SUM(AJ258:AJ279)","v":1.2158259322003222},{"$f":"SUM(AK258:AK279)","v":1.1519098046848359},0.48162481171082205,0.33532470909210937,0.46527885459118318,1.5261711678507703,2.5348674300569606E-2,0.33532470909210937,0.330672230790166,0.13116665154676585,0.18738093078109408,0.46008035671747,1.5261711678507703,0.14361788986664248,{"$f":"SUM(AX258:AX279)","v":0.47541504127732925}]
[]
[]
[null,null,null,null,null,null,null,null,null,null,null,null,null,null,null,null,null,null,null,null,null,null,null,null,null,null,null,null,null,null,null,null,"Table S11. Total digestible nutrients and energy values:: Mechanistic solution",null,null,null,null,null,null,null,null,null,null,null,"Metabolizable Protein",null,null,null,"Ruminal pH",null,"Value"]
[null,null,null,null,null,null,null,null,null,null,null,null,null,null,null,null,null,null,null,null,null,null,null,null,null,null,null,null,null,null,null,null,"#","ID","Feed","aTDN","aTDN","DE","DE","ME/DE","ME","ME","NEma","NEga","Bacteria","Feeds","Total",null,"Pitt et al. (1996)",null,{"$f":"IF(peNDF>=26.3,6.46,5.46+0.038*peNDF)","v":5.8994473251028809}]
[null,null,null,null,null,null,null,null,null,null,null,null,null,null,null,null,null,null,null,null,null,null,null,null,null,null,null,null,null,null,null,null,null,null,null,"kg/d","%DM","Mcal/d","Mcal/kg","%","Mcal/d","Mcal/kg","Mcal/kg","Mcal/kg","kg/d","kg/d","kg/d",null,"Mertens (1997)",null,{"$f":"IF(peNDF>0,6.67-0.143/peNDF,0)","v":6.6576344679109658}]
[null,null,null,null,null,null,null,null,null,null,null,null,null,null,null,null,null,null,null,null,null,null,null,null,null,null,null,null,null,null,null,null,1,{"$f":"$AH7","v":301},{"$f":"$AI7","v":"Barley, Silage"},{"$f":"IF(AV34>100,0,MAX(0,(AS62-AV258)+(AO62-AU258)+2.25*(AQ62-AW258)+AP62))","v":1.5372671832851383},{"$f":"IF(AJ62>0,AJ286*100/AJ62,0)","v":67.781184645408331},{"$f":"$BC$265*AJ286","v":6.7793482782874603},{"$f":"IF(AJ62>0,AL286/AJ62,0)","v":2.989150242862507},{"$f":"IF($BC$266>0,IF($BC$266=\"Variable\",IF(AM286>0,(0.9611*AM286-0.2999)*100/AM286,0),$BC$266),0)","v":82},{"$f":"MAX(AL286*AN286/100,0)*IF($BP$255=FALSE,$D$16,1)","v":5.6869240967242183},{"$f":"IF(AJ62>0,AO286/AJ62,0)","v":2.5074785727276425},{"$f":"IF(AP286>0,IF($BC$266=\"Variable\",1.1104*AP286-0.0946*AP286^2+0.0065*AP286^3-0.7783,1.37*AP286-0.138*AP286^2+0.0105*AP286^3-1.12),0)*IF($BP$255=TRUE,1.12,1)","v":1.6131169640561662},{"$f":"IF(AP286>0,IF($BC$266=\"Variable\",1.1376*AP286-0.1198*AP286^2+0.0076*AP286^3-1.2979,1.42*AP286-0.174*AP286^2+0.0122*AP286^3-1.65),0)","v":1.0089443294679108},{"$f":"AS230","v":0.14284905155606187},{"$f":"(BH7/100)*BB202","v":7.3289379893790221E-3},{"$f":"AT286+AS286","v":0.1501779895454409},null,"Sauvant et al. (1999)",null,{"$f":"IF(DMI>0,6.41-0.011*(AS224*100/DMI),0)","v":5.9451878659032351}]
[null,null,null,null,null,null,null,null,null,null,null,null,null,null,null,null,null,null,null,null,null,null,null,null,null,null,null,null,null,null,null,null,2,{"$f":"$AH8","v":402},{"$f":"$AI8","v":"Barley Grain, Heavy"},{"$f":"IF(AV35>100,0,MAX(0,(AS63-AV259)+(AO63-AU259)+2.25*(AQ63-AW259)+AP63))","v":6.9186873612748085},{"$f":"IF(AJ63>0,AJ287*100/AJ63,0)","v":80.278621877191796},{"$f":"$BC$265*AJ287","v":30.511411263221905},{"$f":"IF(AJ63>0,AL287/AJ63,0)","v":3.5402872247841586},{"$f":"IF($BC$266>0,IF($BC$266=\"Variable\",IF(AM287>0,(0.9611*AM287-0.2999)*100/AM287,0),$BC$266),0)","v":82},{"$f":"MAX(AL287*AN287/100,0)*IF($BP$255=FALSE,$D$16,1)","v":25.594802452266325},{"$f":"IF(AJ63>0,AO287/AJ63,0)","v":2.9698053413824388},{"$f":"IF(AP287>0,IF($BC$266=\"Variable\",1.1104*AP287-0.0946*AP287^2+0.0065*AP287^3-0.7783,1.37*AP287-0.138*AP287^2+0.0105*AP287^3-1.12),0)*IF($BP$255=TRUE,1.12,1)","v":2.0065343605494537},{"$f":"IF(AP287>0,IF($BC$266=\"Variable\",1.1376*AP287-0.1198*AP287^2+0.0076*AP287^3-1.2979,1.42*AP287-0.174*AP287^2+0.0122*AP287^3-1.65),0)","v":1.3520418196997621},{"$f":"AS231","v":0.66324069723724832},{"$f":"(BH8/100)*BB203","v":0.20088480821930541},{"$f":"AT287+AS287","v":0.86412550545655376},null,"Fox et al. (2004)",null,{"$f":"IF(peNDF>=24.5,6.46,5.425+0.04229*peNDF)","v":5.9140586152263372}]
[null,null,null,null,null,null,null,null,null,null,null,null,null,null,null,null,null,null,null,null,null,null,null,null,null,null,null,null,null,null,null,null,3,800,"Minerals ",{"$f":"IF(AV36>100,0,MAX(0,(AS64-AV260)+(AO64-AU260)+2.25*(AQ64-AW260)+AP64))","v":0},0,0,0,82,{"$f":"MAX(AL288*AN288/100,0)*IF($BP$255=FALSE,$D$16,1)","v":0},0,0,0,0,0,0,null,"Zebeli et al. (2008)",null,{"$f":"IF(peNDF>=31.2,6.27,5.59+0.0218*peNDF)","v":5.8421039917695472}]
[null,null,null,null,null,null,null,null,null,null,null,null,null,null,null,null,null,null,null,null,null,null,null,null,null,null,null,null,null,null,null,null,4,"","",0,0,0,0,82,0,0,0,0,0,0,0,null,"Sarhan/Beauchemin",null,{"$f":"IF(BG33>=50,6.2, 5.724+0.00963*$BG$33)","v":5.9221481481481479}]
[null,null,null,null,null,null,null,null,null,null,null,null,null,null,null,null,null,null,null,null,null,null,null,null,null,null,null,null,null,null,null,null,5,"","",0,0,0,0,82,0,0,0,0,0,0,0,null,"Minimum",null,{"$f":"MIN(AY284:AY289)","v":5.8421039917695472}]
[null,null,null,null,null,null,null,null,null,null,null,null,null,null,null,null,null,null,null,null,null,null,null,null,null,null,null,null,null,null,null,null,6,"","",0,0,0,0,82,0,0,0,0,0,0,0,null,"Maximum",null,{"$f":"MAX(AY284:AY289)","v":6.6576344679109658}]
[null,null,null,null,null,null,null,null,null,null,null,null,null,null,null,null,null,null,null,null,null,null,null,null,null,null,null,null,null,null,null,null,7,"","",0,0,0,0,82,0,0,0,0,0,0,0,null,"Average",null,{"$f":"AVERAGEIF(AY284:AY289,\">0\")","v":6.0300967356768531}]
[null,null,null,null,null,null,null,null,null,null,null,null,null,null,null,null,null,null,null,null,null,null,null,null,null,null,null,null,null,null,null,null,8,"","",0,0,0,0,82,0,0,0,0,0,0,0,null,"Std. deviation",null,{"$f":"_xlfn.STDEV.S(AY284:AY289)","v":0.30936754992598087}]
[null,null,null,null,null,null,null,null,null,null,null,null,null,null,null,null,null,null,null,null,null,null,null,null,null,null,null,null,null,null,null,null,9,"","",0,0,0,0,82,0,0,0,0,0,0,0,null,"Median",null,{"$f":"MEDIAN(AY284:AY289)","v":5.9181033816872421}]
[null,null,null,null,null,null,null,null,null,null,null,null,null,null,null,null,null,null,null,null,null,null,null,null,null,null,null,null,null,null,null,null,10,"","",0,0,0,0,82,0,0,0,0,0,0,0]
[null,null,null,null,null,null,null,null,null,null,null,null,null,null,null,null,null,null,null,null,null,null,null,null,null,null,null,null,null,null,null,null,11,"","",0,0,0,0,82,0,0,0,0,0,0,0]
[null,null,null,null,null,null,null,null,null,null,null,null,null,null,null,null,null,null,null,null,null,null,null,null,null,null,null,null,null,null,null,null,12,"","",0,0,0,0,82,0,0,0,0,0,0,0]
[null,null,null,null,null,null,null,null,null,null,null,null,null,null,null,null,null,null,null,null,null,null,null,null,null,null,null,null,null,null,null,null,13,"","",0,0,0,0,82,0,0,0,0,0,0,0]
[null,null,null,null,null,null,null,null,null,null,null,null,null,null,null,null,null,null,null,null,null,null,null,null,null,null,null,null,null,null,null,null,14,"","",0,0,0,0,82,0,0,0,0,0,0,0]
[null,null,null,null,null,null,null,null,null,null,null,null,null,null,null,null,null,null,null,null,null,null,null,null,null,null,null,null,null,null,null,null,15,"","",0,0,0,0,82,0,0,0,0,0,0,0]
[null,null,null,null,null,null,null,null,null,null,null,null,null,null,null,null,null,null,null,null,null,null,null,null,null,null,null,null,null,null,null,null,16,"","",{"$f":"IF(AV49>100,0,MAX(0,(AS77-AV273)+(AO77-AU273)+2.25*(AQ77-AW273)+AP77))","v":0},{"$f":"IF(AJ77>0,AJ301*100/AJ77,0)","v":0},{"$f":"$BC$265*AJ301","v":0},{"$f":"IF(AJ77>0,AL301/AJ77,0)","v":0},82,0,{"$f":"IF(AJ77>0,AO301/AJ77,0)","v":0},0,0,{"$f":"AS245","v":0},0,{"$f":"AT301+AS301","v":0}]
[null,null,null,null,null,null,null,null,null,null,null,null,null,null,null,null,null,null,null,null,null,null,null,null,null,null,null,null,null,null,null,null,17,"","",0,0,0,0,82,0,0,0,0,0,0,0]
[null,null,null,null,null,null,null,null,null,null,null,null,null,null,null,null,null,null,null,null,null,null,null,null,null,null,null,null,null,null,null,null,18,"","",0,0,0,0,82,0,0,0,0,0,0,0]
[null,null,null,null,null,null,null,null,null,null,null,null,null,null,null,null,null,null,null,null,null,null,null,null,null,null,null,null,null,null,null,null,19,"","",0,0,0,0,82,0,0,0,0,0,0,0]
[null,null,null,null,null,null,null,null,null,null,null,null,null,null,null,null,null,null,null,null,null,null,null,null,null,null,null,null,null,null,null,null,20,"","",0,0,0,0,82,0,0,0,0,0,0,0]
[null,null,null,null,null,null,null,null,null,null,null,null,null,null,null,null,null,null,null,null,null,null,null,null,null,null,null,null,null,null,null,null,21,"","",0,0,0,0,82,0,0,0,0,0,0,0]
[null,null,null,null,null,null,null,null,null,null,null,null,null,null,null,null,null,null,null,null,null,null,null,null,null,null,null,null,null,null,null,null,22,"","",0,0,0,0,82,0,{"$f":"IF(AJ83>0,AO307/AJ83,0)","v":0},0,0,0,0,0]
[null,null,null,null,null,null,null,null,null,null,null,null,null,null,null,null,null,null,null,null,null,null,null,null,null,null,null,null,null,null,null,null,"Diet (sum or average)",null,null,{"$f":"SUM(AJ286:AJ307)","v":8.4559545445599475},{"$f":"IF(AJ84<>0,AJ308*100/AJ84,0)","v":76.716038637600249},{"$f":"SUM(AL286:AL307)","v":37.290759541509367},{"$f":"IF(DMI>0,AL308/DMI,0)","v":3.383177303918171},{"$f":"IF(AL308>0,SUMPRODUCT(AL286:AL307,AN286:AN307)/AL308,0)","v":82},{"$f":"SUM(AO286:AO307)","v":31.281726548990545},{"$f":"IF(DMI>0,AO308/DMI,0)","v":2.8380121131647966},1.8965929251031368,{"$f":"IF(AP308>0,IF($BC$266=\"Variable\",1.1376*AP308-0.1198*AP308^2+0.0076*AP308^3-1.2979,1.42*AP308-0.174*AP308^2+0.0122*AP308^3-1.65),0)","v":1.2573972747731395},{"$f":"SUM(AS286:AS307)","v":0.80608974879331019},{"$f":"SUM(AT286:AT307)","v":0.20821374620868444},{"$f":"SUM(AU286:AU307)","v":1.0143034950019947}]
[]
[]
[null,null,null,null,null,null,null,null,null,null,null,null,null,null,null,null,null,null,null,null,null,null,null,null,null,null,null,null,null,null,null,null,"Table S12. Feedstuff and bacterial AA:: Mechanistic solution",null,null,"Feedstuffs",null,null,null,null,null,null,null,null,null,null,null,"Bacteria"]
[null,null,null,null,null,null,null,null,null,null,null,null,null,null,null,null,null,null,null,null,null,null,null,null,null,null,null,null,null,null,null,null,"#","ID","Feed","ARG","HIS","ILE","LEU","LYS","MET","CYS","PHE","TYR","THR","TRP","VAL","ARG","HIS","ILE","LEU","LYS","MET","CYS","PHE","TYR","TRP","THR","VAL"]
[null,null,null,null,null,null,null,null,null,null,null,null,null,null,null,null,null,null,null,null,null,null,null,null,null,null,null,null,null,null,null,null,null,null,null,"g/d","g/d","g/d","g/d","g/d","g/d","g/d","g/d","g/d","g/d","g/d","g/d","g/d","g/d","g/d","g/d","g/d","g/d","g/d","g/d","g/d","g/d","g/d","g/d"]
[null,null,null,null,null,null,null,null,null,null,null,null,null,null,null,null,null,null,null,null,null,null,null,null,null,null,null,null,null,null,null,null,1,{"$f":"$AH7","v":301},{"$f":"$AI7","v":"Barley, Silage"},{"$f":"(($BH7/100)*$BB202*1000)*IF($AO7>0,BL7/$AO7,0)","v":0.10570583638527435},{"$f":"(($BH7/100)*$BB202*1000)*IF($AO7>0,BM7/$AO7,0)","v":0.11275289214429264},0.22550578428858528,0.40168217826404251,0.22550578428858528,0.10570583638527435,0,0.24664695156564015,0,0.24664695156564015,8.4564669108219484E-2,0.34530573219189625,{"$f":"($AS230*1000)*(BA$172/100)","v":9.9422939883019055},{"$f":"($AS230*1000)*(BA$173/100)","v":3.8426394868580647},{"$f":"($AS230*1000)*(BA$174/100)","v":8.3995242314964376},{"$f":"($AS230*1000)*(BA$175/100)","v":10.727963771860248},{"$f":"($AS230*1000)*(BA$176/100)","v":11.713622227597073},{"$f":"($AS230*1000)*(BA$177/100)","v":3.8283545817024587},{"$f":"($AS230*1000)*(BA$178/100)","v":0},{"$f":"($AS230*1000)*(BA$179/100)","v":7.3710110602927932},{"$f":"($AS230*1000)*(BA$180/100)","v":6.1710790272218734},{"$f":"($AS230*1000)*(BA$182/100)","v":2.3284395403638083},{"$f":"($AS230*1000)*(BA$181/100)","v":7.9852619819838591},{"$f":"($AS230*1000)*(BA$183/100)","v":8.7995015758534123}]
[null,null,null,null,null,null,null,null,null,null,null,null,null,null,null,null,null,null,null,null,null,null,null,null,null,null,null,null,null,null,null,null,2,{"$f":"$AH8","v":402},{"$f":"$AI8","v":"Barley Grain, Heavy"},{"$f":"(($BH8/100)*$BB203*1000)*IF($AO8>0,BL8/$AO8,0)","v":6.6446513487924088},3.0905355110662369,5.4084371443659141,9.4261333087520214,4.1722229399394202,1.081687428873183,0,7.7263387776655925,0,4.3267497154927321,1.6997945310864302,6.6446513487924088,46.16155252771248,17.84117475568198,38.998552997550199,49.809376362517348,54.385737173454359,17.774850685958256,{"$f":"($AS231*1000)*(BA$178/100)","v":0},34.223219977442014,{"$f":"($AS231*1000)*(BA$180/100)","v":28.651998120649129},10.810823364967147,37.075154975562185,40.8556269498145]
[null,null,null,null,null,null,null,null,null,null,null,null,null,null,null,null,null,null,null,null,null,null,null,null,null,null,null,null,null,null,null,null,3,800,"Minerals ",0,0,0,0,0,0,0,0,0,0,0,0,0,0,0,0,0,0,0,0,0,0,0,0]
[null,null,null,null,null,null,null,null,null,null,null,null,null,null,null,null,null,null,null,null,null,null,null,null,null,null,null,null,null,null,null,null,4,"","",0,0,0,0,0,0,0,0,0,0,0,0,0,0,0,0,0,0,0,0,0,0,0,0]
[null,null,null,null,null,null,null,null,null,null,null,null,null,null,null,null,null,null,null,null,null,null,null,null,null,null,null,null,null,null,null,null,5,"","",0,0,0,0,0,0,0,0,0,0,0,0,0,0,0,0,0,0,0,0,0,0,0,0]
[null,null,null,null,null,null,null,null,null,null,null,null,null,null,null,null,null,null,null,null,null,null,null,null,null,null,null,null,null,null,null,null,6,"","",0,0,0,0,0,0,0,0,0,0,0,0,0,0,0,0,0,0,0,0,0,0,0,0]
[null,null,null,null,null,null,null,null,null,null,null,null,null,null,null,null,null,null,null,null,null,null,null,null,null,null,null,null,null,null,null,null,7,"","",0,0,0,0,0,0,0,0,0,0,0,0,0,0,0,0,0,0,0,0,0,0,0,0]
[null,null,null,null,null,null,null,null,null,null,null,null,null,null,null,null,null,null,null,null,null,null,null,null,null,null,null,null,null,null,null,null,8,"","",0,0,0,0,0,0,0,0,0,0,0,0,0,0,0,0,0,0,0,0,0,0,0,0]
[null,null,null,null,null,null,null,null,null,null,null,null,null,null,null,null,null,null,null,null,null,null,null,null,null,null,null,null,null,null,null,null,9,"","",0,0,0,0,0,0,0,0,0,0,0,0,0,0,0,0,0,0,0,0,0,0,0,0]
[null,null,null,null,null,null,null,null,null,null,null,null,null,null,null,null,null,null,null,null,null,null,null,null,null,null,null,null,null,null,null,null,10,"","",0,0,0,0,0,0,0,0,0,0,0,0,0,0,0,0,0,0,0,0,0,0,0,0]
[null,null,null,null,null,null,null,null,null,null,null,null,null,null,null,null,null,null,null,null,null,null,null,null,null,null,null,null,null,null,null,null,11,"","",0,0,0,0,0,0,0,0,0,0,0,0,0,0,0,0,0,0,0,0,0,0,0,0]
[null,null,null,null,null,null,null,null,null,null,null,null,null,null,null,null,null,null,null,null,null,null,null,null,null,null,null,null,null,null,null,null,12,"","",0,0,0,0,0,0,0,0,0,0,0,0,0,0,0,0,0,0,0,0,0,0,0,0]
[null,null,null,null,null,null,null,null,null,null,null,null,null,null,null,null,null,null,null,null,null,null,null,null,null,null,null,null,null,null,null,null,13,"","",0,0,0,0,0,0,0,0,0,0,0,0,0,0,0,0,0,0,0,0,0,0,0,0]
[null,null,null,null,null,null,null,null,null,null,null,null,null,null,null,null,null,null,null,null,null,null,null,null,null,null,null,null,null,null,null,null,14,"","",0,0,0,0,0,0,0,0,0,0,0,0,0,0,0,0,0,0,0,0,0,0,0,0]
[null,null,null,null,null,null,null,null,null,null,null,null,null,null,null,null,null,null,null,null,null,null,null,null,null,null,null,null,null,null,null,null,15,"","",0,0,0,0,0,0,0,0,0,0,0,0,0,0,0,0,0,0,0,0,0,0,0,0]
[null,null,null,null,null,null,null,null,null,null,null,null,null,null,null,null,null,null,null,null,null,null,null,null,null,null,null,null,null,null,null,null,16,"","",0,0,0,0,0,0,0,0,0,0,0,0,0,0,0,0,0,0,0,0,0,0,0,0]
[null,null,null,null,null,null,null,null,null,null,null,null,null,null,null,null,null,null,null,null,null,null,null,null,null,null,null,null,null,null,null,null,17,"","",0,{"$f":"(($BH23/100)*$BB218*1000)*IF($AO23>0,BM23/$AO23,0)","v":0},{"$f":"(($BH23/100)*$BB218*1000)*IF($AO23>0,BN23/$AO23,0)","v":0},{"$f":"(($BH23/100)*$BB218*1000)*IF($AO23>0,BO23/$AO23,0)","v":0},{"$f":"(($BH23/100)*$BB218*1000)*IF($AO23>0,BP23/$AO23,0)","v":0},{"$f":"(($BH23/100)*$BB218*1000)*IF($AO23>0,BQ23/$AO23,0)","v":0},{"$f":"(($BH23/100)*$BB218*1000)*IF($AO23>0,BR23/$AO23,0)","v":0},{"$f":"(($BH23/100)*$BB218*1000)*IF($AO23>0,BS23/$AO23,0)","v":0},{"$f":"(($BH23/100)*$BB218*1000)*IF($AO23>0,BT23/$AO23,0)","v":0},{"$f":"(($BH23/100)*$BB218*1000)*IF($AO23>0,BU23/$AO23,0)","v":0},{"$f":"(($BH23/100)*$BB218*1000)*IF($AO23>0,BV23/$AO23,0)","v":0},{"$f":"(($BH23/100)*$BB218*1000)*IF($AO23>0,BW23/$AO23,0)","v":0},0,0,0,0,0,0,0,0,0,0,0,0]
[null,null,null,null,null,null,null,null,null,null,null,null,null,null,null,null,null,null,null,null,null,null,null,null,null,null,null,null,null,null,null,null,18,"","",0,0,0,0,0,0,0,0,0,0,0,0,0,0,0,0,0,0,0,0,0,0,0,0]
[null,null,null,null,null,null,null,null,null,null,null,null,null,null,null,null,null,null,null,null,null,null,null,null,null,null,null,null,null,null,null,null,19,"","",0,0,0,0,0,0,0,0,0,0,0,0,0,0,0,0,0,0,0,0,0,0,0,0]
[null,null,null,null,null,null,null,null,null,null,null,null,null,null,null,null,null,null,null,null,null,null,null,null,null,null,null,null,null,null,null,null,20,"","",0,0,0,0,0,0,0,0,0,0,0,0,0,0,0,0,0,0,0,0,0,0,0,0]
[null,null,null,null,null,null,null,null,null,null,null,null,null,null,null,null,null,null,null,null,null,null,null,null,null,null,null,null,null,null,null,null,21,"","",0,0,0,0,0,0,0,0,0,0,0,0,0,0,0,0,0,0,0,0,0,0,0,0]
[null,null,null,null,null,null,null,null,null,null,null,null,null,null,null,null,null,null,null,null,null,null,null,null,null,null,null,null,null,null,null,null,22,"","",0,0,0,0,0,0,0,0,0,0,0,0,0,0,0,0,0,0,0,0,0,0,0,0]
[null,null,null,null,null,null,null,null,null,null,null,null,null,null,null,null,null,null,null,null,null,null,null,null,null,null,null,null,null,null,null,null,"Diet (sum or average)",null,null,{"$f":"SUM(AJ314:AJ335)","v":6.7503571851776831},3.2032884032105295,5.6339429286544993,9.8278154870160641,4.3977287242280054,1.1873932652584573,0,7.9729857292312323,0,4.5733966670583719,1.7843592001946498,6.989957080984305,56.103846516014386,21.683814242540045,47.398077229046635,60.537340134377594,66.09935940105143,21.603205267660716,0,41.594231037734808,34.823077147871004,13.139262905330956,45.060416957546046,49.655128525667912]
[]
[]
[null,null,null,null,null,null,null,null,null,null,null,null,null,null,null,null,null,null,null,null,null,null,null,null,null,null,null,null,null,null,null,null,"Table S13. Supply of metabolizable amino acids:: Mechanistic solution"]
[null,null,null,null,null,null,null,null,null,null,null,null,null,null,null,null,null,null,null,null,null,null,null,null,null,null,null,null,null,null,null,null,"#","ID","Feed","ARG","HIS","ILE","LEU","LYS","MET","CYS","PHE","TYR","THR","TRP","VAL"]
[null,null,null,null,null,null,null,null,null,null,null,null,null,null,null,null,null,null,null,null,null,null,null,null,null,null,null,null,null,null,null,null,null,null,null,"g/d","g/d","g/d","g/d","g/d","g/d","g/d","g/d","g/d","g/d","g/d","g/d"]
[null,null,null,null,null,null,null,null,null,null,null,null,null,null,null,null,null,null,null,null,null,null,null,null,null,null,null,null,null,null,null,null,1,{"$f":"$AH7","v":301},{"$f":"$AI7","v":"Barley, Silage"},{"$f":"AJ314+AV314","v":10.04799982468718},{"$f":"AK314+AW314","v":3.9553923790023573},{"$f":"AL314+AX314","v":8.6250300157850237},{"$f":"AM314+AY314","v":11.12964595012429},{"$f":"AN314+AZ314","v":11.939128011885659},{"$f":"AO314+BA314","v":3.934060418087733},{"$f":"AP314+BB314","v":0},{"$f":"AQ314+BC314","v":7.6176580118584329},{"$f":"AR314+BD314","v":6.1710790272218734},{"$f":"AS314+BF314","v":8.2319089335494997},{"$f":"AT314+BE314","v":2.4130042094720277},{"$f":"AU314+BG314","v":9.1448073080453085}]
[null,null,null,null,null,null,null,null,null,null,null,null,null,null,null,null,null,null,null,null,null,null,null,null,null,null,null,null,null,null,null,null,2,{"$f":"$AH8","v":402},{"$f":"$AI8","v":"Barley Grain, Heavy"},52.806203876504888,20.931710266748215,44.406990141916111,59.235509671269369,58.557960113393776,18.856538114831441,0,41.949558755107603,28.651998120649129,41.401904691054916,12.510617896053578,47.500278298606908]
[null,null,null,null,null,null,null,null,null,null,null,null,null,null,null,null,null,null,null,null,null,null,null,null,null,null,null,null,null,null,null,null,3,800,"Minerals ",0,0,0,0,0,0,0,0,0,0,0,0]
[null,null,null,null,null,null,null,null,null,null,null,null,null,null,null,null,null,null,null,null,null,null,null,null,null,null,null,null,null,null,null,null,4,"","",0,0,0,0,0,0,0,0,0,0,0,0]
[null,null,null,null,null,null,null,null,null,null,null,null,null,null,null,null,null,null,null,null,null,null,null,null,null,null,null,null,null,null,null,null,5,"","",0,0,0,0,0,0,0,0,0,0,0,0]
[null,null,null,null,null,null,null,null,null,null,null,null,null,null,null,null,null,null,null,null,null,null,null,null,null,null,null,null,null,null,null,null,6,"","",0,0,0,0,0,0,0,0,0,0,0,0]
[null,null,null,null,null,null,null,null,null,null,null,null,null,null,null,null,null,null,null,null,null,null,null,null,null,null,null,null,null,null,null,null,7,"","",0,0,0,0,0,0,0,0,0,0,0,0]
[null,null,null,null,null,null,null,null,null,null,null,null,null,null,null,null,null,null,null,null,null,null,null,null,null,null,null,null,null,null,null,null,8,"","",0,0,0,0,0,0,0,0,0,0,0,0]
[null,null,null,null,null,null,null,null,null,null,null,null,null,null,null,null,null,null,null,null,null,null,null,null,null,null,null,null,null,null,null,null,9,"","",0,0,0,0,0,0,0,0,0,0,0,0]
[null,null,null,null,null,null,null,null,null,null,null,null,null,null,null,null,null,null,null,null,null,null,null,null,null,null,null,null,null,null,null,null,10,"","",0,0,0,0,0,0,0,0,0,0,0,0]
[null,null,null,null,null,null,null,null,null,null,null,null,null,null,null,null,null,null,null,null,null,null,null,null,null,null,null,null,null,null,null,null,11,"","",0,0,0,0,0,0,0,0,0,0,0,0]
[null,null,null,null,null,null,null,null,null,null,null,null,null,null,null,null,null,null,null,null,null,null,null,null,null,null,null,null,null,null,null,null,12,"","",0,0,0,0,0,0,0,0,0,0,0,0]
[null,null,null,null,null,null,null,null,null,null,null,null,null,null,null,null,null,null,null,null,null,null,null,null,null,null,null,null,null,null,null,null,13,"","",0,0,0,0,0,0,0,0,0,0,0,0]
[null,null,null,null,null,null,null,null,null,null,null,null,null,null,null,null,null,null,null,null,null,null,null,null,null,null,null,null,null,null,null,null,14,"","",0,0,0,0,0,0,0,0,0,0,0,0]
[null,null,null,null,null,null,null,null,null,null,null,null,null,null,null,null,null,null,null,null,null,null,null,null,null,null,null,null,null,null,null,null,15,"","",0,0,0,0,0,0,0,0,0,0,0,0]
[null,null,null,null,null,null,null,null,null,null,null,null,null,null,null,null,null,null,null,null,null,null,null,null,null,null,null,null,null,null,null,null,16,"","",0,0,0,0,0,0,0,0,0,0,0,0]
[null,null,null,null,null,null,null,null,null,null,null,null,null,null,null,null,null,null,null,null,null,null,null,null,null,null,null,null,null,null,null,null,17,"","",0,0,0,0,0,0,0,0,0,0,0,0]
[null,null,null,null,null,null,null,null,null,null,null,null,null,null,null,null,null,null,null,null,null,null,null,null,null,null,null,null,null,null,null,null,18,"","",0,0,0,0,0,0,0,0,0,0,0,0]
[null,null,null,null,null,null,null,null,null,null,null,null,null,null,null,null,null,null,null,null,null,null,null,null,null,null,null,null,null,null,null,null,19,"","",0,0,0,0,0,0,0,0,0,0,0,0]
[null,null,null,null,null,null,null,null,null,null,null,null,null,null,null,null,null,null,null,null,null,null,null,null,null,null,null,null,null,null,null,null,20,"","",0,0,0,0,0,0,0,0,0,0,0,0]
[null,null,null,null,null,null,null,null,null,null,null,null,null,null,null,null,null,null,null,null,null,null,null,null,null,null,null,null,null,null,null,null,21,"","",0,0,0,0,0,0,0,0,0,0,0,0]
[null,null,null,null,null,null,null,null,null,null,null,null,null,null,null,null,null,null,null,null,null,null,null,null,null,null,null,null,null,null,null,null,22,"","",0,0,0,0,0,0,0,0,0,0,0,0]
[null,null,null,null,null,null,null,null,null,null,null,null,null,null,null,null,null,null,null,null,null,null,null,null,null,null,null,null,null,null,null,null,"Diet (sum or average)",null,null,{"$f":"SUM(AJ342:AJ363)","v":62.85420370119207},24.887102645750574,53.032020157701133,70.365155621393654,70.497088125279433,22.790598532919173,0,49.567216766966034,34.823077147871004,49.633813624604414,14.923622105525606,{"$f":"SUM(AU342:AU363)","v":56.645085606652216}]
[]
[]
[null,null,null,null,null,null,null,null,null,null,null,null,null,null,null,null,null,null,null,null,null,null,null,null,null,null,null,null,null,null,null,null,"Table S14. Minerals and vitamins"]
[null,null,null,null,null,null,null,null,null,null,null,null,null,null,null,null,null,null,null,null,null,null,null,null,null,null,null,null,null,null,null,null,"#","ID","Feed","Ca","P","Mg","Cl","K","Na","S","Co","Cu","I","Fe","Mn","Se","Zn","VitA","VitD","VitE"]
[null,null,null,null,null,null,null,null,null,null,null,null,null,null,null,null,null,null,null,null,null,null,null,null,null,null,null,null,null,null,null,null,null,null,null,"g/d","g/d","g/d","g/d","g/d","g/d","g/d","mg/d","mg/d","mg/d","mg/d","mg/d","mg/d","mg/d","1000 IU/d","1000 IU/d","IU/d"]
[null,null,null,null,null,null,null,null,null,null,null,null,null,null,null,null,null,null,null,null,null,null,null,null,null,null,null,null,null,null,null,null,1,{"$f":"$AH7","v":301},{"$f":"$AI7","v":"Barley, Silage"},{"$f":"$AJ62*1000*BX7/100","v":11.793522634491518},{"$f":"$AJ62*1000*BY7/100","v":6.5771568538510383},{"$f":"$AJ62*1000*BZ7/100","v":4.3091717318334393},{"$f":"$AJ62*1000*CA7/100","v":3.4019776830263995},{"$f":"$AJ62*1000*CB7/100","v":58.287217635852315},{"$f":"$AJ62*1000*CC7/100","v":2.7215821464211194},{"$f":"$AJ62*1000*CD7/100","v":5.4431642928422388},{"$f":"$AJ62*CE7","v":1.6329492878526717},{"$f":"$AJ62*CF7","v":17.463485439535518},{"$f":"$AJ62*CG7","v":0},{"$f":"$AJ62*CH7","v":850.49442075659977},{"$f":"$AJ62*CI7","v":101.60573346638846},{"$f":"$AJ62*CJ7","v":0.34019776830263992},{"$f":"$AJ62*CK7","v":55.565635489431187},{"$f":"$AJ62*CL7","v":0},{"$f":"$AJ62*CM7","v":0},{"$f":"$AJ62*CN7","v":0}]
[null,null,null,null,null,null,null,null,null,null,null,null,null,null,null,null,null,null,null,null,null,null,null,null,null,null,null,null,null,null,null,null,2,{"$f":"$AH8","v":402},{"$f":"$AI8","v":"Barley Grain, Heavy"},4.3091717318334393,30.164202122834077,10.342012156400253,24.993196044633947,49.124557742901203,0.86183434636668788,12.927515195500318,3.0164202122834074,45.677220357434457,0.43091717318334394,512.79143608817924,157.71568538510388,1.551301823460038,112.03846502766942,32.749705161934138,0,225.80059874807222]
[null,null,null,null,null,null,null,null,null,null,null,null,null,null,null,null,null,null,null,null,null,null,null,null,null,null,null,null,null,null,null,null,3,800,"Minerals ",0,0,0,0,0,0,0,0,0,0,0,0,0,0,0,0,0]
[null,null,null,null,null,null,null,null,null,null,null,null,null,null,null,null,null,null,null,null,null,null,null,null,null,null,null,null,null,null,null,null,4,"","",0,0,0,0,0,0,0,0,0,0,0,0,0,0,0,0,0]
[null,null,null,null,null,null,null,null,null,null,null,null,null,null,null,null,null,null,null,null,null,null,null,null,null,null,null,null,null,null,null,null,5,"","",0,0,0,0,0,0,0,0,0,0,0,0,0,0,0,0,0]
[null,null,null,null,null,null,null,null,null,null,null,null,null,null,null,null,null,null,null,null,null,null,null,null,null,null,null,null,null,null,null,null,6,"","",0,0,0,0,0,0,0,0,0,0,0,0,0,0,0,0,0]
[null,null,null,null,null,null,null,null,null,null,null,null,null,null,null,null,null,null,null,null,null,null,null,null,null,null,null,null,null,null,null,null,7,"","",0,0,0,0,0,0,0,0,0,0,0,0,0,0,0,0,0]
[null,null,null,null,null,null,null,null,null,null,null,null,null,null,null,null,null,null,null,null,null,null,null,null,null,null,null,null,null,null,null,null,8,"","",0,0,0,0,0,0,0,0,0,0,0,0,0,0,0,0,0]
[null,null,null,null,null,null,null,null,null,null,null,null,null,null,null,null,null,null,null,null,null,null,null,null,null,null,null,null,null,null,null,null,9,"","",0,0,0,0,0,0,0,0,0,0,0,0,0,0,0,0,0]
[null,null,null,null,null,null,null,null,null,null,null,null,null,null,null,null,null,null,null,null,null,null,null,null,null,null,null,null,null,null,null,null,10,"","",0,0,0,0,0,0,0,0,0,0,0,0,0,0,0,0,0]
[null,null,null,null,null,null,null,null,null,null,null,null,null,null,null,null,null,null,null,null,null,null,null,null,null,null,null,null,null,null,null,null,11,"","",0,0,0,0,0,0,0,0,0,0,0,0,0,0,0,0,0]
[null,null,null,null,null,null,null,null,null,null,null,null,null,null,null,null,null,null,null,null,null,null,null,null,null,null,null,null,null,null,null,null,12,"","",0,0,0,0,0,0,0,0,0,0,0,0,0,0,0,0,0]
[null,null,null,null,null,null,null,null,null,null,null,null,null,null,null,null,null,null,null,null,null,null,null,null,null,null,null,null,null,null,null,null,13,"","",0,0,0,0,0,0,0,0,0,0,0,0,0,0,0,0,0]
[null,null,null,null,null,null,null,null,null,null,null,null,null,null,null,null,null,null,null,null,null,null,null,null,null,null,null,null,null,null,null,null,14,"","",0,0,0,0,0,0,0,0,0,0,0,0,0,0,0,0,0]
[null,null,null,null,null,null,null,null,null,null,null,null,null,null,null,null,null,null,null,null,null,null,null,null,null,null,null,null,null,null,null,null,15,"","",0,0,0,0,0,0,0,0,0,0,0,0,0,0,0,0,0]
[null,null,null,null,null,null,null,null,null,null,null,null,null,null,null,null,null,null,null,null,null,null,null,null,null,null,null,null,null,null,null,null,16,"","",{"$f":"$AJ77*1000*BX22/100","v":0},0,0,0,0,0,0,{"$f":"$AJ77*CE22","v":0},0,0,0,0,0,0,0,0,0]
[null,null,null,null,null,null,null,null,null,null,null,null,null,null,null,null,null,null,null,null,null,null,null,null,null,null,null,null,null,null,null,null,17,"","",{"$f":"$AJ78*1000*BX23/100","v":0},0,0,0,0,0,0,{"$f":"$AJ78*CE23","v":0},0,0,0,0,0,0,0,0,0]
[null,null,null,null,null,null,null,null,null,null,null,null,null,null,null,null,null,null,null,null,null,null,null,null,null,null,null,null,null,null,null,null,18,"","",{"$f":"$AJ79*1000*BX24/100","v":0},0,0,0,0,0,0,{"$f":"$AJ79*CE24","v":0},0,0,0,0,0,0,0,0,0]
[null,null,null,null,null,null,null,null,null,null,null,null,null,null,null,null,null,null,null,null,null,null,null,null,null,null,null,null,null,null,null,null,19,"","",{"$f":"$AJ80*1000*BX25/100","v":0},0,0,0,0,0,0,{"$f":"$AJ80*CE25","v":0},0,0,0,0,0,0,0,0,0]
[null,null,null,null,null,null,null,null,null,null,null,null,null,null,null,null,null,null,null,null,null,null,null,null,null,null,null,null,null,null,null,null,20,"","",{"$f":"$AJ81*1000*BX26/100","v":0},0,0,0,0,0,0,{"$f":"$AJ81*CE26","v":0},0,0,0,0,0,0,0,0,0]
[null,null,null,null,null,null,null,null,null,null,null,null,null,null,null,null,null,null,null,null,null,null,null,null,null,null,null,null,null,null,null,null,21,"","",{"$f":"$AJ82*1000*BX27/100","v":0},0,0,0,0,0,0,{"$f":"$AJ82*CE27","v":0},0,0,0,0,0,0,0,0,0]
[null,null,null,null,null,null,null,null,null,null,null,null,null,null,null,null,null,null,null,null,null,null,null,null,null,null,null,null,null,null,null,null,22,"","",{"$f":"$AJ83*1000*BX28/100","v":0},0,0,0,0,0,0,{"$f":"$AJ83*CE28","v":0},0,0,0,0,0,0,0,0,0]
[null,null,null,null,null,null,null,null,null,null,null,null,null,null,null,null,null,null,null,null,null,null,null,null,null,null,null,null,null,null,null,null,"Diet (sum or average)",null,null,{"$f":"SUM(AJ370:AJ391)","v":16.102694366324958},{"$f":"SUM(AK370:AK391)","v":36.741358976685113},14.651183888233692,28.395173727660346,107.41177537875352,3.5834164927878072,18.370679488342557,4.6493695001360793,{"$f":"SUM(AR370:AR391)","v":63.140705796969975},0.43091717318334394,1363.2858568447791,259.32141885149235,1.891499591762678,167.60410051710062,32.749705161934138,0,225.80059874807222]
[]
[]
[null,null,null,null,null,null,null,null,null,null,null,null,null,null,null,null,null,null,null,null,null,null,null,null,null,null,null,null,null,null,null,null,"Table S15. Ruminal fermentation end products",null,null,null,null,null,null,null,null,null,null,"End Products",null,null,null,"Acid Products",null,null,null,null,null,"Coefficients",null,"Value","Unit"]
[null,null,null,null,null,null,null,null,null,null,null,null,null,null,null,null,null,null,null,null,null,null,null,null,null,null,null,null,null,null,null,null,"#","ID","Feed","BACTCA","BACTCB1","BACTCB2","BACTCB3","A Ratio","B1 Ratio","B2 Ratio","RDP*","CA","CB1","CB2","CB3","CA","CB1","CB2","CB3","Total",null,"f,CA,L",null,{"$f":"2.444-0.308*pH","v":0.62697022386831258}]
[null,null,null,null,null,null,null,null,null,null,null,null,null,null,null,null,null,null,null,null,null,null,null,null,null,null,null,null,null,null,null,null,null,null,null,"kg/d","kg/d","kg/d","kg/d",null,null,null,"kg/d","kg/d","kg/d","kg/d","kg/d","kg/d","kg/d","kg/d","kg/d","kg/d",null,"f,CB1/CB2,L",null,{"$f":"3.292-0.473*pH","v":0.50156141522633746}]
[null,null,null,null,null,null,null,null,null,null,null,null,null,null,null,null,null,null,null,null,null,null,null,null,null,null,null,null,null,null,null,null,1,{"$f":"$AH7","v":301},{"$f":"$AI7","v":"Barley, Silage"},{"$f":"AK230*AR202","v":0},{"$f":"AL230*AS202","v":0.10820985403626868},{"$f":"AM230*AT202","v":0.12190925234242495},{"$f":"AN230*AU202","v":0.15081169777080466},{"$f":"IF((AJ398+AK398+AL398)>0,AJ398/(AJ398+AK398+AL398),0)","v":0},{"$f":"IF((AJ398+AK398+AL398)>0,AK398/(AJ398+AK398+AL398),0)","v":0.47023411371237472},{"$f":"IF((AJ398+AK398+AL398)>0,AL398/(AJ398+AK398+AL398),0)","v":0.52976588628762522},{"$f":"AW202+IF(AO7>=100,AV202/6.25,AV202)","v":0.20791024768801175},{"$f":"AR202-(1-$BH$95/100)*AJ398+$AQ398*AN398","v":0},{"$f":"AS202-(1-$BH$95/100)*AK398+$AQ398*AO398","v":0.29730546189617191},{"$f":"AT202-(1-$BH$95/100)*AL398+$AQ398*AP398","v":0.33494441795415081},{"$f":"AU202-(1-$BH$95/100-$BH$93/6.25/100)*AM398","v":0.43644905334870865},{"$f":"AR398-0.344*AR202","v":0},{"$f":"AS398-0.344*AS202","v":0.19307773048843793},{"$f":"AT398-0.344*AT202","v":0.21752142609792713},{"$f":"AU398-0.54*AU202","v":0.13105536536282919},{"$f":"AV398+AW398+AX398+AY398","v":0.54165452194919417},null,"f,CB3,L",null,0]
[null,null,null,null,null,null,null,null,null,null,null,null,null,null,null,null,null,null,null,null,null,null,null,null,null,null,null,null,null,null,null,null,2,{"$f":"$AH8","v":402},{"$f":"$AI8","v":"Barley Grain, Heavy"},0,1.4515340885572101,0.13108844862858512,{"$f":"AN231*AU203","v":0.18601932211353348},{"$f":"IF((AJ399+AK399+AL399)>0,AJ399/(AJ399+AK399+AL399),0)","v":0},{"$f":"IF((AJ399+AK399+AL399)>0,AK399/(AJ399+AK399+AL399),0)","v":0.91717011128775827},{"$f":"IF((AJ399+AK399+AL399)>0,AL399/(AJ399+AK399+AL399),0)","v":8.282988871224177E-2},0.81072298314252456,0,3.7105065656833101,0.33509688346698002,0.49956094631367348,0,2.2125233862922693,0.19981360448228017,0.14381246385053004,{"$f":"AV399+AW399+AX399+AY399","v":2.5561494546250794},null,"f,CA,Ac:P",null,{"$f":"0.465*pH-1.302","v":1.4412430061728396}]
[null,null,null,null,null,null,null,null,null,null,null,null,null,null,null,null,null,null,null,null,null,null,null,null,null,null,null,null,null,null,null,null,3,800,"Minerals ",0,0,0,0,0,0,0,0,0,0,0,0,0,0,0,0,0,null,"f,CB1/CB2,Ac:P",null,{"$f":"5.013-0.535*pH","v":1.8567956810699586}]
[null,null,null,null,null,null,null,null,null,null,null,null,null,null,null,null,null,null,null,null,null,null,null,null,null,null,null,null,null,null,null,null,4,"","",0,0,0,0,0,0,0,0,0,0,0,0,0,0,0,0,0,null,"f,CB3,Ac:P",null,{"$f":"0.274+0.239*pH","v":1.6839679106995884}]
[null,null,null,null,null,null,null,null,null,null,null,null,null,null,null,null,null,null,null,null,null,null,null,null,null,null,null,null,null,null,null,null,5,"","",0,0,0,0,0,0,0,0,0,0,0,0,0,0,0,0,0,null,"f,CA,B",null,{"$f":"0.567-0.0575*pH","v":0.22778177880658429}]
[null,null,null,null,null,null,null,null,null,null,null,null,null,null,null,null,null,null,null,null,null,null,null,null,null,null,null,null,null,null,null,null,6,"","",0,0,0,0,0,0,0,0,0,0,0,0,0,0,0,0,0,null,"f,CB1/CB2,B",null,{"$f":"0.737-0.0922*pH","v":0.19307095662551432}]
[null,null,null,null,null,null,null,null,null,null,null,null,null,null,null,null,null,null,null,null,null,null,null,null,null,null,null,null,null,null,null,null,7,"","",0,0,0,0,0,0,0,0,0,0,0,0,0,0,0,0,0,null,"f,CB3,B",null,{"$f":"0.482-0.06*pH","v":0.12803316049382713}]
[null,null,null,null,null,null,null,null,null,null,null,null,null,null,null,null,null,null,null,null,null,null,null,null,null,null,null,null,null,null,null,null,8,"","",0,0,0,0,0,0,0,0,0,0,0,0,0,0,0,0,0,null,"uL",null,{"$f":"IF(AND(pH>=4.18,pH<6.07),-3.631+1.255*pH-0.0925*pH^2,IF(AND(pH>=6.07,pH<=7.33),-6.906+2.636*pH-0.2311*pH^2,0))","v":0.55348460940023791},"1/h"]
[null,null,null,null,null,null,null,null,null,null,null,null,null,null,null,null,null,null,null,null,null,null,null,null,null,null,null,null,null,null,null,null,9,"","",0,0,0,0,0,0,0,0,0,0,0,0,0,0,0,0,0,null,"Y,L,max",null,{"$f":"IF(pH>=5.07,-1.176+0.232*pH,0)","v":0.19267177942386859},"g/g"]
[null,null,null,null,null,null,null,null,null,null,null,null,null,null,null,null,null,null,null,null,null,null,null,null,null,null,null,null,null,null,null,null,10,"","",0,0,0,0,0,0,0,0,0,0,0,0,0,0,0,0,0,null,"m,L",null,{"$f":"-2.779+0.664*pH","v":1.1382330238683132},"g/g/h"]
[null,null,null,null,null,null,null,null,null,null,null,null,null,null,null,null,null,null,null,null,null,null,null,null,null,null,null,null,null,null,null,null,11,"","",0,0,0,0,0,0,0,0,0,0,0,0,0,0,0,0,0,null,"kd,L",null,{"$f":"(BD405+BD406*BD407)*100","v":77.278999150795642},"%/h"]
[null,null,null,null,null,null,null,null,null,null,null,null,null,null,null,null,null,null,null,null,null,null,null,null,null,null,null,null,null,null,null,null,12,"","",0,0,0,0,0,0,0,0,0,0,0,0,0,0,0,0,0,null,"Y,L",null,{"$f":"1/(BD407/BD405+1/BD406)","v":0.13799462434649135},"g/g"]
[null,null,null,null,null,null,null,null,null,null,null,null,null,null,null,null,null,null,null,null,null,null,null,null,null,null,null,null,null,null,null,null,13,"","",0,0,0,0,0,0,0,0,0,0,0,0,0,0,0,0,0,null,"f,L,A",null,{"$f":"IF(AND(pH>=4,pH<=5.65),1.035-0.154*pH,IF(AND(pH>5.65,pH<=8),-1.089+0.222*pH,0))","v":0.22067730617283954}]
[null,null,null,null,null,null,null,null,null,null,null,null,null,null,null,null,null,null,null,null,null,null,null,null,null,null,null,null,null,null,null,null,14,"","",0,0,0,0,0,0,0,0,0,0,0,0,0,0,0,0,0,null,"f,L,P",null,{"$f":"IF(AND(pH>=4,pH<=6),1.568-0.206*pH,IF(AND(pH>6,pH<=8),-1.408+0.29*pH,0))","v":0.35271385102880659}]
[null,null,null,null,null,null,null,null,null,null,null,null,null,null,null,null,null,null,null,null,null,null,null,null,null,null,null,null,null,null,null,null,15,"","",0,0,0,0,0,0,0,0,0,0,0,0,0,0,0,0,0,null,"f,L,B",null,{"$f":"IF(AND(pH>=4.4,pH<=5.5),-1.181+0.27*pH,IF(AND(pH>5.5,pH<=7),1.316-0.184*pH,0))","v":0.23050169218107008}]
[null,null,null,null,null,null,null,null,null,null,null,null,null,null,null,null,null,null,null,null,null,null,null,null,null,null,null,null,null,null,null,null,16,"","",{"$f":"AK245*AR217","v":0},0,0,0,{"$f":"IF((AJ413+AK413+AL413)>0,AJ413/(AJ413+AK413+AL413),0)","v":0},{"$f":"IF((AJ413+AK413+AL413)>0,AK413/(AJ413+AK413+AL413),0)","v":0},{"$f":"IF((AJ413+AK413+AL413)>0,AL413/(AJ413+AK413+AL413),0)","v":0},{"$f":"AW217+IF(AO22>=100,AV217/6.25,AV217)","v":0},0,0,0,0,{"$f":"AR413-0.344*AR217","v":0},0,0,{"$f":"AU413-0.54*AU217","v":0},{"$f":"AV413+AW413+AX413+AY413","v":0}]
[null,null,null,null,null,null,null,null,null,null,null,null,null,null,null,null,null,null,null,null,null,null,null,null,null,null,null,null,null,null,null,null,17,"","",0,0,0,0,0,0,0,0,0,0,0,0,0,0,0,0,0]
[null,null,null,null,null,null,null,null,null,null,null,null,null,null,null,null,null,null,null,null,null,null,null,null,null,null,null,null,null,null,null,null,18,"","",0,0,0,0,0,0,0,0,0,0,0,0,0,0,0,0,0]
[null,null,null,null,null,null,null,null,null,null,null,null,null,null,null,null,null,null,null,null,null,null,null,null,null,null,null,null,null,null,null,null,19,"","",0,0,0,0,0,0,0,0,0,0,0,0,0,0,0,0,0]
[null,null,null,null,null,null,null,null,null,null,null,null,null,null,null,null,null,null,null,null,null,null,null,null,null,null,null,null,null,null,null,null,20,"","",0,0,0,0,0,0,0,0,0,0,0,0,0,0,0,0,0]
[null,null,null,null,null,null,null,null,null,null,null,null,null,null,null,null,null,null,null,null,null,null,null,null,null,null,null,null,null,null,null,null,21,"","",0,0,0,0,0,0,0,0,0,0,0,0,0,0,0,0,0]
[null,null,null,null,null,null,null,null,null,null,null,null,null,null,null,null,null,null,null,null,null,null,null,null,null,null,null,null,null,null,null,null,22,"","",0,0,0,0,0,0,0,0,0,0,0,0,0,0,0,0,0]
[null,null,null,null,null,null,null,null,null,null,null,null,null,null,null,null,null,null,null,null,null,null,null,null,null,null,null,null,null,null,null,null,"Diet (sum or average)",null,null,{"$f":"SUM(AJ398:AJ419)","v":0},{"$f":"SUM(AK398:AK419)","v":1.5597439425934787},{"$f":"SUM(AL398:AL419)","v":0.25299770097101004},{"$f":"SUM(AM398:AM419)","v":0.33683101988433817},null,null,null,{"$f":"SUM(AQ398:AQ419)","v":1.0186332308305364},0,4.0078120275794822,0.67004130142113083,0.93600999966238208,0,2.4056011167807072,0.41733503058020727,0.27486782921335923,3.0978039765742738]
[]
[]
[null,null,null,null,null,null,null,null,null,null,null,null,null,null,null,null,null,null,null,null,null,null,null,null,null,null,null,null,null,null,null,null,"Table S16. Ruminal volatile fatty acids",null,null,"Lactate",null,null,null,"Megasphaera elsdenii",null,null,null,"Volatile Fatty Acids",null,null,null,"Butyrate",null,null,null,null,"Propionate",null,null,null,null,"Acetate"]
[null,null,null,null,null,null,null,null,null,null,null,null,null,null,null,null,null,null,null,null,null,null,null,null,null,null,null,null,null,null,null,null,"#","ID","Feed","CA","CB1","CB2","CB3","Total","RDL","BACTL","EndProd","CA","CB1","CB2","CB3","CA","CB1","CB2","CB3","Lactate","CA","CB1","CB2","CB3","Lactate","CA","CB1","CB2","CB3","Lactate"]
[null,null,null,null,null,null,null,null,null,null,null,null,null,null,null,null,null,null,null,null,null,null,null,null,null,null,null,null,null,null,null,null,null,null,null,"kg/d","kg/d","kg/d","kg/d","kg/d","kg/d","kg/d","kg/d","kg/d","kg/d","kg/d","kg/d","kg/d","kg/d","kg/d","kg/d","kg/d","kg/d","kg/d","kg/d","kg/d","kg/d","kg/d","kg/d","kg/d","kg/d","kg/d"]
[null,null,null,null,null,null,null,null,null,null,null,null,null,null,null,null,null,null,null,null,null,null,null,null,null,null,null,null,null,null,null,null,1,{"$f":"$AH7","v":301},{"$f":"$AI7","v":"Barley, Silage"},{"$f":"$BD$396*AV398","v":0},{"$f":"$BD$397*AW398","v":9.6840339752470292E-2},{"$f":"$BD$397*AX398","v":0.10910035431572751},{"$f":"$BD$398*AY398","v":0},{"$f":"SUM(AJ426:AM426)","v":0.20594069406819782},{"$f":"($BD$408/($BD$408+AP202))*AN426","v":0.19246837161138058},{"$f":"AO426*$BD$409","v":2.6559600639093364E-2},{"$f":"AO426-(1-$BH$95/100-$BH$93/6.25/100)*AP426","v":0.16973335346431667},{"$f":"(1-$BD$396)*AV398","v":0},{"$f":"(1-$BD$397)*AW398","v":9.623739073596764E-2},{"$f":"(1-$BD$397)*AX398","v":0.10842107178219962},{"$f":"(1-$BD$398)*AY398","v":0.13105536536282919},{"$f":"$BD$402*AV398","v":0},{"$f":"$BD$403*AW398","v":3.7277702128485947E-2},4.1997069823272906E-2,{"$f":"$BD$404*AY398","v":1.6779432627076263E-2},{"$f":"AQ426*$BD$412","v":3.9123825193092689E-2},{"$f":"(1-$BD$402)*AR426/(1+$BD$399)","v":0},{"$f":"(1-$BD$403)*AS426/(1+$BD$400)","v":2.7183164045650649E-2},{"$f":"(1-$BD$403)*AT426/(1+$BD$400)","v":3.062456034730484E-2},{"$f":"(1-$BD$404)*AU426/(1+$BD$401)","v":4.2577235100387759E-2},{"$f":"AQ426*$BD$411","v":5.9867304748432763E-2},{"$f":"BA426*$BD$399","v":0},{"$f":"BB426*$BD$400","v":5.0473581597780308E-2},{"$f":"BC426*$BD$400","v":5.6863551387541941E-2},{"$f":"BD426*$BD$401","v":7.1698697635365155E-2},{"$f":"AQ426*$BD$410","v":3.7456299210187803E-2}]
[null,null,null,null,null,null,null,null,null,null,null,null,null,null,null,null,null,null,null,null,null,null,null,null,null,null,null,null,null,null,null,null,2,{"$f":"$AH8","v":402},{"$f":"$AI8","v":"Barley Grain, Heavy"},0,1.109716360850119,0.10021879424560809,0,1.2099351550957271,1.0939908434322594,{"$f":"AO427*$BD$409","v":0.15096485547793587},0.96476492714314632,0,1.1028070254421503,9.9594810236672077E-2,0.14381246385053004,{"$f":"$BD$402*AV399","v":0},0.42717400674777078,3.8578203764185991E-2,1.8412764265187623E-2,{"$f":"AQ427*$BD$412","v":0.22237994826344201},0,0.31149830698897096,2.8131499036445511E-2,4.6721758142278386E-2,0.34028595279018514,{"$f":"BA427*$BD$399","v":0},{"$f":"BB427*$BD$400","v":0.57838871107772538},{"$f":"BC427*$BD$400","v":5.2234445912895729E-2},{"$f":"BD427*$BD$401","v":7.8677941443064017E-2},{"$f":"AQ427*$BD$410","v":0.21290172521198533}]
[null,null,null,null,null,null,null,null,null,null,null,null,null,null,null,null,null,null,null,null,null,null,null,null,null,null,null,null,null,null,null,null,3,800,"Minerals ",0,0,0,0,0,0,0,0,0,0,0,0,0,0,0,0,0,0,0,0,0,0,0,0,0,0,0]
[null,null,null,null,null,null,null,null,null,null,null,null,null,null,null,null,null,null,null,null,null,null,null,null,null,null,null,null,null,null,null,null,4,"","",0,0,0,0,0,0,0,0,0,0,0,0,0,0,0,0,0,0,0,0,0,0,0,0,0,0,0]
[null,null,null,null,null,null,null,null,null,null,null,null,null,null,null,null,null,null,null,null,null,null,null,null,null,null,null,null,null,null,null,null,5,"","",0,0,0,0,0,0,0,0,0,0,0,0,0,0,0,0,0,0,0,0,0,0,0,0,0,0,0]
[null,null,null,null,null,null,null,null,null,null,null,null,null,null,null,null,null,null,null,null,null,null,null,null,null,null,null,null,null,null,null,null,6,"","",0,0,0,0,0,0,0,0,0,0,0,0,0,0,0,0,0,0,0,0,0,0,0,0,0,0,0]
[null,null,null,null,null,null,null,null,null,null,null,null,null,null,null,null,null,null,null,null,null,null,null,null,null,null,null,null,null,null,null,null,7,"","",0,0,0,0,0,0,0,0,0,0,0,0,0,0,0,0,0,0,0,0,0,0,0,0,0,0,0]
[null,null,null,null,null,null,null,null,null,null,null,null,null,null,null,null,null,null,null,null,null,null,null,null,null,null,null,null,null,null,null,null,8,"","",0,0,0,0,0,0,0,0,0,0,0,0,0,0,0,0,0,0,0,0,0,0,0,0,0,0,0]
[null,null,null,null,null,null,null,null,null,null,null,null,null,null,null,null,null,null,null,null,null,null,null,null,null,null,null,null,null,null,null,null,9,"","",0,0,0,0,0,0,0,0,0,0,0,0,0,0,0,0,0,0,0,0,0,0,0,0,0,0,0]
[null,null,null,null,null,null,null,null,null,null,null,null,null,null,null,null,null,null,null,null,null,null,null,null,null,null,null,null,null,null,null,null,10,"","",0,0,0,0,0,0,0,0,0,0,0,0,0,0,0,0,0,0,0,0,0,0,0,0,0,0,0]
[null,null,null,null,null,null,null,null,null,null,null,null,null,null,null,null,null,null,null,null,null,null,null,null,null,null,null,null,null,null,null,null,11,"","",0,0,0,0,0,0,0,0,0,0,0,0,0,0,0,0,0,0,0,0,0,0,0,0,0,0,0]
[null,null,null,null,null,null,null,null,null,null,null,null,null,null,null,null,null,null,null,null,null,null,null,null,null,null,null,null,null,null,null,null,12,"","",0,0,0,0,0,0,0,0,0,0,0,0,0,0,0,0,0,0,0,0,0,0,0,0,0,0,0]
[null,null,null,null,null,null,null,null,null,null,null,null,null,null,null,null,null,null,null,null,null,null,null,null,null,null,null,null,null,null,null,null,13,"","",0,0,0,0,0,0,0,0,0,0,0,0,0,0,0,0,0,0,0,0,0,0,0,0,0,0,0]
[null,null,null,null,null,null,null,null,null,null,null,null,null,null,null,null,null,null,null,null,null,null,null,null,null,null,null,null,null,null,null,null,14,"","",0,0,0,0,0,0,0,0,0,0,0,0,0,0,0,0,0,0,0,0,0,0,0,0,0,0,0]
[null,null,null,null,null,null,null,null,null,null,null,null,null,null,null,null,null,null,null,null,null,null,null,null,null,null,null,null,null,null,null,null,15,"","",0,0,0,0,0,0,0,0,0,0,0,0,0,0,0,0,0,0,0,0,0,0,0,0,0,0,0]
[null,null,null,null,null,null,null,null,null,null,null,null,null,null,null,null,null,null,null,null,null,null,null,null,null,null,null,null,null,null,null,null,16,"","",{"$f":"$BD$396*AV413","v":0},{"$f":"$BD$397*AW413","v":0},0,{"$f":"$BD$398*AY413","v":0},{"$f":"SUM(AJ441:AM441)","v":0},{"$f":"($BD$408/($BD$408+AP217))*AN441","v":0},0,0,{"$f":"(1-$BD$396)*AV413","v":0},{"$f":"(1-$BD$397)*AW413","v":0},0,{"$f":"(1-$BD$398)*AY413","v":0},{"$f":"$BD$402*AV413","v":0},{"$f":"$BD$403*AW413","v":0},0,{"$f":"$BD$404*AY413","v":0},0,{"$f":"(1-$BD$402)*AR441/(1+$BD$399)","v":0},{"$f":"(1-$BD$403)*AS441/(1+$BD$400)","v":0},{"$f":"(1-$BD$403)*AT441/(1+$BD$400)","v":0},{"$f":"(1-$BD$404)*AU441/(1+$BD$401)","v":0},0,{"$f":"BA441*$BD$399","v":0},{"$f":"BB441*$BD$400","v":0},{"$f":"BC441*$BD$400","v":0},{"$f":"BD441*$BD$401","v":0},0]
[null,null,null,null,null,null,null,null,null,null,null,null,null,null,null,null,null,null,null,null,null,null,null,null,null,null,null,null,null,null,null,null,17,"","",0,0,0,0,0,0,0,0,0,0,0,0,0,0,0,0,0,0,0,0,0,0,0,0,0,0,0]
[null,null,null,null,null,null,null,null,null,null,null,null,null,null,null,null,null,null,null,null,null,null,null,null,null,null,null,null,null,null,null,null,18,"","",0,0,0,0,0,0,0,0,0,0,0,0,0,0,0,0,0,0,0,0,0,0,0,0,0,0,0]
[null,null,null,null,null,null,null,null,null,null,null,null,null,null,null,null,null,null,null,null,null,null,null,null,null,null,null,null,null,null,null,null,19,"","",0,0,0,0,0,{"$f":"($BD$408/($BD$408+AP220))*AN444","v":0},0,0,0,0,0,0,0,0,0,0,0,0,0,0,0,0,0,0,0,0,0]
[null,null,null,null,null,null,null,null,null,null,null,null,null,null,null,null,null,null,null,null,null,null,null,null,null,null,null,null,null,null,null,null,20,"","",0,0,0,0,0,0,0,0,0,0,0,0,0,0,0,0,0,0,0,0,0,0,0,0,0,0,0]
[null,null,null,null,null,null,null,null,null,null,null,null,null,null,null,null,null,null,null,null,null,null,null,null,null,null,null,null,null,null,null,null,21,"","",0,0,0,0,0,0,0,0,0,0,0,0,0,0,0,0,0,0,0,0,0,0,0,0,0,0,0]
[null,null,null,null,null,null,null,null,null,null,null,null,null,null,null,null,null,null,null,null,null,null,null,null,null,null,null,null,null,null,null,null,22,"","",0,0,0,0,0,0,0,0,0,0,0,0,0,0,0,0,0,0,0,0,0,0,0,0,0,0,0]
[null,null,null,null,null,null,null,null,null,null,null,null,null,null,null,null,null,null,null,null,null,null,null,null,null,null,null,null,null,null,null,null,"Diet (sum or average)",null,null,{"$f":"SUM(AJ426:AJ447)","v":0},{"$f":"SUM(AK426:AK447)","v":1.2065567006025892},{"$f":"SUM(AL426:AL447)","v":0.2093191485613356},0,1.4158758491639249,1.28645921504364,0.17752445611702922,1.134498280607463,0,1.199044416178118,0.2080158820188717,0.27486782921335923,0,0.46445170887625675,8.057527358745889E-2,3.5192196892263883E-2,0.26150377345653469,0,0.3386814710346216,{"$f":"SUM(BC426:BC447)","v":5.875605938375035E-2},8.9298993242666144E-2,0.40015325753861791,0,0.62886229267550564,0.10909799730043768,0.15037663907842919,0.25035802442217314]
[]
[]
[null,null,null,null,null,null,null,null,null,null,null,null,null,null,null,null,null,null,null,null,null,null,null,null,null,null,null,null,null,null,null,null,"Table S17. Ruminal methane",null,null,"Propionate",null,null,null,"Methane Yied",null,null,null,"Methane Production",null,null,null,null,null,null,null,null,null,"MLS","Methane","ELS"]
[null,null,null,null,null,null,null,null,null,null,null,null,null,null,null,null,null,null,null,null,null,null,null,null,null,null,null,null,null,null,null,null,"#","ID","Feed","CA","CB1","CB2","CB3","CA","CB1","CB2","CB3","r,pH,CH4","CA","CB1","CB2","CB3","Total",null,null,null,null,{"$f":"AW476*$BO$33","v":8.0626855058063445},"MJ/d",{"$f":"BE49","v":11.551401614805405}]
[null,null,null,null,null,null,null,null,null,null,null,null,null,null,null,null,null,null,null,null,null,null,null,null,null,null,null,null,null,null,null,null,null,null,null,"mol/mol","mol/mol","mol/mol","mol/mol","g/g C3","g/g C3","g/g C3","g/g C3",null,"kg/d","kg/d","kg/d","kg/d","kg/d",null,null,null,null,{"$f":"BB452/$BO$32","v":1.9288721305756806},"Mcal/d",{"$f":"BE50","v":2.76349320928359}]
[null,null,null,null,null,null,null,null,null,null,null,null,null,null,null,null,null,null,null,null,null,null,null,null,null,null,null,null,null,null,null,null,1,{"$f":"$AH7","v":301},{"$f":"$AI7","v":"Barley, Silage"},{"$f":"IF((BF426/60+BA426/74+AV426/88)>0,(BA426/74)/(BF426/60+BA426/74+AV426/88),0)","v":0},{"$f":"IF((BG426/60+BB426/74+AW426/88)>0,(BB426/74)/(BG426/60+BB426/74+AW426/88),0)","v":0.22506145462184468},{"$f":"IF((BH426/60+BC426/74+AX426/88)>0,(BC426/74)/(BH426/60+BC426/74+AX426/88),0)","v":0.22506145462184468},{"$f":"IF((BI426/60+BD426/74+AY426/88)>0,(BD426/74)/(BI426/60+BD426/74+AY426/88),0)","v":0.2934021790610094},{"$f":"IF(AJ454>0,(1/(2*AJ454)-3/4)*(16/74),0)","v":0},{"$f":"IF(AK454>0,(1/(2*AK454)-3/4)*(16/74),0)","v":0.3181871197251106},{"$f":"IF(AL454>0,(1/(2*AL454)-3/4)*(16/74),0)","v":0.3181871197251106},{"$f":"IF(AM454>0,(1/(2*AM454)-3/4)*(16/74),0)","v":0.20630172741797742},{"$f":"IF($BD$458=0,1,IF(pH<6,0,(pH-6)/0.7))","v":1},{"$f":"AN454*BA426*$AR454","v":0},{"$f":"AO454*BB426*$AR454","v":8.6493326727007658E-3},{"$f":"AP454*BC426*$AR454","v":9.7443406497567595E-3},{"$f":"AQ454*BD426*$AR454","v":8.7837571498913351E-3},{"$f":"AS454+AT454+AU454+AV454","v":2.717743047234886E-2},null,null,null,null,{"$f":"IF(BG45<>0,BB453*100/BG45,0)","v":4.1308715842378287},"% GE",{"$f":"BE51","v":5.9182956664197004}]
[null,null,null,null,null,null,null,null,null,null,null,null,null,null,null,null,null,null,null,null,null,null,null,null,null,null,null,null,null,null,null,null,2,{"$f":"$AH8","v":402},{"$f":"$AI8","v":"Barley Grain, Heavy"},{"$f":"IF((BF427/60+BA427/74+AV427/88)>0,(BA427/74)/(BF427/60+BA427/74+AV427/88),0)","v":0},0.22506145462184471,0.22506145462184471,{"$f":"IF((BI427/60+BD427/74+AY427/88)>0,(BD427/74)/(BI427/60+BD427/74+AY427/88),0)","v":0.29340217906100935},0,0.31818711972511049,0.31818711972511049,0.20630172741797748,1,0,9.9114749100068927E-2,8.9510806519563172E-3,9.6387794127569849E-3,0.11770460916478223,null,null,null,null,{"$f":"(BB452/$BO$33)*1000","v":144.8820396371311},"g/d",{"$f":"BE52","v":207.57235606119326}]
[null,null,null,null,null,null,null,null,null,null,null,null,null,null,null,null,null,null,null,null,null,null,null,null,null,null,null,null,null,null,null,null,3,800,"Minerals ",0,0,0,0,0,0,0,0,1,0,0,0,0,0,null,null,null,null,{"$f":"IF(DMI<>0,BB455/DMI,0)","v":13.144318707161286},"g/kg DM",{"$f":"BE53","v":18.831852517387105}]
[null,null,null,null,null,null,null,null,null,null,null,null,null,null,null,null,null,null,null,null,null,null,null,null,null,null,null,null,null,null,null,null,4,"","",{"$f":"IF((BF429/60+BA429/74+AV429/88)>0,(BA429/74)/(BF429/60+BA429/74+AV429/88),0)","v":0},0,0,0,0,0,0,0,1,0,0,0,0,0,null,null,null,null,{"$f":"BB455/$BO$35","v":9.0551274773206938},"mol/d",{"$f":"BD455/$BO$35","v":12.973272253824579}]
[null,null,null,null,null,null,null,null,null,null,null,null,null,null,null,null,null,null,null,null,null,null,null,null,null,null,null,null,null,null,null,null,5,"","",0,0,0,0,0,0,0,0,1,0,0,0,0,0,null,null,null,null,"Use r,pH,CH4?",null,0]
[null,null,null,null,null,null,null,null,null,null,null,null,null,null,null,null,null,null,null,null,null,null,null,null,null,null,null,null,null,null,null,null,6,"","",0,0,0,0,0,0,0,0,1,0,0,0,0,0]
[null,null,null,null,null,null,null,null,null,null,null,null,null,null,null,null,null,null,null,null,null,null,null,null,null,null,null,null,null,null,null,null,7,"","",0,0,0,0,0,0,0,0,1,0,0,0,0,0]
[null,null,null,null,null,null,null,null,null,null,null,null,null,null,null,null,null,null,null,null,null,null,null,null,null,null,null,null,null,null,null,null,8,"","",0,0,0,0,0,0,0,0,1,0,0,0,0,0]
[null,null,null,null,null,null,null,null,null,null,null,null,null,null,null,null,null,null,null,null,null,null,null,null,null,null,null,null,null,null,null,null,9,"","",0,0,0,0,0,0,0,0,1,0,0,0,0,0]
[null,null,null,null,null,null,null,null,null,null,null,null,null,null,null,null,null,null,null,null,null,null,null,null,null,null,null,null,null,null,null,null,10,"","",0,0,0,0,0,0,0,0,1,0,0,0,0,0]
[null,null,null,null,null,null,null,null,null,null,null,null,null,null,null,null,null,null,null,null,null,null,null,null,null,null,null,null,null,null,null,null,11,"","",0,0,0,0,0,0,0,0,1,0,0,0,0,0]
[null,null,null,null,null,null,null,null,null,null,null,null,null,null,null,null,null,null,null,null,null,null,null,null,null,null,null,null,null,null,null,null,12,"","",0,0,0,0,0,0,0,0,1,0,0,0,0,0]
[null,null,null,null,null,null,null,null,null,null,null,null,null,null,null,null,null,null,null,null,null,null,null,null,null,null,null,null,null,null,null,null,13,"","",0,0,0,0,0,0,0,0,1,0,0,0,0,0]
[null,null,null,null,null,null,null,null,null,null,null,null,null,null,null,null,null,null,null,null,null,null,null,null,null,null,null,null,null,null,null,null,14,"","",0,0,0,0,0,0,0,0,1,0,0,0,0,0]
[null,null,null,null,null,null,null,null,null,null,null,null,null,null,null,null,null,null,null,null,null,null,null,null,null,null,null,null,null,null,null,null,15,"","",0,0,0,0,0,0,0,0,1,0,0,0,0,0]
[null,null,null,null,null,null,null,null,null,null,null,null,null,null,null,null,null,null,null,null,null,null,null,null,null,null,null,null,null,null,null,null,16,"","",{"$f":"IF((BF441/60+BA441/74+AV441/88)>0,(BA441/74)/(BF441/60+BA441/74+AV441/88),0)","v":0},0,0,0,0,0,0,0,1,0,0,0,0,0]
[null,null,null,null,null,null,null,null,null,null,null,null,null,null,null,null,null,null,null,null,null,null,null,null,null,null,null,null,null,null,null,null,17,"","",0,0,0,0,0,0,0,0,1,0,0,0,0,0]
[null,null,null,null,null,null,null,null,null,null,null,null,null,null,null,null,null,null,null,null,null,null,null,null,null,null,null,null,null,null,null,null,18,"","",0,0,0,0,0,0,0,0,1,0,0,0,0,0]
[null,null,null,null,null,null,null,null,null,null,null,null,null,null,null,null,null,null,null,null,null,null,null,null,null,null,null,null,null,null,null,null,19,"","",0,0,0,0,0,0,0,0,1,0,0,0,0,0]
[null,null,null,null,null,null,null,null,null,null,null,null,null,null,null,null,null,null,null,null,null,null,null,null,null,null,null,null,null,null,null,null,20,"","",0,0,0,0,0,0,0,0,1,0,0,0,0,0]
[null,null,null,null,null,null,null,null,null,null,null,null,null,null,null,null,null,null,null,null,null,null,null,null,null,null,null,null,null,null,null,null,21,"","",0,0,0,0,0,0,0,0,1,0,0,0,0,0]
[null,null,null,null,null,null,null,null,null,null,null,null,null,null,null,null,null,null,null,null,null,null,null,null,null,null,null,null,null,null,null,null,22,"","",0,0,0,0,0,0,0,0,1,0,0,0,0,0]
[null,null,null,null,null,null,null,null,null,null,null,null,null,null,null,null,null,null,null,null,null,null,null,null,null,null,null,null,null,null,null,null,"Diet (sum or average)",null,null,{"$f":"IF(DMI<>0,SUMPRODUCT(AJ454:AJ475,$AJ$62:$AJ$83)/DMI,0)","v":0},0.22228291814503184,0.22228291814503184,0.28977992993679941,{"$f":"IF(DMI<>0,SUMPRODUCT(AN454:AN475,$AJ$62:$AJ$83)/DMI,0)","v":0},{"$f":"IF(DMI<>0,SUMPRODUCT(AO454:AO475,$AJ$62:$AJ$83)/DMI,0)","v":0.31425888367912153},{"$f":"IF(DMI<>0,SUMPRODUCT(AP454:AP475,$AJ$62:$AJ$83)/DMI,0)","v":0.31425888367912153},{"$f":"IF(DMI<>0,SUMPRODUCT(AQ454:AQ475,$AJ$62:$AJ$83)/DMI,0)","v":0.20375479251158271},{"$f":"IF(DMI<>0,SUMPRODUCT(AR454:AR475,$AJ$62:$AJ$83)/DMI,0)","v":1},{"$f":"SUM(AS454:AS475)","v":0},{"$f":"SUM(AT454:AT475)","v":0.10776408177276969},{"$f":"SUM(AU454:AU475)","v":1.8695421301713075E-2},{"$f":"SUM(AV454:AV475)","v":1.842253656264832E-2},{"$f":"SUM(AW454:AW475)","v":0.14488203963713109}]

{"sheet":"Table","index":4,"n_rows":123,"n_cols":81,"rows_kept":123,"cut":false,"hidden":true,"merged":[[4,68,4,70],[9,69,9,80],[6,53,6,64],[8,53,8,64],[13,53,13,64],[18,53,18,64],[23,53,23,64],[28,53,28,64],[31,53,31,64],[5,28,5,36],[17,2,17,3],[9,41,9,49],[5,7,5,12],[11,7,11,12],[17,7,17,12],[7,28,7,36],[12,28,12,36],[17,28,17,36],[32,2,32,3],[23,7,23,12],[29,7,29,12],[22,28,22,36],[27,28,27,36],[31,28,31,36]]}
[]
["Is table optimization on? (FALSE=default)",null,null,false,null,"Table T1. Growing and finishing cattle",null,null,null,null,null,null,null,null,null,null,null,null,null,null,null,null,null,null,null,null,null,"Table T2. Pregnant Replacement Heifers or Dry Cow",null,null,null,null,null,null,null,null,null,null,null,null,null,null,null,null,null,null,null,null,null,null,null,null,"Table T3. Lactating Beef Cows"]
[null,null,null,null,null,"Table T1.1. Requirements",null,null,null,null,null,null,null,null,"Table T1.2. Diet evaluation",null,null,null,null,null,null,null,null,null,null,null,null,"Table T2.1. Requirements",null,null,null,null,null,null,null,null,null,null,"Table T2.2. Diet evaluation (replacement heifers only)",null,null,null,null,null,null,null,null,null,null,null,null,null,"Table T3.1. Requirements",null,null,null,null,null,null,null,null,null,null,null,null,null,"Table T3.2. Diet evaluation"]
["Solution","Guess",null,null,null,{"$f":"\"Mature SBW, \"&IF(parmUnit=1,\"kg\",\"lb\")","v":"Mature SBW, lb"},null,500,null,null,null,null,null,null,"Diets","TDN","ME","NEm","NEg",null,null,null,null,null,null,null,null,{"$f":"\"Mature SBW, \"&IF(parmUnit=1,\"kg\",\"lb\")","v":"Mature SBW, lb"},550,null,null,null,null,null,null,null,null,null,"Diets","TDN","ME","NEm","NEg",null,null,null,null,null,null,null,null,null,{"$f":"\"Mature SBW, \"&IF(parmUnit=1,\"kg\",\"lb\")","v":"Mature SBW, lb"},550,null,{"$f":"\"Pk milk, \"&IF(parmUnit=1,\"kg/d\",\"lb/d\")","v":"Pk milk, lb/d"},null,8,null,"Milk fat, %",null,4,null,null,null,null,"Diets","TDN","ME","NEm","NEg"]
[{"$f":"\"Actual DMI, \"&IF(parmUnit=1,\"kg/d\",\"lb/d\")","v":"Actual DMI, lb/d"},10.155662178592806,null,null,null,null,null,null,null,null,null,null,null,null,null,"%DM",{"$f":"IF(parmUnit=1,\"Mcal/kg\",\"Mcal/lb\")","v":"Mcal/lb"},{"$f":"IF(parmUnit=1,\"Mcal/kg\",\"Mcal/lb\")","v":"Mcal/lb"},{"$f":"IF(parmUnit=1,\"Mcal/kg\",\"Mcal/lb\")","v":"Mcal/lb"},null,null,null,null,null,null,null,null,{"$f":"\"Calf Birth BW, \"&IF(parmUnit=1,\"kg\",\"lb\")","v":"Calf Birth BW, lb"},40,null,null,null,null,null,null,null,{"$f":"VLOOKUP(Inputs!F20,Calc!$H$103:$K$106,4,FALSE)","v":280},null,null,"%DM",{"$f":"IF(parmUnit=1,\"Mcal/kg\",\"Mcal/lb\")","v":"Mcal/lb"},{"$f":"IF(parmUnit=1,\"Mcal/kg\",\"Mcal/lb\")","v":"Mcal/lb"},{"$f":"IF(parmUnit=1,\"Mcal/kg\",\"Mcal/lb\")","v":"Mcal/lb"},null,null,null,null,null,null,null,null,null,{"$f":"\"Calf Birth BW, \"&IF(parmUnit=1,\"kg\",\"lb\")","v":"Calf Birth BW, lb"},40,null,"Relative MY",null,5,null,"Milk CP, %",null,3.4,null,null,null,null,null,"%DM",{"$f":"IF(parmUnit=1,\"Mcal/kg\",\"Mcal/lb\")","v":"Mcal/lb"}]
["TDN, %DM",96.854350377625508,null,null,null,"Maintenance",null,{"$f":"\"Shrunk Body weight (SBW), \"&IF(parmUnit=1,\"kg\",\"lb\")","v":"Shrunk Body weight (SBW), lb"},null,null,null,null,null,null,"A",65,2.4040469310000003,1.5218688622667804,0.92763119276473383,null,null,null,null,null,null,null,null,null,"Months Since Conception",null,null,null,null,null,null,null,null,null,"A",55,2.0346549299999999,1.1846246186099605,0.62164310163914882,null,null,null,null,null,null,null,null,null,null,null,null,null,null,null,null,null,null,null,null,null,null,null,"A",55,2.0346549299999999,1.1846246186099605,0.62164310163914882]
["CP, %DM",10.97326686676281,null,null,null,null,null,250,300,350,400,450,500,null,"B",70,2.5889736179999998,1.6841195958241133,1.0717687028554472,null,null,null,null,null,null,null,null,null,1,2,3,4,5,6,7,8,9,null,"B",60,2.2196235600000005,1.3558182835930159,0.77802754810630814,null,null,null,null,null,null,null,null,null,null,"Months Since Calving",null,null,null,null,null,null,null,null,null,null,null,null,"B",60,2.2196235600000005,1.3558182835930159,0.77802754810630803]
["RUP, %CP",40.768424408421509,null,null,null,"NEm","Mcal/d",4.8411187042792996,5.5504943666512814,6.2307705487218605,6.8870893706993526,7.5231567460968849,8.1417587284923449,null,"C",75,2.7739003049999997,1.8425095713246051,1.2104862891220991,null,null,null,null,null,null,null,null,null,"NEm required, Mcal/d",null,null,null,null,null,null,null,null,null,"C",65,2.4045921899999989,1.5223533257101889,0.9280646040604128,null,null,null,null,null,null,null,null,null,null,1,2,3,4,5,6,7,8,9,10,11,12,null,"C",65,2.4045921900000002,1.5223533257101902,0.92806460406041413]
[null,null,null,null,null,"MP","g/d",238.91235163975765,273.92050121136191,307.49257253432557,339.88233257996802,371.27267058659953,401.80108010741441,null,"D",80,2.9588269919999992,1.9974372071041877,1.3442468757264376,null,null,null,null,null,null,null,null,"Maintenance",6.1266332064928859,6.2900175239090634,6.4519990979933581,6.6126361553763537,6.7719827113945614,6.9300889964058268,7.0870018273668567,7.2427649331010793,7.3974192401841918,null,"D",70,2.58956082,1.6846284344532609,1.0722175087204842,null,null,null,null,null,null,null,null,null,null,"NEm required, Mcal/d",null,null,null,null,null,null,null,null,null,null,null,null,"D",70,2.5895608200000004,1.6846284344532614,1.0722175087204842]
["Objective functions for diet evaluation",null,null,"Value",null,"Ca","g/d",7.7,9.24,10.780000000000001,12.32,13.860000000000001,15.4,null,"SBW","Diets","DMI","ADG","CP","RDP","MP","Ca","P",null,"RDP Bal.","(MP-ME)",null,"Growth",2.2989678817559356,2.3538827298277734,2.4052664499111094,2.4500814482941342,2.4847313826131363,2.5152665713538069,2.524101236661096,2.5126008321547153,2.4721171280496281,null,null,null,null,"Months Since Conception",null,null,null,null,null,null,null,null,null,null,"Maintenance",10.494070762024272,10.494070762024272,10.494070762024272,10.494070762024272,10.494070762024272,10.494070762024272,10.494070762024272,10.494070762024272,10.494070762024272,10.494070762024272,10.494070762024272,10.494070762024272,null,null,null,null,"Months Since Calving"]
["1 = Min{Actual DMI}",null,null,{"$f":"B21","v":10.155662178592806},null,"P","g/d",5.8823529411764701,7.0588235294117636,8.2352941176470598,9.4117647058823533,10.588235294117647,11.76470588235294,null,{"$f":"IF(parmUnit=1,\"kg\",\"lb\")","v":"lb"},null,{"$f":"IF(parmUnit=1,\"kg/d\",\"lb/d\")","v":"lb/d"},{"$f":"IF(parmUnit=1,\"kg/d\",\"lb/d\")","v":"lb/d"},"%DM","%CP","g/d","% DM","% DM",null,"g/d","%ME",null,"Pregnancy",3.478336033904883E-2,8.0501816712649499E-2,0.17647452885763026,0.36627778735075145,0.71938653535538777,1.3361575396560144,2.3450418298985367,3.8851296878328485,6.0682518158324745,null,"Diets",null,null,1,2,3,4,5,6,7,8,9,null,null,"Pregnancy",0,0,1.4069561705468402E-2,3.4982089880862779E-2,8.0072775303298441E-2,0.17824173889198355,0.36627778735075139,0.71328296137276193,1.34136100363377,2.3368169147187934,3.9095000947227589,6.0682518158324745,null,"Diets",null,null,1,2,3,4,5,6,7,8,9,10,11,12]
["2 = Min{(Actual DMI - Predicted DMI)/Predicted DMI}",null,null,{"$f":"(B21-B20)/B20","v":-0.58500739398362711},null,"Growth (ADG)",null,"NEg required for gain, Mcal/d",null,null,null,null,null,null,{"$f":"H7","v":250},"A",6.0580423152006659,0.80509361096029786,11.953483883114734,53.209120332801795,517.66771042083792,0.44893926269242806,0.22708730869268684,null,1.5168815370447675E-5,-5.1926194228817117E-6,null,"Total",{"$f":"SUM(AC9:AC11)","v":8.4603844485878703},8.7244020704494858,9.0337400767620988,9.4289953910212407,9.9761006293630867,10.781513107415648,11.956144893926488,13.640495453088644,15.937788184066296,null,"A",{"$f":"\"DMI, \"&IF(parmUnit=1,\"kg/d\",\"lb/d\")","v":"DMI, lb/d"},null,8.2669435324898579,8.5621915157930673,8.8574394990962748,9.1526874823994859,9.4479354657026935,9.7431834490059028,10.038431432309112,10.333679415612323,10.628927398915531,null,null,"Lactation",4.7846800981258433,5.7410491842213887,5.1664340760042684,4.1327391492687928,3.0992483085236655,2.2312384454273722,1.5617126913317951,1.0707829618918834,0.72270713132811493,0,0,0,null,"A",{"$f":"\"DMI, \"&IF(parmUnit=1,\"kg/d\",\"lb/d\")","v":"DMI, lb/d"},null,13.286159248644413,13.286159248644413,13.286159248644413,13.286159248644413,13.286159248644413,13.286159248644413,13.286159248644413,13.286159248644413,13.286159248644413,13.286159248644413,13.286159248644413,13.286159248644413]
["3 = Min{Actual CP}",null,null,{"$f":"B24","v":12.304526748971195},null,0.4,{"$f":"IF(parmUnit=1,\"kg/d\",\"lb/d\")","v":"lb/d"},1.2390020589917503,1.4205529827522039,1.5946555392574384,1.7626240921489293,1.9254192516694713,2.0837396874041034,null,null,"B",5.9287177772273019,0.96980063054551169,13.405240962354025,50.806465846061613,571.20089839577395,0.52188671418753496,0.25754859235919225,null,-1.5061065727905998E-6,-3.0089165172196347E-8,null,null,"MP required, g/d",null,null,null,null,null,null,null,null,null,null,{"$f":"\"ADG, \"&IF(parmUnit=1,\"kg/d\",\"lb/d\")","v":"ADG, lb/d"},null,0.51204190765460966,0.51918929985831086,0.5214805041078503,0.51489815867634126,0.49291957733455516,0.44569153804890244,0.35917894732328853,0.21345275014869233,0,null,null,"Total",{"$f":"SUM(BB10:BB12)","v":15.278750860150115},{"$f":"SUM(BC10:BC12)","v":16.235119946245661},15.674574399734009,14.661792001173929,13.673391845851235,12.903550946343628,12.422061240706819,12.278136685288917,12.558138896986156,{"$f":"SUM(BK10:BK12)","v":12.830887676743066},{"$f":"SUM(BL10:BL12)","v":14.403570856747031},{"$f":"SUM(BM10:BM12)","v":16.562322577856747},null,null,"ME Bal., Mcal/d",null,0.79069326297101483,-0.85192081523984697,0.11338346587646697,1.8566626145316958,3.5624252892181172,4.9023753498338545,5.7632775253162549,6.0730690382842889,5.7054446163592409,5.4165467532561546,2.9990648552179033,-0.31930420632982504]
["4 = Min{2 + 3}",null,null,{"$f":"B30","v":-324.84968382498056},null,0.8,{"$f":"$G$13","v":"lb/d"},2.6502853583488788,3.0386361256879715,3.4110578762564852,3.7703628464978332,4.1185692647523355,4.4572247590196978,null,null,"C",5.7157342892158631,1.0946311282022556,14.824795288165891,49.056903104785647,611.36766131133572,0.59048521923653874,0.28699757937248382,null,-1.5216810589357976E-6,-2.7297869415926772E-8,null,"Maintenance",302.35332707367485,310.41644923187584,318.41034509577611,326.33788818740447,334.20174419869261,342.00439203041742,349.74814212979294,357.43515254265066,365.06744302207699,null,null,"CP, %DM",null,8.1286554211722386,8.0377911953070278,7.9387820894590391,7.8599729872343103,7.811693973634414,7.8099950556097681,7.8760843268710916,8.0242865429964905,"---",null,null,null,"MP required, g/d",null,null,null,null,null,null,null,null,null,null,null,null,null,"CP, %DM",null,8.6777129333911187,8.6777128673645141,8.6761568393259516,8.6719674142412799,8.6614775705717157,8.636473008547096,8.5861609534491183,8.4918113631013945,8.3237346273513229,5.1066882246845182,5.1066883811540729,5.1066883811553732]
["5 = Min{|MP - ME|/ME allowable)}",null,null,{"$f":"ABS(B31)","v":62.776279686414235},null,1.2,{"$f":"$G$13","v":"lb/d"},4.134858688356001,4.740743298548642,5.3217680268627143,5.8823364653932888,6.4256085775547938,6.9539625489887422,null,null,"D",5.4245583603308383,1.1732743690533438,16.216911564270728,47.775520251574441,636.51198492672472,0.65460131704874513,0.3154972589434869,null,-1.4871047171460816E-6,-1.8691367302562021E-8,null,"Growth",130.39497506143744,129.39480418308477,127.407569681781,125.61935746020853,124.08440338467412,123.32430555265256,122.94734091165479,123.43165444427778,124.90525942005004,null,null,"RDP, %CP",null,65.224538609584087,65.74013136931319,66.350472096208932,66.817754150945092,67.043949120999315,66.88305167483783,66.158053869336641,64.785810220770884,"---",null,null,"Maintenance",431.5743386979679,431.5743386979679,431.5743386979679,431.5743386979679,431.5743386979679,431.5743386979679,431.5743386979679,431.5743386979679,431.5743386979679,431.5743386979679,431.5743386979679,431.5743386979679,null,null,"RDP, %CP",null,58.847451191376265,58.847451656243479,58.85800567070617,58.886439957134833,58.957756836289285,59.128453008928645,59.474926130134946,60.135731543603583,61.350020310558428,100,100,100]
["Which objective function to use?",null,null,3,null,1.6,{"$f":"$G$13","v":"lb/d"},5.6691048160436806,6.4998062237003982,7.2964275424836744,8.0649961615652828,8.8098514257406144,9.534259038941455,null,{"$f":"I7","v":300},"A",7.2696507782407993,0.87686154602812272,10.718276030086628,58.24433353862829,550.7322556720851,0.39315646743393584,0.20455697506508541,null,1.6694317989118801E-4,-2.856845290144847E-5,null,"Pregnancy",1.6624258654740869,3.5134940659944727,7.1753249210326739,14.157303867776236,26.982221508764493,49.664144070355626,88.261689933884142,151.40646336808521,250.62092510800906,null,null,"Ca, % DM",null,0.26687330447781715,0.26152240626436124,0.25551950783555416,0.24819220900554587,0.23848038740899535,0.22477291342219388,0.32592305881578432,0.29169554050147362,"---",null,null,"Pregnancy",0,0,0.7522137930803261,1.6708172966013517,3.4966300779399151,7.2413958427551028,14.157303867776236,26.760254842876552,49.858111239695958,87.93855476352006,152.44924819864434,250.62092510800906,null,null,"Ca, % DM",null,0.25092098211818609,0.27559033338399408,0.2607682504106511,0.23410429439192476,0.20744560273092136,0.18505546013196963,0.16778517583543323,0.15512174064241058,0.14614319349345178,0.2191587292674417,0.2191587292674417,0.2191587292674417]
[null,null,null,null,null,2,{"$f":"$G$13","v":"lb/d"},7.2413877852095538,8.3024791445739243,9.3200491139749193,10.301768603871331,11.253202480302864,12.17851416288879,null,null,"B",7.1144613457523134,1.0495237365642511,11.898415372254595,56.231081646480767,601.04641858306684,0.45111368811932556,0.2289637950832879,null,-3.9921954630983691E-9,9.9999155965508069E-3,null,"Total",{"$f":"SUM(AC14:AC16)","v":434.41072800058635},443.32474748095507,452.99323969858978,466.11454951538929,485.26836909213125,514.99284165342556,560.9571729753319,632.27327035501366,740.59362755013603,null,null,"P, % DM",null,0.15369503039251139,0.15153383496661266,0.14910930059706548,0.14614984891551697,0.14222730291028221,0.13669093707054258,0.17803089585128828,0.16419272173347757,"---",null,null,"Lactation",348.67034600655563,418.36310149286749,376.48961267150719,301.16195013639742,225.84915980411219,162.59533862985327,113.80549865032263,78.030350653329677,52.665285948852059,0,0,0,null,null,"P, % DM",null,0.16749483540255067,0.18150480892151144,0.1730871984333025,0.15794446874787088,0.14280472874431205,0.13008914082644732,0.12028117210232633,0.113089479471186,0.10799047194397962,0.13479062230759689,0.13479062230759689,0.13479062230759689]
["Use current feed composition?",false,"Target",null,null,null,null,"MP required for gain, g/d",null,null,null,null,null,null,null,"C",6.8588811557051779,1.1804398260211506,13.069061972742505,54.69507878618662,638.66162155791824,0.50627504746245022,0.25298560023937033,null,1.0002846516643515E-2,1.2078089134742737E-7,null,null,"Calcium required, g/d",null,null,null,null,null,null,null,null,null,"B",{"$f":"\"DMI, \"&IF(parmUnit=1,\"kg/d\",\"lb/d\")","v":"DMI, lb/d"},null,8.3465017007233815,8.6445910471777907,8.9426803936321981,9.240769740086602,9.5388590865410112,9.8369484329954169,10.135037779449823,10.433127125904228,10.731216472358636,null,null,"Total",{"$f":"SUM(BB15:BB17)","v":780.24468470452348},849.93744019083533,808.81616516255542,734.40710613096667,660.92012858001999,601.41107317057629,559.53714121606674,536.3649441941742,534.09773588651592,519.51289346148792,584.02358689661219,682.19526380597699,null,"B",{"$f":"\"DMI, \"&IF(parmUnit=1,\"kg/d\",\"lb/d\")","v":"DMI, lb/d"},null,13.414020590448295,13.414020590448295,13.414020590448295,13.414020590448295,13.414020590448295,13.414020590448295,13.414020590448295,13.414020590448295,13.414020590448295,13.414020590448295,13.414020590448295,13.414020590448295]
["Restrictions","Actual","Min ","Max",null,{"$f":"F13","v":0.4},{"$f":"$G$13","v":"lb/d"},126.03478843113604,129.05259367487895,122.59573113248233,112.55806263869485,102.8306154009849,93.370020318289406,null,null,"D",6.5094700370906269,1.2631118116882143,14.240407128769558,53.485704212632371,662.24576113314606,0.55876514520255405,0.27678960872020825,null,1.0010874238131073E-2,3.0981108292971189E-7,null,"Maintenance",10.540444444444445,10.91688888888889,11.293333333333335,11.66977777777778,12.046222222222223,12.422666666666666,12.799111111111111,13.175555555555556,13.552,null,null,{"$f":"\"ADG, \"&IF(parmUnit=1,\"kg/d\",\"lb/d\")","v":"ADG, lb/d"},null,0.76405479911063667,0.77360152764810586,0.77801534221637014,0.77300151553353447,0.75158455018920323,0.70329799437439888,0.61355883252792531,0.4631329776435632,0.2254706007051914,null,null,null,"Calcium required, g/d",null,null,null,null,null,null,null,null,null,null,null,null,null,"ME Bal., Mcal/d",null,4.7610815586672466,3.1954002418997636,4.1144810223980208,5.774607122340182,7.3972331655096157,8.6673583052878165,9.4744021264288794,9.7447020034693477,9.3490774765364169,9.0020432138609774,6.5845613158227261,3.2661922542749977]
[{"$f":"\"Pred. DMI, \"&IF(parmUnit=1,\"kg/d\",\"lb/d\")","v":"Pred. DMI, lb/d"},{"$f":"Calc!D187*IF(parmUnit=1,1,2.204)","v":24.471911140971343},null,null,null,{"$f":"F14","v":0.8},{"$f":"$G$13","v":"lb/d"},243.04883567105634,246.65157312743446,231.94130500382943,210.47073243886629,189.66221026889568,169.4255180690102,null,{"$f":"J7","v":350},"A",8.4812592412809327,0.93967424463551463,9.7234442348655286,63.339872318796324,576.16114479631335,0.34842024747123179,0.18648828638917966,null,3.9726051670463391E-5,4.130975345998577E-6,null,"Growth",9.1917925351885845,9.0400385994470351,8.9012024482479486,8.7762707896000087,8.6690327580668729,8.6159292831305194,8.5895930254518493,8.6234291060950241,8.7263810441223768,null,null,"CP, %DM",null,9.2522657539866735,9.1203913324090511,8.9748238517765895,8.8534382619132383,8.7666073589650768,8.7308636892514677,8.7697319645938503,8.9080167143543267,9.1451208609795476,null,null,"Maintenance",16.940000000000001,16.940000000000001,16.940000000000001,16.940000000000001,16.940000000000001,16.940000000000001,16.940000000000001,16.940000000000001,16.940000000000001,16.940000000000001,16.940000000000001,16.940000000000001,null,null,"CP, %DM",null,10.353384846941918,10.353384770459664,10.351423418531457,10.346649422708348,10.334913106124388,10.307215269662334,10.251767632779533,10.147954503590013,9.9627234496250008,5.5386218407298493,5.5386220185547268,5.5386220185524699]
[{"$f":"\"Actual DMI, \"&IF(parmUnit=1,\"kg/d\",\"lb/d\")","v":"Actual DMI, lb/d"},{"$f":"B5","v":10.155662178592806},{"$f":"B20","v":24.471911140971343},{"$f":"B20","v":24.471911140971343},null,{"$f":"F15","v":1.2},{"$f":"$G$13","v":"lb/d"},356.22705011165476,359.37942314136978,335.65059156801755,302.15315716091141,269.68935295613926,238.1169306970678,null,null,"B",8.300204903377697,1.1193365230638883,10.696949131623061,61.745896620150951,622.57295349263359,0.39508624741215609,0.20633465063859441,null,1.0008745862988278E-2,3.6088373024657517E-7,null,"Pregnancy",0,0,0,0,0,0,12.177777777777777,12.177777777777777,12.177777777777777,null,null,"RDP, %CP",null,61.953158323434799,62.654082816458867,63.486716376645084,64.183057539971045,64.653941081700665,64.763153792982237,64.330434945484825,63.197643662566072,61.433678204192972,null,null,"Pregnancy",0,0,0,0,0,0,0,0,0,12.177777777777777,12.177777777777777,12.177777777777777,null,null,"RDP, %CP",null,53.495039345892835,53.495039735493172,53.505175790705572,53.529863346573293,53.590651803570765,53.734662098341673,54.025291006378225,54.577967362172608,55.592703390014861,100,99.999999999999986,100]
[{"$f":"\"ADG, \"&IF(parmUnit=1,\"kg/d\",\"lb/d\")","v":"ADG, lb/d"},{"$f":"Calc!D96*IF(parmUnit=1,1,2.2046)","v":3.4562061739977272},2,2,null,{"$f":"F16","v":1.6},{"$f":"$G$13","v":"lb/d"},466.8031183325636,468.80372465584253,435.53886055615487,389.612072483622,345.10247882086361,301.81515503459127,null,null,"C",8.0020280149893743,1.2556041743907849,11.678511921383448,60.445326422307602,657.22826079223478,0.44006528833540354,0.22624387896809009,null,1.0004097072635609E-2,2.3157267164045697E-7,null,"Total",{"$f":"SUM(AC19:AC21)","v":19.732236979633029},19.956927488335925,20.194535781581283,20.446048567377787,20.715254980289096,21.038595949797184,33.566481914340741,33.976762439428356,34.456158821900154,null,null,"Ca, % DM",null,0.32663589745704097,0.31844717751630419,0.30984654918401688,0.30016745455333765,0.28836777290812909,0.27288725138941816,0.37158215932753896,0.33720559918639115,0.28725652357812659,null,null,"Lactation",16.397761272484775,19.675370567267503,17.70608501946294,14.163469360826454,10.621553133140452,7.6467631314451587,5.3522056571137027,3.6697214910198284,2.4768174185945422,0,0,0,null,null,"Ca, % DM",null,0.24852922393919355,0.2729634289762472,0.25828262887961673,0.23187283149821811,0.20546824829511723,0.1832915266952298,0.16618586132920721,0.15364313295966886,0.14475016858420997,0.21706972627216359,0.21706972627216359,0.21706972627216359]
["TDN, %DM",{"$f":"IF(parmSolution=1,Calc!AJ112,Calc!AK308)","v":76.716038637600249},0,100,null,{"$f":"F17","v":2},{"$f":"$G$13","v":"lb/d"},575.38778555865179,575.69940431245686,532.50209208882404,473.83751905597524,416.9834309975779,361.6905400879586,null,null,"D",7.5943817099390643,1.3418164335852316,12.679608193427438,59.329787733268738,678.93443150768508,0.48365544934459287,0.24645325683060099,null,1.0012746630372327E-2,-3.990906846782745E-7,null,null,"Phosphorus required, g/d",null,null,null,null,null,null,null,null,null,null,"P, % DM",null,0.17739520310450255,0.1740878286462513,0.17061408687989665,0.16670475909824289,0.16193893904684342,0.15568645003245105,0.19603012048665769,0.18213188164119126,0.16194476209949543,null,null,"Total",{"$f":"SUM(BB20:BB22)","v":33.337761272484776},36.615370567267504,34.646085019462944,31.103469360826455,27.561553133140453,24.58676313144516,22.292205657113705,20.60972149101983,19.416817418594544,29.117777777777778,29.117777777777778,29.117777777777778,null,null,"P, % DM",null,0.16589828839746851,0.17977472000029068,0.17143734548343334,0.15643895505282077,0.14144352580667907,0.12884914182778559,0.11913466185545089,0.11201151984740365,0.10696111564087213,0.13350580917385965,0.13350580917385965,0.13350580917385965]
["CP, %DM",{"$f":"Calc!AV56","v":12.304526748971195},0,100,null,null,null,"Calcium required for gain, g/d",null,null,null,null,null,null,{"$f":"K7","v":400},"A",9.6928677043210669,0.99573053018150037,8.9030614204655425,68.469040742884488,595.83161645594419,0.31158643287807358,0.17161133144786678,null,1.1081437156779117E-4,-3.463629676724687E-5,null,"Maintenance",8.0522875816993462,8.3398692810457504,8.6274509803921564,8.9150326797385624,9.2026143790849666,9.4901960784313708,9.7777777777777768,10.065359477124181,10.352941176470587,null,"C",{"$f":"\"DMI, \"&IF(parmUnit=1,\"kg/d\",\"lb/d\")","v":"DMI, lb/d"},null,8.2924414661958252,8.5886000899885353,8.8847587137812436,9.1809173375739519,9.4770759613666584,9.7732345851593667,10.069393208952075,10.365551832744783,10.661710456537492,null,null,null,"Phosphorus required, g/d",null,null,null,null,null,null,null,null,null,null,null,null,"C",{"$f":"\"DMI, \"&IF(parmUnit=1,\"kg/d\",\"lb/d\")","v":"DMI, lb/d"},null,13.327138070671865,13.327138070671865,13.327138070671865,13.327138070671865,13.327138070671865,13.327138070671865,13.327138070671865,13.327138070671865,13.327138070671865,13.327138070671865,13.327138070671865,13.327138070671865]
["RDP, %CP",{"$f":"IF(parmSolution=1,Calc!BH100,Calc!BC229)","v":75.106315073210737},0,100,null,{"$f":"F19","v":0.4},{"$f":"$G$13","v":"lb/d"},10.049847663578056,9.2918920515077215,8.5650281598397466,7.863756488189777,7.1841581143744087,6.5232030995169712,null,null,"B",9.4859484610030833,1.1816656213399723,9.7145139483796026,67.327725137532681,637.93514096140291,0.34939234016269599,0.1878791578597114,null,1.0007923473720481E-2,5.5312480575349852E-7,null,"Growth",3.7125094125140303,3.6512169156838685,3.5951418339029617,3.544682692568355,3.5013699002134224,3.4799217278592609,3.4692846726659297,3.4829508609952975,3.524532526105765,null,null,{"$f":"\"ADG, \"&IF(parmUnit=1,\"kg/d\",\"lb/d\")","v":"ADG, lb/d"},null,0.99190881217254756,1.0036226513553719,1.010020713522483,1.0066108747528439,0.98608543279673888,0.93750752628877765,0.84578804449277811,0.69158738293661792,0.45088315357887648,null,null,"Maintenance",12.941176470588236,12.941176470588236,12.941176470588236,12.941176470588236,12.941176470588236,12.941176470588236,12.941176470588236,12.941176470588236,12.941176470588236,12.941176470588236,12.941176470588236,12.941176470588236,null,null,"ME Bal., Mcal/d",null,7.9131927422182446,6.4025857127298913,7.2885762166759474,8.8891750774154801,10.45228563405249,11.672424816258129,12.440912755305202,12.682941533513501,12.267272414418297,11.878619721423307,9.4611378233850552,6.1427687618373277]
[{"$f":"\"ME, \"&IF(parmUnit=1,\"Mcal/kg\",\"Mcal/lb\")","v":"ME, Mcal/lb"},{"$f":"IF(parmSolution=1,Calc!AX112,Calc!AP308)/IF(parmUnit=1,1,2.2046)","v":1.2873138497526972},0,9999,null,{"$f":"F20","v":0.8},{"$f":"$G$13","v":"lb/d"},19.380393331946941,17.759114532858948,16.204347332787538,14.704327251108955,13.250560658226128,11.83674439437333,null,null,"C",9.1451748742735717,1.3227266576845873,10.546293831779066,66.301494009795533,669.26117813049734,0.38634298163614045,0.20454576420761728,null,1.0008898531088661E-2,3.8952513255282849E-7,null,"Pregnancy",0,0,0,0,0,0,4.9673202614379077,4.9673202614379077,4.9673202614379077,null,null,"CP, %DM",null,10.371586335306755,10.200360074990774,10.010879646366925,9.8498092676880393,9.727804931501673,9.6620190067896914,9.6775520965126756,9.8034555299306607,10.058753754868647,null,null,"Pregnancy",0,0,0,0,0,0,0,0,0,4.9673202614379077,4.9673202614379077,4.9673202614379077,null,null,"CP, %DM",null,11.937533830459522,11.9375335368413,11.935230224144998,11.929935810752021,11.917068007632503,11.886892800659327,11.826683809653366,11.714074922468258,11.51294070920148,5.9756989505549187,5.9756999117450098,5.9756999116960747]
[{"$f":"\"NEm, \"&IF(parmUnit=1,\"Mcal/kg\",\"Mcal/lb\")","v":"NEm, Mcal/lb"},{"$f":"IF(parmSolution=1,Calc!AY112,Calc!AQ308)/IF(parmUnit=1,1,2.2046)","v":0.86028890733155072},0,9999,null,{"$f":"F21","v":1.2},{"$f":"$G$13","v":"lb/d"},28.405074756197198,25.875611719787905,23.449892929307978,21.109628171889916,18.841576954927714,16.635801246219945,null,null,"D",8.6792933827875025,1.4121082319257787,11.411640910800825,65.305563982191117,688.86242061890437,0.42285889052504705,0.22189789442419777,null,1.0004776575089913E-2,-2.8729210767847349E-7,null,"Total",{"$f":"SUM(AC24:AC26)","v":11.764796994213377},{"$f":"SUM(AD24:AD26)","v":11.991086196729619},12.222592814295119,12.459715372306917,12.703984279298389,12.970117806290631,18.214382711881616,18.515630599557387,18.844793964014261,null,null,"RDP, %CP",null,59.492233896533975,60.31669408106351,61.292675672988324,62.137466295291226,62.76726895699268,63.053224296915232,62.81914275214001,61.889680421722787,60.204078115534713,null,null,"Lactation",9.3124540942494836,11.173841486671524,10.055464352277493,8.0435771716792974,6.0320872049757464,4.342673944806851,3.039571601062899,2.0840718654165689,1.4066096052515631,0,0,0,null,null,"RDP, %CP",null,50.057441191281917,50.057442416944554,50.067102720139566,50.089322113722119,50.143407525919038,50.270697956374491,50.526623290045293,51.012342124882622,51.903541650692411,100,100,100]
[{"$f":"\"NEg, \"&IF(parmUnit=1,\"Mcal/kg\",\"Mcal/lb\")","v":"NEg, Mcal/lb"},{"$f":"IF(parmSolution=1,Calc!AZ112,Calc!AR308)/IF(parmUnit=1,1,2.2046)","v":0.57035166233019119},0,9999,null,{"$f":"F22","v":1.6},{"$f":"$G$13","v":"lb/d"},37.222264475722412,33.754250719059975,30.428486953895202,27.219857831995768,24.110239580340814,21.086013991336685,null,{"$f":"L7","v":450},"A",10.904476167361199,1.0464878242402489,8.2119638781627859,73.634733038108379,610.87679304899757,0.28061600205799531,0.15910256175044496,null,2.7202469610188018E-5,-9.0824489159644641E-6,null,null,{"$f":"\"Average daily gain, \"&IF(parmUnit=1,\"kg/d\",\"lb/d\")","v":"Average daily gain, lb/d"},null,null,null,null,null,null,null,null,null,null,"Ca, % DM",null,0.38394493560108173,0.37307864839670446,0.36202064364173636,0.35010464710239547,0.33629379394605585,0.3190462776449135,0.41706189948632272,0.38171891457776558,0.33237462071206042,null,null,"Total",{"$f":"SUM(BB25:BB27)","v":22.253630564837721},24.115017957259759,22.996640822865729,20.984753642267535,18.973263675563981,17.283850415395086,15.980748071651135,15.025248336004804,14.347786075839799,17.908496732026144,17.908496732026144,17.908496732026144,null,null,"Ca, % DM",null,0.25014944015511437,0.27474293710398701,0.25996642966959466,0.23338446105900088,0.20680774061907042,0.18448644413425561,0.16726926320490865,0.15464476605351796,0.14569382650370996,0.21848485116137059,0.21848485116137059,0.21848485116137059]
["MP, g/d",{"$f":"IF(parmSolution=1,Calc!AN140,Calc!AU308)*1000","v":1014.3034950019946},0,9999,null,{"$f":"F23","v":2},{"$f":"$G$13","v":"lb/d"},45.880662508569948,41.450826881210801,37.202726161693604,33.104184431326651,29.132130423214782,25.269147892705139,null,null,"B",10.67169201862847,1.2381213171698588,8.8921687460529757,72.991179104682075,648.32612273320024,0.31125395701350855,0.1724752955687181,null,1.0000152115718919E-2,2.0057845371368649E-8,null,"Growth",{"$f":"(Calc!D107-Calc!D104)*IF(parmUnit=1,1,2.2046)/(9*30.4)","v":0.93824561403508788},{"$f":"$AC$29","v":0.93824561403508788},{"$f":"$AC$29","v":0.93824561403508788},0.93824561403508788,0.93824561403508788,0.93824561403508788,0.93824561403508788,0.93824561403508788,0.93824561403508788,null,null,"P, % DM",null,0.20083839893717448,0.19644957125520768,0.19198331001407518,0.1871705110804143,0.18159239101934097,0.17462622349920268,0.2146986727201117,0.2004100110899967,0.18046707455173733,null,null,null,{"$f":"\"Milk production & Gravid uterus gain, \"&IF(parmUnit=1,\"kg/d\",\"lb/d\")","v":"Milk production & Gravid uterus gain, lb/d"},null,null,null,null,null,null,null,null,null,null,null,null,null,"P, % DM",null,0.16697981552250732,0.18094671060944478,0.17255498292970259,0.15745881472067336,0.14236562700072242,0.12968913748579294,0.11991132669975778,0.11274174737537879,0.10765841848231471,0.13437616266193089,0.13437616266193089,0.13437616266193089]
["RDP balance, g/d",{"$f":"IF(parmSolution=1,Calc!BH109,Calc!BC239)*1000","v":-324.84968382498056},0,0.01,null,null,null,"Phosphorus required for gain, g/d",null,null,null,null,null,null,null,"C",10.288321733557769,1.3835353162053727,9.6020605444310085,72.280553570982974,676.05782261329296,0.34168363225495446,0.1865081230946693,null,1.0004972526012068E-2,-4.3887279021731818E-7,null,"Pregnancy",2.8367359233056076E-2,4.7515471974979684E-2,7.733332354580659E-2,0.12226706012981772,0.18773359006801235,0.27984766329101102,0.40483658834252134,0.56808618468729899,0.77282412646600807,null,"D",{"$f":"\"DMI, \"&IF(parmUnit=1,\"kg/d\",\"lb/d\")","v":"DMI, lb/d"},null,8.1150070712949329,8.4048287524126106,8.6946504335302865,8.9844721146479642,9.2742937957656419,9.5641154768833143,9.853937158000992,10.143758839118668,10.433580520236344,null,null,"Milk",6.66575661483121,7.9981181167754078,7.1975955363670492,5.7575078702546563,4.3177045256668505,3.1084402973354304,2.1756933565502856,1.4917567036665969,1.0068363490221717,0,0,0,null,"D",{"$f":"\"DMI, \"&IF(parmUnit=1,\"kg/d\",\"lb/d\")","v":"DMI, lb/d"},null,13.041975650295431,13.041975650295431,13.041975650295431,13.041975650295431,13.041975650295431,13.041975650295431,13.041975650295431,13.041975650295431,13.041975650295431,13.041975650295431,13.041975650295431,13.041975650295431]
["(MP allow.- ME allow.)/ME allow., %",{"$f":"IF(Reports!D16<>0,(Reports!D17-Reports!D16)*100/Reports!D16,0)","v":62.776279686414235},0,0.01,null,{"$f":"F25","v":0.4},{"$f":"$G$13","v":"lb/d"},4.0590726893076239,3.7529390017481479,3.4593630720148103,3.1761236851636427,2.901638012226615,2.6346822792166726,null,null,"D",9.7642050556359408,1.475793792550393,10.356121016289761,71.43332194976972,693.37532430132228,0.37241517514225536,0.20152398286735357,null,1.0002089235849887E-2,-1.5752647470454679E-7,null,"Total",{"$f":"SUM(AC29:AC30)","v":0.96661297326814399},{"$f":"SUM(AD29:AD30)","v":0.98576108601006762},1.0155789375808946,1.0605126741649056,1.1259792041031003,1.2180932773260988,1.3430822023776092,1.5063317987223868,1.7110697405010959,null,null,{"$f":"\"ADG, \"&IF(parmUnit=1,\"kg/d\",\"lb/d\")","v":"ADG, lb/d"},null,1.1827900601103871,1.1963160618451107,1.2043907981288591,1.2023705776170717,1.1826885552800912,1.1340319508037755,1.0408751403088401,0.88361134905742855,0.638978980828807,null,null,"Pregnancy",0,0,1.633862921602558E-2,2.8466448875649152E-2,4.7358937274984504E-2,7.7815537421093303E-2,0.12226706012981772,0.18671304614575532,0.28055591300290811,0.40389431396341124,0.57050706465757395,0.77282412646600807,null,null,"ME Bal., Mcal/d",null,10.286946898200526,8.8168447295784045,9.6784987034668113,11.235317741338502,12.7546571187106,13.938033696136982,14.678165378263714,14.899401932345189,14.468990844597025,14.049729517104042,11.63224761906579,8.3138785575180627]
[null,null,null,null,null,{"$f":"F26","v":0.8},{"$f":"$G$13","v":"lb/d"},7.8276236531268726,7.1727989517553752,6.5448378829609997,5.9389888441720107,5.3518213097640741,4.7807894716296584,null,{"$f":"M7","v":500},"A",12.116084630401332,1.0929654991464839,7.6195796548033385,78.845197357456655,622.09255166946173,0.25412863365482957,0.14840447384941488,null,1.1270014799169559E-4,2.0384773760416952E-5,null,null,{"$f":"\"Weights, \"&IF(parmUnit=1,\"kg\",\"lb\")","v":"Weights, lb"},null,null,null,null,null,null,null,null,null,null,"CP, %DM",null,11.482524585607932,11.274696617246383,11.044360084842534,10.846587339241218,10.692451548329229,10.599852436495011,10.594959869326685,10.710561742638852,10.97326686676281,null,null,null,{"$f":"\"Weights, \"&IF(parmUnit=1,\"kg\",\"lb\")","v":"Weights, lb"},null,null,null,null,null,null,null,null,null,null,null,null,null,"CP, %DM",null,13.43578208020894,13.435782051001803,13.433164860350304,13.427363023866073,13.413369299649,13.380695698639,13.315649000081905,13.194079114747773,12.976784640928534,6.4177110909588837,6.4177110227167571,6.4177110227161416]
["Nutrient Requirements","Actual","Target",null,null,{"$f":"F27","v":1.2},{"$f":"$G$13","v":"lb/d"},11.472637898629772,10.451003076550624,9.4712699279516475,8.5260511464758348,7.6099989772388232,6.7190995091402019,null,null,"B",11.857435576253854,1.2898309023574006,8.1911308660475672,78.748156447574374,654.63080466076917,0.27882866642937687,0.15937891681166411,null,-5.7364988315100618E-6,1.000169070820706E-2,null,"Shrunk BW",{"$f":"Calc!$D$104*IF(parmUnit=1,1,2.2046)+(Table!AC7-Table!$AC$7+1)*30.4*Table!AC29","v":798.63466666666659},{"$f":"Calc!$D$104*IF(parmUnit=1,1,2.2046)+(Table!AD7-Table!$AC$7+1)*30.4*Table!AD29","v":827.15733333333333},{"$f":"Calc!$D$104*IF(parmUnit=1,1,2.2046)+(Table!AE7-Table!$AC$7+1)*30.4*Table!AE29","v":855.68},{"$f":"Calc!$D$104*IF(parmUnit=1,1,2.2046)+(Table!AF7-Table!$AC$7+1)*30.4*Table!AF29","v":884.20266666666669},{"$f":"Calc!$D$104*IF(parmUnit=1,1,2.2046)+(Table!AG7-Table!$AC$7+1)*30.4*Table!AG29","v":912.72533333333331},{"$f":"Calc!$D$104*IF(parmUnit=1,1,2.2046)+(Table!AH7-Table!$AC$7+1)*30.4*Table!AH29","v":941.24799999999993},{"$f":"Calc!$D$104*IF(parmUnit=1,1,2.2046)+(Table!AI7-Table!$AC$7+1)*30.4*Table!AI29","v":969.77066666666667},{"$f":"Calc!$D$104*IF(parmUnit=1,1,2.2046)+(Table!AJ7-Table!$AC$7+1)*30.4*Table!AJ29","v":998.29333333333329},{"$f":"Calc!$D$104*IF(parmUnit=1,1,2.2046)+(Table!AK7-Table!$AC$7+1)*30.4*Table!AK29","v":1026.816},null,null,"RDP, %CP",null,57.622826090076295,58.523953766476062,59.591063392541969,60.53146630605746,61.265051015820013,61.668539772760653,61.572991871102104,60.792742696751702,59.231575591578483,null,null,"Shrunk BW",{"$f":"$BB$4","v":550},{"$f":"$BB$4","v":550},550,550,550,550,550,550,550,550,550,550,null,null,"RDP, %CP",null,47.765246359327456,47.765246457706915,47.774552586071614,47.795195518103746,47.845058663611582,47.961888938560463,48.196181877111734,48.640260183058636,49.45473464928731,100,100,100]
[null,null,"Min ","Max",null,{"$f":"F28","v":1.6},{"$f":"$G$13","v":"lb/d"},15.03384749951506,13.63313771793019,12.289881847575735,10.993935951199617,9.737979946492251,8.5165135217702019,null,null,"C",11.431468592841966,1.4392404501335541,8.7995660311942423,78.399238307693963,678.55436962066051,0.3038381143763354,0.1712225473151939,null,-5.3068660577082483E-11,1.0000000015415532E-2,null,"Gravid uterus",1.4971542045109902,2.628347256731892,4.4938660780751176,7.4830505856968328,12.135520529601774,19.167228066988329,29.483659338842177,44.16971852975243,64.444973854737157,null,null,"Ca, % DM",null,0.43868470621898897,0.42533612937213805,0.4119844022095851,0.39795335919139913,0.38219376397087279,0.36315090342215683,0.46216630896047894,0.42530563348277284,0.37497353048148602,null,null,"Gravid uterus",0,0,0.82400139275108331,1.5028375801480931,2.6188598234322713,4.5248957633273621,7.4830505856968328,12.060631355822244,19.223268400840592,29.402786276328293,44.397436938332611,64.444973854737157,null,null,"Ca, % DM",null,0.25561895042895283,0.28075018347728692,0.26565058813522724,0.23848740554980172,0.21132958588613929,0.18852023489929007,0.170926600806901,0.15802606939043759,0.14887941780626393,0.22326201611270599,0.22326201611270599,0.22326201611270599]
["Maintenance",null,null,null,null,{"$f":"F29","v":2},{"$f":"$G$13","v":"lb/d"},18.530922098531772,16.741738280522178,15.025956092647583,13.370579875950076,11.766291285266947,10.206056004717279,null,null,"D",10.849116728484379,1.5341387094551002,9.4601611179048835,77.735982326297133,693.41456937168175,0.32973453907854344,0.18428553209597034,null,1.0005809088720063E-2,-5.0696096684891711E-7,null,"Total",{"$f":"SUM(AC33:AC34)","v":800.13182087117752},{"$f":"SUM(AD33:AD34)","v":829.78568059006523},860.17386607807509,891.68571725236347,924.86085386293507,960.41522806698822,999.2543260055088,1042.4630518630856,1091.2609738547371,null,null,"P, % DM",null,0.22394811952769306,0.21855671007215052,0.21316402822314925,0.20749697480859611,0.20113176961389301,0.193440473410497,0.23392732350594356,0.21902537314013384,0.19868318058877357,null,null,"Total",{"$f":"SUM(BB33:BB34)","v":550},{"$f":"SUM(BC33:BC34)","v":550},550.82400139275103,551.50283758014814,552.61885982343222,554.52489576332732,557.48305058569679,562.06063135582224,569.22326840084054,{"$f":"SUM(BK33:BK34)","v":579.40278627632824},{"$f":"SUM(BL33:BL34)","v":594.39743693833259},{"$f":"SUM(BM33:BM34)","v":614.4449738547371},null,null,"P, % DM",null,0.17063082435929577,0.18490310520334011,0.17632789264059698,0.16090164715030869,0.14547844731740617,0.13252478672587897,0.12253318438981392,0.11520684242087545,0.1100123666885913,0.13731429357192884,0.13731429357192884,0.13731429357192884]
["   NE, Mcal/d",{"$f":"Calc!D38","v":9.026395044072931},0,9999,null,null,null,null,null,null,null,null,null,null,null,null,null,null,null,null,null,null,null,null,null,null,null,"1 Reruns"]
["   MP, g/d",{"$f":"Calc!D41","v":390.26891340998009},0,9999]
["   Ca, g/d",{"$f":"Calc!I153","v":14.813506304998638},0,9999]
["   P, g/d",{"$f":"Calc!J153","v":11.316658750953886},0,9999]
["Growth"]
["   NE, Mcal/d",{"$f":"Calc!D93","v":7.8752541008944572},0,9999]
["   MP, g/d",{"$f":"Calc!D99","v":383.36948282280844},0,9999]
["   Ca, g/d",{"$f":"Calc!I154","v":26.783725547932686},0,9999]
["   P, g/d",{"$f":"Calc!J154","v":10.817784759417718},0,9999]
["Pregnancy"]
["   NE, Mcal/d",{"$f":"Calc!D75","v":0},0,9999]
["   MP, g/d",{"$f":"Calc!D80","v":0},0,9999]
["   Ca, g/d",{"$f":"Calc!I156","v":0},0,9999]
["   P, g/d",{"$f":"Calc!J156","v":0},0,9999]
["Lactation"]
["   NE, Mcal/d",{"$f":"Calc!D56","v":0},0,9999]
["   MP, g/d",{"$f":"Calc!D60","v":0},0,9999]
["   Ca, g/d",{"$f":"Calc!I155","v":0},0,9999]
["   P, g/d",{"$f":"Calc!J155","v":0},0,9999]
["Total"]
["   ME, Mcal/d",{"$f":"Calc!D40+Calc!D57+Calc!D77+Calc!D94","v":31.281726548990541}]
["   MP, g/d",{"$f":"Calc!D41+Calc!D60+Calc!D80+Calc!D99","v":773.63839623278852}]
["   Ca, g/d",{"$f":"B38+B43+B48+B53","v":41.597231852931323}]
["   Ca, % DM",{"$f":"B58*100/($B$21*1000/IF(parmUnit=1,1,2.2046))","v":0.90299633574144078}]
["   P, g/d",{"$f":"B39+B44+B49+B54","v":22.134443510371604}]
["   P, % DM",{"$f":"B60*100/($B$21*1000/IF(parmUnit=1,1,2.2046))","v":0.4804964295270282}]
[]
[]
[]
[]
[]
[]
[]
[]
[2]
["NRC (1996, 2000)"]
["BCNRM (2016), NEm"]
["BCNRM (2016), iSBW"]
["Least value"]
["Average value"]
["Greatest value"]
["BCNRM (2016), Cow NEm"]
["BCNRM (2016), Cow NDF"]
[]
[]
[]
[]
[]
[]
[]
[]
[]
[]
[]
[]
[]
[]
[]
[]
[]
[]
[]
[]
[]
[null,null,null,null,null,"Feed","Feed","Feed","Cost","Forage","DM","CP","SP","ADICP","Sugars","OA","Fat","Ash","Starch","NDF","Lignin","TDN 1x","ME 1x","NEm 1x","NEg 1x","RUP 1x","kd PB","kd CB1","kd CB2","kd CB3","PBID","CB1ID","CB2ID","pef","ARG","HIS","ILE","LEU","LYS","MET","CYS","PHE","TYR","THR","TRP","VAL","Ca","P","Mg","Cl","K","Na","S","Co","Cu","I","Fe","Mn","Se","Zn","VitA","VitD","VitE"]
[null,null,null,null,null,"Locked","ID","Name","$/Ton AF","%DM","%AF","%DM","%CP","%CP","%DM","%DM","%DM","%DM","%DM","%DM","%DM","%DM","Mcal/kg","Mcal/kg","Mcal/kg","%CP","%/h","%/h","%/h","%/h","%","%","%","%NDF","%DM","%DM","%DM","%DM","%DM","%DM","%DM","%DM","%DM","%DM","%DM","%DM","%DM","%DM","%DM","%DM","%DM","%DM","%DM","mg/kg","mg/kg","mg/kg","mg/kg","mg/kg","mg/kg","mg/kg","IU/g","IU/g","IU/kg"]
[null,null,null,null,null,false,101,"Bahiagrass, 30% Dry Matter",0,100,30,8.9,41,2,0,0,2.1,10,0.55000000000000004,68,7,54,1.95,1.1100000000000001,0.55000000000000004,17,5.03,30,30,3,83.7,75,75,41,0.25,0.09,0.25,0.49,0.25,0.06,0,0.31,0,0.25,0.4,0.34,0.46,0.22,0.25,0,1.45,0,0,0,0,0,0,0,0,0,304.2,0,0]
[null,null,null,null,null,false,203,"Alfalfa Hay, Late Vegetative-S",0,100,91,27,30,10,0,0,3.8,9,14.85,37,7,63,2.2799999999999998,1.41,0.83,11,7.55,30,30,5.5,65,75,75,92,0.56999999999999995,0.23,0.53,0.82,0.54,0.06,0,0.56000000000000005,0,0.45,0.16,0.64,1.5,0.33,0.21,0.34,2.5099999999999998,0.12,0.54,0.28999999999999998,11.4,0,240,47.1,0.55000000000000004,37.4,81,0,0]
[null,null,null,null,null,false,411,"Corn Grain, Flaked",0,0,86,9.8000000000000007,8,5,0,0,4.3,1.6,67.77,9,0.2,93,3.36,2.33,1.62,56.96,3.89,25,25,6,85.8,95,75,48,0.16,0.18,0.24,0.95,0.15,0.1,0,0.32,0,0.25,0.03,0.33,0.03,0.31,0.11,0.06,0.33,0.01,0.14000000000000001,0.43,4.8,0,30,6.4,0,0,0,0,0]
[null,null,null,null,null,false,705,"Tallow",0,0,99,0,0,0,0,0,99,1,0,0,0,177,6.4,4.75,3.51,0,0,0,0,0,0,0,75,0,0,0,0,0,0,0,0,0,0,0,0,0,0.56999999999999995,0.06,0.06,0,0.32,0.01,0,0.56999999999999995,15,0.68,482,47,0,42,0,0,0]
[null,null,null,null,null,false,508,"Distillers Gr.,  + solubles",0,0,91,29.5,19,21,0,0,10.3,5.2,9,46,4.18,88,3.18,2.1800000000000002,1.5,72.81,1.44,17,17,7,56.5,75,75,4,0.37,0.16,0.25,0.81,0.18,0.11,0,0.37,0,0.28000000000000003,0.15,0.47,0.32,0.83,0.33,0.28000000000000003,1.07,0.24,0.4,0.18,10.56,0.09,560,27.6,0.4,67.8,1.2,0,49.4]
[null,null,null,null,null,false,518,"Soybean, Meal - 49",0,0,90,54,20,2,0,0,1.1000000000000001,6.7,27.37,7.79,0.19,87,3.15,2.15,1.47,35,9.56,25,25,6,89.7,75,75,23,0.68,0.2,0.38,0.55000000000000004,0.54,7.0000000000000007E-2,0,0.35,0,0.27,0.15,0.34,0.28999999999999998,0.71,0.33,0.08,2.36,0.01,0.48,0.12,22.5,0.12,145,41,0.22,63,0,0,0]
[null,null,null,null,null,false,805,"Calcium Carbonate",0,0,100,0,0,0,0,0,0,100,0,0,0,0,0,0,0,100,0,0,0,0,0,0,75,0,0,0,0,0,0,0,0,0,0,0,0,0,39.39,0.04,0.05,0,0.06,0.06,0,0,0,0,300,300,0,0,0,0,0]
[null,null,null,null,null,false,809,"Dicalcium  Phosphate",0,0,97,0,0,0,0,0,0,100,0,0,0,0,0,0,0,100,0,0,0,0,0,0,75,0,0,0,0,0,0,0,0,0,0,0,0,0,22,19.3,0.59,0,7.0000000000000007E-2,0.05,1.1399999999999999,10,10,0,14400,300,0,100,0,0,0]
[null,null,null,null,null,false,522,"Urea",0,0,99,281,100,0,0,0,0,0,0,0,0,0,0,0,0,0,0,0,0,0,0,75,75,0,0,0,0,0,0,0,0,0,0,0,0,0,0,0,0,0,0,0,0,0,0,0,0,0,0,0,0,0,0]
[null,null,null,null,null,false]
[null,null,null,null,null,false]
[null,null,null,null,null,false]
[null,null,null,null,null,false]
[null,null,null,null,null,false]
[null,null,null,null,null,false]
[null,null,null,null,null,false]
[null,null,null,null,null,false]
[null,null,null,null,null,false]
[null,null,null,null,null,false]
[null,null,null,null,null,false]
[null,null,null,null,null,false]
[null,null,null,null,null,false]

{"sheet":"Reports","index":5,"n_rows":78,"n_cols":33,"rows_kept":78,"cut":false,"hidden":false,"merged":[[6,7,6,9],[6,3,6,5],[19,1,19,4],[34,6,34,9],[37,6,37,7],[37,8,37,9],[33,1,33,4]]}
[]
[]
[]
[null,"Table O1. Summary",null,null,null,null,{"$f":"\"Type: \"&CHOOSE(parmAnClass,\"Growing/Finishing\",\"Lactating cow\",\"Dry cow\",\"Replacement heifer\")","v":"Type: Growing/Finishing"},null,null,{"$f":"\"Solution: \"&CHOOSE(parmSolution,\"1:= Empirical\",\"2:=Mechanistic\")","v":"Solution: 2:=Mechanistic"},null,null,null,"Table O2. Mineral and vitamin balances"]
[null,"SBW:",{"$f":"Calc!D6*IF(parmUnit=1,1,2.2046)","v":1060.32},{"$f":"IF(parmUnit=1,\"kg\",\"lb\")","v":"lb"},"Breed:",{"$f":"Inputs!J50","v":"Breed: 0.5Hereford x 0.5Charolais"},null,null,null,null,null,null,null,"SUPPLY"]
[null,"MBW:",{"$f":"Inputs!F18*IF(parmUnit=1,1,2.2046)","v":1337},{"$f":"IF(parmUnit=1,\"kg\",\"lb\")","v":"lb"},"Sex:",{"$f":"CHOOSE(Inputs!F14,\"Bull\",\"Steer\",\"Heifer\",\"Cow\")","v":"Steer"},"BCS:",{"$f":"Inputs!F15","v":5},"Age:",{"$f":"Inputs!F12&\" mo\"","v":"14 mo"},null,null,null,"#","ID","Feed","Ca","P","Mg","Cl","K","Na","S","Co","Cu","I","Fe","Mn","Se","Zn","Vit A","Vit D","Vit E"]
[null,null,null,"Metabolizable Energy (ME)",null,null,null,"Metabolizable Protein (MP)",null,null,null,null,null,null,null,null,"g/d","g/d","g/d","g/d","g/d","g/d","g/d","mg/d","mg/d","mg/d","mg/d","mg/d","mg/d","mg/d","1000 IU/d","1000 IU/d","IU/d"]
[null,null,null,"Available","Required","Balance",null,"Available","Required","Balance",null,null,null,{"$f":"Calc!AG370","v":1},{"$f":"Calc!AH370","v":301},{"$f":"Calc!AI370","v":"Barley, Silage"},{"$f":"Calc!AJ370","v":11.793522634491518},{"$f":"Calc!AK370","v":6.5771568538510383},{"$f":"Calc!AL370","v":4.3091717318334393},{"$f":"Calc!AM370","v":3.4019776830263995},{"$f":"Calc!AN370","v":58.287217635852315},{"$f":"Calc!AO370","v":2.7215821464211194},{"$f":"Calc!AP370","v":5.4431642928422388},{"$f":"Calc!AQ370","v":1.6329492878526717},{"$f":"Calc!AR370","v":17.463485439535518},{"$f":"Calc!AS370","v":0},{"$f":"Calc!AT370","v":850.49442075659977},{"$f":"Calc!AU370","v":101.60573346638846},{"$f":"Calc!AV370","v":0.34019776830263992},{"$f":"Calc!AW370","v":55.565635489431187},{"$f":"Calc!AX370","v":0},{"$f":"Calc!AY370","v":0},{"$f":"Calc!AZ370","v":0}]
[null,null,null,"Mcal/d","Mcal/d","Mcal/d",null,{"$f":"IF(parmUnit=1,\"g/d\",\"lb/d\")","v":"lb/d"},{"$f":"IF(parmUnit=1,\"g/d\",\"lb/d\")","v":"lb/d"},{"$f":"IF(parmUnit=1,\"g/d\",\"lb/d\")","v":"lb/d"},null,null,null,{"$f":"Calc!AG371","v":2},{"$f":"Calc!AH371","v":402},{"$f":"Calc!AI371","v":"Barley Grain, Heavy"},{"$f":"Calc!AJ371","v":4.3091717318334393},{"$f":"Calc!AK371","v":30.164202122834077},{"$f":"Calc!AL371","v":10.342012156400253},{"$f":"Calc!AM371","v":24.993196044633947},{"$f":"Calc!AN371","v":49.124557742901203},{"$f":"Calc!AO371","v":0.86183434636668788},{"$f":"Calc!AP371","v":12.927515195500318},{"$f":"Calc!AQ371","v":3.0164202122834074},{"$f":"Calc!AR371","v":45.677220357434457},{"$f":"Calc!AS371","v":0.43091717318334394},{"$f":"Calc!AT371","v":512.79143608817924},{"$f":"Calc!AU371","v":157.71568538510388},{"$f":"Calc!AV371","v":1.551301823460038},{"$f":"Calc!AW371","v":112.03846502766942},{"$f":"Calc!AX371","v":32.749705161934138},{"$f":"Calc!AY371","v":0},{"$f":"Calc!AZ371","v":225.80059874807222}]
[null,"Diet",null,{"$f":"IF(parmSolution=1,Calc!AO112,Calc!AO308)","v":31.281726548990545},{"$f":"SUM(E11:E14)","v":31.281726548990548},{"$f":"D10-E10","v":0},null,{"$f":"IF(parmUnit=1,1000,2.2046)*IF(parmSolution=1,Calc!AN140,Calc!AU308)","v":2.2361334850813974},{"$f":"SUM(I11:I14)","v":1.7055632083348058},{"$f":"H10-I10","v":0.53057027674659163},null,null,null,{"$f":"Calc!AG372","v":3},{"$f":"Calc!AH372","v":800},{"$f":"Calc!AI372","v":"Minerals "},{"$f":"Calc!AJ372","v":0},{"$f":"Calc!AK372","v":0},{"$f":"Calc!AL372","v":0},{"$f":"Calc!AM372","v":0},{"$f":"Calc!AN372","v":0},{"$f":"Calc!AO372","v":0},{"$f":"Calc!AP372","v":0},{"$f":"Calc!AQ372","v":0},{"$f":"Calc!AR372","v":0},{"$f":"Calc!AS372","v":0},{"$f":"Calc!AT372","v":0},{"$f":"Calc!AU372","v":0},{"$f":"Calc!AV372","v":0},{"$f":"Calc!AW372","v":0},{"$f":"Calc!AX372","v":0},{"$f":"Calc!AY372","v":0},{"$f":"Calc!AZ372","v":0}]
[null,"Maintenance",null,{"$f":"D10","v":31.281726548990545},{"$f":"Calc!D40","v":13.50686176997977},17.774864779010777,null,{"$f":"H10","v":2.2361334850813974},{"$f":"IF(parmUnit=1,1,2.2046/1000)*Calc!D41","v":0.86038684650364217},{"$f":"H11-I11","v":1.3757466385777553},null,null,null,{"$f":"Calc!AG373","v":4},{"$f":"Calc!AH373","v":""},{"$f":"Calc!AI373","v":""},{"$f":"Calc!AJ373","v":0},{"$f":"Calc!AK373","v":0},{"$f":"Calc!AL373","v":0},{"$f":"Calc!AM373","v":0},{"$f":"Calc!AN373","v":0},{"$f":"Calc!AO373","v":0},{"$f":"Calc!AP373","v":0},{"$f":"Calc!AQ373","v":0},{"$f":"Calc!AR373","v":0},{"$f":"Calc!AS373","v":0},{"$f":"Calc!AT373","v":0},{"$f":"Calc!AU373","v":0},{"$f":"Calc!AV373","v":0},{"$f":"Calc!AW373","v":0},{"$f":"Calc!AX373","v":0},{"$f":"Calc!AY373","v":0},{"$f":"Calc!AZ373","v":0}]
[null,"Pregnancy",null,{"$f":"F11","v":17.774864779010777},{"$f":"Calc!D77","v":0},17.774864779010777,null,{"$f":"J11","v":1.3757466385777553},{"$f":"IF(parmUnit=1,1,2.2046/1000)*Calc!D80","v":0},1.3757466385777553,null,null,null,{"$f":"Calc!AG374","v":5},{"$f":"Calc!AH374","v":""},{"$f":"Calc!AI374","v":""},{"$f":"Calc!AJ374","v":0},{"$f":"Calc!AK374","v":0},{"$f":"Calc!AL374","v":0},{"$f":"Calc!AM374","v":0},{"$f":"Calc!AN374","v":0},{"$f":"Calc!AO374","v":0},{"$f":"Calc!AP374","v":0},{"$f":"Calc!AQ374","v":0},{"$f":"Calc!AR374","v":0},{"$f":"Calc!AS374","v":0},{"$f":"Calc!AT374","v":0},{"$f":"Calc!AU374","v":0},{"$f":"Calc!AV374","v":0},{"$f":"Calc!AW374","v":0},{"$f":"Calc!AX374","v":0},{"$f":"Calc!AY374","v":0},{"$f":"Calc!AZ374","v":0}]
[null,"Lactation",null,{"$f":"F12","v":17.774864779010777},{"$f":"Calc!D57","v":0},17.774864779010777,null,{"$f":"J12","v":1.3757466385777553},{"$f":"IF(parmUnit=1,1,2.2046/1000)*Calc!D60","v":0},1.3757466385777553,null,null,null,{"$f":"Calc!AG375","v":6},{"$f":"Calc!AH375","v":""},{"$f":"Calc!AI375","v":""},{"$f":"Calc!AJ375","v":0},{"$f":"Calc!AK375","v":0},{"$f":"Calc!AL375","v":0},{"$f":"Calc!AM375","v":0},{"$f":"Calc!AN375","v":0},{"$f":"Calc!AO375","v":0},{"$f":"Calc!AP375","v":0},{"$f":"Calc!AQ375","v":0},{"$f":"Calc!AR375","v":0},{"$f":"Calc!AS375","v":0},{"$f":"Calc!AT375","v":0},{"$f":"Calc!AU375","v":0},{"$f":"Calc!AV375","v":0},{"$f":"Calc!AW375","v":0},{"$f":"Calc!AX375","v":0},{"$f":"Calc!AY375","v":0},{"$f":"Calc!AZ375","v":0}]
[null,"Growth",null,{"$f":"F13","v":17.774864779010777},{"$f":"IF(OR(parmAnClass=1,parmAnClass=4),D14,0)","v":17.774864779010777},{"$f":"D14-E14","v":0},null,{"$f":"J13","v":1.3757466385777553},{"$f":"IF(OR(parmAnClass=1,parmAnClass=4),IF(D16>0,IF(parmUnit=1,1000,1)*D16*Calc!I94,0),0)","v":0.84517636183116363},0.53057027674659163,null,null,null,{"$f":"Calc!AG376","v":7},{"$f":"Calc!AH376","v":""},{"$f":"Calc!AI376","v":""},{"$f":"Calc!AJ376","v":0},{"$f":"Calc!AK376","v":0},{"$f":"Calc!AL376","v":0},{"$f":"Calc!AM376","v":0},{"$f":"Calc!AN376","v":0},{"$f":"Calc!AO376","v":0},{"$f":"Calc!AP376","v":0},{"$f":"Calc!AQ376","v":0},{"$f":"Calc!AR376","v":0},{"$f":"Calc!AS376","v":0},{"$f":"Calc!AT376","v":0},{"$f":"Calc!AU376","v":0},{"$f":"Calc!AV376","v":0},{"$f":"Calc!AW376","v":0},{"$f":"Calc!AX376","v":0},{"$f":"Calc!AY376","v":0},{"$f":"Calc!AZ376","v":0}]
[null,"Reserves",null,{"$f":"IF(F14>0,F14,0)","v":0},{"$f":"IF(F14>0,0,-F14)","v":0},0,null,{"$f":"IF(J14>0,J14,0)","v":0.53057027674659163},{"$f":"IF(J14>0,0,-J14)","v":0},0.53057027674659163,null,null,null,{"$f":"Calc!AG377","v":8},{"$f":"Calc!AH377","v":""},{"$f":"Calc!AI377","v":""},{"$f":"Calc!AJ377","v":0},{"$f":"Calc!AK377","v":0},{"$f":"Calc!AL377","v":0},{"$f":"Calc!AM377","v":0},{"$f":"Calc!AN377","v":0},{"$f":"Calc!AO377","v":0},{"$f":"Calc!AP377","v":0},{"$f":"Calc!AQ377","v":0},{"$f":"Calc!AR377","v":0},{"$f":"Calc!AS377","v":0},{"$f":"Calc!AT377","v":0},{"$f":"Calc!AU377","v":0},{"$f":"Calc!AV377","v":0},{"$f":"Calc!AW377","v":0},{"$f":"Calc!AX377","v":0},{"$f":"Calc!AY377","v":0},{"$f":"Calc!AZ377","v":0}]
[null,{"$f":"IF(OR(parmAnClass=1,parmAnClass=4),\"ME allowable gain\",IF(parmAnClass=2,\"ME allowable milk\",\"\"))","v":"ME allowable gain"},null,{"$f":"IF(OR(parmAnClass=1,AND(parmAnClass=4,OptimizingTable=TRUE)),IF(parmUnit=1,1,2.2046)*(IF(Calc!I93>0,D14/Calc!I93,0)),IF(parmAnClass=2,IF(parmUnit=1,1,2.2046)*(Calc!D55+Reports!F15*Calc!I45),IF(parmAnClass=4,IF(parmUnit=1,1,2.2046)*(IF(Calc!I120>0,D14/Calc!I120,0)),\"\")))","v":3.4562061739977277},{"$f":"IF(D16<>\"\",IF(parmUnit=1,\"kg/d\",\"lb/d\"),\"\")","v":"lb/d"},null,"DMI actual",null,{"$f":"IF(parmUnit=1,1,2.2046)*Calc!AJ84","v":24.3},{"$f":"IF(parmUnit=1,\"kg/d\",\"lb/d\")","v":"lb/d"},null,null,null,{"$f":"Calc!AG378","v":9},{"$f":"Calc!AH378","v":""},{"$f":"Calc!AI378","v":""},{"$f":"Calc!AJ378","v":0},{"$f":"Calc!AK378","v":0},{"$f":"Calc!AL378","v":0},{"$f":"Calc!AM378","v":0},{"$f":"Calc!AN378","v":0},{"$f":"Calc!AO378","v":0},{"$f":"Calc!AP378","v":0},{"$f":"Calc!AQ378","v":0},{"$f":"Calc!AR378","v":0},{"$f":"Calc!AS378","v":0},{"$f":"Calc!AT378","v":0},{"$f":"Calc!AU378","v":0},{"$f":"Calc!AV378","v":0},{"$f":"Calc!AW378","v":0},{"$f":"Calc!AX378","v":0},{"$f":"Calc!AY378","v":0},{"$f":"Calc!AZ378","v":0}]
[null,{"$f":"IF(OR(parmAnClass=1,parmAnClass=4),\"MP allowable gain\",IF(parmAnClass=2,\"MP allowable milk\",\"\"))","v":"MP allowable gain"},null,{"$f":"IF(OR(parmAnClass=1,AND(parmAnClass=4,OptimizingTable=TRUE)),(IF(Calc!I94>0,(H14/IF(parmUnit=1,1000,2.2046))/Calc!I94,0))*IF(parmUnit=1,1,2.2046),IF(parmAnClass=2,(Calc!D55+Calc!I46*J15/IF(parmUnit=1,1000,2.2046))*IF(parmUnit=1,1,2.2046),IF(parmAnClass=4,(IF(Calc!I121>0,(H14/IF(parmUnit=1,1000,2.2046))/Calc!I121,0))*IF(parmUnit=1,1,2.2046),\"\")))","v":5.6258838283256578},{"$f":"IF(D17<>\"\",IF(parmUnit=1,\"kg/d\",\"lb/d\"),\"\")","v":"lb/d"},null,"DMI predicted",null,{"$f":"IF(Calc!D191>0,IF(parmUnit=1,1,2.2046)*Calc!D191,0)","v":24.478573185746562},{"$f":"IF(parmUnit=1,\"kg/d\",\"lb/d\")","v":"lb/d"},null,null,null,{"$f":"Calc!AG379","v":10},{"$f":"Calc!AH379","v":""},{"$f":"Calc!AI379","v":""},{"$f":"Calc!AJ379","v":0},{"$f":"Calc!AK379","v":0},{"$f":"Calc!AL379","v":0},{"$f":"Calc!AM379","v":0},{"$f":"Calc!AN379","v":0},{"$f":"Calc!AO379","v":0},{"$f":"Calc!AP379","v":0},{"$f":"Calc!AQ379","v":0},{"$f":"Calc!AR379","v":0},{"$f":"Calc!AS379","v":0},{"$f":"Calc!AT379","v":0},{"$f":"Calc!AU379","v":0},{"$f":"Calc!AV379","v":0},{"$f":"Calc!AW379","v":0},{"$f":"Calc!AX379","v":0},{"$f":"Calc!AY379","v":0},{"$f":"Calc!AZ379","v":0}]
[null,{"$f":"IF(parmAnClass=4,IF(Calc!M116<0,\"Target uterus ADG\",\"Target ADG\"),IF(parmAnClass=2,\"Predicted milk yield\",\"\"))","v":""},null,{"$f":"IF(parmAnClass=4,IF(parmUnit=1,1,2.2046)*Calc!D116,IF(parmAnClass=2,IF(parmUnit=1,1,2.2046)*Calc!D55,\"\"))","v":""},{"$f":"IF(D18<>\"\",IF(parmUnit=1,\"kg/d\",\"lb/d\"),\"\")","v":""},null,"Cost per day",null,{"$f":"Calc!AL84","v":1.4860139860139863},"$/d",null,null,null,{"$f":"Calc!AG380","v":11},{"$f":"Calc!AH380","v":""},{"$f":"Calc!AI380","v":""},{"$f":"Calc!AJ380","v":0},{"$f":"Calc!AK380","v":0},{"$f":"Calc!AL380","v":0},{"$f":"Calc!AM380","v":0},{"$f":"Calc!AN380","v":0},{"$f":"Calc!AO380","v":0},{"$f":"Calc!AP380","v":0},{"$f":"Calc!AQ380","v":0},{"$f":"Calc!AR380","v":0},{"$f":"Calc!AS380","v":0},{"$f":"Calc!AT380","v":0},{"$f":"Calc!AU380","v":0},{"$f":"Calc!AV380","v":0},{"$f":"Calc!AW380","v":0},{"$f":"Calc!AX380","v":0},{"$f":"Calc!AY380","v":0},{"$f":"Calc!AZ380","v":0}]
[null,{"$f":"IF(isCow,Calc!B148,\"\")","v":""},null,{"$f":"IF(isCow,Calc!D148,\"\")","v":""},{"$f":"IF(isCow,\"d\",\"\")","v":""},null,"Cost per product",null,{"$f":"IF(ISNUMBER(D18),I18/D18,\"\")","v":""},{"$f":"IF(I19<>\"\",IF(parmUnit=1,\"$/kg\",\"$/lb\"),\"\")","v":""},null,null,null,{"$f":"Calc!AG381","v":12},{"$f":"Calc!AH381","v":""},{"$f":"Calc!AI381","v":""},{"$f":"Calc!AJ381","v":0},{"$f":"Calc!AK381","v":0},{"$f":"Calc!AL381","v":0},{"$f":"Calc!AM381","v":0},{"$f":"Calc!AN381","v":0},{"$f":"Calc!AO381","v":0},{"$f":"Calc!AP381","v":0},{"$f":"Calc!AQ381","v":0},{"$f":"Calc!AR381","v":0},{"$f":"Calc!AS381","v":0},{"$f":"Calc!AT381","v":0},{"$f":"Calc!AU381","v":0},{"$f":"Calc!AV381","v":0},{"$f":"Calc!AW381","v":0},{"$f":"Calc!AX381","v":0},{"$f":"Calc!AY381","v":0},{"$f":"Calc!AZ381","v":0}]
[null,"Diet Characteristics",null,null,null,null,"TDN",null,{"$f":"IF(parmSolution=1,Calc!AJ112,Calc!AK308)","v":76.716038637600249},"% DM",null,null,null,{"$f":"Calc!AG382","v":13},{"$f":"Calc!AH382","v":""},{"$f":"Calc!AI382","v":""},{"$f":"Calc!AJ382","v":0},{"$f":"Calc!AK382","v":0},{"$f":"Calc!AL382","v":0},{"$f":"Calc!AM382","v":0},{"$f":"Calc!AN382","v":0},{"$f":"Calc!AO382","v":0},{"$f":"Calc!AP382","v":0},{"$f":"Calc!AQ382","v":0},{"$f":"Calc!AR382","v":0},{"$f":"Calc!AS382","v":0},{"$f":"Calc!AT382","v":0},{"$f":"Calc!AU382","v":0},{"$f":"Calc!AV382","v":0},{"$f":"Calc!AW382","v":0},{"$f":"Calc!AX382","v":0},{"$f":"Calc!AY382","v":0},{"$f":"Calc!AZ382","v":0}]
[null,"Dry matter",null,{"$f":"Calc!BG32","v":69.999664260533834},"%AF",null,"ME",null,{"$f":"IF(parmUnit=1,1,1/2.2046)*IF(parmSolution=1,Calc!AL112,Calc!AP308)","v":1.2873138497526972},{"$f":"IF(parmUnit=1,\"Mcal/kg\",\"Mcal/lb\")","v":"Mcal/lb"},null,null,null,{"$f":"Calc!AG383","v":14},{"$f":"Calc!AH383","v":""},{"$f":"Calc!AI383","v":""},{"$f":"Calc!AJ383","v":0},{"$f":"Calc!AK383","v":0},{"$f":"Calc!AL383","v":0},{"$f":"Calc!AM383","v":0},{"$f":"Calc!AN383","v":0},{"$f":"Calc!AO383","v":0},{"$f":"Calc!AP383","v":0},{"$f":"Calc!AQ383","v":0},{"$f":"Calc!AR383","v":0},{"$f":"Calc!AS383","v":0},{"$f":"Calc!AT383","v":0},{"$f":"Calc!AU383","v":0},{"$f":"Calc!AV383","v":0},{"$f":"Calc!AW383","v":0},{"$f":"Calc!AX383","v":0},{"$f":"Calc!AY383","v":0},{"$f":"Calc!AZ383","v":0}]
[null,"Forage",null,{"$f":"Calc!BG33","v":20.5761316872428},"%DM",null,"NEma",null,{"$f":"IF(parmUnit=1,1,1/2.2046)*IF(parmSolution=1,Calc!AM112,Calc!AQ308)","v":0.86028890733155072},{"$f":"IF(parmUnit=1,\"Mcal/kg\",\"Mcal/lb\")","v":"Mcal/lb"},null,null,null,{"$f":"Calc!AG384","v":15},{"$f":"Calc!AH384","v":""},{"$f":"Calc!AI384","v":""},{"$f":"Calc!AJ384","v":0},{"$f":"Calc!AK384","v":0},{"$f":"Calc!AL384","v":0},{"$f":"Calc!AM384","v":0},{"$f":"Calc!AN384","v":0},{"$f":"Calc!AO384","v":0},{"$f":"Calc!AP384","v":0},{"$f":"Calc!AQ384","v":0},{"$f":"Calc!AR384","v":0},{"$f":"Calc!AS384","v":0},{"$f":"Calc!AT384","v":0},{"$f":"Calc!AU384","v":0},{"$f":"Calc!AV384","v":0},{"$f":"Calc!AW384","v":0},{"$f":"Calc!AX384","v":0},{"$f":"Calc!AY384","v":0},{"$f":"Calc!AZ384","v":0}]
[null,"Crude protein",null,{"$f":"Calc!BG34","v":12.304526748971192},"%DM",null,"NEga",null,{"$f":"IF(parmUnit=1,1,1/2.2046)*IF(parmSolution=1,Calc!AN112,Calc!AR308)","v":0.57035166233019119},{"$f":"IF(parmUnit=1,\"Mcal/kg\",\"Mcal/lb\")","v":"Mcal/lb"},null,null,null,{"$f":"Calc!AG385","v":16},{"$f":"Calc!AH385","v":""},{"$f":"Calc!AI385","v":""},{"$f":"Calc!AJ385","v":0},{"$f":"Calc!AK385","v":0},{"$f":"Calc!AL385","v":0},{"$f":"Calc!AM385","v":0},{"$f":"Calc!AN385","v":0},{"$f":"Calc!AO385","v":0},{"$f":"Calc!AP385","v":0},{"$f":"Calc!AQ385","v":0},{"$f":"Calc!AR385","v":0},{"$f":"Calc!AS385","v":0},{"$f":"Calc!AT385","v":0},{"$f":"Calc!AU385","v":0},{"$f":"Calc!AV385","v":0},{"$f":"Calc!AW385","v":0},{"$f":"Calc!AX385","v":0},{"$f":"Calc!AY385","v":0},{"$f":"Calc!AZ385","v":0}]
[null,"Fat",null,{"$f":"Calc!BG35","v":2.2592592592592595},"%DM",null,{"$f":"\"1st limiting AA: \" & INDEX($Q$44:$AB$44,MATCH(1,$Q$78:$AB$78,0))","v":"1st limiting AA: HIS"},null,{"$f":" INDEX($Q$77:$AB$77,MATCH(1,$Q$78:$AB$78,0))*100","v":128.67563330329855},"% of req.",null,null,null,{"$f":"Calc!AG386","v":17},{"$f":"Calc!AH386","v":""},{"$f":"Calc!AI386","v":""},{"$f":"Calc!AJ386","v":0},{"$f":"Calc!AK386","v":0},{"$f":"Calc!AL386","v":0},{"$f":"Calc!AM386","v":0},{"$f":"Calc!AN386","v":0},{"$f":"Calc!AO386","v":0},{"$f":"Calc!AP386","v":0},{"$f":"Calc!AQ386","v":0},{"$f":"Calc!AR386","v":0},{"$f":"Calc!AS386","v":0},{"$f":"Calc!AT386","v":0},{"$f":"Calc!AU386","v":0},{"$f":"Calc!AV386","v":0},{"$f":"Calc!AW386","v":0},{"$f":"Calc!AX386","v":0},{"$f":"Calc!AY386","v":0},{"$f":"Calc!AZ386","v":0}]
[null,"Ash",null,{"$f":"Calc!BG36","v":5.2263374485596712},"%DM",null,{"$f":"\"2nd limiting AA: \" & INDEX($Q$44:$AB$44,MATCH(2,$Q$78:$AB$78,0))","v":"2nd limiting AA: LEU"},null,{"$f":" INDEX($Q$77:$AB$77,MATCH(2,$Q$78:$AB$78,0))*100","v":135.75156150708537},"% of req.",null,null,null,{"$f":"Calc!AG387","v":18},{"$f":"Calc!AH387","v":""},{"$f":"Calc!AI387","v":""},{"$f":"Calc!AJ387","v":0},{"$f":"Calc!AK387","v":0},{"$f":"Calc!AL387","v":0},{"$f":"Calc!AM387","v":0},{"$f":"Calc!AN387","v":0},{"$f":"Calc!AO387","v":0},{"$f":"Calc!AP387","v":0},{"$f":"Calc!AQ387","v":0},{"$f":"Calc!AR387","v":0},{"$f":"Calc!AS387","v":0},{"$f":"Calc!AT387","v":0},{"$f":"Calc!AU387","v":0},{"$f":"Calc!AV387","v":0},{"$f":"Calc!AW387","v":0},{"$f":"Calc!AX387","v":0},{"$f":"Calc!AY387","v":0},{"$f":"Calc!AZ387","v":0}]
[null,"Carbohydrate (CHO)",null,{"$f":"Calc!BG37","v":80.209876543209887},"%DM",null,"Protein",{"$f":"IF(parmUnit=1,\"g/d\",\"lb/d\")","v":"lb/d"},"%CP","%DM",null,null,null,{"$f":"Calc!AG388","v":19},{"$f":"Calc!AH388","v":""},{"$f":"Calc!AI388","v":""},{"$f":"Calc!AJ388","v":0},{"$f":"Calc!AK388","v":0},{"$f":"Calc!AL388","v":0},{"$f":"Calc!AM388","v":0},{"$f":"Calc!AN388","v":0},{"$f":"Calc!AO388","v":0},{"$f":"Calc!AP388","v":0},{"$f":"Calc!AQ388","v":0},{"$f":"Calc!AR388","v":0},{"$f":"Calc!AS388","v":0},{"$f":"Calc!AT388","v":0},{"$f":"Calc!AU388","v":0},{"$f":"Calc!AV388","v":0},{"$f":"Calc!AW388","v":0},{"$f":"Calc!AX388","v":0},{"$f":"Calc!AY388","v":0},{"$f":"Calc!AZ388","v":0}]
[null,"Nonfiber CHO",null,{"$f":"Calc!BG38","v":55.333333333333343},"%DM",null,"RDP",{"$f":"IF(parmUnit=1,1000,2.2046)*IF(parmSolution=1,Calc!BH99,Calc!BC228)","v":2.2456788206890006},{"$f":"IF(parmSolution=1,Calc!BH100,Calc!BC229)","v":75.106315073210737},{"$f":"IF(parmSolution=1,Calc!BH101,Calc!BC230)","v":9.2414766283497976},null,null,null,{"$f":"Calc!AG389","v":20},{"$f":"Calc!AH389","v":""},{"$f":"Calc!AI389","v":""},{"$f":"Calc!AJ389","v":0},{"$f":"Calc!AK389","v":0},{"$f":"Calc!AL389","v":0},{"$f":"Calc!AM389","v":0},{"$f":"Calc!AN389","v":0},{"$f":"Calc!AO389","v":0},{"$f":"Calc!AP389","v":0},{"$f":"Calc!AQ389","v":0},{"$f":"Calc!AR389","v":0},{"$f":"Calc!AS389","v":0},{"$f":"Calc!AT389","v":0},{"$f":"Calc!AU389","v":0},{"$f":"Calc!AV389","v":0},{"$f":"Calc!AW389","v":0},{"$f":"Calc!AX389","v":0},{"$f":"Calc!AY389","v":0},{"$f":"Calc!AZ389","v":0}]
[null,"Sugars",null,{"$f":"Calc!BG39","v":0},"%DM",null,"RUP",{"$f":"IF(parmUnit=1,1000,2.2046)*IF(parmSolution=1,Calc!BH102,Calc!BC231)","v":0.74432117931100006},{"$f":"IF(parmSolution=1,Calc!BH103,Calc!BC232)","v":24.893684926789298},{"$f":"IF(parmSolution=1,Calc!BH104,Calc!BC233)","v":3.0630501206213991},null,null,null,{"$f":"Calc!AG390","v":21},{"$f":"Calc!AH390","v":""},{"$f":"Calc!AI390","v":""},{"$f":"Calc!AJ390","v":0},{"$f":"Calc!AK390","v":0},{"$f":"Calc!AL390","v":0},{"$f":"Calc!AM390","v":0},{"$f":"Calc!AN390","v":0},{"$f":"Calc!AO390","v":0},{"$f":"Calc!AP390","v":0},{"$f":"Calc!AQ390","v":0},{"$f":"Calc!AR390","v":0},{"$f":"Calc!AS390","v":0},{"$f":"Calc!AT390","v":0},{"$f":"Calc!AU390","v":0},{"$f":"Calc!AV390","v":0},{"$f":"Calc!AW390","v":0},{"$f":"Calc!AX390","v":0},{"$f":"Calc!AY390","v":0},{"$f":"Calc!AZ390","v":0}]
[null,"Starch",null,{"$f":"Calc!BG40","v":48.000411522633748},"%DM",null,"RDP:RUP",{"$f":"IF(parmSolution=1,Calc!BH105,Calc!BC234)","v":3.0170830591812137},null,null,null,null,null,{"$f":"Calc!AG391","v":22},{"$f":"Calc!AH391","v":""},{"$f":"Calc!AI391","v":""},{"$f":"Calc!AJ391","v":0},{"$f":"Calc!AK391","v":0},{"$f":"Calc!AL391","v":0},{"$f":"Calc!AM391","v":0},{"$f":"Calc!AN391","v":0},{"$f":"Calc!AO391","v":0},{"$f":"Calc!AP391","v":0},{"$f":"Calc!AQ391","v":0},{"$f":"Calc!AR391","v":0},{"$f":"Calc!AS391","v":0},{"$f":"Calc!AT391","v":0},{"$f":"Calc!AU391","v":0},{"$f":"Calc!AV391","v":0},{"$f":"Calc!AW391","v":0},{"$f":"Calc!AX391","v":0},{"$f":"Calc!AY391","v":0},{"$f":"Calc!AZ391","v":0}]
[null,"NDF",null,{"$f":"Calc!BG42","v":24.876543209876548},"%DM",null,"Ruminal N balance",null,{"$f":"IF(parmUnit=1,1,2.2046/1000)*IF(parmSolution=1,Calc!AR118,Calc!BI265)","v":-0.11458617807368833},{"$f":"IF(parmUnit=1,\"g N/d\",\"lb N/d\")","v":"lb N/d"},null,null,null,"Total supplied",null,null,{"$f":"Calc!AJ392","v":16.102694366324958},{"$f":"Calc!AK392","v":36.741358976685113},{"$f":"Calc!AL392","v":14.651183888233692},{"$f":"Calc!AM392","v":28.395173727660346},{"$f":"Calc!AN392","v":107.41177537875352},{"$f":"Calc!AO392","v":3.5834164927878072},{"$f":"Calc!AP392","v":18.370679488342557},{"$f":"Calc!AQ392","v":4.6493695001360793},{"$f":"Calc!AR392","v":63.140705796969975},{"$f":"Calc!AS392","v":0.43091717318334394},{"$f":"Calc!AT392","v":1363.2858568447791},{"$f":"Calc!AU392","v":259.32141885149235},{"$f":"Calc!AV392","v":1.891499591762678},{"$f":"Calc!AW392","v":167.60410051710062},{"$f":"Calc!AX392","v":32.749705161934138},{"$f":"Calc!AY392","v":0},{"$f":"Calc!AZ392","v":225.80059874807222}]
[null,"Lignin",null,{"$f":"Calc!BG43","v":2.1292181069958849},"%DM",null,"Ruminal N balance",null,{"$f":"IF(parmSolution=1,Calc!AQ118,Calc!BH265)*100","v":-24.179666170765955},"% of req."]
[null,"peNDF",null,{"$f":"peNDF","v":11.564403292181073},"%DM",null,"TDN allowable MCP",null,{"$f":"IF(parmUnit=1,1,2.2046)*IF(parmSolution=1,Calc!BH106,Calc!BC236)","v":2.961842433649553},{"$f":"IF(parmUnit=1,\"kg/d\",\"lb/d\")","v":"lb/d"},null,null,null,"REQUIREMENT"]
[null,"Ruminal pH",null,{"$f":"pH","v":5.8994473251028809},null,null,"RDP balance",null,{"$f":"IF(parmUnit=1,1,2.2046)*IF(parmSolution=1,Calc!BH109,Calc!BC239)","v":-0.7161636129605522},{"$f":"IF(parmUnit=1,\"kg/d\",\"lb/d\")","v":"lb/d"},null,null,null,"Maintenance",null,null,{"$f":"Calc!I153","v":14.813506304998638},{"$f":"Calc!J153","v":11.316658750953886},{"$f":"Calc!K153","v":0},{"$f":"Calc!L153","v":0},{"$f":"Calc!M153","v":0},{"$f":"Calc!N153","v":0},{"$f":"Calc!O153","v":0},{"$f":"Calc!P153","v":0},{"$f":"Calc!Q153","v":0},{"$f":"Calc!R153","v":0},{"$f":"Calc!S153","v":0},{"$f":"Calc!T153","v":0},{"$f":"Calc!U153","v":0},{"$f":"Calc!V153","v":0},{"$f":"Calc!W153","v":0},{"$f":"Calc!X153","v":0},{"$f":"Calc!Y153","v":0}]
[null,"Source of Metabolizable Protein",null,null,null,null,"RDP allowable MCP",null,{"$f":"IF(parmUnit=1,1,2.2046)*IF(parmSolution=1,Calc!BH110,Calc!BC240)","v":2.2456788206890006},{"$f":"IF(parmUnit=1,\"kg/d\",\"lb/d\")","v":"lb/d"},null,null,null,"Growth",null,null,{"$f":"Calc!I154","v":26.783725547932686},{"$f":"Calc!J154","v":10.817784759417718},{"$f":"Calc!K154","v":11.022407693005533},{"$f":"Calc!L154","v":0},{"$f":"Calc!M154","v":66.134446158033199},{"$f":"Calc!N154","v":7.7156853851038738},{"$f":"Calc!O154","v":16.5336115395083},{"$f":"Calc!P154","v":1.6533611539508299},{"$f":"Calc!Q154","v":110.22407693005533},{"$f":"Calc!R154","v":5.5112038465027666},{"$f":"Calc!S154","v":551.12038465027672},{"$f":"Calc!T154","v":220.44815386011066},{"$f":"Calc!U154","v":1.1022407693005534},{"$f":"Calc!V154","v":330.672230790166},{"$f":"Calc!W154","v":24.249296924612171},{"$f":"Calc!X154","v":3.0311621155765214},{"$f":"Calc!Y154","v":385.78426925519364}]
[null,"Bacteria",{"$f":"IF(D37<>0,D35/D37,0)","v":0.794722440339935},{"$f":"IF(parmUnit=1,1000,2.2046)*IF(parmSolution=1,Calc!AL140,Calc!AS308)","v":1.7771054601897318},{"$f":"IF(parmUnit=1,\"g/d\",\"lb/d\")","v":"lb/d"},null,"Methane Production",null,null,null,null,null,null,"Lactation",null,null,{"$f":"Calc!I155","v":0},{"$f":"Calc!J155","v":0},{"$f":"Calc!K155","v":0},{"$f":"Calc!L155","v":0},{"$f":"Calc!M155","v":0},{"$f":"Calc!N155","v":0},{"$f":"Calc!O155","v":0},{"$f":"Calc!P155","v":0},{"$f":"Calc!Q155","v":0},{"$f":"Calc!R155","v":0},{"$f":"Calc!S155","v":0},{"$f":"Calc!T155","v":0},{"$f":"Calc!U155","v":0},{"$f":"Calc!V155","v":0},{"$f":"Calc!W155","v":0},{"$f":"Calc!X155","v":0},{"$f":"Calc!Y155","v":0}]
[null,"Feed",{"$f":"IF(D37<>0,D36/D37,0)","v":0.20527755966006503},{"$f":"IF(parmUnit=1,1000,2.2046)*IF(parmSolution=1,Calc!AM140,Calc!AT308)","v":0.45902802489166572},{"$f":"IF(parmUnit=1,\"g/d\",\"lb/d\")","v":"lb/d"},null,{"$f":"IF(parmSolution=1,Calc!BD454,Calc!BB454)","v":4.1308715842378287},"% GE",{"$f":"IF(parmSolution=1,Calc!BD453,Calc!BB453)","v":1.9288721305756806},"Mcal/d",null,null,null,"Pregnancy",null,null,{"$f":"Calc!I156","v":0},{"$f":"Calc!J156","v":0},{"$f":"Calc!K156","v":0},{"$f":"Calc!L156","v":0},{"$f":"Calc!M156","v":0},{"$f":"Calc!N156","v":0},{"$f":"Calc!O156","v":0},{"$f":"Calc!P156","v":0},{"$f":"Calc!Q156","v":0},{"$f":"Calc!R156","v":0},{"$f":"Calc!S156","v":0},{"$f":"Calc!T156","v":0},{"$f":"Calc!U156","v":0},{"$f":"Calc!V156","v":0},{"$f":"Calc!W156","v":0},{"$f":"Calc!X156","v":0},{"$f":"Calc!Y156","v":0}]
[null,"Total",null,{"$f":"IF(parmUnit=1,1000,2.2046)*IF(parmSolution=1,Calc!AN140,Calc!AU308)","v":2.2361334850813974},{"$f":"IF(parmUnit=1,\"g/d\",\"lb/d\")","v":"lb/d"},null,{"$f":"IF(parmSolution=1,Calc!BD457,Calc!BB457)","v":9.0551274773206938},"mol/d",{"$f":"IF(parmSolution=1,Calc!BD456,Calc!BB456)/IF(parmUnit=1,1,2.2046)","v":5.9622238533798813},{"$f":"IF(parmUnit=1,\"g/kg DM\",\"g/lb DM\")","v":"g/lb DM"},null,null,null,"Total required",null,null,{"$f":"Calc!I157","v":41.597231852931323},{"$f":"Calc!J157","v":22.134443510371604},{"$f":"Calc!K157","v":11.022407693005533},{"$f":"Calc!L157","v":0},{"$f":"Calc!M157","v":66.134446158033199},{"$f":"Calc!N157","v":7.7156853851038738},{"$f":"Calc!O157","v":16.5336115395083},{"$f":"Calc!P157","v":1.6533611539508299},{"$f":"Calc!Q157","v":110.22407693005533},{"$f":"Calc!R157","v":5.5112038465027666},{"$f":"Calc!S157","v":551.12038465027672},{"$f":"Calc!T157","v":220.44815386011066},{"$f":"Calc!U157","v":1.1022407693005534},{"$f":"Calc!V157","v":330.672230790166},{"$f":"Calc!W157","v":24.249296924612171},{"$f":"Calc!X157","v":3.0311621155765214},{"$f":"Calc!Y157","v":385.78426925519364}]
[null,null,null,null,null,null,"As-fed",null,"Dry matter",null,null,null,null,"Balance (Supply - Requirement)",null,null,{"$f":"Q30-Q37","v":-25.494537486606365},{"$f":"R30-R37","v":14.606915466313509},3.6287761952281592,28.395173727660346,41.277329220720318,-4.1322688923160662,1.8370679488342567,2.9960083461852491,-47.083371133085357,-5.0802866733194225,812.1654721945024,38.873264991381689,0.78925882246212464,-163.06813027306538,8.5004082373219667,-3.0311621155765214,-159.98367050712142]
[null,"#","ID","Feed",null,null,{"$f":"IF(parmUnit=1,\"kg/d\",\"lb/d\")","v":"lb/d"},"%",{"$f":"IF(parmUnit=1,\"kg/d\",\"lb/d\")","v":"lb/d"},"%",null,null,null,"Balance, % of requirement",null,null,{"$f":"IF(OR(ISERROR(Q37),ISERROR(Q38),ISNA(Q37),ISNA(Q38),Q37=\"N/A\",Q38=\"N/A\",Q37=0),\"N/A\",IF(Q30>Q37,1,0)+Q38/Q37)","v":-0.61289024175318496},{"$f":"IF(OR(ISERROR(R37),ISERROR(R38),ISNA(R37),ISNA(R38),R37=\"N/A\",R38=\"N/A\",R37=0),\"N/A\",IF(R30>R37,1,0)+R38/R37)","v":1.6599178994253505},1.3292181069958848,"N/A",1.6241426611796983,-0.53556731334509111,1.1111111111111112,2.8120713305898493,-0.42716049382716043,-0.92181069958847728,2.473662551440329,1.1763374485596709,1.7160493827160495,-0.49314128943758567,1.3505424616535731,-1,-0.41469723691945903]
[null,1,{"$f":"IF(Inputs!AI5<>\"\",Inputs!AI5,\"\")","v":301},{"$f":"IF(Inputs!AJ5<>\"\",Inputs!AJ5,\"\")","v":"Barley, Silage"},null,null,{"$f":"Inputs!AC5*IF(parmUnit=1,1,2.2046)","v":12.820512820512819},{"$f":"IF(AND(G40<>\"\",$G$62<>0),G40/$G$62,\"\")","v":0.36931341279167362},{"$f":"Inputs!AE5*IF(parmUnit=1,1,2.2046)","v":5},{"$f":"IF(AND(I40<>\"\",$I$62<>0),I40/$I$62,\"\")","v":0.20576131687242799}]
[null,2,{"$f":"IF(Inputs!AI6<>\"\",Inputs!AI6,\"\")","v":402},{"$f":"IF(Inputs!AJ6<>\"\",Inputs!AJ6,\"\")","v":"Barley Grain, Heavy"},null,null,{"$f":"Inputs!AC6*IF(parmUnit=1,1,2.2046)","v":21.590909090909093},{"$f":"IF(AND(G41<>\"\",$G$62<>0),G41/$G$62,\"\")","v":0.62195736108779598},{"$f":"Inputs!AE6*IF(parmUnit=1,1,2.2046)","v":19},{"$f":"IF(AND(I41<>\"\",$I$62<>0),I41/$I$62,\"\")","v":0.78189300411522633}]
[null,3,{"$f":"IF(Inputs!AI7<>\"\",Inputs!AI7,\"\")","v":800},{"$f":"IF(Inputs!AJ7<>\"\",Inputs!AJ7,\"\")","v":"Minerals "},null,null,{"$f":"Inputs!AC7*IF(parmUnit=1,1,2.2046)","v":0.30303030303030304},8.7292261205304689E-3,{"$f":"Inputs!AE7*IF(parmUnit=1,1,2.2046)","v":0.3},1.2345679012345678E-2,null,null,null,"Table O3. Amino acid balance"]
[null,4,{"$f":"IF(Inputs!AI8<>\"\",Inputs!AI8,\"\")","v":""},{"$f":"IF(Inputs!AJ8<>\"\",Inputs!AJ8,\"\")","v":""},null,null,{"$f":"Inputs!AC8*IF(parmUnit=1,1,2.2046)","v":0},0,{"$f":"Inputs!AE8*IF(parmUnit=1,1,2.2046)","v":0},0,null,null,null,"SUPPLY"]
[null,5,{"$f":"IF(Inputs!AI9<>\"\",Inputs!AI9,\"\")","v":""},{"$f":"IF(Inputs!AJ9<>\"\",Inputs!AJ9,\"\")","v":""},null,null,{"$f":"Inputs!AC9*IF(parmUnit=1,1,2.2046)","v":0},0,{"$f":"Inputs!AE9*IF(parmUnit=1,1,2.2046)","v":0},0,null,null,null,"#","ID","Feed","ARG","HIS","ILE","LEU","LYS","MET","CYS","PHE","TYR","THR","TRP","VAL"]
[null,6,{"$f":"IF(Inputs!AI10<>\"\",Inputs!AI10,\"\")","v":""},{"$f":"IF(Inputs!AJ10<>\"\",Inputs!AJ10,\"\")","v":""},null,null,{"$f":"Inputs!AC10*IF(parmUnit=1,1,2.2046)","v":0},0,{"$f":"Inputs!AE10*IF(parmUnit=1,1,2.2046)","v":0},0,null,null,null,null,null,null,"g/d","g/d","g/d","g/d","g/d","g/d","g/d","g/d","g/d","g/d","g/d","g/d"]
[null,7,{"$f":"IF(Inputs!AI11<>\"\",Inputs!AI11,\"\")","v":""},{"$f":"IF(Inputs!AJ11<>\"\",Inputs!AJ11,\"\")","v":""},null,null,{"$f":"Inputs!AC11*IF(parmUnit=1,1,2.2046)","v":0},0,{"$f":"Inputs!AE11*IF(parmUnit=1,1,2.2046)","v":0},0,null,null,null,{"$f":"Calc!AG370","v":1},{"$f":"Calc!AH370","v":301},{"$f":"Calc!AI370","v":"Barley, Silage"},{"$f":"IF(parmSolution=1,Calc!AJ174,Calc!AJ342)","v":10.04799982468718},{"$f":"IF(parmSolution=1,Calc!AK174,Calc!AK342)","v":3.9553923790023573},{"$f":"IF(parmSolution=1,Calc!AL174,Calc!AL342)","v":8.6250300157850237},{"$f":"IF(parmSolution=1,Calc!AM174,Calc!AM342)","v":11.12964595012429},{"$f":"IF(parmSolution=1,Calc!AN174,Calc!AN342)","v":11.939128011885659},{"$f":"IF(parmSolution=1,Calc!AO174,Calc!AO342)","v":3.934060418087733},{"$f":"IF(parmSolution=1,Calc!AP174,Calc!AP342)","v":0},{"$f":"IF(parmSolution=1,Calc!AQ174,Calc!AQ342)","v":7.6176580118584329},{"$f":"IF(parmSolution=1,Calc!AR174,Calc!AR342)","v":6.1710790272218734},{"$f":"IF(parmSolution=1,Calc!AS174,Calc!AS342)","v":8.2319089335494997},{"$f":"IF(parmSolution=1,Calc!AT174,Calc!AT342)","v":2.4130042094720277},{"$f":"IF(parmSolution=1,Calc!AU174,Calc!AU342)","v":9.1448073080453085}]
[null,8,{"$f":"IF(Inputs!AI12<>\"\",Inputs!AI12,\"\")","v":""},{"$f":"IF(Inputs!AJ12<>\"\",Inputs!AJ12,\"\")","v":""},null,null,{"$f":"Inputs!AC12*IF(parmUnit=1,1,2.2046)","v":0},0,{"$f":"Inputs!AE12*IF(parmUnit=1,1,2.2046)","v":0},0,null,null,null,{"$f":"Calc!AG371","v":2},{"$f":"Calc!AH371","v":402},{"$f":"Calc!AI371","v":"Barley Grain, Heavy"},{"$f":"IF(parmSolution=1,Calc!AJ175,Calc!AJ343)","v":52.806203876504888},{"$f":"IF(parmSolution=1,Calc!AK175,Calc!AK343)","v":20.931710266748215},{"$f":"IF(parmSolution=1,Calc!AL175,Calc!AL343)","v":44.406990141916111},{"$f":"IF(parmSolution=1,Calc!AM175,Calc!AM343)","v":59.235509671269369},{"$f":"IF(parmSolution=1,Calc!AN175,Calc!AN343)","v":58.557960113393776},{"$f":"IF(parmSolution=1,Calc!AO175,Calc!AO343)","v":18.856538114831441},{"$f":"IF(parmSolution=1,Calc!AP175,Calc!AP343)","v":0},{"$f":"IF(parmSolution=1,Calc!AQ175,Calc!AQ343)","v":41.949558755107603},{"$f":"IF(parmSolution=1,Calc!AR175,Calc!AR343)","v":28.651998120649129},{"$f":"IF(parmSolution=1,Calc!AS175,Calc!AS343)","v":41.401904691054916},{"$f":"IF(parmSolution=1,Calc!AT175,Calc!AT343)","v":12.510617896053578},{"$f":"IF(parmSolution=1,Calc!AU175,Calc!AU343)","v":47.500278298606908}]
[null,9,{"$f":"IF(Inputs!AI13<>\"\",Inputs!AI13,\"\")","v":""},{"$f":"IF(Inputs!AJ13<>\"\",Inputs!AJ13,\"\")","v":""},null,null,{"$f":"Inputs!AC13*IF(parmUnit=1,1,2.2046)","v":0},0,{"$f":"Inputs!AE13*IF(parmUnit=1,1,2.2046)","v":0},0,null,null,null,{"$f":"Calc!AG372","v":3},{"$f":"Calc!AH372","v":800},{"$f":"Calc!AI372","v":"Minerals "},{"$f":"IF(parmSolution=1,Calc!AJ176,Calc!AJ344)","v":0},{"$f":"IF(parmSolution=1,Calc!AK176,Calc!AK344)","v":0},{"$f":"IF(parmSolution=1,Calc!AL176,Calc!AL344)","v":0},{"$f":"IF(parmSolution=1,Calc!AM176,Calc!AM344)","v":0},{"$f":"IF(parmSolution=1,Calc!AN176,Calc!AN344)","v":0},{"$f":"IF(parmSolution=1,Calc!AO176,Calc!AO344)","v":0},{"$f":"IF(parmSolution=1,Calc!AP176,Calc!AP344)","v":0},{"$f":"IF(parmSolution=1,Calc!AQ176,Calc!AQ344)","v":0},{"$f":"IF(parmSolution=1,Calc!AR176,Calc!AR344)","v":0},{"$f":"IF(parmSolution=1,Calc!AS176,Calc!AS344)","v":0},{"$f":"IF(parmSolution=1,Calc!AT176,Calc!AT344)","v":0},{"$f":"IF(parmSolution=1,Calc!AU176,Calc!AU344)","v":0}]
[null,10,{"$f":"IF(Inputs!AI14<>\"\",Inputs!AI14,\"\")","v":""},{"$f":"IF(Inputs!AJ14<>\"\",Inputs!AJ14,\"\")","v":""},null,null,{"$f":"Inputs!AC14*IF(parmUnit=1,1,2.2046)","v":0},0,{"$f":"Inputs!AE14*IF(parmUnit=1,1,2.2046)","v":0},0,null,null,null,{"$f":"Calc!AG373","v":4},{"$f":"Calc!AH373","v":""},{"$f":"Calc!AI373","v":""},{"$f":"IF(parmSolution=1,Calc!AJ177,Calc!AJ345)","v":0},{"$f":"IF(parmSolution=1,Calc!AK177,Calc!AK345)","v":0},{"$f":"IF(parmSolution=1,Calc!AL177,Calc!AL345)","v":0},{"$f":"IF(parmSolution=1,Calc!AM177,Calc!AM345)","v":0},{"$f":"IF(parmSolution=1,Calc!AN177,Calc!AN345)","v":0},{"$f":"IF(parmSolution=1,Calc!AO177,Calc!AO345)","v":0},{"$f":"IF(parmSolution=1,Calc!AP177,Calc!AP345)","v":0},{"$f":"IF(parmSolution=1,Calc!AQ177,Calc!AQ345)","v":0},{"$f":"IF(parmSolution=1,Calc!AR177,Calc!AR345)","v":0},{"$f":"IF(parmSolution=1,Calc!AS177,Calc!AS345)","v":0},{"$f":"IF(parmSolution=1,Calc!AT177,Calc!AT345)","v":0},{"$f":"IF(parmSolution=1,Calc!AU177,Calc!AU345)","v":0}]
[null,11,{"$f":"IF(Inputs!AI15<>\"\",Inputs!AI15,\"\")","v":""},{"$f":"IF(Inputs!AJ15<>\"\",Inputs!AJ15,\"\")","v":""},null,null,{"$f":"Inputs!AC15*IF(parmUnit=1,1,2.2046)","v":0},0,{"$f":"Inputs!AE15*IF(parmUnit=1,1,2.2046)","v":0},0,null,null,null,{"$f":"Calc!AG374","v":5},{"$f":"Calc!AH374","v":""},{"$f":"Calc!AI374","v":""},{"$f":"IF(parmSolution=1,Calc!AJ178,Calc!AJ346)","v":0},{"$f":"IF(parmSolution=1,Calc!AK178,Calc!AK346)","v":0},{"$f":"IF(parmSolution=1,Calc!AL178,Calc!AL346)","v":0},{"$f":"IF(parmSolution=1,Calc!AM178,Calc!AM346)","v":0},{"$f":"IF(parmSolution=1,Calc!AN178,Calc!AN346)","v":0},{"$f":"IF(parmSolution=1,Calc!AO178,Calc!AO346)","v":0},{"$f":"IF(parmSolution=1,Calc!AP178,Calc!AP346)","v":0},{"$f":"IF(parmSolution=1,Calc!AQ178,Calc!AQ346)","v":0},{"$f":"IF(parmSolution=1,Calc!AR178,Calc!AR346)","v":0},{"$f":"IF(parmSolution=1,Calc!AS178,Calc!AS346)","v":0},{"$f":"IF(parmSolution=1,Calc!AT178,Calc!AT346)","v":0},{"$f":"IF(parmSolution=1,Calc!AU178,Calc!AU346)","v":0}]
[null,12,{"$f":"IF(Inputs!AI16<>\"\",Inputs!AI16,\"\")","v":""},{"$f":"IF(Inputs!AJ16<>\"\",Inputs!AJ16,\"\")","v":""},null,null,{"$f":"Inputs!AC16*IF(parmUnit=1,1,2.2046)","v":0},0,{"$f":"Inputs!AE16*IF(parmUnit=1,1,2.2046)","v":0},0,null,null,null,{"$f":"Calc!AG375","v":6},{"$f":"Calc!AH375","v":""},{"$f":"Calc!AI375","v":""},{"$f":"IF(parmSolution=1,Calc!AJ179,Calc!AJ347)","v":0},{"$f":"IF(parmSolution=1,Calc!AK179,Calc!AK347)","v":0},{"$f":"IF(parmSolution=1,Calc!AL179,Calc!AL347)","v":0},{"$f":"IF(parmSolution=1,Calc!AM179,Calc!AM347)","v":0},{"$f":"IF(parmSolution=1,Calc!AN179,Calc!AN347)","v":0},{"$f":"IF(parmSolution=1,Calc!AO179,Calc!AO347)","v":0},{"$f":"IF(parmSolution=1,Calc!AP179,Calc!AP347)","v":0},{"$f":"IF(parmSolution=1,Calc!AQ179,Calc!AQ347)","v":0},{"$f":"IF(parmSolution=1,Calc!AR179,Calc!AR347)","v":0},{"$f":"IF(parmSolution=1,Calc!AS179,Calc!AS347)","v":0},{"$f":"IF(parmSolution=1,Calc!AT179,Calc!AT347)","v":0},{"$f":"IF(parmSolution=1,Calc!AU179,Calc!AU347)","v":0}]
[null,13,{"$f":"IF(Inputs!AI17<>\"\",Inputs!AI17,\"\")","v":""},{"$f":"IF(Inputs!AJ17<>\"\",Inputs!AJ17,\"\")","v":""},null,null,{"$f":"Inputs!AC17*IF(parmUnit=1,1,2.2046)","v":0},0,{"$f":"Inputs!AE17*IF(parmUnit=1,1,2.2046)","v":0},0,null,null,null,{"$f":"Calc!AG376","v":7},{"$f":"Calc!AH376","v":""},{"$f":"Calc!AI376","v":""},{"$f":"IF(parmSolution=1,Calc!AJ180,Calc!AJ348)","v":0},{"$f":"IF(parmSolution=1,Calc!AK180,Calc!AK348)","v":0},{"$f":"IF(parmSolution=1,Calc!AL180,Calc!AL348)","v":0},{"$f":"IF(parmSolution=1,Calc!AM180,Calc!AM348)","v":0},{"$f":"IF(parmSolution=1,Calc!AN180,Calc!AN348)","v":0},{"$f":"IF(parmSolution=1,Calc!AO180,Calc!AO348)","v":0},{"$f":"IF(parmSolution=1,Calc!AP180,Calc!AP348)","v":0},{"$f":"IF(parmSolution=1,Calc!AQ180,Calc!AQ348)","v":0},{"$f":"IF(parmSolution=1,Calc!AR180,Calc!AR348)","v":0},{"$f":"IF(parmSolution=1,Calc!AS180,Calc!AS348)","v":0},{"$f":"IF(parmSolution=1,Calc!AT180,Calc!AT348)","v":0},{"$f":"IF(parmSolution=1,Calc!AU180,Calc!AU348)","v":0}]
[null,14,{"$f":"IF(Inputs!AI18<>\"\",Inputs!AI18,\"\")","v":""},{"$f":"IF(Inputs!AJ18<>\"\",Inputs!AJ18,\"\")","v":""},null,null,{"$f":"Inputs!AC18*IF(parmUnit=1,1,2.2046)","v":0},0,{"$f":"Inputs!AE18*IF(parmUnit=1,1,2.2046)","v":0},0,null,null,null,{"$f":"Calc!AG377","v":8},{"$f":"Calc!AH377","v":""},{"$f":"Calc!AI377","v":""},{"$f":"IF(parmSolution=1,Calc!AJ181,Calc!AJ349)","v":0},{"$f":"IF(parmSolution=1,Calc!AK181,Calc!AK349)","v":0},{"$f":"IF(parmSolution=1,Calc!AL181,Calc!AL349)","v":0},{"$f":"IF(parmSolution=1,Calc!AM181,Calc!AM349)","v":0},{"$f":"IF(parmSolution=1,Calc!AN181,Calc!AN349)","v":0},{"$f":"IF(parmSolution=1,Calc!AO181,Calc!AO349)","v":0},{"$f":"IF(parmSolution=1,Calc!AP181,Calc!AP349)","v":0},{"$f":"IF(parmSolution=1,Calc!AQ181,Calc!AQ349)","v":0},{"$f":"IF(parmSolution=1,Calc!AR181,Calc!AR349)","v":0},{"$f":"IF(parmSolution=1,Calc!AS181,Calc!AS349)","v":0},{"$f":"IF(parmSolution=1,Calc!AT181,Calc!AT349)","v":0},{"$f":"IF(parmSolution=1,Calc!AU181,Calc!AU349)","v":0}]
[null,15,{"$f":"IF(Inputs!AI19<>\"\",Inputs!AI19,\"\")","v":""},{"$f":"IF(Inputs!AJ19<>\"\",Inputs!AJ19,\"\")","v":""},null,null,{"$f":"Inputs!AC19*IF(parmUnit=1,1,2.2046)","v":0},0,{"$f":"Inputs!AE19*IF(parmUnit=1,1,2.2046)","v":0},0,null,null,null,{"$f":"Calc!AG378","v":9},{"$f":"Calc!AH378","v":""},{"$f":"Calc!AI378","v":""},{"$f":"IF(parmSolution=1,Calc!AJ182,Calc!AJ350)","v":0},{"$f":"IF(parmSolution=1,Calc!AK182,Calc!AK350)","v":0},{"$f":"IF(parmSolution=1,Calc!AL182,Calc!AL350)","v":0},{"$f":"IF(parmSolution=1,Calc!AM182,Calc!AM350)","v":0},{"$f":"IF(parmSolution=1,Calc!AN182,Calc!AN350)","v":0},{"$f":"IF(parmSolution=1,Calc!AO182,Calc!AO350)","v":0},{"$f":"IF(parmSolution=1,Calc!AP182,Calc!AP350)","v":0},{"$f":"IF(parmSolution=1,Calc!AQ182,Calc!AQ350)","v":0},{"$f":"IF(parmSolution=1,Calc!AR182,Calc!AR350)","v":0},{"$f":"IF(parmSolution=1,Calc!AS182,Calc!AS350)","v":0},{"$f":"IF(parmSolution=1,Calc!AT182,Calc!AT350)","v":0},{"$f":"IF(parmSolution=1,Calc!AU182,Calc!AU350)","v":0}]
[null,16,{"$f":"IF(Inputs!AI20<>\"\",Inputs!AI20,\"\")","v":""},{"$f":"IF(Inputs!AJ20<>\"\",Inputs!AJ20,\"\")","v":""},null,null,{"$f":"Inputs!AC20*IF(parmUnit=1,1,2.2046)","v":0},0,{"$f":"Inputs!AE20*IF(parmUnit=1,1,2.2046)","v":0},0,null,null,null,{"$f":"Calc!AG379","v":10},{"$f":"Calc!AH379","v":""},{"$f":"Calc!AI379","v":""},{"$f":"IF(parmSolution=1,Calc!AJ183,Calc!AJ351)","v":0},{"$f":"IF(parmSolution=1,Calc!AK183,Calc!AK351)","v":0},{"$f":"IF(parmSolution=1,Calc!AL183,Calc!AL351)","v":0},{"$f":"IF(parmSolution=1,Calc!AM183,Calc!AM351)","v":0},{"$f":"IF(parmSolution=1,Calc!AN183,Calc!AN351)","v":0},{"$f":"IF(parmSolution=1,Calc!AO183,Calc!AO351)","v":0},{"$f":"IF(parmSolution=1,Calc!AP183,Calc!AP351)","v":0},{"$f":"IF(parmSolution=1,Calc!AQ183,Calc!AQ351)","v":0},{"$f":"IF(parmSolution=1,Calc!AR183,Calc!AR351)","v":0},{"$f":"IF(parmSolution=1,Calc!AS183,Calc!AS351)","v":0},{"$f":"IF(parmSolution=1,Calc!AT183,Calc!AT351)","v":0},{"$f":"IF(parmSolution=1,Calc!AU183,Calc!AU351)","v":0}]
[null,17,{"$f":"IF(Inputs!AI21<>\"\",Inputs!AI21,\"\")","v":""},{"$f":"IF(Inputs!AJ21<>\"\",Inputs!AJ21,\"\")","v":""},null,null,{"$f":"Inputs!AC21*IF(parmUnit=1,1,2.2046)","v":0},0,{"$f":"Inputs!AE21*IF(parmUnit=1,1,2.2046)","v":0},0,null,null,null,{"$f":"Calc!AG380","v":11},{"$f":"Calc!AH380","v":""},{"$f":"Calc!AI380","v":""},{"$f":"IF(parmSolution=1,Calc!AJ184,Calc!AJ352)","v":0},{"$f":"IF(parmSolution=1,Calc!AK184,Calc!AK352)","v":0},{"$f":"IF(parmSolution=1,Calc!AL184,Calc!AL352)","v":0},{"$f":"IF(parmSolution=1,Calc!AM184,Calc!AM352)","v":0},{"$f":"IF(parmSolution=1,Calc!AN184,Calc!AN352)","v":0},{"$f":"IF(parmSolution=1,Calc!AO184,Calc!AO352)","v":0},{"$f":"IF(parmSolution=1,Calc!AP184,Calc!AP352)","v":0},{"$f":"IF(parmSolution=1,Calc!AQ184,Calc!AQ352)","v":0},{"$f":"IF(parmSolution=1,Calc!AR184,Calc!AR352)","v":0},{"$f":"IF(parmSolution=1,Calc!AS184,Calc!AS352)","v":0},{"$f":"IF(parmSolution=1,Calc!AT184,Calc!AT352)","v":0},{"$f":"IF(parmSolution=1,Calc!AU184,Calc!AU352)","v":0}]
[null,18,{"$f":"IF(Inputs!AI22<>\"\",Inputs!AI22,\"\")","v":""},{"$f":"IF(Inputs!AJ22<>\"\",Inputs!AJ22,\"\")","v":""},null,null,{"$f":"Inputs!AC22*IF(parmUnit=1,1,2.2046)","v":0},0,{"$f":"Inputs!AE22*IF(parmUnit=1,1,2.2046)","v":0},0,null,null,null,{"$f":"Calc!AG381","v":12},{"$f":"Calc!AH381","v":""},{"$f":"Calc!AI381","v":""},{"$f":"IF(parmSolution=1,Calc!AJ185,Calc!AJ353)","v":0},{"$f":"IF(parmSolution=1,Calc!AK185,Calc!AK353)","v":0},{"$f":"IF(parmSolution=1,Calc!AL185,Calc!AL353)","v":0},{"$f":"IF(parmSolution=1,Calc!AM185,Calc!AM353)","v":0},{"$f":"IF(parmSolution=1,Calc!AN185,Calc!AN353)","v":0},{"$f":"IF(parmSolution=1,Calc!AO185,Calc!AO353)","v":0},{"$f":"IF(parmSolution=1,Calc!AP185,Calc!AP353)","v":0},{"$f":"IF(parmSolution=1,Calc!AQ185,Calc!AQ353)","v":0},{"$f":"IF(parmSolution=1,Calc!AR185,Calc!AR353)","v":0},{"$f":"IF(parmSolution=1,Calc!AS185,Calc!AS353)","v":0},{"$f":"IF(parmSolution=1,Calc!AT185,Calc!AT353)","v":0},{"$f":"IF(parmSolution=1,Calc!AU185,Calc!AU353)","v":0}]
[null,19,{"$f":"IF(Inputs!AI23<>\"\",Inputs!AI23,\"\")","v":""},{"$f":"IF(Inputs!AJ23<>\"\",Inputs!AJ23,\"\")","v":""},null,null,{"$f":"Inputs!AC23*IF(parmUnit=1,1,2.2046)","v":0},0,{"$f":"Inputs!AE23*IF(parmUnit=1,1,2.2046)","v":0},0,null,null,null,{"$f":"Calc!AG382","v":13},{"$f":"Calc!AH382","v":""},{"$f":"Calc!AI382","v":""},{"$f":"IF(parmSolution=1,Calc!AJ186,Calc!AJ354)","v":0},{"$f":"IF(parmSolution=1,Calc!AK186,Calc!AK354)","v":0},{"$f":"IF(parmSolution=1,Calc!AL186,Calc!AL354)","v":0},{"$f":"IF(parmSolution=1,Calc!AM186,Calc!AM354)","v":0},{"$f":"IF(parmSolution=1,Calc!AN186,Calc!AN354)","v":0},{"$f":"IF(parmSolution=1,Calc!AO186,Calc!AO354)","v":0},{"$f":"IF(parmSolution=1,Calc!AP186,Calc!AP354)","v":0},{"$f":"IF(parmSolution=1,Calc!AQ186,Calc!AQ354)","v":0},{"$f":"IF(parmSolution=1,Calc!AR186,Calc!AR354)","v":0},{"$f":"IF(parmSolution=1,Calc!AS186,Calc!AS354)","v":0},{"$f":"IF(parmSolution=1,Calc!AT186,Calc!AT354)","v":0},{"$f":"IF(parmSolution=1,Calc!AU186,Calc!AU354)","v":0}]
[null,20,{"$f":"IF(Inputs!AI24<>\"\",Inputs!AI24,\"\")","v":""},{"$f":"IF(Inputs!AJ24<>\"\",Inputs!AJ24,\"\")","v":""},null,null,{"$f":"Inputs!AC24*IF(parmUnit=1,1,2.2046)","v":0},0,{"$f":"Inputs!AE24*IF(parmUnit=1,1,2.2046)","v":0},0,null,null,null,{"$f":"Calc!AG383","v":14},{"$f":"Calc!AH383","v":""},{"$f":"Calc!AI383","v":""},{"$f":"IF(parmSolution=1,Calc!AJ187,Calc!AJ355)","v":0},{"$f":"IF(parmSolution=1,Calc!AK187,Calc!AK355)","v":0},{"$f":"IF(parmSolution=1,Calc!AL187,Calc!AL355)","v":0},{"$f":"IF(parmSolution=1,Calc!AM187,Calc!AM355)","v":0},{"$f":"IF(parmSolution=1,Calc!AN187,Calc!AN355)","v":0},{"$f":"IF(parmSolution=1,Calc!AO187,Calc!AO355)","v":0},{"$f":"IF(parmSolution=1,Calc!AP187,Calc!AP355)","v":0},{"$f":"IF(parmSolution=1,Calc!AQ187,Calc!AQ355)","v":0},{"$f":"IF(parmSolution=1,Calc!AR187,Calc!AR355)","v":0},{"$f":"IF(parmSolution=1,Calc!AS187,Calc!AS355)","v":0},{"$f":"IF(parmSolution=1,Calc!AT187,Calc!AT355)","v":0},{"$f":"IF(parmSolution=1,Calc!AU187,Calc!AU355)","v":0}]
[null,21,{"$f":"IF(Inputs!AI25<>\"\",Inputs!AI25,\"\")","v":""},{"$f":"IF(Inputs!AJ25<>\"\",Inputs!AJ25,\"\")","v":""},null,null,{"$f":"Inputs!AC25*IF(parmUnit=1,1,2.2046)","v":0},0,{"$f":"Inputs!AE25*IF(parmUnit=1,1,2.2046)","v":0},0,null,null,null,{"$f":"Calc!AG384","v":15},{"$f":"Calc!AH384","v":""},{"$f":"Calc!AI384","v":""},{"$f":"IF(parmSolution=1,Calc!AJ188,Calc!AJ356)","v":0},{"$f":"IF(parmSolution=1,Calc!AK188,Calc!AK356)","v":0},{"$f":"IF(parmSolution=1,Calc!AL188,Calc!AL356)","v":0},{"$f":"IF(parmSolution=1,Calc!AM188,Calc!AM356)","v":0},{"$f":"IF(parmSolution=1,Calc!AN188,Calc!AN356)","v":0},{"$f":"IF(parmSolution=1,Calc!AO188,Calc!AO356)","v":0},{"$f":"IF(parmSolution=1,Calc!AP188,Calc!AP356)","v":0},{"$f":"IF(parmSolution=1,Calc!AQ188,Calc!AQ356)","v":0},{"$f":"IF(parmSolution=1,Calc!AR188,Calc!AR356)","v":0},{"$f":"IF(parmSolution=1,Calc!AS188,Calc!AS356)","v":0},{"$f":"IF(parmSolution=1,Calc!AT188,Calc!AT356)","v":0},{"$f":"IF(parmSolution=1,Calc!AU188,Calc!AU356)","v":0}]
[null,22,{"$f":"IF(Inputs!AI26<>\"\",Inputs!AI26,\"\")","v":""},{"$f":"IF(Inputs!AJ26<>\"\",Inputs!AJ26,\"\")","v":""},null,null,{"$f":"Inputs!AC26*IF(parmUnit=1,1,2.2046)","v":0},0,{"$f":"Inputs!AE26*IF(parmUnit=1,1,2.2046)","v":0},0,null,null,null,{"$f":"Calc!AG385","v":16},{"$f":"Calc!AH385","v":""},{"$f":"Calc!AI385","v":""},{"$f":"IF(parmSolution=1,Calc!AJ189,Calc!AJ357)","v":0},{"$f":"IF(parmSolution=1,Calc!AK189,Calc!AK357)","v":0},{"$f":"IF(parmSolution=1,Calc!AL189,Calc!AL357)","v":0},{"$f":"IF(parmSolution=1,Calc!AM189,Calc!AM357)","v":0},{"$f":"IF(parmSolution=1,Calc!AN189,Calc!AN357)","v":0},{"$f":"IF(parmSolution=1,Calc!AO189,Calc!AO357)","v":0},{"$f":"IF(parmSolution=1,Calc!AP189,Calc!AP357)","v":0},{"$f":"IF(parmSolution=1,Calc!AQ189,Calc!AQ357)","v":0},{"$f":"IF(parmSolution=1,Calc!AR189,Calc!AR357)","v":0},{"$f":"IF(parmSolution=1,Calc!AS189,Calc!AS357)","v":0},{"$f":"IF(parmSolution=1,Calc!AT189,Calc!AT357)","v":0},{"$f":"IF(parmSolution=1,Calc!AU189,Calc!AU357)","v":0}]
[null,null,"Total",null,null,null,{"$f":"SUM(G40:G61)","v":34.714452214452216},{"$f":"SUM(H40:H61)","v":1},{"$f":"SUM(I40:I61)","v":24.3},{"$f":"SUM(J40:J61)","v":1},null,null,null,{"$f":"Calc!AG386","v":17},{"$f":"Calc!AH386","v":""},{"$f":"Calc!AI386","v":""},{"$f":"IF(parmSolution=1,Calc!AJ190,Calc!AJ358)","v":0},{"$f":"IF(parmSolution=1,Calc!AK190,Calc!AK358)","v":0},{"$f":"IF(parmSolution=1,Calc!AL190,Calc!AL358)","v":0},{"$f":"IF(parmSolution=1,Calc!AM190,Calc!AM358)","v":0},{"$f":"IF(parmSolution=1,Calc!AN190,Calc!AN358)","v":0},{"$f":"IF(parmSolution=1,Calc!AO190,Calc!AO358)","v":0},{"$f":"IF(parmSolution=1,Calc!AP190,Calc!AP358)","v":0},{"$f":"IF(parmSolution=1,Calc!AQ190,Calc!AQ358)","v":0},{"$f":"IF(parmSolution=1,Calc!AR190,Calc!AR358)","v":0},{"$f":"IF(parmSolution=1,Calc!AS190,Calc!AS358)","v":0},{"$f":"IF(parmSolution=1,Calc!AT190,Calc!AT358)","v":0},{"$f":"IF(parmSolution=1,Calc!AU190,Calc!AU358)","v":0}]
[null,null,null,null,null,null,null,null,null,null,null,null,null,{"$f":"Calc!AG387","v":18},{"$f":"Calc!AH387","v":""},{"$f":"Calc!AI387","v":""},{"$f":"IF(parmSolution=1,Calc!AJ191,Calc!AJ359)","v":0},{"$f":"IF(parmSolution=1,Calc!AK191,Calc!AK359)","v":0},{"$f":"IF(parmSolution=1,Calc!AL191,Calc!AL359)","v":0},{"$f":"IF(parmSolution=1,Calc!AM191,Calc!AM359)","v":0},{"$f":"IF(parmSolution=1,Calc!AN191,Calc!AN359)","v":0},{"$f":"IF(parmSolution=1,Calc!AO191,Calc!AO359)","v":0},{"$f":"IF(parmSolution=1,Calc!AP191,Calc!AP359)","v":0},{"$f":"IF(parmSolution=1,Calc!AQ191,Calc!AQ359)","v":0},{"$f":"IF(parmSolution=1,Calc!AR191,Calc!AR359)","v":0},{"$f":"IF(parmSolution=1,Calc!AS191,Calc!AS359)","v":0},{"$f":"IF(parmSolution=1,Calc!AT191,Calc!AT359)","v":0},{"$f":"IF(parmSolution=1,Calc!AU191,Calc!AU359)","v":0}]
[null,null,null,null,null,null,null,null,null,null,null,null,null,{"$f":"Calc!AG388","v":19},{"$f":"Calc!AH388","v":""},{"$f":"Calc!AI388","v":""},{"$f":"IF(parmSolution=1,Calc!AJ192,Calc!AJ360)","v":0},{"$f":"IF(parmSolution=1,Calc!AK192,Calc!AK360)","v":0},{"$f":"IF(parmSolution=1,Calc!AL192,Calc!AL360)","v":0},{"$f":"IF(parmSolution=1,Calc!AM192,Calc!AM360)","v":0},{"$f":"IF(parmSolution=1,Calc!AN192,Calc!AN360)","v":0},{"$f":"IF(parmSolution=1,Calc!AO192,Calc!AO360)","v":0},{"$f":"IF(parmSolution=1,Calc!AP192,Calc!AP360)","v":0},{"$f":"IF(parmSolution=1,Calc!AQ192,Calc!AQ360)","v":0},{"$f":"IF(parmSolution=1,Calc!AR192,Calc!AR360)","v":0},{"$f":"IF(parmSolution=1,Calc!AS192,Calc!AS360)","v":0},{"$f":"IF(parmSolution=1,Calc!AT192,Calc!AT360)","v":0},{"$f":"IF(parmSolution=1,Calc!AU192,Calc!AU360)","v":0}]
[null,null,null,null,null,null,null,null,null,null,null,null,null,{"$f":"Calc!AG389","v":20},{"$f":"Calc!AH389","v":""},{"$f":"Calc!AI389","v":""},{"$f":"IF(parmSolution=1,Calc!AJ193,Calc!AJ361)","v":0},{"$f":"IF(parmSolution=1,Calc!AK193,Calc!AK361)","v":0},{"$f":"IF(parmSolution=1,Calc!AL193,Calc!AL361)","v":0},{"$f":"IF(parmSolution=1,Calc!AM193,Calc!AM361)","v":0},{"$f":"IF(parmSolution=1,Calc!AN193,Calc!AN361)","v":0},{"$f":"IF(parmSolution=1,Calc!AO193,Calc!AO361)","v":0},{"$f":"IF(parmSolution=1,Calc!AP193,Calc!AP361)","v":0},{"$f":"IF(parmSolution=1,Calc!AQ193,Calc!AQ361)","v":0},{"$f":"IF(parmSolution=1,Calc!AR193,Calc!AR361)","v":0},{"$f":"IF(parmSolution=1,Calc!AS193,Calc!AS361)","v":0},{"$f":"IF(parmSolution=1,Calc!AT193,Calc!AT361)","v":0},{"$f":"IF(parmSolution=1,Calc!AU193,Calc!AU361)","v":0}]
[null,null,null,null,null,null,null,null,null,null,null,null,null,{"$f":"Calc!AG390","v":21},{"$f":"Calc!AH390","v":""},{"$f":"Calc!AI390","v":""},{"$f":"IF(parmSolution=1,Calc!AJ194,Calc!AJ362)","v":0},{"$f":"IF(parmSolution=1,Calc!AK194,Calc!AK362)","v":0},{"$f":"IF(parmSolution=1,Calc!AL194,Calc!AL362)","v":0},{"$f":"IF(parmSolution=1,Calc!AM194,Calc!AM362)","v":0},{"$f":"IF(parmSolution=1,Calc!AN194,Calc!AN362)","v":0},{"$f":"IF(parmSolution=1,Calc!AO194,Calc!AO362)","v":0},{"$f":"IF(parmSolution=1,Calc!AP194,Calc!AP362)","v":0},{"$f":"IF(parmSolution=1,Calc!AQ194,Calc!AQ362)","v":0},{"$f":"IF(parmSolution=1,Calc!AR194,Calc!AR362)","v":0},{"$f":"IF(parmSolution=1,Calc!AS194,Calc!AS362)","v":0},{"$f":"IF(parmSolution=1,Calc!AT194,Calc!AT362)","v":0},{"$f":"IF(parmSolution=1,Calc!AU194,Calc!AU362)","v":0}]
[null,null,null,null,null,null,null,null,null,null,null,null,null,{"$f":"Calc!AG391","v":22},{"$f":"Calc!AH391","v":""},{"$f":"Calc!AI391","v":""},{"$f":"IF(parmSolution=1,Calc!AJ195,Calc!AJ363)","v":0},{"$f":"IF(parmSolution=1,Calc!AK195,Calc!AK363)","v":0},{"$f":"IF(parmSolution=1,Calc!AL195,Calc!AL363)","v":0},{"$f":"IF(parmSolution=1,Calc!AM195,Calc!AM363)","v":0},{"$f":"IF(parmSolution=1,Calc!AN195,Calc!AN363)","v":0},{"$f":"IF(parmSolution=1,Calc!AO195,Calc!AO363)","v":0},{"$f":"IF(parmSolution=1,Calc!AP195,Calc!AP363)","v":0},{"$f":"IF(parmSolution=1,Calc!AQ195,Calc!AQ363)","v":0},{"$f":"IF(parmSolution=1,Calc!AR195,Calc!AR363)","v":0},{"$f":"IF(parmSolution=1,Calc!AS195,Calc!AS363)","v":0},{"$f":"IF(parmSolution=1,Calc!AT195,Calc!AT363)","v":0},{"$f":"IF(parmSolution=1,Calc!AU195,Calc!AU363)","v":0}]
[null,null,null,null,null,null,null,null,null,null,null,null,null,"Total supplied",null,null,{"$f":"IF(parmSolution=1,Calc!AJ196,Calc!AJ364)","v":62.85420370119207},{"$f":"IF(parmSolution=1,Calc!AK196,Calc!AK364)","v":24.887102645750574},{"$f":"IF(parmSolution=1,Calc!AL196,Calc!AL364)","v":53.032020157701133},{"$f":"IF(parmSolution=1,Calc!AM196,Calc!AM364)","v":70.365155621393654},{"$f":"IF(parmSolution=1,Calc!AN196,Calc!AN364)","v":70.497088125279433},{"$f":"IF(parmSolution=1,Calc!AO196,Calc!AO364)","v":22.790598532919173},{"$f":"IF(parmSolution=1,Calc!AP196,Calc!AP364)","v":0},{"$f":"IF(parmSolution=1,Calc!AQ196,Calc!AQ364)","v":49.567216766966034},{"$f":"IF(parmSolution=1,Calc!AR196,Calc!AR364)","v":34.823077147871004},{"$f":"IF(parmSolution=1,Calc!AS196,Calc!AS364)","v":49.633813624604414},{"$f":"IF(parmSolution=1,Calc!AT196,Calc!AT364)","v":14.923622105525606},{"$f":"IF(parmSolution=1,Calc!AU196,Calc!AU364)","v":56.645085606652216}]
[]
[null,null,null,null,null,null,null,null,null,null,null,null,null,"REQUIREMENT"]
[null,null,null,null,null,null,null,null,null,null,null,null,null,"Maintenance",null,null,{"$f":"Calc!J207","v":12.878874142529343},{"$f":"Calc!K207","v":9.7567228352495032},{"$f":"Calc!L207","v":10.927529575479442},{"$f":"Calc!M207","v":26.148017198468668},{"$f":"Calc!N207","v":24.977210458238726},{"$f":"Calc!O207","v":7.8053782681996022},{"$f":"Calc!P207","v":"––"},{"$f":"Calc!Q207","v":13.659411969349303},{"$f":"Calc!R207","v":"––"},{"$f":"Calc!S207","v":15.220487622989223},{"$f":"Calc!T207","v":2.3416134804598805},{"$f":"Calc!U207","v":15.610756536399204}]
[null,null,null,null,null,null,null,null,null,null,null,null,null,"Growth",null,null,{"$f":"Calc!J208","v":12.651192933152679},{"$f":"Calc!K208","v":9.5842370705702091},{"$f":"Calc!L208","v":10.734345519038635},{"$f":"Calc!M208","v":25.685755349128165},{"$f":"Calc!N208","v":24.535646900659739},{"$f":"Calc!O208","v":7.6673896564561685},{"$f":"Calc!P208","v":"––"},{"$f":"Calc!Q208","v":13.417931898798296},{"$f":"Calc!R208","v":"––"},{"$f":"Calc!S208","v":14.951409830089528},{"$f":"Calc!T208","v":2.3002168969368504},{"$f":"Calc!U208","v":15.334779312912337}]
[null,null,null,null,null,null,null,null,null,null,null,null,null,"Lactation",null,null,{"$f":"Calc!J209","v":0},{"$f":"Calc!K209","v":0},{"$f":"Calc!L209","v":0},{"$f":"Calc!M209","v":0},{"$f":"Calc!N209","v":0},{"$f":"Calc!O209","v":0},{"$f":"Calc!P209","v":"––"},{"$f":"Calc!Q209","v":0},{"$f":"Calc!R209","v":"––"},{"$f":"Calc!S209","v":0},{"$f":"Calc!T209","v":0},{"$f":"Calc!U209","v":0}]
[null,null,null,null,null,null,null,null,null,null,null,null,null,"Pregnancy",null,null,{"$f":"Calc!J210","v":0},{"$f":"Calc!K210","v":0},{"$f":"Calc!L210","v":0},{"$f":"Calc!M210","v":0},{"$f":"Calc!N210","v":0},{"$f":"Calc!O210","v":0},{"$f":"Calc!P210","v":"––"},{"$f":"Calc!Q210","v":0},{"$f":"Calc!R210","v":"––"},{"$f":"Calc!S210","v":0},{"$f":"Calc!T210","v":0},{"$f":"Calc!U210","v":0}]
[null,null,null,null,null,null,null,null,null,null,null,null,null,"Total required",null,null,{"$f":"Calc!J211","v":25.53006707568202},{"$f":"Calc!K211","v":19.340959905819712},{"$f":"Calc!L211","v":21.661875094518077},{"$f":"Calc!M211","v":51.833772547596837},{"$f":"Calc!N211","v":49.512857358898465},{"$f":"Calc!O211","v":15.47276792465577},{"$f":"Calc!P211","v":"––"},{"$f":"Calc!Q211","v":27.077343868147601},{"$f":"Calc!R211","v":"––"},{"$f":"Calc!S211","v":30.171897453078749},{"$f":"Calc!T211","v":4.6418303773967313},{"$f":"Calc!U211","v":30.94553584931154}]
[null,null,null,null,null,null,null,null,null,null,null,null,null,"Balance (Supply - Requirement)",null,null,{"$f":"Q68-Q75","v":37.32413662551005},{"$f":"R68-R75","v":5.5461427399308612},31.370145063183056,18.531383073796817,20.984230766380968,{"$f":"V68-V75","v":7.317830608263403},"––",{"$f":"X68-X75","v":22.489872898818433},"––",{"$f":"Z68-Z75","v":19.461916171525665},{"$f":"AA68-AA75","v":10.281791728128875},{"$f":"AB68-AB75","v":25.699549757340677}]
[null,null,null,null,null,null,null,null,null,null,null,null,null,"Balance, % of requirement",null,null,{"$f":"IF(OR(ISERROR(Q75),ISERROR(Q76),ISNA(Q75),ISNA(Q76),Q75=\"N/A\",Q76=\"N/A\",Q75=0),\"N/A\",IF(Q68>Q75,1,0)+Q76/Q75)","v":2.4619678246385082},{"$f":"IF(OR(ISERROR(R75),ISERROR(R76),ISNA(R75),ISNA(R76),R75=\"N/A\",R76=\"N/A\",R75=0),\"N/A\",IF(R68>R75,1,0)+R76/R75)","v":1.2867563330329856},2.4481731118060885,1.3575156150708538,1.4238137705177234,1.4729490317373972,"––",1.8305789891479853,"––",1.6450345458647901,3.2150296094824542,1.8304768055232246]
[null,null,null,null,null,null,null,null,null,null,null,null,null,"Rank",null,null,{"$f":"RANK(Q77,$Q$77:$AB$77,1)","v":9},1,8,2,3,4,null,{"$f":"RANK(X77,$Q$77:$AB$77,1)","v":7},null,{"$f":"RANK(Z77,$Q$77:$AB$77,1)","v":5},{"$f":"RANK(AA77,$Q$77:$AB$77,1)","v":10},{"$f":"RANK(AB77,$Q$77:$AB$77,1)","v":6}]

{"sheet":"FeedLibrary","index":6,"n_rows":222,"n_cols":119,"rows_kept":222,"cut":false,"hidden":true,"merged":[[1,4,1,9]]}
[null,null,null,null,5,62]
[null,"Table F1. Standard feed library",null,null,"The user is responsible for ensuring the accuracy of the feed composition data…",null,null,null,null,null,null,null,null,null,null,null,null,null,null,null,null,null,null,null,null,null,null,null,null,null,null,null,null,null,null,null,null,null,null,null,null,null,null,null,null,null,null,null,null,null,null,null,null,null,null,null,null,null,null,null,null,"Table F2. User feed library"]
[]
[null,"ID","Feed","IFN","Cost, $/Tonne AF","Forage, %DM","DM, %AF","CP, %DM","SP, %CP","ADICP, %CP","Sugars, %DM","OA, %DM","Fat, %DM","Ash, %DM","Starch, %DM","NDF, %DM","Lignin, %DM","TDN, %DM","ME, Mcal/kg","NEma, Mcal/kg","NEga, Mcal/kg","RUP, %CP","kd PB, %/h","kd CB1, %/h","kd CB2, %/h","kd CB3, %/h","PBID, %","CB1ID, %","CB2ID, %","pef, %NDF","ARG, %DM","HIS, %DM","ILE, %DM","LEU, %DM","LYS, %DM","MET, %DM","CYS, %DM","PHE, %DM","TYR, %DM","THR, %DM","TRP, %DM","VAL, %DM","Ca, % DM","P, % DM","Mg, % DM","Cl, % DM","K, % DM","Na, % DM","S, % DM","Co, mg/kg","Cu, mg/kg","I, mg/kg","Fe, mg/kg","Mn, mg/kg","Se, mg/kg","Zn, mg/kg","Vit A, IU/g","Vit D, IU/g","Vit E, IU/kg",null,null,"ID","Feed","IFN,","Cost, $/Tonne AF","Forage, %DM","DM, %AF","CP, %DM","SP, %CP","ADICP, %CP","Sugars, %DM","OA, %DM","Fat, %DM","Ash, %DM","Starch, %DM","NDF, %DM","Lignin, %DM","TDN, %DM","ME, Mcal/kg","NEma, Mcal/kg","NEga, Mcal/kg","RUP, %CP","kd PB, %/h","kd CB1, %/h","kd CB2, %/h","kd CB3, %/h","PBID, %","CB1ID, %","CB2ID, %","pef, %NDF","ARG, %DM","HIS, %DM","ILE, %DM","LEU, %DM","LYS, %DM","MET, %DM","CYS, %DM","PHE, %DM","TYR, %DM","THR, %DM","TRP, %DM","VAL, %DM","Ca, % DM","P, % DM","Mg, % DM","Cl, % DM","K, % DM","Na, % DM","S, % DM","Co, mg/kg","Cu, mg/kg","I, mg/kg","Fe, mg/kg","Mn, mg/kg","Se, mg/kg","Zn, mg/kg","Vit A, IU/g","Vit D, IU/g","Vit E, IU/kg"]
[null,1,"Alfalfa cubes",null,0,100,91.04225171912833,18.079024843945067,39.296460000000003,8.2195624999999986,0,0,2.1306110782608698,11.980916406250001,1.34802,45.460982816537502,7.5726399999999998,56.006610000000002,2.0248517766179996,1.1754139174789309,0.61316891845401233,31.011570000000003,5.075000000000002,30,30,5.5,49.3,75,75,92,1.1552496875280898,0.47367045091136079,1.0865493931210986,1.6741177005493131,1.088357295605493,0.13197688136079899,0,1.1425943701373285,0,0.90395124219725331,0.3326540571285892,1.2908423738576777,1.4916023834886816,0.23478754303599372,0.28389926163723922,0.69872999999999996,2.0461578763440857,0.16349239766081872,0.25474608955223882,0.77400000000000002,8.5375700000000005,0,648.51832000000002,44.070720000000001,0.81,24.342739999999999,19.3,1,0,null,null,9000,"Corn",null,23,12,12,123,123]
[null,2,"Alfalfa dehy",null,0,100,93.831083477124196,18.492871043924701,28,17,0,0,3.9937499999999999,10.294,0.9333300000000001,40.370002999999997,14.403999999999998,62.36,2.2545509679999998,1.3876095854532773,0.80683093205769207,46,5.410754165950868,37,37,10,54.1,75,75,6,1.1816944597067884,0.48451322135082719,1.1114215497398745,1.7124398586674272,1.113270836844267,0.13499795862065031,0,1.1687494499760411,0,0.92464355219623517,0.34026882720821455,1.3203909925362236,2.2283333333333335,0.40166666666666667,0.316,0.26667000000000002,2.3159999999999998,4.4999999999999998E-2,0.27999999999999997,0.19,11.1749975,0.13,309,65.25,0.31,50.2,33,0,91,null,null,9001]
[null,3,"Alfalfa fresh",null,0,100,30.728619999999996,23.082080000000001,50,8.6718799999999998,0,0,1.4666699999999999,6.2333299999999996,22.516999999999999,37.86027,10.000000000000011,63,2.2776893999999999,1.4085802750861394,0.82578926318466683,8,5.6677341873498808,25,25,5.5,43.5,75,75,82,0.56320275200000003,0.14541710400000002,0.72246910400000008,1.4772531200000001,0.74093476800000002,0.28160137600000001,0,0.96483094400000002,0,0.76170863999999994,0.424710272,0,1.77254,0.34403,0.37193999999999999,0,2.92292,0.12039999999999998,0.33228000000000008,0.65,8.3076899999999991,0.16,252,39.703699999999998,0.18,24.692309999999999,155,0,0,null,null,9101,"Bahiagrass, 30% Dry Matter",null,0,100,30,8.9,45,2,0,0,2.1,10,0.55000000000000004,68,6.999999999999984,54,0.88555982944751876,0.50204316431444707,0.24941296525485893,17,5.0321550267842721,30,30,3,83.7,75,75,41,0.25187000000000004,8.900000000000001E-2,0.25187000000000004,0.48861000000000004,0.25187000000000004,5.9630000000000009E-2,0,0.3115,0,0.25187000000000004,0.40050000000000002,0.34087000000000001,0.46,0.22,0.25,0,1.45,0,0,0,0,0,0,0,0,0,304.2,0,0]
[null,4,"Alfalfa greenchop",null,0,100,40.500720000000001,23.14218,12.4,6.46875,7.1,0,2.4666700000000001,11.09,2.1,34.385210000000001,6.21,59,2.1330741999999998,1.2763186331531466,0.70567149265184748,46,5.410754165950868,37,37,10,54.1,75,75,6,1.4787853019999999,0.60632511600000005,1.390845018,2.1429658680000001,1.3931592359999998,0.16893791399999997,0,1.4625857760000001,0,1.1571089999999999,0.42581611200000002,1.6523516519999999,1.5092300000000001,0.29154000000000002,0.35182000000000002,0.66,2.875,7.3999999999999996E-2,0.21,0.19,10.5,0.13,309,31,0.31,21,33,0,91]
[null,5,"Alfalfa hay",null,0,100,87.032551906058686,19.80853521903429,25.186432214285713,12.208307549342106,8.6729699999999994,0,1.5469107861771061,11.870581959747128,2.9732601052631584,41.731612605056981,6.769891274623407,55.18,1.994966684,1.147246648286842,0.58721644650350058,25,5.075000000000002,30,30,5.5,49.3,75,75,92,1.265765400496291,0.51898362273869847,1.1904929666639608,1.8342703612825753,1.1924738201858642,0.14460230709895031,0,1.2518994258429672,0,0.99042676095171456,0.36447704803023095,1.4143294146390482,1.466015094877765,0.25591876949740033,0.29555638642883869,0.5174506382978723,2.5484323568214049,0.10002292192881745,0.26257984323971256,0.40600000000000003,7.8227760763454315,0,170,44.545030770513669,0.55000000000000004,23.468950546654096,19.3,1,0]
[null,6,"Alfalfa haylage",null,0,100,41.039378387096768,20.109421067602511,25.175002499999998,13.735346896551725,1.93333,0,2.0115876829268293,12.093924239999998,1.8799999999999997,42.485337407002184,6.3728600000000002,63,2.2776893999999999,1.4085802750861394,0.82578926318466683,46,5.410754165950868,37,37,10,54.1,75,75,6,1.2849920062198004,0.52686683197118578,1.2085762061629108,1.8621323908599925,1.2105871482696711,0.14679877379349832,0,1.2709154114724788,0,1.0054710533801257,0.37001334764388621,1.4358126642268192,1.5555533628318583,0.30353236662106703,0.33022718309859156,0.63428714285714283,2.7518799693955622,0.12957062499999999,0.30671353760445685,0.19,7.8353986046511626,0.13,309,42.398947742782156,0.31,25.007791662337663,33,0,91]
[null,7,"Almond hulls",null,0,100,89.206597083333321,5.4736144680851062,40.916910000000001,11.4583125,15.05,0,2.8043492173913043,8.2945562499999994,2.5042574468085106,38.957488218623482,11.05645,59.141300000000001,2.1381827319399993,1.2810401184154263,0.7099817175791987,46.884999999999998,10.814708062258083,25,25,6,58.2,75,75,100,0.64643386868085106,0.13136674723404254,0.23755486791489361,0.36509008502127654,0.27641753063829788,0.10454603634042553,0,0.36071119344680852,0,0.22660763897872338,1.6420843404255318E-2,0.30050143429787235,0.29752237623762373,0.10816591836734694,0.10500117021276596,9.4119999999999995E-2,2.3840140170940169,2.4410000000000001E-2,4.1120654205607482E-2,0.02,7.0584018000000004,0,368.11500000000001,20.936401800000002,0.04,16.257395399999996,0,0,0]
[null,8,"Apple pomace",null,0,100,18.486889999999999,6.3699199999999996,20.181229999999999,10.625,0,0,6.1027800000000001,3.1377799999999998,3.9804900000000005,45.559019999999997,14.85455,70.894310000000004,2.5630987048780001,1.6616589139846512,1.0519377120170472,56.761670000000002,10.677177177177166,50,50,5,33,75,75,34,0.18026873599999998,6.3699199999999997E-2,0.18026873599999998,0.34970860799999998,0.18026873599999998,4.2678463999999999E-2,0,0.22294719999999998,0,0.18026873599999998,0.28664639999999997,0.243967936,0.14940000000000001,0.14344999999999999,8.5879999999999998E-2,3.6150000000000002E-2,0.8301099999999999,2.0920000000000001E-2,7.7009999999999995E-2,0,8.3620400000000004,0,105.61208000000001,10.79368,0,7.8437999999999999,0,0,0]
[null,9,"Bakery products",null,0,0,88.860936351582552,13.143717085201793,23.231999999999999,5.741714285714286,6.3173900000000005,0,10.035712952889753,4.0791135581061688,37.608217477611937,13.865305495495495,1.986,91.897000000000006,3.3224257586000001,2.2934922226282262,1.5945739328209472,33.415999999999997,9.6992589050920426,16,16,7,81.900000000000006,75,75,0,0.62695530496412544,0.17086832210762332,0.60066787079372197,0.98183566626457397,0.41665583160089681,0.23264379240807173,0,0.53889240049327347,0,0.65061399571748879,0.13143717085201792,0.56517983466367705,0.25842231197771587,0.38930316666666664,0.15018835334476843,0.79556714285714292,0.5334090056285179,0.58978335535006599,0.16348028634361234,1.3420000000000001,6.7461057692307689,0,192.36,44.41452884615385,0,43.05905431309904,7.7,0,44.9]
[null,10,"Barley grain",null,0,0,89.688324494799403,12.778181475367552,27.578530000000001,2.2138246235606736,10.65,0,2.1977869520225783,2.7668262575342464,56.743142452912835,18.290211574803148,1.7495699999999998,84.063475743589748,3.0392140893385946,2.0638049720133465,1.4009636310785116,50.76793,10.3994883889718,30,30,5,79.2,75,75,34,0.61718616526025272,0.29262035578591694,0.50090471383440804,0.87274979476760384,0.39229017129378385,0.10350326995047718,0,0.71557816262058282,0,0.40251271647407783,0.16100508658963114,0.62357525599793651,8.4553221271393642E-2,0.37760949250288345,0.13234630922693266,0.1655779487179487,0.52572929879974728,2.1627639751552793E-2,0.13925887422360247,0.35,6.1162204724409452,0.05,99.396259999999998,21.84632515625,1,30.640232890625001,3.8,0,26.2]
[null,11,"Barley grain flaked",null,0,0,81.122002000000009,12.531407438016529,17,5,0,0,2.0466700000000002,2.8666700000000001,59.273850000000003,26.3,1.9052631578947399,84,3.0369191999999998,2.0619180362909284,1.3993559112524201,33.071312338916002,10.3994883889718,30,30,5,79.2,75,75,34,0.60526697925619832,0.28696923033057853,0.49123117157024793,0.85589512801652901,0.3847142083471074,0.1015044002479339,0,0.70175881652892558,0,0.39473933429752067,0.15789573371900828,0.61153268297520658,0.10823529411764707,0.35249727272727277,0.15470588235294117,0.13,0.55941176470588239,0.03,0.13583333333333333,0.35,5.4250000000000007,0.05,59.5,14.666670000000002,0.17899999999999999,31.199997500000002,3.8,0,26.2]
[null,12,"Barley hay",null,0,100,87.989448503841487,10.946120738448846,44.731049003880983,4.1159374999999994,0,0,2.4091838113207551,8.3613355513307965,5.6598367767503301,56.884311723692711,4.3231999999999999,60.157286317365269,2.17491449806076,1.3148808460421098,0.74082688346842573,32.771079999999998,3.5933999295096806,30,30,3,74.8,75,75,98,0.30977521689810233,0.10946120738448846,0.30977521689810233,0.60094202854084167,0.30977521689810233,7.3339008947607268E-2,0,0.38311422584570964,0,0.30977521689810233,0.49257543323019803,0.41923642428259078,0.3725598442367602,0.24122021938775506,0.18206989861259337,0.88388278787878782,1.9207623181133968,0.22569575471698117,0.17653756676557864,1.67,7.0535466400000004,0,310.18367999999998,35.051411273712738,0,25.352576380697048,15,0,0]
[null,13,"Barley silage",null,0,100,33.631554044558705,12.048890172642762,65.317999999999998,4.9168838042813459,0,0,3.4723104483695648,8.6454248661633493,9.167275624586912,54.769405195162165,4.7670000000000003,60.583153884156729,2.1903112288970257,1.3290097967844545,0.75368017424471434,20.792000000000002,8.2663951120162871,50,50,4,54,75,75,65,0.20844579998671978,0.22049469015936257,0.4397844913014608,0.76510452596281542,0.4397844913014608,0.20844579998671978,0,0.47472627280212487,0,0.47472627280212487,0.16266001733067731,0.66027918146082343,0.41266525118483416,0.29740654605263156,0.17582603530534349,0.86199999999999988,2.0598137344582592,0.19425806965174131,0.19003182802547766,1.405,6.9378197846889949,0,353.02600000000001,38.543790095923264,0.15,28.34147815270936,0,0,0]
[null,14,"Barley straw",null,0,100,85.068420000000003,6.0818199999999996,48,0.6,0,0,1,12.08,14.875,71.628569999999996,5.16,48.271430000000002,1.745195625934,0.90642157165679249,0.36307197813441894,35.830862000389402,2.5316399026583833,30,30,6,74.599999999999994,75,75,34,0.71157293999999993,0.13197549399999997,0.22320279399999998,0.405657394,0.21286369999999999,7.1157293999999996E-2,0,0.31443009399999999,0,0.172115506,6.0818199999999996E-2,0.27368189999999998,0.51600000000000001,0.21299999999999999,0.18124999999999999,0.39,2.2875000000000001,0.51832999999999996,0.20666999999999999,0,5.0999999999999996,0,200,42.666670000000003,0.44800000000000001,25.399999999999995,0,0,4]
[null,15,"Beet pulp, dry",null,0,0,91.485727922624051,9.0652193113772448,21.893999999999998,7.04,8.5500000000000007,0,1.1428777281553399,6.8437680608365019,0.92690538288288282,41.328076846330276,3.9350000000000001,66.590545560747657,2.4075012660941582,1.5249374188551172,0.93037608433781349,53.14500000000001,1.6835239445606025,40,40,8,65.7,75,75,33,0.40158921549401194,0.16951960112275447,0.24385439947604787,0.41790661025449105,0.27195657934131734,5.8923925523952099E-2,0,0.25382614071856285,0,0.28736745217065868,9.9717412425149698E-2,0.40793486901197601,0.95684049113233283,8.2366250000000002E-2,0.23021867346938776,0.115,0.70541255102040812,0.18973529411764709,0.29657885304659498,0.99,8.4037283950617301,0,640.71799999999996,61.593547325102882,0.12,29.913253012048195,0.4,0.6,0]
[null,16,"Beet pulp, wet",null,0,0,21.946838113207544,9.5499030858468679,20.78153434931507,4.53,23.207689999999999,0,0.85923371257485026,8.5854019251336897,1.65312981595092,48.234391708394696,4.3680000000000003,66.590545560747657,2.4075012660941582,1.5249374188551172,0.93037608433781349,55.662999999999997,1.6835239445606025,40,40,8,65.7,75,75,33,0.42306070670301621,0.17858318770533643,0.25689239300928074,0.44025053225754063,0.28649709257540601,6.2074370058004646E-2,0,0.2673972864037123,0,0.30273192782134573,0.10504893394431555,0.42974563886310901,0.98707054838709685,0.10375393687707642,0.25299105461393595,9.1999999999999998E-2,0.57445303201506603,9.9161812297734631E-2,0.20093929515418504,8.1000000000000003E-2,8.786514848484849,0,748.17499999999995,60.786092307692307,0.12,22.560323007518797,0.4,0.6,0]
[null,17,"Bermudagrass fresh",null,0,100,34.937208652343749,15.157075813953488,42.433520000000001,6.3082500000000001,0,0,2.7570858097165996,8.6281700000000008,1.7850228651685391,66.599085853658536,5.0274400000000004,57.318440000000002,2.0722794160719999,1.2198439101317158,0.65398999974555316,32.402540000000002,3.077271265055086,30,30,3,80.8,75,75,41,0.42894524553488372,0.15157075813953488,0.42894524553488372,0.83212346218604649,0.42894524553488372,0.10155240795348838,0,0.53049765348837208,0,0.42894524553488372,0.68206841162790699,0.58051600367441869,0.48259796874999994,0.29873593619972255,0.21633456828885397,0.75773999999999997,2.2050214659685863,3.492E-2,0.27416000000000001,0,10.747819999999999,0,254.67687000000004,76.967100000000002,0.2,41.377099999999999,0,0,0]
[null,18,"Bermudagrass hay",null,0,100,92.991174717098019,11.107282764374457,32.725207295062603,5.347447454404346,5.8,0,1.8570362666382707,7.9415844767193509,4.7827626679555344,66.97790527625348,5.4119626252300144,56.299071785742861,2.0354253815273902,1.1853479051398437,0.62230829472939586,41.579140000000002,3.6701305268277404,30,30,3,73.3,75,75,98,0.31433610223179714,0.11107282764374457,0.31433610223179714,0.60978982376415769,0.31433610223179714,7.4418794521308868E-2,0,0.38875489675310598,0,0.31433610223179714,0.49982772439685058,0.42540892987554174,0.48796221419307029,0.1992501607538803,0.20457153072085146,0.73913011953833474,1.6536563168795306,0.12617896306818185,0.39802719044702994,0.62233000000000005,10.647839981990096,0,217.79455999999999,63.109157170753868,0.27125437499999999,34.844824982078855,0,0,0]
[null,19,"Bermudagrass silage",null,0,100,39.003999999999998,13.481999999999999,53.573000000000008,7.99,0,0,3.1509999999999998,8.6809999999999992,2.5950000000000002,66.593000000000004,6.3959999999999999,55.377000000000002,2.0020889826000001,1.1539716723814957,0.59341781069034605,29.673999999999999,2.5815450873678225,20,20,5,56.1,75,75,41,0.38154060000000001,0.13482,0.38154060000000001,0.74016180000000009,0.38154060000000001,9.0329400000000004E-2,0,0.47186999999999996,0,0.38154060000000001,0.60668999999999995,0.51636060000000006,0.50900000000000001,0.28899999999999998,0.22900000000000001,0.70599999999999996,2.157,4.4999999999999991E-2,0.24099999999999999,0.27,13.32,0,536.86300000000006,75.308000000000007,0,43.869,175.4,0,0]
[null,20,"Blood meal",null,0,0,89.558663715710722,95.05,14.177,21.41,0,0,1.208881052631579,2.8000429613733906,0.62,4.5330000000000004,0,74.617000000000004,2.6976880945999997,1.7776758439670002,1.1539447099376128,74.641999999999996,1.2892724842467065,0,0,0,98.6,0,75,0,5.0577992637532132,6.5115379742930592,0.8883958786632391,13.527846334190231,9.4291108030848321,1.080208625192802,0,7.9349904616966578,0,4.7751278478149102,1.8979366498714652,9.1666302025706941,0.14079234972677596,0.23498395721925139,3.8445161290322584E-2,0.31599999999999995,0.41170063694267517,0.2639866666666667,0.65011184210526318,9.7000000000000003E-2,4.3519165625000005,0,2378,5.330974358974359,0.80100000000000005,36.592937499999998,0,0,0]
[null,21,"Bluegrass hay",null,0,100,89.320810810810812,7.4964296428571426,25,6.5,0,0,1.4,9.3333300000000001,0.43200000000000016,68.833330000000004,7.999999999999992,51,1.8438437999999997,1.002719708061762,0.4531772042915998,37,3.6701305268277431,30,30,3,73.3,75,75,98,0.21214895889285715,7.4964296428571428E-2,0.21214895889285715,0.41155398739285715,0.21214895889285715,5.0226078607142857E-2,0,0.26237503749999996,0,0.21214895889285715,0.33733933392857141,0.28711325532142856,0.27679999999999999,0.19359999999999999,0.12545000000000001,0,1.9440900000000001,0,0.13894999999999999,0,3.8333300000000001,0,60,75.545450000000002,0,14.636359999999998,0,0,0]
[null,22,"Bluestem fresh",null,0,100,51.228569999999998,6.5214299999999996,46,2.2000000000000002,0,0,1,6,0.81600000000000028,75,14.000000000000025,53,1.9161513999999999,1.0723134377190071,0.51790230335738707,19,6.0308313011502905,30,30,3,83.7,75,75,41,0.18455646899999997,6.5214300000000003E-2,0.18455646899999997,0.35802650699999999,0.18455646899999997,4.3693581000000002E-2,0,0.22825004999999998,0,0.18455646899999997,0.29346434999999998,0.249770769,0.44,0.14499999999999999,0,0,1.31,0.01,0.1,0,0,0,0,0,0,0,0,0,0]
[null,23,"Bluestem hay",null,0,100,89.186069942196539,6.0154681215469621,43,6.5,0,0,1.35,9.6999999999999993,0.43200000000000016,69.712900000000005,7.999999999999992,50,1.8076899999999998,0.96761094641001444,0.42039870671289847,37,3.6701305268277431,30,30,3,73.3,75,75,98,0.17023774783977902,6.0154681215469623E-2,0.17023774783977902,0.33024919987292828,0.17023774783977902,4.0303636414364651E-2,0,0.21054138425414368,0,0.17023774783977902,0.27069606546961328,0.23039242905524865,0.41384615384615375,0.11925925925925925,0.20759117647058825,0,1.11000375,5.5E-2,0.86999999999999988,0,9.5666666666666664,0,60,117.80000199999999,0,20.683333333333334,0,0,0]
[null,24,"Brewers dried grains",null,0,0,93.162888888888915,25.019039106145247,17.908000000000001,19.25,0,0,8.5187421383647806,4.569,5.7681889763779521,52.124276470588235,6.6529999999999996,72.006,2.6032905227999996,1.6965148139488377,1.082695752127032,59.139999999999993,3.1013626437973487,38,38,6,71.400000000000006,75,75,18,0.65299692067039095,0.36777987486033509,0.88317208044692719,2.1166107083798882,0.53790934078212282,0.31523989273743014,0,1.2009138770949719,0,0.69052547932960873,0.2802132379888268,0.94571967821229019,0.31906068181818181,0.64777272727272739,0.22478740157480315,9.7000000000000003E-2,0.33888067164179109,2.3514285714285717E-2,0.28977419354838707,1.1299999999999999,17.638375,7.1999999999999995E-2,327.411,56.088612244897952,0.76,214.61775999999998,0.8,0,29]
[null,25,"Brewers wet grains",null,0,0,25.959584307574598,28.517543370165743,11.395390000000003,21.754184901247399,0.5,0,9.5100068720379145,4.3755904232164449,4.8096140820443845,49.991638555999998,6.7433899999999998,73.876226015069051,2.6709063001036033,1.7547477467776074,1.1338694440735142,63.767150000000001,3.1013626437973487,38,38,6,71.400000000000006,75,75,18,0.7443078819613258,0.41920788754143645,1.0066692809668507,2.4125841691160219,0.61312718245856346,0.35932104646408836,0,1.3688420817679556,0,0.7870841970165745,0.31939648574585638,1.0779631393922651,0.34612123795027905,0.68160700406917607,0.22599438923395446,8.9351223021582729E-2,0.12011367834394907,2.4775028735632185E-2,0.31916786913723222,1.5,17.413525378151263,7.1999999999999995E-2,222.04958999999999,51.255629333333339,0.76,93.01000219409282,0.8,0,29]
[null,26,"Bromegrass hay",null,0,100,88.266081069306935,8.3372026632124356,24.55,7.4367099999999997,9.85,0,1.6437524999999999,8.8416700000000006,2.6428599999999998,65.920890537974685,6.5000000000000036,51.989550000000001,1.8796197927899998,1.0372559128131709,0.48533905248021814,29,3.6701305268277422,30,30,3,73.3,75,75,98,0.23594283536891195,8.3372026632124355E-2,0.23594283536891195,0.45771242621036273,0.23594283536891195,5.5859257843523323E-2,0,0.29180209321243522,0,0.23594283536891195,0.37517411984455962,0.31931486200103626,0.55425005376344083,0.17923048723897908,0.17838333333333331,0.19,1.5887915436241611,3.9E-2,0.167638202247191,0,5.9592566666666675,0,0,67.384619615384608,0,16.237410000000001,34.6,0,0]
[null,27,"Bromegrass silage",null,0,100,42.05,9.0333299999999994,50,11.875,0,0,2.8,9.8000000000000007,4.8160000000000052,71.05,4.7872000000000003,55,1.9884589999999998,1.1410952902583267,0.58154126882231694,28,2.5815450873678225,20,20,5,56.1,75,75,41,0.25564323899999997,9.0333299999999991E-2,0.25564323899999997,0.49592981699999994,0.25564323899999997,6.0523310999999996E-2,0,0.31616654999999999,0,0.25564323899999997,0.40649985,0.34597653899999997,0.46999999999999992,0.21600000000000003,0.16825000000000001,0,1.6679999999999999,3.9E-2,0.13200000000000001,0.27,5,0,120,69,0,16.25,175.4,0,0]
[null,28,"Buffalo grass",null,0,100,93.378879999999995,7.6,25,6.1,0,0,3.4,10.1,5.4872100000000001,65,7.41,54,1.9523051999999996,1.1068043600476267,0.54985582320086124,36,3.6313496455294438,30,30,3,74,75,75,98,0.21507999999999999,7.5999999999999998E-2,0.21507999999999999,0.41723999999999994,0.21507999999999999,5.0919999999999993E-2,0,0.26599999999999996,0,0.21507999999999999,0.34199999999999997,0.29108000000000001,0.26,0.3,0.11,0,2.67,0.01,0,0.3,20,20,84,167,0.03,38,8,0,0]
[null,29,"Cane fresh",null,0,100,28.035759999999996,11.292450000000001,42,10.625,0,0,3.9,8,4.875,60,8,63,2.2776893999999999,1.4085802750861394,0.82578926318466683,13,5.7582776309653365,25,25,9,79.599999999999994,75,75,41,0.31957633500000004,0.11292450000000001,0.31957633500000004,0.61995550500000007,0.31957633500000004,7.5659415000000008E-2,0,0.39523575,0,0.31957633500000004,0.50816024999999998,0.43250083500000003,0.38874999999999998,0.30042000000000002,0.24082999999999999,0,3.6069200000000001,0.05,0.14333000000000001,0,0,0,200,0,0,0,254.4,0,0]
[null,30,"Cane hay",null,0,100,82.792002317497094,8.0228703407155031,36.451110222222226,5.8777600000000003,18.059999999999999,0,1.344735789473684,11.140717142857143,71.400000000000006,63.333728875598077,4.1957114285714283,63,2.2776893999999999,1.4085802750861394,0.82578926318466683,37,3.6701305268277431,30,30,3,73.3,75,75,98,0.22704723064224874,8.022870340715503E-2,0.22704723064224874,0.4404555817052811,0.22704723064224874,5.375323128279387E-2,0,0.2808004619250426,0,0.22704723064224874,0.36102916533219764,0.30727593404940379,0.41887015990159898,0.18060635922330098,0.23385440119760476,0,2.1107901923076922,0.10941666666666666,0.10522807947019867,0,7.7314279999999984,0,60,69.124999375000002,0,21.009713999999999,0,0,0]
[null,31,"Cane silage",null,0,100,29.330769789473681,7.7011195708955222,35.183329999999998,10.43981,0,0,2.4,0,11.4,52.994732456140355,19.7,65,2.3499969999999997,1.4736600014231738,0.88441266202870761,27,0.4919786096256677,20,20,5,72.599999999999994,75,75,81,0.54446915366231341,0.10396511420708957,0.23180369908395521,0.33037802959141793,0.27801041650932834,5.7758396781716417E-2,0,0.21409112407089551,0,0.1740453023022388,5.7758396781716417E-2,0.21409112407089551,0.35453519031141867,0.19007387543252593,0.29284054054054054,0.13,1.9059593119266056,0.10125000000000001,0.34666326530612246,0.3,21.926667999999999,0,383,129.866668,0.03,14.935333333333334,0,0,0]
[null,32,"Canola grain",null,0,0,94.721590818713452,23.897119056603771,41.475999999999999,11.11,0,0,39.78830026666666,4.3346875000000002,1.4,28.248387096774195,6.4,109.2,3.9479949599999995,2.783922188096446,1.9948133466720441,36.993000000000002,3.1013626437973487,38,38,6,71.400000000000006,75,75,18,0.6237148073773584,0.35128765013207541,0.84356830269811311,2.0216962721886791,0.51378805971698105,0.30110370011320753,0,1.147061714716981,0,0.65956048596226391,0.26764773343396225,0.90331110033962247,0.52800000000000014,0.70443478260869552,0.35029999999999994,6.5000000000000002E-2,0.84727272727272729,2.1000000000000001E-2,0.41299999999999998,8.3000000000000004E-2,5.3140000000000001,7.1999999999999995E-2,98.089000000000013,74.513999999999996,0.76,46.521000000000001,0.8,0,29]
[null,33,"Canola meal",null,0,0,90.429296047178838,40.861875481088255,32.172983460559799,17.360175438596489,8.75,0,7.3161411860465124,7.4086368373493992,1.2948819188191885,30.158012409717664,8.8339999999999996,71.081999999999994,2.5698844115999995,1.667556610124282,1.0571487333818506,42.253,9.2454514035766664,40,40,6,71.099999999999994,75,75,23,2.7704351576177841,1.6508197694359654,2.0185766487657602,3.2648638509389518,2.7254870945885865,0.57206625673523559,0,1.9123357725149301,0,1.9818009608327802,0.49851488086927664,2.631504780982084,0.68612686695278957,1.1012236180422266,0.55730874006810449,0.11499999999999999,1.2568419195046439,5.5138614173228344E-2,0.70872777316735813,0.14000000000000001,6.461243875598087,0,230.511,68.402519278846157,1.1000000000000001,59.838897810218981,0,0,0]
[null,34,"Citrus pulp, dry",null,0,0,87.687365401069513,6.9054801512287343,41.055999999999997,5.63,0,0,2.4395544554455446,7.4208806818181818,1.004126062992126,24.01784037558685,2.4489999999999998,69.974000000000004,2.5298260012000005,1.6326637451698454,1.0262789309324827,40.314,1.5264687393911447,50,50,9,66.2,75,75,33,0.3059127706994329,0.12913247882797735,0.18575741606805296,0.31834263497164467,0.20716440453686202,4.4885620982986776E-2,0,0.19335344423440454,0,0.2189037207939509,7.596028166351608E-2,0.31074660680529304,1.8443291139240507,0.11191627906976745,0.12509313725490195,0.11600000000000001,0.97988479262672812,4.9882352941176468E-2,0.10554074074074074,0.185,6.399222222222221,0,124.583,9.917061855670104,0,12.089632653061226,0,0,0]
[null,35,"Citrus pulp, wet",null,0,0,19.405412429378529,8.5788203592814352,56.650000000000006,4.4800000000000004,0.9,0,3.1738554216867469,6.7763999999999998,1.7015438596491228,26.288486486486487,3.206,70.198999999999998,2.5379606062,1.6397644012259485,1.032568606307926,38.06,1.5264687393911447,50,50,9,66.2,75,75,33,0.38004174191616757,0.16042394071856286,0.2307702676646706,0.39548361856287423,0.25736461077844303,5.5762332335329325E-2,0,0.24020697005988015,0,0.2719486053892215,9.4367023952095785E-2,0.38604691616766457,1.2846122448979593,0.15870758620689657,0.12504391304347826,0.111,1.2217504032258064,3.9E-2,0.10887096774193548,0.185,5.4825074626865664,0,120.947,11.887,0,12.106985074626866,0,0,0]
[null,36,"Corn cobs",null,0,100,89.25821811572699,4.1824617944535074,37.026000000000003,3.3954999999999997,0,0,0.92004065040650407,2.560624140127389,1.3798429752066115,78.263243243243238,4.0540000000000003,58.277355760000006,2.1069478646758881,1.2521137899805277,0.68354941025021354,30.125,8.7061919504643956,35,35,4,64,75,75,56,7.9466774094616638E-2,0.1112534837324633,0.14304019337030996,0.60227449840130509,4.7680064456769984E-2,3.1786709637846661E-2,0,0.20494062792822187,0,0.14304019337030996,1.589335481892333E-2,0.19072025782707994,6.1068735632183901E-2,9.2021813186813198E-2,5.2296709677419354E-2,0.248,0.88563611111111107,2.8000000000000001E-2,5.0741496598639454E-2,0.13,7.3079999999999989,0,245.68199999999999,13.927,0.08,26.465,1.2,0,0]
[null,37,"Corn ear corn",null,0,0,83.276080663390672,8.2793852646239543,24.679895759768449,3.2415858173076924,0,0,3.6032367799352749,1.68954,60.678004941785254,19.405070719999998,1.8023299999999998,84.572448192419827,3.0576153774591073,2.0789191026514509,1.4138311066473364,63.594920000000002,4.3554942715814855,18,18,5,85.8,55,75,56,0.15068481181615598,0.17055533645125348,0.22271546361838435,0.88837803889415023,0.13660985686629523,9.2729114963788301E-2,0,0.3021975621587743,0,0.23182278740947068,3.0633725479108632E-2,0.31047694742339826,4.2811738562091507E-2,0.27933217335058214,0.11569555555555557,9.214E-2,0.44471232488822654,1.2568717948717948E-2,9.7915939086294423E-2,0.19,4.4444844827586207,0.03,91.617040000000003,10.243448620689655,7.0000000000000007E-2,24.95310172413793,1.5E-3,0,0]
[null,38,"Corn earlage",null,0,0,62.543609525745261,8.090312489270385,38.910321192886457,2.2880183487316001,1.2857099999999999,0,3.5447233959731541,1.8592950932203389,60.15823981429898,21.043018325656377,1.7446585343598517,84.321761597739524,3.0485521044523547,2.0714784211257724,1.4074987116980711,48.625869999999999,4.3554942715814855,18,18,5,85.8,55,75,56,0.14724368730472101,0.16666043727896995,0.21762940596137334,0.8680905300987124,0.13349015607296136,9.0611499879828319E-2,0,0.29529640585836903,0,0.22652874969957076,2.9934156210300423E-2,0.30338671834763942,4.6698012519561821E-2,0.27082171862821519,0.11537200145384058,0.11390243902439025,0.4725938566963212,2.0941860465116278E-2,9.6559554689674365E-2,0.19,3.753006090225564,0.03,85.170310000000001,11.161452903225806,7.0000000000000007E-2,21.556864999999998,1.5E-3,0,0]
[null,39,"Corn germ meal",null,0,0,90.591167010676159,22.14467508571429,29.524999999999995,6.4230743243243245,0,0,11.499063457076566,4.3106751054852319,19.666013157894735,39.407814600638972,2.4420000000000002,78.567209335548171,2.8405031728755414,1.8986861588456319,1.2592082378473894,47.795000000000002,3.3285115867003756,50,50,5,93,75,75,36,0.70198620021714309,0.54254453960000015,0.96107889872000019,3.5918662989028576,0.27459397106285721,0.46282370929142863,0,1.434974945554286,0,0.6488389800114287,8.1935297817142871E-2,1.1160916243200001,4.260655172413793E-2,1.0663468674698795,0.30352539568345321,0.10095238095238096,0.69417965517241387,4.3999999999999997E-2,0.23700390625000001,8.5000000000000006E-2,7.181781428571429,0,129.721,16.403211864406778,1.111,106.314825,29.8,0,32]
[null,40,"Corn gluten feed and distillers; Golden synergy",null,0,0,50.438549999999999,24.553129999999999,16.3,12,0,0,8.6979600000000001,4.3972699999999998,11.5,29.274999999999999,4,89,3.2176882,2.2092485408065787,1.524040790162223,66.602774285105397,1.4275236200895083,17,17,7,66.400000000000006,75,75,4,1.018954895,0.44686696599999998,0.68257701399999993,2.2269688909999998,0.50579447799999999,0.29463755999999997,0,1.0312314600000001,0,0.76605765599999998,0.40267133199999994,1.2865840120000001,0.09,0.82,0.34,0.14000000000000001,1.1668799999999999,0.21,0.61963999999999997,0.18,5.35,8.5000000000000006E-2,560,17.75,0.4,62.45,1.2,0,49.4]
[null,41,"Corn gluten feed wet",null,0,0,43.758581029986964,21.695255883849089,59.120992330097096,6.9537472014925372,3.4,0,4.2905464676616907,6.3988989950980386,15.229067700258398,38.530854813925565,1.59643,86,3.1092267999999996,2.1211614297795118,1.44969854519749,34.1083,3.1654034774855093,50,50,5,89.2,75,75,36,1.5121593351042817,0.47295657826791021,0.1930877773662569,1.527346014222976,0.32542883825773639,0.36448029884866473,0,0.36448029884866473,0,0.37098887561381944,0.14318868883340399,1.1541876130207716,4.8822173913043471E-2,0.89805385251550651,0.41304912423625262,0.19120528795811517,1.3228467637540451,0.16318681050656661,0.51699111764705885,9.7000000000000003E-2,5.409916826086957,7.3999999999999996E-2,152.44579999999999,17.423147801724138,0.30199999999999999,62.406637413793099,1,0,94]
[null,42,"Corn gluten feed wet; Sweet Bran",null,0,0,60.069869999999995,23.764790000000001,50.466670000000001,6.4,0,0,4.6518499999999996,6.9,19.487599999999993,26.75,2.9988000000000001,89,3.2176882,2.2092485408065787,1.524040790162223,23,3.2432912746491356,40,40,4,72.099999999999994,75,75,19,1.8441477040000001,0.70343778400000001,0.87454427200000007,1.5589702240000001,0.87216779300000002,0.17823592499999999,0,1.0765449870000001,0,0.88167370900000008,0.28517747999999998,1.28329866,0.06,0.97,0.4,0.05,1.3940699999999999,0.04,0.49017999999999995,0.11,14,7.0000000000000007E-2,128,125,0.43,128,0,0,0]
[null,43,"Corn gluten feed, dry",null,0,0,89.822432523262179,22.644414094418053,51.697313222506388,8.8522303345724911,2.6764700000000001,0,3.3246244060475161,8.2010858775811215,16.917008036929062,35.047681720634927,1.8585700000000001,80,2.8923039999999998,1.9420793047682641,1.2966713834226633,37.097410000000004,3.1654034774855093,50,50,5,89.2,75,75,36,1.5783156623809382,0.49364822725831359,0.20153528544032068,1.5941667522470309,0.33966621141627079,0.38042615678622327,0,0.38042615678622327,0,0.38721948101454873,0.14945313302315916,1.2046828298230405,0.10174003714710253,1.0139663505154639,0.42660617702448206,0.25845093023255816,1.411734679376083,0.2962745961319681,0.58272254882812513,0.10866666666666665,6.3023447368421053,7.3999999999999996E-2,133.32749999999999,20.065449867549667,0.215,68.571034675324668,1,0,94]
[null,44,"Corn gluten meal",null,0,0,90.39979719486081,68.213636616454224,14.741,15.079911428571426,0.23333000000000001,0,2.3993128644939969,2.9135154363636362,15.416392678571428,8.0690443298969061,2.262,87.816999999999993,3.1749182545999992,2.174620270570899,1.4948883409763911,69.722999999999999,3.3285115867003752,50,50,5,93,75,75,36,2.1623722807415988,1.6712340971031288,2.9604718291541134,11.064251859188873,0.8458490940440323,1.4256650052838933,0,4.4202436527462341,0,1.9986595528621089,0.25239045548088063,3.4379672854692926,3.5496887417218549E-2,0.55123856521739134,8.5214213197969554E-2,0.11035294117647058,0.25725741116751272,5.310270072992701E-2,0.81817887234042563,8.5000000000000006E-2,12.695008581560286,0,74.17,5.698504926470588,0,29.081074748201438,14,0,26]
[null,45,"Corn grain",null,0,0,87.218643905471836,8.7927085245758274,21.082450279846995,3.0855821855441143,1.81,0,3.8053440446304041,1.4361272523025397,72.074770111616658,9.7241559794256354,1.1801636283185841,87.604554401735896,3.1672375389294789,2.168387075565946,1.4896308528971409,65.305019999999999,3.8588572413662581,15,15,5,84.4,75,75,30,0.16002729514728006,0.18112979560626205,0.23652385931108974,0.94345762468698635,0.14507969065550114,9.8478335475249285E-2,0,0.32093386114701772,0,0.24619583868812317,3.253302154093056E-2,0.32972656967159353,3.3294903080390688E-2,0.29109800364298727,0.11185190405904058,0.14781379562043795,0.37045778282707487,3.4826681318681316E-2,0.10903057642883369,0.51349999999999996,2.630920842210386,0.03,49.974919999999997,7.5849604500160721,0.60875250000000003,20.487214205787783,1,0,25]
[null,46,"Corn grain high-moisture",null,0,0,70.543646189085734,8.7530794270633798,29.984397894991243,2.5249154546173931,2.16,0,3.9282764555411935,1.5278728773318258,71.299267903727724,9.8632368611243919,1.1518579825009114,90.373336439077775,3.2673395309511299,2.249280441454335,1.5576260076722916,55.29701,5.5893969796177032,30,30,6,73.900000000000006,85,75,0,0.35975156445230494,0.23633314453071125,0.33699355794194014,1.059122610674669,0.21620106184846549,8.6655486327927453E-2,0,0.43677866341046268,0,0.29147754492121059,3.2386393880134506E-2,0.41839719661362956,2.4573915635326897E-2,0.30102658322377074,0.11579503601142431,8.3886746031746035E-2,0.39185261119515885,1.7160419947506566E-2,0.10034160298573647,0.42899999999999999,2.2207605745721271,0,49.470219999999998,6.3098200000000002,0,19.443322765957447,0,0,0]
[null,47,"Corn grain steam flaked",null,0,0,80.701418487133907,8.4804277060631446,8.2005363478260858,4.1101042766497464,0,0,3.1894465977859783,1.2611398194945851,76.239621578444755,8.9652853553719023,1.252,95,3.4346109999999994,2.3829167767143562,1.6688495973026396,70.357600000000005,3.8932502207276865,25,25,6,85.8,95,75,48,0.15434378425034923,0.17469681074490079,0.22812350529309858,0.90994989286057548,0.13992705715004189,9.4980790307907237E-2,0,0.3095356112713048,0,0.23745197576976804,3.1377582512433631E-2,0.31801603897736791,2.2287699859747545E-2,0.24534660156250002,9.2285568181818184E-2,8.0519999999999994E-2,0.33030601599999998,1.2349242424242424E-2,9.6381233062330623E-2,0.42899999999999999,2.6860346280991738,0,33.761879999999998,7.1404167500000009,0,19.75562173553719,0,0,0]
[null,48,"Corn greenchop",null,0,100,32.125028436018965,7.8202495705521464,45,5.625,0,0,2.25,3.59,32.28547951612903,44.358618390804594,3.1463414634146352,67.3,2.4331507399999994,1.5476761405971624,0.95069381623300053,22,6.0203045685279148,30,30,6,64.400000000000006,75,75,81,0.14623866696932514,8.3676670404907977E-2,0.18768598969325151,0.5004959725153374,0.16657131585276072,6.2561996564417174E-2,0,0.22991533737423311,0,0.16657131585276072,8.6022745276073606E-3,0.2502479862576687,0.34272999999999998,0.24454999999999999,0.22061,0.18,1.5810500000000001,0.01,0.11824,9.7000000000000003E-2,4.18,0,131,23.5,0,17.7,18,0.1,0]
[null,49,"Corn screenings",null,0,0,86.153867323420073,8.8440001799999983,3.1,7.03125,2.8,0,3.3187199465240642,1.867799393939394,67.741748552188554,14.759996818181818,0.19999999999999982,72.81,2.632358178,1.7216104418982665,1.1047819280632769,56.960335949752597,3.8932502207276865,25,25,6,85.8,95,75,48,0.16096080327599996,0.18218640370799996,0.23790360484199993,0.9489612193139999,0.14592600296999997,9.9052802015999988E-2,0,0.32280600656999991,0,0.24763200503999994,3.2722800665999995E-2,0.33165000674999995,6.2733614457831322E-2,0.25380591549295772,0.11989158415841585,0.15,0.38912280701754387,3.0666666666666665E-2,0.10428285714285715,0.42899999999999999,3.0750000000000002,0,30,13.937503125000001,0,24.412496875000002,0,0,0]
[null,50,"Corn silage",null,0,50,33.070920832467671,8.2381312993496874,55.750217846174358,3.6885994653468157,4.2558400000000001,0,3.2538245102422496,4.2444255108075488,32.581130963978303,42.976143417421461,3.1670989558329632,67.683811445864038,2.447026982251479,1.559943960408428,0.96163894230128211,25.377759999999999,3.3968401486988862,30,30,6,66.2,75,75,81,0.15405305529783916,8.8148004903041657E-2,0.19771515118439251,0.52724040315838006,0.17547219667614833,6.5905050394797507E-2,0,0.24220106020088081,0,0.17547219667614833,9.061944429284657E-3,0.26362020157919003,0.23877832672367622,0.2316764703835679,0.16871374682534812,0.24738822779560216,1.0719219986307174,1.7089071914480079E-2,0.1019274268273284,0.71483733333333332,6.2099582867335927,0,187.10253,32.79802611101892,0.1588542857142857,26.414687115163463,58.1,0,0]
[null,51,"Corn snaplage",null,0,0,58.939996453674127,8.0751601731601745,42.899000000000001,2.2192000048192773,0,0,3.46,1.9850000000000001,57.024000000000001,23.277273461117197,1.9462661881785281,81.97,2.9635269860000002,2.0013331502772065,1.3475859399641834,44.67,4.3554942715814855,18,18,5,85.8,55,75,56,0.14696791515151519,0.16634829956709962,0.21722180865800869,0.86646468658008668,0.13324014285714289,9.0441793939393958E-2,0,0.29474334632034638,0,0.22610448484848486,2.9878092640692647E-2,0.30281850649350656,5.2091316025067141E-2,0.26992497352162403,0.11408890404929578,0.129,0.50932577333333329,1.2E-2,9.6976112412177989E-2,0.19,3.7868178542510118,0.03,107.92400000000001,11.975,7.0000000000000007E-2,22.475485903614459,1.5E-3,0,0]
[null,52,"Corn stalklage",null,0,100,40.741079640323377,6.8129881781914889,49.937040809327847,5.3028486342943859,0,0,1.9868604840940525,12.147152203773585,5.9799330326594085,63.782389206618582,6.1222049380530974,53.574489999999997,1.9369213965619998,1.0921527447556079,0.53629224741221426,29.014520000000001,5.1422413793103479,25,25,4,74.8,75,75,81,0.12740287893218086,7.2898973506648937E-2,0.16351171627659572,0.43603124340425531,0.1451166481954787,5.4503905425531914E-2,0,0.20030185243882975,0,0.1451166481954787,7.4942869960106387E-3,0.21801562170212765,1.76,0.16,0.22,0.52746999999999999,1.6213990504451041,0.23881340909090909,0.10146734604105573,0,7.8071638297872337,0,1021,63.887705127272717,0,30.022297949640294,0,0,0]
[null,53,"Corn stalks",null,0,100,85.808701130082071,6.0708078080903105,42.147602510460246,6.0903439920159679,3.1,0,1.4392369230769231,11.10318704736842,10.801462772963603,70.830737983942896,6.3092062415540546,52.652842935435437,1.9036003529191454,1.0602923600280718,0.50674609452716535,36.302,2.3600435507450306,30,30,5,69.2,75,75,100,0.1135241060112888,6.4957643546566329E-2,0.14569938739416746,0.3885316997177799,0.12930820631232362,4.8566462464722487E-2,0,0.17848174955785512,0,0.12930820631232362,6.6778885888993415E-3,0.19426584985888995,0.55082380078636961,0.10851912491178546,0.20465538617886178,0.42014943521594683,1.2536151753758054,6.725525510204082E-2,8.5009206730769227E-2,0.11,6.4699228244274805,0,984.14900000000011,62.484574622641503,0.08,24.160700557620817,0,0,0]
[null,54,"Corn steep",null,0,0,46.40643,31.780716264843466,21.166666666666668,8.75,15.02671,0,4.5119284318181823,11.293465346534653,11.4,3.5465499999999999,0.63571428571428545,98,3.5430724000000002,2.468658668319375,1.7395029551008521,59,3.3285115867003752,50,50,5,93,75,75,36,1.0074487055955379,0.778627548488665,1.3792830858942065,5.1548321781576103,0.39408088168405897,0.66421696993522839,0,2.0593904139618568,0,0.9311749865599136,0.11758865017992083,1.6017480997481106,9.908464730290456E-2,2.0494340308839192,0.89921690851735014,0.4037113402061856,3.1923088442211061,0.58786602254428344,1.18615,0.13300000000000001,10.185664991568299,0,159,42.782893552631577,0,121.04402671031097,14,0,26]
[null,55,"Cotton burrs",null,0,100,90.545521088607615,8.6626073130193912,20,32.083329999999997,2.7,0,2.4782199999999999,15.339639999999999,6.0333300000000003,60.895687931034487,16.595829999999999,45.2,1.63415176,0.79608673853179956,0.2590767258927984,50,10.814708062258083,25,25,6,58.2,75,75,100,1.0230539236675902,0.20790257551246538,0.37595715738504154,0.5777959077783934,0.43746166930747926,0.16545579967867038,0,0.57086582192797786,0,0.35863194275900279,2.5987821939058173E-2,0.47557714148476454,1.3998150375939851,0.17060813688212928,0.30743414634146343,0.51143000000000005,2.2636585365853654,4.1119999999999997E-2,0.31549966666666662,0.44500000000000001,5.6623400000000004,0,131,44.643749999999997,0.02,22.171970000000002,0,0,0]
[null,56,"Cotton gin trash",null,0,100,90.866807692307688,12.289844630541873,28.999078947368425,19.6875,0,0,3.64216725,12.054565337837836,1.06,60.569596249999996,15.844999999999999,48.501402216494846,1.7535099954547113,0.91459938777076299,0.37074805386538356,63.930999999999997,10.814708062258083,25,25,6,58.2,75,75,100,1.4514306508669952,0.29495627113300493,0.53337925696551725,0.81973263685714304,0.62063715384236462,0.23473603244334978,0,0.80990076115270937,0,0.50879956770443346,3.6869533891625617E-2,0.67471247021674885,1.5695707216494845,0.24057899613899617,0.30507482352941173,0.46600000000000003,1.8643850000000002,5.0907894736842103E-2,0.38917241379310341,0.03,11.284930232558141,0,818.75599999999997,73.148244274809159,0.49,28.274346153846153,0,0,0]
[null,57,"Cottonseed hulls",null,0,100,91.428593312788905,6.6849563702359349,21.506,17.031269531249997,0,0,2.7090045017182129,3.6162743356643361,1.1313660975609756,81.072056175771976,19.285531914893618,42,1.5184595999999999,0.67886234411494684,0.14773136146215471,70.123000000000005,10.814708062258083,25,25,6,58.2,75,75,100,0.78949334732486387,0.16043895288566243,0.29012710646823958,0.44588658989473684,0.3375902966969147,0.12768266667150635,0,0.44053862479854805,0,0.27675719372776769,2.0054869110707804E-2,0.36700410472595285,0.22146710424710425,0.16263095057034221,0.21936891666666666,9.9000000000000005E-2,1.201065450980392,2.2884076433121018E-2,0.11246975460122699,0.02,5.4970576470588233,0,101.374,20.700412048192771,0.02,17.699429047619045,0,0,0]
[null,58,"Cottonseed meal",null,0,0,88.585044904745416,44.976062989763506,16.90430065359477,14.311043307086615,0,0,3.9317426847034334,7.5261566120218584,1.6967619047619049,33.597758523908524,8.5129999999999999,69.645002136563875,2.5179314782449027,1.622267174404036,1.0170626821464053,42.7,7.3012783590237325,25,25,6,75,75,75,36,4.6775105509354047,1.4122483778785742,1.6955975747140841,2.8469847872520302,1.731578425105895,0.28334919683551008,0,2.631099684901165,0,1.5516741731468411,0.78258349602188504,2.3702385195605364,0.28063474074074068,1.1333986277173911,0.62948032327586201,7.9000000000000001E-2,1.5602525787401575,0.13930890365448506,0.43061549999999993,0.53,12.442956521739129,0,149.917,22.300956851851854,1.29,63.895558659217876,0,0,0]
[null,59,"Cottonseed whole",null,0,0,92.631664026465032,22.865110970149253,32.766666666666666,22.867419999999999,0,0,19.446626048689136,4.1164241052631576,2.2000000000000002,47.82083453125,6,93,3.3623033999999996,2.3253708351107267,1.6211218844873554,30.435674823015098,7.4458259325044338,25,25,6,75.900000000000006,75,75,100,2.3779715408955222,0.71796448446268657,0.86201468357462685,1.4473615244104476,0.88030677235074617,0.14405019911194031,0,1.337608991753731,0,0.78884632847014924,0.39785293088059703,1.2049913481268655,0.21619565217391304,0.52500361702127663,0.38042777777777775,0,1.1171915789473685,7.57525E-2,0.38745490196078425,0,8.9500003571428568,0,160,21.695652173913043,0,29.437586206896555,0,0,0]
[null,60,"Distillers grain plus soluble, dry",null,0,0,89.986490487965824,30.793943811416629,16.527505566251413,27.846657749640098,1.1573199999999999,0,10.731794121794872,5.3220749115364727,5.8793383354287156,33.659155662204718,4.9580793552386861,89,3.2176882,2.2092485408065787,1.524040790162223,67.929000000000002,1.4423335804939852,17,17,7,56.5,75,75,4,1.2779486681737902,0.56044977736778268,0.85607163795738217,2.7930107036954883,0.6343552425151826,0.36952732573699953,0,1.2933456400794983,0,0.96077104691619875,0.50502067850723265,1.6136026557182312,5.090904517116919E-2,0.86063890049891745,0.32488835076708505,0.27148184043517676,1.0534157683756653,0.17950208092485548,0.6566098509063607,0.72100000000000009,6.6944533238837707,8.5000000000000006E-2,103.413,22.038884353417131,1.135,63.335862378239817,1.2,0,49.4]
[null,61,"Distillers grains plus soluble, modified",null,0,0,47.831791068447416,29.077475921889192,6.6916699999999993,2.1,0,0,10.220662103321033,6.6450031249999997,3.3647058823529412,28.726140000000001,4.1818181818181817,93,3.3623033999999996,2.3253708351107267,1.6211218844873554,72.808253477989595,1.4423335804939852,17,17,7,56.5,75,75,4,1.2067152507584016,0.52921006177838326,0.80835383062851951,2.6373270661153496,0.59899600399091735,0.34892971106267029,0,1.2212539887193461,0,0.90721724876294285,0.47687060511898272,1.5236597383069936,8.4157548387096784E-2,0.94033392230576429,0.37930778947368426,0.16,1.2659149593495935,0.38571428571428573,0.66953308411214951,0.18,7.0302316279069768,8.5000000000000006E-2,560,19.309521190476193,0.4,72.943902439024384,1.2,0,49.4]
[null,62,"Distillers grains plus solubles, wet",null,0,0,31.44105899637243,30.63463793942941,15.575335852668214,26.413006211408707,0.90092000000000005,0,10.839950716448344,5.1310508949416338,6.0556733047881455,31.523881900149028,4.6991997622699389,98,3.5430724000000002,2.468658668319375,1.7395029551008521,69.927580000000006,1.4275236200895083,17,17,7,66.400000000000006,75,75,4,1.2713374744863206,0.55755041049761533,0.85164293471613761,2.7785616611062478,0.63107354155224582,0.36761565527315293,0,1.2866547934560353,0,0.95580070371019754,0.50240806220664236,1.6052550280261011,5.4679286316677199E-2,0.80584435275402677,0.35118289004661363,0.17196630952380948,0.9976181052931945,0.19651335576793649,0.64507585402050727,0.108,7.0159499034680017,8.5000000000000006E-2,154.91524000000001,30.470149891027965,0.98550000000000004,55.063700519056269,1.2,0,49.4]
[null,63,"Distillers solubles",null,0,0,30.893169931506854,18.937836470227758,43.637880606060605,10.399110000000002,4.0172800000000004,0,16.848685563293735,9.1076174412041393,10.68216957142857,4.7060621212121214,0.99999999999999956,98,3.5430724000000002,2.468658668319375,1.7395029551008521,54.911475436236103,0.55830388692579502,17,17,7,59.7,75,75,4,0.78592021351445196,0.34466862375814522,0.52647185387233164,1.7176617678496577,0.3901194312866918,0.22725403764273311,0,0.79538913174956594,0,0.59086049787110606,0.3105805181117352,0.99234263103993459,0.10793831807013625,1.5235792204244589,0.69202228476821193,0.36906201149425288,2.3381847854077251,0.4215595442359249,0.82482225129087783,0.18,7.4112088525469177,8.5000000000000006E-2,560,35.814692044728432,6.28,101.60871006295906,1.2,0,49.4]
[null,64,"Feather meal",null,0,0,92.004459249448132,91.070625483503989,10.311,113.6203125,17.7,0,9.6706982840236684,2.7533283742331287,0.73499999999999999,25.799999999999997,0,79.117000000000004,2.8603801946000003,1.91536729721996,1.2736274895653974,70.84,1.7472410508213407,0,0,0,51.4,0,75,23,6.7574404108759962,0.85606387954493746,4.1892487722411831,7.5679689776791816,2.3405150749260524,0.44624606486916951,0,4.7447795876905579,0,3.7976450826621164,0.72856500386803191,7.2401147259385672,0.76153438356164371,0.44194188405797097,8.2833333333333342E-2,0.27337037037037043,0.24220289855072463,0.21477597014925376,1.693101304347826,0.125,12.202500000000001,4.7E-2,283.15499999999997,56.591428571428573,0.98299999999999998,171.10857000000001,0,0,0]
[null,65,"Fescue hay",null,0,100,88.93,9.2200000000000006,25,8.65,0,0,2.1,8.35,3.3439999999999976,64.989999999999995,3.0960000000000001,58.279999999999994,2.1070434639999993,1.2522025359099929,0.68363059784940594,29,3.6701305268277422,30,30,3,73.3,75,75,98,0.30149865622764227,0.10653662764227642,0.30149865622764227,0.58488608575609757,0.30149865622764227,7.1379540520325205E-2,0,0.37287819674796746,0,0.30149865622764227,0.47941482439024391,0.40803528386991872,0.48,0.22,0.17,1.45,1.73,0.1,0.16,0,4.75,0,0,90.31,0,21.32,34.6,0,0]
[null,66,"Field Peas High CP",null,0,0,88.173247117117114,25.166070892857142,20,8,0,0,0.95,7,43.900002000000001,13.1,5.8239999999999998,75.8,2.7404580399999996,1.8141342893915899,1.1857811632231146,43,7.3012783590237307,25,25,6,75,75,75,36,2.6172713728571426,0.79021462603571435,0.94876087266071418,1.5930122875178572,0.96889372937499996,0.158546246625,0,1.4722151472321428,0,0.86822944580357142,0.43788963353571425,1.3262519360535714,0.13624750000000002,0.45499750000000005,0.14545727272727274,0,1.0372763636363638,0.02,0.182002,0,5.9,0,160,15.5,0,32.299999999999997,0,0,0]
[null,67,"Field Peas Low CP",null,0,100,89.86,14.661289999999999,28,17,0,0,1.9,9.9,46.274999999999999,55.4,14.403999999999998,59,2.1330741999999998,1.2763186331531466,0.70567149265184748,46,5.410754165950868,37,37,10,54.1,75,75,6,0.93685643099999993,0.38412579800000002,0.88114352899999981,1.357635454,0.88260965799999991,0.10702741699999999,0,0.92659352799999994,0,0.73306450000000001,0.26976773600000004,1.0468161059999999,0.44333,0.26333000000000001,0.27667000000000003,0,0.94999999999999984,0.08,0.21,0.19,10.5,0.13,309,31,0.31,21,33,0,91]
[null,68,"Fish meal",null,0,0,92.302477341389718,66.244822531645568,25.244827586206899,13.203125,0,0,11.888627411764707,20.016863454545454,5.8244137931034476,13.597062625000001,0,81.870953405017914,2.9599460752143361,1.9983650225832128,1.3450421803497132,45.036000000000001,0.95667244367417659,0,0,0,98.4,0,75,10,4.7630027400253168,1.5236309182278478,3.0008904606835443,4.6450869559189867,4.723255846506329,1.8813529598987342,0,2.8684008156202534,0,2.76240909956962,1.0069213024810126,3.1863759637721518,5.1956018181818191,2.897877123287671,0.20474666666666663,1.1469565217391304,0.91993258426966307,0.65055000000000007,0.81917333333333331,1.2370000000000001,9.0018399999999996,1.19,931.75099999999986,79.973076923076931,1.367,128.66826923076923,0,0,13]
[null,69,"Flaxseed",null,0,0,91.626911467661685,28.684848791773778,46.334000000000003,7.44,0,0,27.669576654411767,5.1242652040816328,1.9804624074074075,31.837769685863869,5.7483870967741932,81.61,2.9505116179999997,1.9905395321901076,1.3383321844558917,34.765999999999998,6.1394736571469748,25,25,6,75.3,75,75,100,2.9832242743444732,0.90070425206169658,1.0814187994498714,1.8157509285192801,1.1043666784832906,0.1807145473881748,0,1.6780636543187659,0,0.98962728331619543,0.49911636897686373,1.511691531326478,0.31463380281690145,0.70341645833333333,0.44628155555555554,8.900000000000001E-2,0.93960733333333324,5.8565573770491798E-2,0.29379999999999995,0.71,14.925166666666668,0,109.598,32.922246153846153,0,52.720075757575756,0,0,0]
[null,70,"Forage sorghum silage",null,0,100,28.857844168466521,9.0250376577111471,49.560658708964645,6.3132306863929148,1.4379999999999997,0,2.9010052326480134,8.8946394962537862,9.7944469421226934,57.706393810534827,5.3373688316151204,57.431157790885386,2.0763545925401119,1.223646157638183,0.65747680176659662,30.17876,0.4919786096256677,20,20,5,72.599999999999994,75,75,81,0.63807016240017811,0.12183800837910048,0.27165363349710547,0.38717411551580821,0.32580385944337237,6.7687782432833604E-2,0,0.25089604688436989,0,0.2039658510642719,6.7687782432833604E-2,0.25089604688436989,0.43974314432989692,0.23504972496228385,0.25750761486572482,0.69725694039992225,1.8914941056179779,2.3875560204556022E-2,0.14556918842403271,1.98,8.8509385446685886,0,422.94923,53.366139848812104,0.03,34.102935318084349,0,0,0]
[null,71,"Forage sorghum sudan",null,0,100,31.816426004605642,12.766684448857994,44.444078091106292,5.4338052699228792,0,0,2.981549889135255,10.37937668161435,2.0811662763466043,59.849754441219162,4.242,57.100058139534887,2.064384081965116,1.2124704774900672,0.64722531377552928,29.283000000000001,2.5815450873678225,20,20,5,56.1,75,75,41,0.36129716990268124,0.12766684448857993,0.36129716990268124,0.7008909762423039,0.36129716990268124,8.5536785807348567E-2,0,0.44683395571002976,0,0.36129716990268124,0.57450080019860972,0.48896401439126114,0.4713240380952381,0.29956490706319699,0.30239223577235769,0.92700000000000005,2.5083319930069932,2.7691729323308271E-2,0.25241550724637674,0.27,13.292721649484536,0,398.00708000000003,79.01339999999999,0,38.893515151515146,175.4,0,0]
[null,72,"Forage sorghum sudan hay",null,0,100,88.768585046047576,11.034109621978022,39.322249669239248,4.5283776736111108,12.6,0,2.022849386845039,8.8261965154867266,2.8577499999999998,62.702163870431896,4.7851092324324318,56.771332876318318,2.0524994145438367,1.2013542525218064,0.63701943193445398,35.192659999999997,3.066540365752235,20,20,3,66.7,75,75,98,0.31226530230197802,0.11034109621978022,0.31226530230197802,0.60577261824659345,0.31226530230197802,7.3928534467252754E-2,0,0.3861938367692308,0,0.31226530230197802,0.49653493298901097,0.4226063985217583,0.41171316169828365,0.23465702605570535,0.28839651696606783,0.98487000000000002,2.2092110472659869,5.2282307692307683E-2,0.15797180658873541,0.127,8.8828834615384622,0,324.81172000000004,66.991962352941187,0,34.918433333333333,0,0,0]
[null,73,"Forage sorghum sudan silage",null,0,100,31.279593377088304,12.274357487061529,50.461400927284856,6.4546603437094685,5.7666700000000004,0,3.2777137854671277,10.193353023909985,2.9010499248120305,61.126924604105568,5.548483165365508,56.109760000000001,2.0285810410879996,1.1789194822390678,0.61639488190669978,30.435359999999999,2.5815450873678225,20,20,5,56.1,75,75,41,0.34736431688384128,0.1227435748706153,0.34736431688384128,0.67386222603967794,0.34736431688384128,8.2238195163312253E-2,0,0.4296025120471535,0,0.34736431688384128,0.55234608691776887,0.47010789175445661,0.54664062755798093,0.29084517783857733,0.26913989495798318,0.7631,2.4820865867507886,2.5775947712418298E-2,0.17516229398663696,0.27,10.566780666666666,0,747.04659000000004,61.340218999999998,0.15,37.099129891304344,175.4,0,0]
[null,74,"Forage sorghum, fresh",null,0,100,30.553783041968156,8.9042352412950514,40.552,5.0635072219640644,0,0,2.2068484304932734,7.7889638880529635,11.976000000000001,56.036374942760936,4.0019999999999998,60.144370353373105,2.1744475368817802,1.3144518212460574,0.74043636332074048,34.383000000000003,0.4919786096256677,20,20,5,72.599999999999994,75,75,81,0.62952943155956009,0.1202071757574832,0.26801748076298104,0.38199169185155768,0.32144289221075134,6.6781764309712888E-2,0,0.24753773970800241,0,0.20123571645326813,6.6781764309712888E-2,0.24753773970800241,0.32932175524134571,0.21687701166180759,0.21829939036381515,0.59899999999999998,1.6657637319441154,1.6055445544554455E-2,0.14100580466830465,0.3,10.457520233918128,0,431.54699999999997,61.24413758620689,0.03,35.52080140350877,0,0,0]
[null,75,"Forage sorghum, hay",null,0,100,88.662251872546051,9.0460735290967502,36.875595706594886,4.9845310265982263,0,0,2.0861229385771098,7.5882129644808742,9.517964321206744,58.523210935672516,5.0179968221476514,58.8259491951952,2.1267816020132475,1.2704977114569873,0.70035535164091467,38.01735,3.066540365752235,20,20,3,66.7,75,75,98,0.25600388087343801,9.0460735290967501E-2,0.25600388087343801,0.49662943674741156,0.25600388087343801,6.0608692644948226E-2,0,0.31661257351838623,0,0.25600388087343801,0.40707330880935372,0.34646461616440555,0.37887576982412841,0.20777500000000002,0.26868603125000001,0.74327830110497228,1.7655213107752958,2.1996004842615009E-2,0.12935449891540129,0.127,8.5991837743190658,0,258.66262,57.290637499999995,0.13,30.493240395256915,0,0,0]
[null,76,"Foxtail millet",null,0,100,76.007146666666657,9.8083350000000014,15,25,0,0,1,8,14.72,60.3,14.999999999999975,47.6,1.72092088,0.8824796948124134,0.34057352963475229,30,4.7127659574468082,30,30,5.5,46.6,75,75,92,0.62675260650000009,0.25697837700000004,0.58948093350000008,0.90825182100000001,0.59046176700000008,7.160084550000001E-2,0,0.61988677200000009,0,0.49041675000000007,0.18047336400000002,0.7003151190000001,0.62,0.15666666666666665,0.2,0,2.65,0.06,0,0,2.8,0,290,24.8,0.55000000000000004,26.6,0,1,0]
[null,77,"Fresh soybean forage",null,0,100,33.353000000000002,19.585000000000001,39.606000000000002,8.7222500000000007,0,0,3.5379999999999998,8.5579999999999998,5.8940000000000001,45.335999999999999,7.0730000000000004,60.343000000000004,2.1816287533999996,1.3210462812976544,0.74643747472048672,32.792999999999999,5.7582776309653365,25,25,9,79.599999999999994,75,75,41,0.55425550000000001,0.19585,0.55425550000000001,1.0752165,0.55425550000000001,0.13121950000000002,0,0.68547499999999995,0,0.55425550000000001,0.88132500000000003,0.75010550000000009,1.2660000000000002,0.314,0.375,0.29199999999999998,1.794,1.4999999999999999E-2,0.214,0,10.518000000000001,0,285.01799999999997,51.701999999999998,0,38.223999999999997,254.4,0,0]
[null,78,"Glycerin",null,0,0,80.247519999999994,0.8358974358974357,100,0,1.4,0,6.2352941176470598,6.6924980000000005,0.35,0.3,0,68.971429999999998,2.493579285934,1.6009298909590814,0.99812146458233952,6.00000049644223E-8,0,30,30,20,0,75,75,0,0,0,0,0,0,0,0,0,0,0,0,0,7.6670000000000002E-2,0.19159363636363638,7.0857142857142855E-2,4.4880769230769237,0.53277416666666655,2.478477826086956,1.1796211320754717,1.587,5.0750025000000001,2.1030000000000002,263,22.25,0,7.2187531250000001,0,0,7]
[null,79,"Grain sorghum grain",null,0,0,88.699920248447199,11.640525754812563,19.49703374233129,8.6593206249999994,0.1,0,3.4973554988610482,2.091740951417004,71.163485631837048,7.2007073529411771,1.1482234746639091,85.951853264633158,3.107486112558894,2.1197402579787785,1.4484941343738309,71.105090000000004,5.1496008645803864,10,10,5,85.5,75,75,34,0.82298517086524825,0.15714709768996962,0.35037982521985811,0.49937855488145894,0.42022297974873352,8.7303943161094216E-2,0,0.32360661598378926,0,0.26307588205876387,8.7303943161094216E-2,0.32360661598378926,5.7598986700443312E-2,0.3358553936763794,0.14783189553496209,0.31942229885057472,0.39319696574225121,0.1175619607843137,0.10564240053050399,0.65,4.9518302930402935,6.9000000000000006E-2,42.94068,20.105903985239852,0.22700000000000001,19.901880229479261,0.05,0,12]
[null,80,"Grain sorghum hay",null,0,100,84.794084084919476,8.9531954606240696,38.5,8.3984400000000008,0,0,1.5870977419354839,10.968282611940298,7.33,56.435521042471045,2.8977274251497005,54.45000000000001,1.9685744100000004,1.1222598495955594,0.56414724101339608,31,3.066540365752235,20,20,3,66.7,75,75,98,0.25337543153566117,8.9531954606240693E-2,0.25337543153566117,0.49153043078826142,0.25337543153566117,5.9986409586181268E-2,0,0.3133618411218424,0,0.25337543153566117,0.40289379572808315,0.34290738614190192,0.44167565217391302,0.16895294478527606,0.25718833333333335,0,1.7099998550724635,2.5428571428571429E-2,0.1040625,0.127,8.4727263636363634,0,170,97.63636363636364,0,30.436364545454545,0,0,0]
[null,81,"Grain sorghum silage",null,0,100,36.473490769230764,9.2006859589041099,3.8428599999999995,8.9479199999999999,0.18889,0,2.3952361904761905,10.084849999999999,4.6272700000000002,49.165715047619052,5.6418999999999997,59,2.1330741999999998,1.2763186331531466,0.70567149265184748,28,2.5815450873678225,20,20,5,56.1,75,75,41,0.26037941263698633,9.2006859589041104E-2,0.26037941263698633,0.50511765914383566,0.26037941263698633,6.1644595924657535E-2,0,0.32202400856164387,0,0.26037941263698633,0.41403086815068491,0.35238627222602742,0.35846438461538466,0.22932,0.189824625,0,1.6594364485981308,0.02,0.10307884615384616,0.27,4.75,0,120,43.340429999999998,0,20.83333,175.4,0,0]
[null,82,"Grain sorghum stalks",null,0,100,82.629805206349204,7.6712975853350196,31.95,7.3060299999999998,0,0,1.5181800000000001,19.528569999999998,53.55,64.82077454545454,1.4,39.473909999999997,1.4271318473579997,0.58462509175365174,5.7601592889858111E-2,57,5.1496008645803837,10,10,5,85.5,75,75,34,0.54236073928318584,0.10356251740202277,0.23090605731858407,0.32909866641087232,0.27693384283059419,5.7534731890012653E-2,0,0.21326207287231352,0,0.17337132542857142,5.7534731890012653E-2,0.21326207287231352,0.48477092307692304,0.13403069767441861,0.27287,0.36,1.7940996721311477,3.0000000000000002E-2,0.11400244444444445,0.53100000000000003,6.5249999999999995,6.9000000000000006E-2,80.8,86.166666666666671,0.46,21.291666666666668,0.05,0,12]
[null,83,"Grain sorghum, flaked",null,0,0,81.023044646017695,10.087589940417081,8,82.1875,0,0,2.6152199999999999,1.35714,75.176561168048224,9.6999999999999993,0.19999999999999982,93,3.3623033999999996,2.3253708351107267,1.6211218844873554,56.960335949752597,3.8932502207276865,25,25,6,85.8,95,75,48,0.18359413691559087,0.20780435277259188,0.27135616939721946,1.0823984006067529,0.16644523401688183,0.11298100733267132,0,0.36819703282522342,0,0.28245251833167823,3.7324082779543202E-2,0.37828462276564051,3.4000000000000002E-2,0.25750000000000001,0.12186,0.46,0.38,0.01,0.11,0.42899999999999999,3,0,30,18,0,19,0,0,0]
[null,84,"Grain sorghum, high-moisture",null,0,0,69.914093951048955,10.412050535714286,3.5,9.25,0,0,3.45,2.7,72.889997666666659,9.2749999999999986,1.4,86,3.1092267999999996,2.1211614297795118,1.44969854519749,49.2440884462642,5.1496008645803864,10,10,5,85.5,75,75,34,0.73613197287499998,0.14056268223214288,0.31340272112500001,0.44667696798214285,0.37587502433928571,7.8090379017857148E-2,0,0.28945500489285714,0,0.23531234210714286,7.8090379017857148E-2,0.28945500489285714,4.4857333333333332E-2,0.3059250925925926,0.14480675675675675,0.08,0.40874687500000001,6.1499999999999999E-2,9.5456363636363659E-2,0.53100000000000003,8.2333333333333325,6.9000000000000006E-2,60,28.666666666666668,0.22700000000000001,38.4,0.05,0,12]
[null,85,"Grape pomace, dry",null,0,0,91.805970000000002,12.26615,20.572690000000001,35.46875,0,0,8.8659999999999997,9.6461900000000007,0.97,51.777360000000002,31.9087,46.96,1.6977824479999999,0.85956663891158946,0.31900647076264033,74.873750000000001,0,50,50,9,0,75,75,34,0,0,0,0,0,0,0,0,0,0,0,0,0.62124999999999997,0.27250000000000002,0.13200000000000001,0.16111,0.91,2.6790000000000001E-2,0.16208,0,48.732309999999998,0,543.79,31.454619999999998,0,20.24231,0,0,0]
[null,86,"Grape pomace, wet",null,0,0,41.884729999999998,11.68656,21.862649999999999,23.413437500000001,0,0,8.9538499999999992,15.10778,0.98703999999999992,50.063640000000007,27.6,55.95,2.0228051100000002,1.173489142895233,0.61139728907729518,75.411199999999994,0,50,50,9,0,75,75,34,0,0,0,0,0,0,0,0,0,0,0,0,0.50851999999999997,0.25402000000000002,0.11788999999999999,5.2220000000000003E-2,1.6144700000000001,4.5530000000000001E-2,0.15246999999999999,0,20.86844,0,601.24531999999999,28.452530000000003,0,18.15897,0,0,0]
[null,87,"Hominy",null,0,0,88.741358515942025,10.272149716446124,28.019256149732623,3.245481927710844,1.1000000000000001,0,7.1475503803803813,2.6447998753894084,56.773444121915816,16.786844050343252,1.47895,87.243173268292693,3.1541722377072001,2.1577737048828598,1.4806718289059511,66.535349999999994,3.6929143502823272,20,20,5,87.6,75,75,9,0.55675051463137992,0.29481069686200378,0.40164105391304344,1.1124738142911152,0.32870879092627597,0.11402086185255199,0,0.50128090616257082,0,0.37698789459357279,1.1299364688090736E-2,0.53312457028355387,3.6397818791946313E-2,0.53988282490974726,0.2028319512195122,0.11108836363636362,0.62063265923566879,2.3957105263157894E-2,0.12080994002998501,6.0999999999999999E-2,3.8302954430379748,0,65.255679999999998,10.649782456896553,0,37.511581833333338,0,0,0]
[null,88,"Johnson grass",null,0,100,50.053989099756691,7.8267462790697673,41,2,0,0,2.1,10,0.55000000000000004,62.279999999999994,6.999999999999984,54,1.9523051999999996,1.1068043600476267,0.54985582320086124,17,5.0321550267842721,30,30,3,83.7,75,75,41,0.22149691969767443,7.826746279069767E-2,0.22149691969767443,0.42968837072093025,0.22149691969767443,5.2439200069767447E-2,0,0.27393611976744187,0,0.22149691969767443,0.35220358255813955,0.29976438248837206,0.59,0.18,0.15049999999999999,0,1.3,0,0.09,0,4,0,0,26,0,24,304.2,0,0]
[null,89,"Kochia",null,0,100,74.997174455445546,13.490669933333333,25,5.9375,0,0,1.1000033333333332,11.81818,6.5119999999999925,45.975677837837843,3.4969696969696962,50.887500000000003,1.8397764974999997,0.99878045734919896,0.44950358818649461,21,3.6701305268277427,30,30,3,73.3,75,75,98,0.3817859591133333,0.13490669933333332,0.3817859591133333,0.74063777933999997,0.3817859591133333,9.0387488553333326E-2,0,0.47217344766666663,0,0.3817859591133333,0.60708014700000001,0.51669265844666667,1.4826452941176471,0.18881970588235295,0.7326259259259259,0,3.2439292857142861,9.0854285714285707E-2,0.3988888888888889,0.57999999999999996,25.057142857142857,0,91,108.85714,0,28.328568571428573,26,0,0]
[null,90,"Kochia silage",null,0,100,37.1,15.41,55,8.125,0,0,1.2,14.9,23.679999999999996,45.7,4.9999999999999973,58,2.0969203999999997,1.2427978997985161,0.67502375213651922,24,5.6305732484076492,25,25,6,56.9,75,75,81,0.28816700000000001,0.16488700000000001,0.36984,0.98624000000000012,0.32823299999999994,0.12328000000000001,0,0.45305400000000001,0,0.32823299999999994,1.6951000000000001E-2,0.49312000000000006,1.09714,0.25429000000000002,0.59399999999999997,0.18,3.0833300000000001,0.15567,0.36999999999999994,9.7000000000000003E-2,9.5,0,180,117,0,29.75,58.1,0,0]
[null,91,"Linseed meal",null,0,0,90.468364363636354,36.931764176470587,43.997019999999999,8.5869374999999994,0,0,11.956841473684211,6.1780999999999988,2.5357099999999995,32.10125275,5.72,73.55,2.65911199,1.7446261120543003,1.1249939843995795,31.941669999999998,7.8416992733370581,35,35,6,86.6,75,75,23,3.9516987668823527,0.93068045724705883,1.9832357362764705,2.5113599639999999,1.5917590360058822,0.72016940144117636,0,1.938917619264706,0,1.5585204482470587,0.60198775607647048,2.1272696165647056,0.39215384615384613,0.87671776119402978,0.57541490566037734,7.7499999999999999E-2,1.1814289285714286,9.1235686274509814E-2,0.37666466666666665,0.21,21.386317368421054,0,280.49117999999999,50.734212105263161,0.91,73.906844736842103,0,0,0]
[null,92,"Meadow hay",null,0,100,88.755042281690137,8.7858721739130434,25,14.791670000000002,13.95,0,1.8371402857142856,9.9387653846153849,6.82,60.852328720930231,7.0000000000000204,52.905999999999992,1.9127529427999994,1.0690609009757717,0.51488476450266329,33,3.6701305268277409,30,30,3,73.3,75,75,98,0.24864018252173914,8.7858721739130438E-2,0.24864018252173914,0.48234438234782606,0.24864018252173914,5.8865343565217394E-2,0,0.30750552608695653,0,0.24864018252173914,0.39536424782608698,0.33649890426086954,0.50140814432989689,0.17965803389830506,0.18960055118110233,0,1.7508634765625,3.5637272727272726E-2,0.17618,0.13500000000000001,4.476631358695653,0,0,103.86029838235295,0,19.616481373626375,120.9,0,135.6]
[null,93,"Millet forage fresh",null,0,100,36.187646964047936,12.157486923076924,43.65,8.0288500000000003,0,0,3.9,8,4.875,65.281819393939386,8,52.5,1.8980745000000001,1.05499204914749,0.50182393460920682,13,5.7582776309653365,25,25,9,79.599999999999994,75,75,41,0.34405687992307699,0.12157486923076924,0.34405687992307699,0.6674460320769231,0.34405687992307699,8.1455162384615393E-2,0,0.4255120423076923,0,0.34405687992307699,0.54708691153846156,0.4656317491538462,0.47146494382022475,0.26122222222222219,0.39113863636363633,0,2.8400012987012988,0.155,0.27437375000000003,0,38,0,200,90,0,31.635000000000002,254.4,0,0]
[null,94,"Millet forage hay",null,0,100,86.269602121855115,9.5294660996200928,36.806900137931031,5.6742930208333346,0,0,1.7246303731343287,11.38412761904762,2.90517,62.481334010256418,6.4979210000000007,52.543085889328069,1.899632218625589,1.0564866712394698,0.50321211988102688,39.63035,3.6701305268277422,30,30,3,73.3,75,75,98,0.26968389061924863,9.5294660996200931E-2,0.26968389061924863,0.52316768886914311,0.26968389061924863,6.3847422867454623E-2,0,0.33353131348670323,0,0.26968389061924863,0.42882597448290416,0.36497855161544956,0.49910520370370376,0.21283242619926199,0.32262851508120649,0.89659,2.5812959604829855,2.7616984126984129E-2,0.19653712418300653,0,8.9839352459016393,0,450.22521999999992,72.73183233333333,0,29.794590491803277,34.6,0,0]
[null,95,"Millet grain",null,0,0,86.697060000000008,11.268753750000002,19.867080000000001,18.452375,0,0,3.4580624193548379,5.3412113793103444,49.238237941176472,21.613890000000001,3.2105299999999999,76.153850000000006,2.7532510621299995,1.8250025077758285,1.1952511952788556,71.415000000000006,10.399488388971802,30,30,5,79.2,75,75,34,0.54428080612500007,0.25805446087500006,0.44173514700000005,0.76965588112500016,0.34595074012500004,9.1276905375000009E-2,0,0.63105021000000006,0,0.35496574312500001,0.14198629725,0.54991518300000009,0.68268341463414639,0.29540810810810808,0.15162,8.9050000000000004E-2,0.38124800000000003,3.3329999999999999E-2,0.3479983333333333,0.193,10.26,0.05,116.31111,20.358889999999999,0.55000000000000004,39.387779999999999,3.8,0,26.2]
[null,96,"Millet silage",null,0,100,34.856195313653139,12.283059289617485,47.728079999999999,6.3411249999999999,0,0,2.3346340856031134,11.79144,3.5970300000000002,61.936923846153839,5.9921222834645675,53.000003587301592,1.9161515296945841,1.0723135618106228,0.51790241846926577,31.888169999999999,2.5815450873678225,20,20,5,56.1,75,75,41,0.34761057789617483,0.12283059289617486,0.34761057789617483,0.67433995499999999,0.34761057789617483,8.2296497240437153E-2,0,0.42990707513661197,0,0.34761057789617483,0.55273766803278679,0.47044117079234971,0.50857989323843422,0.31542700000000001,0.36722982142857136,1.2062299999999999,2.8352419935691318,3.2340000000000001E-2,0.1964630923694779,0.27,9.3162500000000001,0,618.23599999999999,97.663870000000003,0,46.521000000000001,175.4,0,0]
[null,97,"Molasses, beet",null,0,0,77.900000000000006,10.861710000000002,100,0,70.620720000000006,0,0,27.2,0,0,0,75,2.711535,1.7895003785133232,1.164281729047608,6.00000049644223E-8,0,30,30,3,0,75,75,0,0,0,0,0,0,0,0,0,0,0,0,0,0.10781,0.13564000000000001,9.0550000000000005E-2,1.08531,3.4493900000000006,1.0305,0.41386000000000001,0.46500000000000002,3,0,87,3,0,14,0,0,0]
[null,98,"Molasses, cane",null,0,0,66.044910545454542,8.5923192682926821,100,0,60.035569999999993,0,1.86,12.201951463414634,11.98,0,0,72,2.6030735999999997,1.69632717935123,1.0825304320890257,6.00000049644223E-8,0,30,30,20,0,75,75,0,0,0,0,0,0,0,0,0,0,0,0,0,0.88385075916230371,0.22416040609137056,0.39574511864406786,2.21344046875,4.4617146987951815,1.0373188,0.67885959064327484,1.587,6.55,2.1030000000000002,263,23.19,5.33,17.36,0,0,7]
[null,99,"Native prairie hay",null,0,100,88.010403806921673,6.7608355562700968,22.945455454545456,6.5314074358974361,0,0,1.7958333333333334,10.263891666666666,4.18,66.579216666666667,2.0499999999999998,48.408459999999998,1.7501497811479998,0.91129574071918196,0.36764763363883368,38,3.2915775807764147,30,30,3.5,97.1,75,75,98,0.19133164624244375,6.7608355562700964E-2,0.19133164624244375,0.3711698720392283,0.19133164624244375,4.5297598227009656E-2,0,0.23662924446945341,0,0.19133164624244375,0.30423760003215433,0.2589400018051447,0.49049195488721808,0.12851536555142501,0.16703645569620251,0.50600000000000001,1.0354213925925926,4.6907010309278345E-2,0.12002915887850467,0,3.7546355121951223,0,88,65.305823689320391,0,20.612380428571427,37.200000000000003,0,0]
[null,100,"Oat forage",null,0,0,29.58,16.461896545138888,50.908140000000003,5.5479602953767122,0,0,3.6588747180192573,9.7321100000000005,2.66812,52.709591868686871,4.2134999999999998,61.129927973977701,2.2100791899855952,1.3471021109397832,0.77011740580970311,26.4,7.1708168605121108,35,35,5,69.5,75,75,34,0.72103106867708333,0.29631413781249999,0.63213682733333332,1.2675660339756945,0.33253031021180557,0.34899220675694442,0,0.96466713754513889,0,0.355576965375,0.21071227577777776,0,0.48,0.33,0.2,1.0211300000000001,2.765699556650246,0.20819230769230768,0.21840005172413793,6.3E-2,8.9563038356164384,0.125,603.40299000000005,63.162736438356163,1.1499999999999999,27.858214931506851,0.2,0,15]
[null,101,"Oat grain",null,0,0,89.86457677655676,12.545812123241795,27.353539999999999,4.2667779043280181,0,0,6.1645434713375797,3.0641512426035504,44.089262634271094,26.647805577689244,3.0005199999999999,82.987658911564623,3.0003192227569251,2.0317635139533956,1.3736251731909483,56.467689999999997,7.1708168605121108,35,35,5,69.5,75,75,34,0.54950657099799061,0.22582461821835231,0.48175918553248492,0.96602753348961823,0.25342540488948428,0.26597121701272608,0,0.73518459042196926,0,0.27098954186202279,0.16058639517749498,0,0.1,0.38,0.14000000000000001,0.13674746987951808,0.49938900243308998,1.7582712933753946E-2,0.16647105660377359,0.51966000000000001,6.1750685645933014,0.125,105.03467999999999,50.285212560386469,0.28000000000000003,31.067391753554499,0.2,0,15]
[null,102,"Oat hay",null,0,100,89.60670202859805,8.7324261960729128,40.837190657841951,3.7306755232558135,0,0,2.2158838403386754,7.0746269479606196,3.9675294094282432,59.128537097610369,4.6874360843011615,59.902164469914041,2.1656908738123781,1.3064009372355412,0.73310552244961613,33.912489999999998,3.9241917609833821,30,30,4,65.5,75,75,98,0.24712766134886344,8.7324261960729122E-2,0.24712766134886344,0.47941019816440295,0.24712766134886344,5.8507255513688516E-2,0,0.30563491686255195,0,0.24712766134886344,0.39295917882328107,0.33445192330959261,0.29063581885502704,0.20707910436713545,0.14354466582597727,0.91910676736804997,1.6530898292015588,0.40743584000000005,0.13052774663932556,0.87631999999999999,6.9115586382623215,0,249.08695,65.275829451013522,0.14333000000000001,21.189974478991594,49.6,2,0]
[null,103,"Oat hulls",null,0,100,91.604137931034472,6.0971861619718313,31.565161290322585,7.0192307692307692,0,0,2.7999972093023255,5.2430769230769236,15.825003749999999,64.441383534482753,5.5359999999999987,56.536360000000002,2.0440042521679995,1.1933956806722659,0.6297071541129009,46.38,3.9241917609833821,30,30,4,65.5,75,75,98,0.1725503683838028,6.0971861619718314E-2,0.1725503683838028,0.33473552029225351,0.1725503683838028,4.0851147285211269E-2,0,0.21340151566901408,0,0.1725503683838028,0.2743733772887324,0.23352223000352115,0.143875,0.20362812499999999,0.12840215189873419,0.15090999999999999,0.6003909090909092,5.4301594202898554E-2,9.1938387096774196E-2,7.2999999999999995E-2,7.5219955555555558,0,241.58389,54.11199933333333,0,25.198633181818181,49.6,2,0]
[null,104,"Oat straw",null,0,100,84.194117254901968,4.8282053846153845,53,1.9,0,0,1.3333333333333333,6.9233333333333329,1.35,73.750000000000014,7.07,44.29999999999999,1.6016133399999994,0.76335569662663438,0.22807469816902515,45,1.3849999368524759,30,30,3,12.1,75,75,98,0.13663821238461538,4.8282053846153847E-2,0.13663821238461538,0.2650684756153846,0.13663821238461538,3.2348976076923081E-2,0,0.16898718846153846,0,0.13663821238461538,0.21726924230769232,0.18492026623076924,0.29518518518518516,0.14392428571428573,0.13357692307692309,0.27,2.2323076923076921,0.2225,0.12666666666666668,0,8.8750025000000008,0,164,70.333333333333329,0,23.5,6.3,1,0]
[null,105,"Oatlage",null,0,100,33.839190304087737,12.702735948887057,63.412664949258392,5.481163514659686,0,0,3.6727635948616606,9.7974741683406972,3.1133850564617318,58.878802948603948,5.33291,57.977095791233282,2.0960923258170894,1.2420279419966014,0.67431882484621131,22.376049999999999,5.212470288875954,30,30,7,81.3,75,75,41,0.3594874273535037,0.12702735948887056,0.3594874273535037,0.69738020359389952,0.3594874273535037,8.5108330857543282E-2,0,0.44459575821104702,0,0.3594874273535037,0.57162311769991758,0.48651478684237426,0.46375907539118055,0.3205233090762078,0.18341004779717374,0.90551537264150939,2.5316605026642982,0.23322470919324578,0.18648791639017917,0.49,8.1590351558073664,0,561.68498,71.286720997150994,0,29.78940529577465,37.200000000000003,0,0]
[null,106,"Onions",null,0,100,23.169069999999998,10.14301,11,31.5,0,0,13.625,6.1588200000000004,54.533329999999999,10.54,0.82,68.902439024390304,2.4910850000000018,1.5987404429097558,0.99617587823475739,51.794117653658802,10.677177177177166,50,50,5,33,75,75,34,0.28704718300000004,0.10143010000000001,0.28704718300000004,0.55685124900000005,0.28704718300000004,6.7958167E-2,0,0.35500535,0,0.28704718300000004,0.45643545000000002,0.38847728300000001,0.51,0.32133,0.16714000000000001,0,1.2571399999999999,0,0.34286,0,0,0,0,0,0,0,0,0,0]
[null,107,"Orchardgrass hay",null,0,100,91.46937440677965,13.765894855491331,25,8.125,0,0,2.2999999999999998,10.53833,7.1280000000000019,57.351279230769237,6.02,56.221359999999997,2.0326158051679997,1.1827099000846983,0.61988199000693278,23,3.5933999295096806,30,30,3,74.8,75,75,98,0.3895748244104047,0.13765894855491331,0.3895748244104047,0.75574762756647407,0.3895748244104047,9.2231495531791927E-2,0,0.48180631994219658,0,0.3895748244104047,0.61946526849710981,0.52723377296531793,0.53338283464566927,0.23687578125,0.26007999999999998,0.41,2.597251,4.9200000000000001E-2,0.22077230769230771,0.43,6.615384615384615,0,93,157.72727272727272,0,20.869227692307692,15,0,0]
[null,108,"Pea hulls",null,0,0,88.844999999999999,20.100000000000001,48,4,0,0,1.3285700000000003,4.2,40,54.924999999999997,2.9999999999999987,71,2.5669197999999995,1.6649806094263102,1.0548729939780714,35.830862000389402,2.5316399026583833,30,30,6,74.599999999999994,75,75,34,2.3517000000000001,0.43617000000000006,0.73767000000000005,1.34067,0.70350000000000013,0.23516999999999999,0,1.0391699999999999,0,0.56883000000000006,0.20100000000000001,0.90450000000000008,0.20441000000000001,0.39,0.19858999999999999,0.39,0.97,0.95,0.17374999999999999,0,6.5,0,200,13.25,0.44800000000000001,41.25,0,0,4]
[null,109,"Peanut hay",null,0,100,90.78087048695653,11.041430214285715,35.222349999999999,9.0124369588744599,0,0,2.040709090909091,10.913613138686131,3.99661,47.398204103585655,8.4453078125000012,57.549109999999999,2.080619013118,1.2276223932488248,0.66112203947254367,33.505510000000001,3.6701305268277404,30,30,3,73.3,75,75,98,0.31247247506428572,0.11041430214285715,0.31247247506428572,0.60617451876428574,0.31247247506428572,7.3977582435714298E-2,0,0.38645005750000005,0,0.31247247506428572,0.49686435964285713,0.42288677720714291,1.2422929550827422,0.14620086419753087,0.54711856187290975,0.68472,1.522374024691358,5.1375405405405403E-2,0.14170985365853658,0,8.3637384615384605,0,695.35064,60.339402717391295,0.1,24.276450163934424,0,0,0]
[null,110,"Peanut hulls",null,0,100,93.407603049999992,9.4631564210526324,24.451799999999999,19.479187499999998,0,0,4.1576656204379567,3.7669466666666671,1.2384599999999999,68.464158034682086,23.019996799999998,42.765117906976748,1.5461215197852556,0.70710652286988274,0.17463807998138403,52.494999999999997,10.814708062258083,25,25,6,58.2,75,75,100,1.117598773326316,0.22711575410526319,0.41070098867368421,0.63119253328421054,0.47788939926315793,0.18074628764210526,0,0.62362200814736846,0,0.39177467583157893,2.8389469263157899E-2,0.51952728751578947,0.28679553459119494,0.10453428571428572,0.1418868181818182,0.1,0.70312414012738855,2.7478666666666672E-2,0.10015159090909091,0.02,12.52041652631579,0,634.00034000000005,49.999787473684208,0.02,16.092474193548387,0,0,0]
[null,111,"Peanut meal",null,0,0,94.109617295825771,44.95756335793358,29.82818,12.534717499999999,0,0,7.7305739378238343,5.5543168181818183,6.9333300000000007,19.89273,3.3,80.759259999999998,2.9197541341879996,1.9649714981975297,1.3163748526729173,28.2,7.788351850971666,45,45,6,88.4,75,75,36,4.8913828933431738,0.98007488120295205,1.4206590021107013,2.7244283394907747,1.4116674894391144,0.49453319693726938,0,2.211912117210332,0,1.1374263529557194,0.44058412090774907,1.7173789202730625,0.21125312500000001,0.58781249999999996,0.32375312499999997,0.21,1.1135044999999999,3.0622068965517245E-2,0.27300400000000002,1.19,14.096333333333336,7.0000000000000007E-2,462.90378999999996,32.111286451612905,0,53.445160322580648,0,0,0]
[null,112,"Peanut silage",null,0,100,38.03125,13.689469999999998,45.356670000000001,10.4166875,0,0,3.7400000000000007,9.6340000000000003,2.25,53.594439999999999,9.1333300000000008,56.333329999999997,2.0366639461539999,1.186510464294213,0.62337740012268261,34.426000000000002,2.5815450873678225,20,20,5,56.1,75,75,41,0.38741200099999995,0.13689469999999998,0.38741200099999995,0.75155190299999985,0.38741200099999995,9.1719448999999995E-2,0,0.4791314499999999,0,0.38741200099999995,0.61602614999999994,0.52430670099999999,1.32867,0.27133000000000002,0.39,0.73599999999999999,1.8368800000000001,2.5000000000000001E-2,0.16667000000000001,0.27,27.75,0,396.25499999999994,37.528329999999997,0,79.588329999999999,175.4,0,0]
[null,113,"Peas",null,0,0,87.279599597315439,23.907196870503597,69.729451369863014,4.375,0,0,1.8555554545454545,3.75,42.655790000000003,13.673059119170983,1.05714,79.990957085427141,2.8919770642751157,1.9418062316274121,1.2964360959718144,15.49222,8.9095313225247548,40,40,8,73.7,75,75,34,1.0566981016762589,0.50205113428057557,0.91803635982733811,1.3866174184892086,0.82957973140647479,0.32991931681294967,0,1.1092939347913668,0,0.7100437470539569,0.22472765058273381,1.1092939347913668,0.13261366013071896,0.42312449999999996,0.18353921259842521,0.12647,1.0740781481481483,2.5798260869565215E-2,0.57243307692307688,0,8.7985498550724639,0,112.69967,21.468211940298509,0.44,36.264926956521741,0.2,0,16.600000000000001]
[null,114,"Peavine forage",null,0,100,18.178380000000001,20.13429,51.477429999999998,6.2694999999999999,0,0,3.8058800000000002,9.6448499999999999,3.4741900000000006,44.308109999999999,5.7454499999999999,62.13514,2.246421424532,1.380224678420277,0.80014683287730781,26.331250000000001,24.390306608265124,30,30,9,83.4,75,75,41,0.56980040700000001,0.20134289999999999,0.56980040700000001,1.1053725210000001,0.56980040700000001,0.13489974299999999,0,0.70470015000000008,0,0.56980040700000001,0.90604304999999996,0.771143307,1.06514,0.34567999999999999,0.25973000000000002,0.54344000000000003,2.8140499999999999,0.02,0.2097,0.23899999999999999,0,0,0,0,0,0,37.200000000000003,0,0]
[null,115,"Peavine hay",null,0,100,90.743849999999995,15.595999999999998,42.93224,6.3468125000000004,0,0,2.0410699999999999,9.4762500000000021,6.4986699999999997,45.868000000000002,6.6491199999999999,58.616160000000001,2.1191969254079996,1.2634740867159056,0.69393750802060516,29.845889999999997,3.6701305268277427,30,30,3,73.3,75,75,98,0.4413668,0.15595999999999999,0.4413668,0.85622039999999999,0.4413668,0.10449320000000001,0,0.5458599999999999,0,0.4413668,0.70181999999999989,0.59732679999999994,1.20557,0.27134000000000003,0.32101000000000002,0.47857,2.0265599999999999,4.4679999999999997E-2,0.18493999999999999,0.57999999999999996,8.8042899999999999,0,1452,102.47857,0,44.03857,26,0,0]
[null,116,"Peavine silage",null,0,100,34.107559999999999,19.680250000000001,59.804960000000001,6.4199374999999996,0,0,3.75929,10.74971,5.5795599999999999,49.193289999999998,6.0928599999999999,59.173909999999999,2.1393617073579998,1.282129245047225,0.71097574518707241,24.0122,2.5815450873678225,20,20,5,56.1,75,75,41,0.55695107500000007,0.19680250000000002,0.55695107500000007,1.0804457250000001,0.55695107500000007,0.13185767500000001,0,0.68880875000000008,0,0.55695107500000007,0.88561125000000007,0.75375357500000006,1.0019499999999999,0.31784000000000001,0.125,0.67652999999999996,2.5482499999999999,5.2999999999999999E-2,0.2135,0.27,8.8672699999999995,0,1346,68.981819999999999,0,32.80818,175.4,0,0]
[null,117,"Popcorn grain",null,0,0,87.813334901960786,11.391664999999998,11,5,0,0,3.5,1.46,65.5,10.8,0.2399999999999998,72.7,2.6283812599999994,1.7181824912477186,1.1017679765819577,55.3300838864536,3.8588572413662581,15,15,5,84.4,75,75,30,0.20732830299999996,0.23466829899999997,0.30643578849999992,1.2223256544999999,0.18796247249999998,0.12758664799999997,0,0.41579577249999994,0,0.31896661999999992,4.2149160499999991E-2,0.42718743749999993,3.6670000000000001E-2,0.27200000000000002,0.12667,1.27,0.245,0.01,0.11,0.31,2.5099999999999998,0.03,54.5,7.9,0.14000000000000001,24.2,1,0,25]
[null,118,"Potato byproduct, dry",null,0,0,90.895870000000002,8.1285699999999999,50.119860000000003,4.4886249999999999,0,0,3.8705900000000004,5.7118399999999996,44.340350000000001,18.37895,3.2,79.197800000000001,2.8633014216399997,1.9178156393654144,1.2757419855381267,48.378460000000004,4.3554942715814855,18,18,5,85.8,55,75,56,0.147939974,0.16744854199999998,0.21865853299999999,0.87219556100000006,0.134121405,9.1039984000000004E-2,0,0.296692805,0,0.22759995999999996,3.0075708999999996E-2,0.30482137500000001,0.16807,0.21844000000000002,0.12540000000000001,0.17424999999999999,1.3906000000000001,0.12249999999999998,0.12457000000000001,9.74,11.44279,0.03,339.54385000000002,23.391670000000001,7.0000000000000007E-2,20.23349,1.5E-3,0,0]
[null,119,"Potato byproduct, wet",null,0,0,23.376139999999999,12.080050000000002,40.636229999999998,6.2171250000000002,0,0,7.9470799999999997,7.692709999999999,44.273539999999997,21.658049999999999,3.2528699999999997,79.084419999999994,2.8592023037959997,1.9143798508548122,1.2727745525569989,53.324800000000003,1.4275236200895083,17,17,7,66.400000000000006,75,75,4,0.50132207500000014,0.21985691000000002,0.33582539000000006,1.0956605350000002,0.24884903000000005,0.14496060000000002,0,0.50736210000000004,0,0.37689756000000008,0.19811282000000002,0.63299462000000017,0.40527000000000002,0.34499999999999997,0.13100999999999999,0.17405999999999999,1.1926399999999999,9.1680000000000011E-2,0.16395999999999999,9.74,9.4758899999999997,8.5000000000000006E-2,1234,31.500910000000001,0.04,37.862000000000002,1.2,0,49.4]
[null,120,"Potato peels",null,0,0,43.37097,13.8,100,0,0,0,0.55000000000000004,6.55,0,16,0,78,2.8199963999999995,1.8814363321492023,1.2442741426868587,48.378460000000004,4.3554942715814855,18,18,5,85.8,55,75,56,0.25116000000000005,0.28428000000000003,0.37121999999999999,1.4807400000000002,0.22769999999999999,0.15456000000000003,0,0.50370000000000004,0,0.38640000000000002,5.1060000000000001E-2,0.51749999999999996,0.28849999999999998,0.22500000000000001,0.1978,0.17424999999999999,1.3906000000000001,0.12249999999999998,0.12457000000000001,9.74,11.44279,0.03,339.54385000000002,23.391670000000001,7.0000000000000007E-2,20.23349,1.5E-3,0,0]
[null,121,"Potatoes",null,0,0,23.537941158798283,10.11408309859155,64.707411896551733,1.7708124999999999,0,0,7.5207218018018018,6.2998138181818186,60.869502127659572,11.190003090909091,1.1035699999999999,76.7264120754717,2.7739513568941887,1.8425528009660321,1.210523878556852,62.4,10.596085719734928,40,40,9,88.5,75,75,0,0.43793979816901413,0.22554405309859157,0.4025405073239437,1.3795609346478874,0.30342249295774648,9.9118014366197188E-2,0,0.48952162197183102,0,0.2852171433802817,0.10720928084507043,0.45513373943661972,0.1421590909090909,0.27164923076923081,0.11110575342465755,0.26455000000000001,1.8797851612903225,3.5490000000000001E-2,0.13538461538461538,0.56999999999999995,5.9733291666666668,0.10100000000000001,134.46029999999999,12.128532941176472,0.01,15.029145142857143,0,0,17]
[null,122,"Rice bran",null,0,0,91.760115514223187,14.719821957340024,25.79027,5.0396875000000003,0,0,17.635321302982728,12.171839555555554,20.168844773869345,26.623217455357146,5.3362100000000003,83.380685378973098,3.0145286230543173,2.0434842285132211,1.3836349767234344,44.703749999999999,1.1837442271379499,40,40,8,78,75,75,0,1.0318595192095357,0.37535545991217056,0.48281016020075279,0.97739617796737743,0.63442432636135504,0.27673265279799242,0,0.64472820173149303,0,0.5151937685069008,0.12953443322459221,0.73010316908406525,2.0391332009080592,1.6058928501228504,0.73439915915915921,0.12625421875000001,1.2844539946380698,5.9463680297397778E-2,0.16486915254237289,1.0900000000000001,9.5263171779141107,0,222.40702999999999,186.55011532544378,0.08,66.733590598802394,0,0,66.7]
[null,123,"Rice grain",null,0,0,88.813270000000017,8.369568012422361,19.28651,2.6171875,0,0,1.8432098765432101,3.1896600000000004,77.188393839285709,8.1713264705882338,1.87727,82.693658732394368,2.9896899990792392,2.0229844588516488,1.3661204877695172,59.578890000000001,5.8160670814173638,50,50,10,78.099999999999994,75,75,0,0.61934803291925478,0.2176087683229814,0.30967401645962739,0.61934803291925478,0.35989142453416151,0.18413049627329198,0,0.40173926459627329,0,0.301304448447205,8.3695680124223612E-2,0.45195667267080752,3.1954022988505748E-2,0.24988888888888888,0.10158606741573036,7.6149999999999995E-2,0.26637164835164839,1.4570000000000001E-2,9.6893243243243235E-2,0.05,5.4568100000000008,0.05,144.13818000000001,66.329660000000004,0,23.852070000000001,0,0,15.7]
[null,124,"Rice hay",null,0,100,92.680410000000009,7.3936199999999994,29.989249999999998,3.8068124999999999,0,0,1.7967200000000001,14.5435,8.9508799999999997,62.310989999999997,3.8035700000000001,54.666670000000003,1.9764078538460002,1.1296871319516688,0.57100913158017752,38.26,3.5933999295096797,30,30,4,74.8,75,75,98,0.209239446,7.3936199999999994E-2,0.209239446,0.40590973800000002,0.209239446,4.9537253999999996E-2,0,0.25877669999999997,0,0.209239446,0.33271289999999998,0.28317564599999995,0.24378,0.20755999999999999,0.17,0.61812999999999996,1.87277,8.8609999999999994E-2,0.15856999999999999,0,17.069230000000001,0,328.76125000000002,350.34087,0,38.299619999999997,87.5,0,13]
[null,125,"Rice hulls",null,0,100,91.95189135135135,5.3944441666666672,20,11.25,0,0,4.3133326666666667,15.712502500000001,0.1200000000000017,53.839998000000001,21.6,31.51538,1.1394007454439998,0.27735441412492534,-0.23989731966448535,50,10.814708062258083,25,25,6,58.2,75,75,100,0.6370838560833334,0.12946666000000001,0.23411887683333332,0.3598094259166667,0.27241943041666672,0.10303388358333335,0,0.35549387058333337,0,0.22332998849999999,1.6183332500000001E-2,0.29615498475000002,0.17999833333333334,0.30640120000000004,0.192376875,0.02,0.54350199999999993,4.4499999999999998E-2,9.4446666666666665E-2,0.02,13,0,131,119,0.02,22,0,0,0]
[null,126,"Rice silage",null,0,100,39.698839999999997,7.2786999999999997,42.482900000000008,4.2621874999999996,0,0,2.4376799999999998,14.4267,18.647790000000001,55.07835,4.7362900000000003,56.010919999999999,2.025007599496,1.1755604346339434,0.61330376709292844,37.14819,5.1422413793103452,30,30,4,74.8,75,75,81,0.13611169000000001,7.7882090000000001E-2,0.17468879999999998,0.4658368,0.15503630999999998,5.8229599999999999E-2,0,0.21399377999999999,0,0.15503630999999998,8.0065699999999993E-3,0.2329184,0.24249000000000001,0.23316000000000001,0.15565000000000001,0.44846999999999998,1.4805299999999999,2.3389999999999998E-2,0.12803999999999999,0,13.3378,0,489.58347999999995,627.04890999999998,0,43.606949999999998,0,0,0]
[null,127,"Rye annual, fresh",null,0,100,31.968811014436209,18.666942750296798,49.057000000000002,5.7739809393428807,0,0,3.981462686567165,10.243352527191298,1.8717662745098038,51.692376890370987,3.7031204188481674,65.130210123351773,2.3547045907576352,1.4778735691235378,0.88819714167660724,25.568999999999999,5.7582776309653365,25,25,9,79.599999999999994,75,75,41,0.52827447983339937,0.18666942750296797,0.52827447983339937,1.0248151569912942,0.52827447983339937,0.12506851642698855,0,0.65334299626038783,0,0.52827447983339937,0.84001242376335594,0.71494390733636737,0.52,0.4,0.21,1.0199567747298421,3.0327287671232881,0.1353990311986864,0.24923961007311124,0,9.1277113402061865,0,293.5342,67.361979488054615,0,37.057863671328676,254.4,0,0]
[null,128,"Ryegrass hay",null,0,100,90.376747392355327,18.649826820916246,35.588059999999999,6.1320334066305815,0,0,3.3477854595695171,9.5962901447596991,2.2563769952755908,51.501478900492614,4.3220799999999997,63.746923840913652,2.3046935351596236,1.4329648513475295,0.84779227109348199,33.304400000000001,3.5933999295096788,30,30,5,74.8,75,75,98,0.52779009903192975,0.18649826820916246,0.52779009903192975,1.023875492468302,0.52779009903192975,0.12495383970013886,0,0.6527439387320686,0,0.52779009903192975,0.83924220694123108,0.71428836724109213,0.51,0.32,0.22,1.23509,2.384234131822863,0.45819436791630341,0.22540877984084887,0,9.141236504347825,0,475.09088000000003,132.89231057306588,0.08,35.467195535610884,199.9,0,0]
[null,129,"Ryegrass silage",null,0,100,36.817037444192813,14.601098298708591,60.465816715897766,5.8014606948517429,1.5,0,3.8749272256728786,10.062079003369391,1.6409300541954779,57.690934155978184,4.7671200000000002,59.611840673076919,2.1551945653262883,1.2967365163020195,0.72429914864088918,23.762630000000001,2.5815450873678225,20,20,5,56.1,75,75,41,0.41321108185345312,0.1460109829870859,0.41321108185345312,0.8016002965991017,0.41321108185345312,9.7827358601347572E-2,0,0.51103844045480062,0,0.41321108185345312,0.65704942344188655,0.55922206484053905,0.5,0.34,0.19,0.9934157957010451,2.7761907627508045,0.13548395635142696,0.21363104123517229,0.27,10.295063414304995,0,497.17115999999999,90.55681890982504,0,36.143411593625494,175.4,0,0]
[null,130,"Rye, grain",null,0,0,89.800698947368431,11.319516097560976,46.488999999999997,1.3888750000000001,0,0,1.4352941176470588,1.7731218750000002,58.25,15.39231,1.5714300000000001,80.785709999999995,2.9207104021979995,1.9657677254096222,1.317059421093258,22.532730000000001,8.9095313225247548,40,40,8,73.7,75,75,34,0.50032261151219515,0.23770983804878049,0.43466941814634147,0.65653193365853668,0.39278720858536587,0.15620932214634148,0,0.52522554692682921,0,0.33618962809756098,0.10640345131707317,0.52522554692682921,9.3567142857142849E-2,0.3619230769230769,0.13760000000000003,0.125,0.52916833333333335,3.3000000000000002E-2,0.126,0,6.9916700000000001,0,185.27167,41.898330000000001,0.44,37.418329999999997,0.2,0,16.600000000000001]
[null,131,"Safflower meal",null,0,0,93.498000235294128,23.123174146341466,33.251739999999998,8.4722500000000007,0,0,12.340323225806451,4.8524997727272732,1.1499999999999999,51.475468679245289,13.446149999999999,55.813950000000006,2.0178863855100002,1.1688608137961984,0.60713613154261337,23.707139999999999,8.9049833887043199,40,40,6,84.9,75,75,23,2.3724376674146344,0.43471567395121952,0.75844011199999994,1.42207521,0.60120252780487815,0.33528602512195121,0,1.0590413759024393,0,0.52952068795121965,0.14567599712195123,1.0960384545365855,0.33729621621621619,0.62999925000000001,0.34460785714285713,0.26800000000000002,0.95833400000000002,6.561111111111112E-2,0.23631315789473686,0.13900000000000001,17.002000000000002,0,161.02625,25.673000000000002,0.12,60.400999999999996,0,0,0]
[null,132,"Soybean hay",null,0,100,90.499402834331349,16.540202360000002,35.24736,8.7021989801699711,0,0,3.0427349572649574,8.78892893371758,5.3679300000000003,44.846381279069774,7.2753024999999996,60.120829182098767,2.1735964340837621,1.3136697848961592,0.73972447919345807,34.395400000000002,3.6313496455294438,30,30,3,74,75,75,98,0.46808772678800004,0.16540202360000003,0.46808772678800004,0.90805710956400021,0.46808772678800004,0.11081935581200002,0,0.57890708260000012,0,0.46808772678800004,0.74430910620000001,0.63348975038800004,1.3815265283842795,0.24564877232142859,0.37911009876543206,0.41890999999999995,1.7874638139534882,1.187E-2,0.22562479999999999,0.3,8.5110425373134326,20,176.54133999999999,80.882429411764704,0.03,29.470147037037037,8,0,0]
[null,133,"Soybean hulls",null,0,0,90.042721896551726,12.368802035980693,30.505819821958454,6.3693749999999998,2.15,0,2.2826399999999998,5.0467326666666672,1.1011720270270271,64.81291126914661,2.4747691878172589,62.647881670588241,2.2649589843421127,1.397051346811502,0.81537074304374402,53.097670000000001,8.7019459854268497,40,40,8,57.2,75,75,2,0.58380745609828866,0.22758595746204474,0.30427253008512506,0.60112377894866176,0.56154361243352346,5.813336956910925E-2,0,0.36982718087582273,0,0.33890517578587098,8.2870973641070642E-2,0.40817046718736288,0.5987544347826087,0.15375918722786647,0.27322286764705883,5.5261729323308272E-2,1.3368991543026707,2.0840316901408452E-2,0.12411775216138329,0.60333000000000003,7.5530263302752294,0,436.92473000000001,20.032511848341233,0.14000000000000001,44.785775070422531,0,0,3.7]
[null,134,"Soybean meal high CP",null,0,0,89.235221346219433,52.853480764515766,44.108888888888885,10.169925115207374,13.3,0,1.8797995787458113,7.3604565360501581,2.0173405700712586,11.332043463605276,1.1667400000000001,79.547554871406959,2.8759463893098727,1.9284042643689072,1.2848812990708192,29.452960000000001,7.3012783590237307,25,25,6,75,75,75,36,5.4967619995096406,1.659599296005795,1.9925762248222443,3.3456253323938476,2.0348590094338572,0.33297692881644936,0,3.0919286247241722,0,1.8234450863757941,0.91965056530257427,2.7853784362899807,0.41639003357314142,0.75214460348162482,0.31852041822255417,6.3289829059829064E-2,2.3556505943827561,2.2571237553342817E-2,0.40979374999999996,1.0649999999999999,15.914628638426624,0,201.87091000000001,42.295288096676735,0.53,51.684337823439876,0,0,0]
[null,135,"Soybean meal low CP",null,0,0,91.682554398079759,46.531313131067968,19.492172566371686,8.9724495974576275,11.55,0,8.3395056086956529,6.4291229378531076,5.0522182222222218,18.784985918367351,1.4783500000000003,81.146415825545162,2.9337512884735943,1.976617718879103,1.3263828447842778,44.07683999999999,7.3012783590237307,25,25,6,75,75,75,36,4.8392565656310689,1.4610832323155341,1.7542305050412625,2.9454321211966028,1.7914555555461169,0.29314727272572821,0,2.7220818181674757,0,1.6053303030218451,0.8096448484805826,2.4522002020072815,0.36936875219683651,0.65793432478632474,0.29205665217391308,1.0929773809523808,2.0238733527131783,7.4318326848249017E-2,1.0514307142857144,0.7533333333333333,17.608210714285715,0,160.56062,40.660216347826093,0,71.843235545851527,0,0,0]
[null,136,"Soybean meal, heated",null,0,0,89.755110000000002,48.853180000000002,13.05063,10.779562500000001,0,0,8.2669200000000007,6.5479500000000002,1.3248599999999999,22.672139999999999,1.8080000000000001,79.346760000000003,2.8686868916880002,1.9223271782106095,1.2796371004540652,49.44173,9.55873925501432,25,25,6,89.7,75,75,23,3.1998832900000003,1.3776596760000002,2.2716728700000002,3.5320849140000004,2.618530448,0.49341711799999999,0,2.4133470920000004,0,1.7196319360000001,0.80119215200000005,2.486626862,0.34910000000000002,0.68601000000000001,0.29071000000000002,6.973E-2,2.13476,3.5619999999999999E-2,0.37275000000000003,0.12,12.40216,0,148.59927999999999,30.072890000000001,0.51,40.403709999999997,0,0,0]
[null,137,"Soybean silage",null,0,100,37.351843315789473,17.083148786516851,49.009820000000005,9.8974036567164188,0,0,4.2935800000000004,9.8115299999999994,4.2061900000000003,47.527363184079604,8.0096900000000009,57.771140000000003,2.0886462413319999,1.23510000436776,0.66797408479148945,31.48197,2.6534653465346536,50,50,5,59.4,75,75,61,0.74824191684943808,0.30749667815730336,0.65599291340224708,1.3154024565617977,0.34507960548764038,0.36216275427415723,0,1.0010725188898875,0,0.36899601378876407,0.21866430446741572,0,1.3124083379501386,0.29555984894259812,0.37682306748466254,0.46827000000000002,1.8064888219178084,2.3380000000000001E-2,0.19897805280528053,0,10.27561403508772,0,1191,85.645175892857154,7.0000000000000007E-2,46.932002909090912,0,0,0]
[null,138,"Soybean stubble",null,0,0,85.481117268292678,5.5343299999999997,18,9.125,0,0,0.7,9.2666699999999995,13.05,69.745450000000005,1.9791044776119393,35,1.2653829999999999,0.41388421945971032,-0.10704520893264169,42,8.7019459854268497,40,40,8,57.2,75,75,2,0.26122037599999998,0.101831672,0.13614451799999999,0.26896843799999998,0.25125858200000001,2.6011350999999995E-2,0,0.16547646700000002,0,0.15164064199999999,3.7080011000000003E-2,0.18263288999999996,1.2480599999999999,0.10199999999999999,0.44068000000000002,0,1.4341699999999999,0.03,0.13153999999999999,0.121,4,0,409,25,0.14000000000000001,9,0,0,3.7]
[null,139,"Soybeans, expelled",null,0,0,88.592609999999993,46.535029999999999,33,1,0,0,8.1714300000000009,6.3,22.05,12.6,1.4,77,2.7838425999999998,1.8509235240597759,1.217799670990042,20,7.788351850971666,45,45,6,88.4,75,75,36,5.063011264,1.014463654,1.4705069479999999,2.820022818,1.4611999420000001,0.51188533000000003,0,2.2895234759999998,0,1.1773362589999998,0.45604329399999999,1.7776381459999999,0.34666999999999998,0.63,0,0,1.28,0.03,0.33,0,16,7.0000000000000007E-2,155,29,0,36,0,0,0]
[null,140,"Soybeans, extruded",null,0,0,92.513841878453036,44.403044930747924,24.675229999999999,6.1538750000000002,0,0,13.142046325088339,6.15489,1.29091,16.58182,1.8295500000000002,91.942279186991868,3.3240627732706667,2.294802929677926,1.5956669997057218,42.171709999999997,1.1066193963795259,45,45,6,80.3,75,75,2,2.8240336575955682,0.82589663571191141,1.3232107389362882,2.8240336575955682,2.2467940734958449,0.59500080207202222,0,1.5585468770692521,0,1.4963826141662051,0.23089583363988922,2.0292191533351804,0.29372898305084744,0.66705428571428571,0.27721860869565224,7.7690000000000009E-2,2.045042173913044,2.1520000000000001E-2,0.35363076923076919,0,14.395000000000001,0,142.73488,35.084629999999997,0,48.247070000000001,0,0,1]
[null,141,"Soybeans, roasted",null,0,0,93.322019552980137,40.493492189349105,16.7179,9.7596249999999998,0,0,21.026672396576323,5.6245599999999998,1.29694,21.832752086956521,2.1949999999999998,97.443659999999994,3.5229585949079993,2.4528074202737695,1.7264820760796207,43.632919999999999,3.4004019750585557,25,25,5,80.8,75,75,30,2.5996821985562129,1.1986073688047336,1.8667499899289939,2.8952846915384614,2.3364744993254432,0.41303362033136087,0,1.9477369743076918,0,1.4415683219408282,0.66409327190532519,1.9882304664970412,0.24829931034482761,0.62795622047244093,0.25578878406708594,7.8359999999999999E-2,1.82925213740458,2.5855900621118016E-2,0.31647305699481865,0,13.801944480519479,0,144.61190999999999,29.180981960784312,0.12,44.297973856209154,1.6,0,36.6]
[null,142,"Soybeans, whole",null,0,0,92.852134426229512,39.972811752988051,52.983289999999997,10.607160714285715,0,0,20.611075033557047,5.4916662820512823,1.0289077343749999,17.978984025316453,1.9208823529411765,91.030923491271821,3.2911138017187431,2.2683869846121425,1.5736118899006368,29.01,7.4458259325044338,25,25,6,75.900000000000006,75,75,100,4.1571724223107571,1.255146289043825,1.5069750030876494,2.5302789839641435,1.53895325249004,0.25182871404382473,0,2.3384094875498009,0,1.379062005478088,0.69552692450199205,2.1065671793824698,0.25323956521739127,0.62095778625954201,0.24963281124497991,7.1788571428571438E-2,1.8070438745387452,1.584926829268293E-2,0.30927359550561795,1.01,14.5885404494382,0,139.14243999999999,31.630917931034485,0,47.220557333333332,0,0,0]
[null,143,"Sudangrass, fresh",null,0,100,30.888644084507046,12.922924751958226,42.668255144032919,5.6765740291262139,0,0,2.9531276595744678,10.859870129870128,2.0777297297297297,61.018641509433955,4.7449613733905585,54.803611402877699,1.9813588059373595,1.1343765827302561,0.57533959825297254,32.795000000000002,2.5815450873678225,20,20,5,56.1,75,75,41,0.36571877048041779,0.12922924751958226,0.36571877048041779,0.70946856888250664,0.36571877048041779,8.6583595838120114E-2,0,0.45230236631853793,0,0.36571877048041779,0.58153161383812013,0.49494801800000005,0.50425442982456137,0.3148527705627705,0.31820276497695849,1.0272087378640775,2.6143181818181818,4.4258064516129035E-2,0.24618357487922707,0.27,15.801528823529411,0,307.20199999999994,70.509646470588237,0,39.151529411764706,175.4,0,0]
[null,144,"Sudangrass, hay",null,0,100,89.006246112960497,8.3295609340817496,34.5804223822309,4.0839648982957666,0,0,1.6043831930083701,9.3281590176134959,1.5982409258285115,65.826778923553718,5.0891482917181703,54.478904523489931,1.96961941836135,1.1232512130256174,0.56506336328778772,41.987009999999998,3.066540365752235,20,20,3,66.7,75,75,98,0.2357265744345135,8.3295609340817492E-2,0.2357265744345135,0.45729289528108807,0.2357265744345135,5.5808058258347726E-2,0,0.29153463269286123,0,0.2357265744345135,0.37483024203367876,0.31902218377533104,0.44267217907720424,0.20345227365554799,0.29108286676286677,1.1570015150677357,2.0457948664122139,2.8435280641466207E-2,0.12694722556981922,0.42399999999999999,8.9667984615384615,0,218.40732,56.065166876574295,0.11333,31.3297223880597,0,0,0]
[null,145,"Sudangrass, silage",null,0,100,31.325796043165465,12.100075404556167,51.865203212851405,6.5807689156920075,0.8,0,3.1433751284686537,11.982075906250001,1.7902253222222222,62.305571951438843,5.7638079328436511,53.467042525533891,1.9330367620596469,1.0884472449255798,0.5328595396409801,29.713840000000001,2.5815450873678225,20,20,5,56.1,75,75,41,0.34243213394893951,0.12100075404556167,0.34243213394893951,0.66429413971013362,0.34243213394893951,8.107050521052632E-2,0,0.42350263915946584,0,0.34243213394893951,0.5445033932050275,0.46343288799450122,0.51513294000000009,0.29721950199203184,0.2714366875,0.92101999999999995,2.6712073521383077,3.2279906103286383E-2,0.18171110509209099,0.27,12.161384554455447,0,1239,74.891298699999993,0,41.239188080808077,175.4,0,0]
[null,146,"Sugarcane bagasse, silage",null,0,100,39.797669999999997,3.9331800000000001,46.740780000000008,9.5263749999999998,0,0,1.13906,6.4073599999999997,0.87255000000000005,75.584649999999996,17.31298,45.02655,1.6278808833899998,0.78979305883814432,0.25312083365134797,46.295000000000002,2.5815450873678225,20,20,5,56.1,75,75,41,0.11130899400000001,3.93318E-2,0.11130899400000001,0.21593158200000001,0.11130899400000001,2.6352306000000002E-2,0,0.13766130000000001,0,0.11130899400000001,0.17699310000000001,0.15064079399999999,0.29076000000000002,4.7960000000000003E-2,9.0950000000000003E-2,0.15174000000000001,0.41286,2.6870000000000002E-2,9.1840000000000005E-2,0.27,7.15388,0,1211,60.271790000000003,0,18.459849999999999,175.4,0,0]
[null,147,"Sugarcane hay",null,0,100,92.722729999999999,5.4894699999999998,36.246920000000003,4.7916875000000001,0,0,1.8400000000000003,10.206670000000001,1.5,68.922219999999996,6.5999999999999988,53.72222,1.9422623974359998,1.0972436598769493,0.54100681254337291,29.54,3.6701305268277431,30,30,3,73.3,75,75,98,0.15535200100000002,5.4894699999999998E-2,0.15535200100000002,0.301371903,0.15535200100000002,3.6779448999999999E-2,0,0.19213145000000001,0,0.15535200100000002,0.24702614999999997,0.21024670100000001,0.38538,0.14000000000000001,0.22461999999999999,0.30667,1.3560000000000001,5.6669999999999998E-2,0.16091,0,16.78,0,2429,86.753330000000005,0,27.525559999999999,0,0,0]
[null,148,"Sugarcane silage",null,0,100,34.229819999999997,5.4115399999999996,51.59075,6.7104999999999997,0,0,1.8625,7.89682,3.0421100000000001,68.764889999999994,9.7166700000000006,51.987009999999998,1.8795279621379999,1.0371675239055378,0.48525684488198539,47.744999999999997,5.1422413793103479,25,25,4,74.8,75,75,81,0.101195798,5.7903478000000001E-2,0.12987695999999999,0.34633856000000002,0.11526580199999997,4.3292320000000002E-2,0,0.15909927599999998,0,0.11526580199999997,5.9526939999999997E-3,0.17316928000000001,0.29115000000000008,0.11661000000000001,0.16339000000000001,0.81333,1.3186899999999999,3.9620000000000002E-2,0.18038999999999999,0,9.5268800000000002,0,431.82583,61.182499999999997,0,33.435630000000003,0,0,0]
[null,149,"Sunflower hulls",null,0,0,91.259629629629643,16.900000000000002,18,14,0,0,16.322221111111112,5.2090899999999998,13.05,72.262500000000003,15.6,54.6,1.9739974799999997,1.1274027266898572,0.56889903809297326,42,8.7019459854268497,40,40,8,57.2,75,75,2,0.79768000000000006,0.31096000000000001,0.41574000000000005,0.82134000000000018,0.76726000000000016,7.9430000000000001E-2,0,0.50531000000000015,0,0.46306000000000014,0.11323000000000003,0.55770000000000008,0.64600000000000002,0.47599999999999998,0.31380000000000002,0,1.385,0.4405,0.28499999999999998,0.121,12,0,409,17,0.14000000000000001,52,0,0,3.7]
[null,150,"Sunflower meal",null,0,0,90.443053117106771,35.012844782103436,32.389678457446813,8.8299215116279068,0,0,10.799463924731183,6.4075382789317512,1.07111,41.713042550724637,9.0350000000000001,66.445486168224292,2.4022568178287473,1.520278083625815,0.92620792168145583,27.885560000000002,8.3416778772376183,35,35,4,78.599999999999994,75,75,23,3.4557677799936091,0.82630313685764112,1.5020510411522374,2.401881152052296,1.5020510411522374,0.75277616281522386,0,1.7296345322359099,0,1.5790792996728649,0.6757479042945963,2.4053824365305063,0.43946674157303373,1.0373137894736841,0.56608253869969039,0.148928,1.5605168876080688,3.6400341880341872E-2,0.3956561463414634,1,31.549474210526313,0,243.18610999999999,50.304599734513275,1,92.786929473684211,0,0,0]
[null,151,"Sunflower screenings",null,0,0,89.326460731707314,15.411687792207793,30,22.5,0,0,20.986490540540544,6.1228571428571428,3,47.236359999999998,12,56.45,2.0408820099999998,1.1904679844750921,0.62701606415662603,20,8.3416778772376183,35,35,4,78.599999999999994,75,75,23,1.5211335850909091,0.3637158318961039,0.66116140628571429,1.0572417825454545,0.66116140628571429,0.33135128753246756,0,0.76133737693506509,0,0.69506711942857136,0.29744557438961039,1.0587829513246754,0.73188652173913038,0.42220882352941175,0.43500041666666661,0.11,1.6081466666666666,3.0669999999999999E-2,0.23136363636363635,0,14.333329999999998,0,33,40,2.2999999999999998,36.333329999999997,0,0,0]
[null,152,"Sunflower silage",null,0,100,50.434093863636356,11.26511488372093,51.441180000000003,8.4510625000000008,0,0,8.6684210526315777,11.900000000000002,2.7846199999999999,47.241376551724144,7.8461499999999997,63.347830000000002,2.2902647762539998,1.4199477123313726,0.83605205584736897,28,2.5815450873678225,20,20,5,56.1,75,75,41,0.31880275120930235,0.11265114883720929,0.31880275120930235,0.61845480711627909,0.31880275120930235,7.5476269720930231E-2,0,0.39427902093023254,0,0.31880275120930235,0.50693016976744187,0.43145390004651163,1.2583325000000001,0.35624666666666666,0.56708208333333332,1.1842900000000001,3.2683304166666667,2.7369999999999998E-2,0.23682090909090911,0.27,12.600669999999999,0,839.61400000000003,39.822670000000002,0,424.20933000000002,175.4,0,0]
[null,153,"Sunflowers",null,0,0,94.049089111111101,20.078514999999999,42.925002999999997,6.796875,0,0,33.750525052356025,3.7627885714285711,0.8344848275862069,37.381705609756096,8.5416641666666671,71.679998000000012,2.5915043116924004,1.6863122855274151,1.0737025542720917,22.125,6.1394736571469748,25,25,6,75.3,75,75,100,2.0881655599999998,0.630465371,0.75696001549999992,1.2709699994999999,0.77302282750000006,0.1264946445,0,1.1745931274999999,0,0.69270876749999999,0.34936616100000001,1.0581377404999999,0.41760782608695657,0.59425436170212764,0.37490202898550723,0.10444000000000001,1.1406688,1.8749999999999999E-2,0.23361702127659575,0,20.879088181818179,0,88.968890000000002,28.019094545454546,1,56.789544090909089,0,0,0]
[null,154,"Switchgrass hay",null,0,100,94.203702530864206,3.3895833333333338,25,8.75,0,0,1.2,3.415,5.88,81.066662777777765,6.63,46.115380000000002,1.6672462254439997,0.82918919227508892,0.29036052804379153,50,3.6701305268277409,30,30,3,73.3,75,75,98,9.5925208333333345E-2,3.389583333333334E-2,9.5925208333333345E-2,0.18608812500000002,9.5925208333333345E-2,2.2710208333333339E-2,0,0.11863541666666669,0,9.5925208333333345E-2,0.15253125000000003,0.12982104166666669,0.33517586206896549,0.10609551724137931,0.46786224137931032,0,0.96847474576271175,6.8997000000000003E-2,7.8329999999999997E-2,0,3.5999972727272724,0,0,82.770265945945951,0,11.749995810810811,0,0,0]
[null,155,"Teff (lovegrass) hay",null,0,100,87.951039999999992,10.74362,25,16.875,0,0,1.1000000000000001,10.5,6.4,66.395449999999997,17.010000000000002,45,1.6269210000000001,0.78882908345757463,0.25220837123351014,25,5.075000000000002,30,30,5.5,49.3,75,75,92,0.68651731799999993,0.28148284400000001,0.645691562,0.99485921199999994,0.64676592399999988,7.8428425999999996E-2,0,0.67899678399999996,0,0.53718100000000002,0.19768260800000001,0.76709446799999992,0.47316000000000003,0.24157999999999999,0.18653999999999998,0,1.61267,0.08,0.22167000000000001,0.40600000000000003,7,0,170,52,0.55000000000000004,20,19.3,1,0]
[null,156,"Timothy hay",null,0,100,87.831249999999997,9.4424200000000003,25,6.1,14.15,0,1.93333,8.5,7.4359999999999964,63.811109999999999,4.753731343283583,57,2.0607665999999996,1.2090890829722096,0.64412177411195115,31,3.6313496455294416,30,30,3,74,75,75,98,0.26722048600000003,9.44242E-2,0.26722048600000003,0.51838885800000001,0.26722048600000003,6.3264214000000013E-2,0,0.33048470000000002,0,0.26722048600000003,0.42490889999999998,0.36164468599999999,0.41705999999999999,0.21412,0.18461999999999998,0,1.9161500000000002,0.01,0.16286,0,6,0,150,56.1,1.55,17,88.9,2,0]
[null,157,"Triticale forage, fresh",null,0,100,26.008818252273624,15.332631900756937,50.100004615384613,4.2463191207627116,0.80000000000000016,0,2.8886024309080653,8.9059563520000005,1.6981171717171715,56.592010722347624,3.5161071360759495,61.432565803402646,2.2210206975430586,1.3570931447114427,0.77918404225443405,22.713339999999999,3.077271265055086,30,30,3,80.8,75,75,41,0.43391348279142128,0.15332631900756938,0.43391348279142128,0.84176149135155587,0.43391348279142128,0.10272863373507148,0,0.53664211652649274,0,0.43391348279142128,0.68996843553406217,0.5872398017989906,0.33788022900763359,0.31395098197638283,0.1726258757435559,0.74537535063113602,2.5788543028095736,4.7372916666666667E-2,0.19221468115942028,0,8.4062498437500004,0,433.96417000000002,62.739527031249999,0,35.466406406250002,0,0,0]
[null,158,"Triticale grain",null,0,0,88.838440333333338,12.129409011764706,30.20994,2.4608124999999998,0,0,1.6458121257485028,1.964,61.040891848739491,14.095599585492229,1.81176,82.723240000000004,2.9907594743119996,2.023868223411605,1.3668762416879736,32.555309999999999,10.746016609996328,40,40,6,88.4,75,75,0,0.52520341020941175,0.27048582096235291,0.48275047866823528,1.6544513892047059,0.36388227035294113,0.11886820831529411,0,0.58706339616941172,0,0.34204933413176469,0.12857173552470588,0.54582340552941178,7.1919969512195134E-2,0.35743833333333336,0.12649480480480482,0.11854000000000001,0.4948385498489426,1.3329999999999998E-2,0.14699054794520547,0.14000000000000001,5.9730753846153846,0,52.38091,45.69717743589743,0.3,35.599484102564098,0,0,14.4]
[null,159,"Triticale hay",null,0,100,90.280825838607598,11.577867232865049,45.868745843253969,3.4916425866050806,0,0,2.0915983718487396,8.3923579069767449,5.0625600000000004,57.729544844347345,4.6873622502628809,58.513400788436265,2.1154817894249671,1.2600307766774947,0.69078986516796714,31.094510000000003,3.5933999295096806,30,30,3,74.8,75,75,98,0.3276536426900809,0.11577867232865049,0.3276536426900809,0.6356249110842912,0.3276536426900809,7.7571710460195828E-2,0,0.40522535315027675,0,0.3276536426900809,0.52100402547892721,0.44343231501873143,0.31088605988967694,0.24887907522429267,0.1471166414777498,0.70825000000000005,2.0349024118866619,4.1748936877076405E-2,0.15422690499510286,0.39667000000000002,7.344044930232557,0,230.09300999999999,42.737521047619047,7.0000000000000007E-2,25.3966838317757,15,0,0]
[null,160,"Triticale silage",null,0,100,32.965724216141005,13.903508591992804,69.675395432727271,4.9571438613861378,1.7,0,3.6579043081416578,10.73949252238806,1.9386669031212,58.566733386819479,4.7055890642615559,57.828564943671303,2.0907223712605032,1.2370324676177256,0.66974422231916986,18.120380000000001,2.5815450873678225,20,20,5,56.1,75,75,41,0.39346929315339635,0.13903508591992803,0.39346929315339635,0.76330262170040497,0.39346929315339635,9.3153507566351795E-2,0,0.48662280071974812,0,0.39346929315339635,0.62565788663967614,0.53250437907332437,0.42967768804949524,0.33993087179487175,0.1717633300099701,1.0249283726323928,2.9233448804251547,4.6224273029966699E-2,0.20107227505486466,1.1242885714285713,8.8398448849104856,0,597.78210000000001,54.013889844559586,0,35.889995190839691,175.4,0,0]
[null,161,"Wheat bran",null,0,0,90.10432663461539,17.475245643564357,39.813310000000001,3.2020624999999998,0,0,4.3239299999999998,5.4847400000000013,21.17043,40.087359999999997,4.1493799999999998,71.917580000000001,2.600093803804,1.6937491716901296,1.0802587355880764,35.65231,3.2432912746491356,40,40,4,72.099999999999994,75,75,19,1.356079061940594,0.51726727104950498,0.64308903968316844,1.1463761142178217,0.64134151511881188,0.13106434232673267,0,0.79162862765346542,0,0.64833161337623768,0.20970294772277229,0.94366326475247531,0.13012461538461539,1.0400035928143712,0.42246465753424656,0.1041,1.1950592405063289,2.6394796747967481E-2,0.19158508333333335,0.11,12.431336666666668,7.0000000000000007E-2,165.13772,130.59132966666667,0.43,79.450501500000001,0,0,0]
[null,162,"Wheat forage fresh",null,0,100,34.11182716088328,15.319018998085514,52.837530000000001,4.4994372128637066,26.3,0,3.0032812499999997,8.9119200872817963,4.1141525714285718,54.155380682004925,3.8662800000000002,61.718350000000001,2.2313528822299999,1.3665128302781673,0.7877253859634803,24.36065,5.7582776309653365,25,25,9,79.599999999999994,75,75,41,0.43352823764582005,0.15319018998085515,0.43352823764582005,0.84101414299489474,0.43352823764582005,0.10263742728717296,0,0.536165664932993,0,0.43352823764582005,0.6893558549138481,0.58671842762667525,0.35707042964554242,0.30817447058823527,0.16446644012944986,0.75863999999999998,2.4211201434977578,5.8153623188405792E-2,0.19331039525691698,0.57299999999999995,8.5198705263157901,0,552.97978999999998,53.227300575221243,2.38,32.194768412017169,254.4,0,0]
[null,163,"Wheat grain",null,0,0,88.940471394195001,13.788753628250891,29.320653812500002,2.4004648755656106,8.5500000000000007,0,1.8901648670346212,2.2695470130641326,62.417250690021227,12.35776987733645,1.5227300000000001,86.847366446135837,3.1398623170203055,2.1461341459324421,1.4708364103271925,35.58276,10.746016609996328,40,40,6,88.4,75,75,0,0.59705303210326355,0.30748920590999484,0.54879239440438543,1.8807859948934216,0.41366260884752676,0.13512978555685873,0,0.66737567560734301,0,0.38884285231667515,0.14616078845945946,0.62049391327129011,7.6204347826086954E-2,0.36482336074561406,0.13316240437158469,0.23448800000000003,0.43103369090909094,1.812834532374101E-2,0.14909223712067748,0.14000000000000001,5.4385697515527962,0,60.280920000000002,42.962278343685306,0.3,29.254079026915115,0,0,14.4]
[null,164,"Wheat grain, flaked",null,0,0,82.959689999999995,14.421940000000001,30,3.125,0,0,1.8812500000000001,1.96818,64.868819999999999,13.553569999999999,0.73124999999999996,86.8,3.1381498399999996,2.1447401637048498,1.4696577828815323,26.0485873220793,10.746016609996328,40,40,6,88.4,75,75,0,0.62447000200000002,0.32160926200000001,0.57399321199999997,1.9671526160000001,0.43265820000000005,0.14133501200000001,0,0.69802189600000009,0,0.40669870799999996,0.15287256400000002,0.64898730000000004,4.3720000000000002E-2,0.31114999999999998,0.14599999999999999,0.09,0.42,0.02,0.14333000000000001,0.14000000000000001,4,0,70,43,0.3,26,0,0,14.4]
[null,165,"Wheat hay",null,0,100,89.913992269576767,11.112501918647846,40.289222356687901,3.9363647326125069,9.35,0,1.998354714072601,8.1487372619611556,4.6780073298429325,57.892979058390324,4.8240968336673342,58.842140235215055,2.1273669696359176,1.2710394384693688,0.70085020552890587,33.853870000000001,3.6313496455294421,30,30,3,74,75,75,98,0.31448380429773404,0.11112501918647846,0.31448380429773404,0.61007635533376681,0.31448380429773404,7.4453762854940569E-2,0,0.38893756715267458,0,0.31448380429773404,0.50006258633915313,0.42560882348421253,0.31562645738550194,0.21414443075998799,0.14875145637817172,0.68551879432624108,1.686059773809524,4.6588417266187052E-2,0.15844591115140524,0.23899999999999999,7.0024365964912292,0,332.96208000000001,58.346303135888498,0.05,21.041245937499998,37.200000000000003,0,0]
[null,166,"Wheat middlings",null,0,0,88.84790217019696,18.563292474916388,40.480827771428565,3.4259374999999999,0,0,4.1405264596273295,5.3684745940594052,25.557251013986011,38.332055550239239,3.6644399999999999,72.937533151862468,2.636968986065805,1.7255826007196609,1.1082732055959177,31.624549999999999,5.7116241630608773,70,70,6,88,75,75,2,1.2920051562541806,0.447375348645485,0.75923866222408021,1.3681146554013379,0.69983612630434777,0.18934558324414716,0,0.87990006331103687,0,0.68127283382943149,0.22275950969899663,1.0748146342976588,0.12,1.08,0.43,0.13671421052631577,1.1503511983032872,5.3495111524163572E-2,0.1976232879377432,0.55555555555555558,12.850798380129589,0.123,144.22952000000001,136.62247249462365,0.1,87.8506011827957,5.8,0,26.9]
[null,167,"Wheat silage",null,0,100,34.107595461768405,12.665597281109685,67.383704139433547,5.0199901324965133,1.8061100000000001,0,3.3952614242344246,10.280482305668817,6.6183100053901089,56.544820870476187,4.7720422489539756,59.141591252729569,2.1381932618329338,1.2810498467025924,0.70999059680833376,17.780069999999998,3.7310704960835466,50,50,6,64,75,75,61,0.54842036227204938,0.28244281936874599,0.50409077178816541,1.7275874691433613,0.37996791843329059,0.12412285335487491,0,0.61301490840570871,0,0.35716984332729312,0.13425533117976265,0.56995187764993582,0.38263261609397298,0.29984128057397536,0.15880896544010739,0.81866579337539425,2.382793481899768,4.7060999635169638E-2,0.18241896928415369,1.49,8.1684619032258059,0,556.22735,55.533264112000005,0.18332999999999999,31.31200875099443,59,0,0]
[null,168,"Wheat straw",null,0,100,91.770334592457417,5.0905519090909097,40.796884960718295,4.9554372430668847,2.5,0,1.4256523124999998,7.532838969178969,1.6423559377859103,73.649772829568789,7.4189129680881107,50.041108706205634,1.8091762359424171,0.96905837824944685,0.42175172097201186,34.544759999999997,1.384999936852473,50,50,3,12.1,75,75,98,0.14406261902727274,5.0905519090909096E-2,0.14406261902727274,0.27947129980909097,0.14406261902727274,3.4106697790909093E-2,0,0.17816931681818182,0,0.14406261902727274,0.22907483590909095,0.19496813811818187,0.32512481347501693,0.10853688405797102,0.11934978672985781,0.52621915592783508,1.3446484673844206,9.4011419855795891E-2,0.10853359192952546,0.47012374999999995,5.9111168354430381,0,214.39563999999999,64.140490485792853,0.21332999999999999,17.076662347670251,1,7.0000000000000007E-2,0]
[null,169,"Whey, wet",null,0,0,16.597207066246057,6.3040764558898523,81.380346846153842,2.8125,50.603349999999999,0,3.9846428571428572,12.71665167938931,3.2767418604651164,1.6625000000000001,0.6,80.8762005120482,2.9239819780724883,1.9684911351959671,1.3194005329283369,6.9649999999999999,0,0,0,0,100,0,75,0,0,0,0,0,0,0,0,0,0,0,0,0,0.99,1.01,0.18,3.53167236453202,2.9937204568527918,1.0420386521181002,0.12915567328918323,0,11.120180941704035,0,75.425380000000004,2.7615790909090907,0,30.518663896457767,0,0,0]
[null,170,"Whey, dry",null,0,0,93.844287714285713,13.906057454545454,85.589690000000004,0,56.086109999999998,0,1.9594600000000002,12.692537164179104,1.28,0.55000000000000004,0.1,82.3,2.9754577399999995,2.0112140081253842,1.3560490403450931,23.23667,0,0,0,0,100,0,75,0,0,0,0,0,0,0,0,0,0,0,0,0,0.61343257142857144,0.76714685714285713,0.13814814814814816,1.3624999999999998,1.7613922222222225,1.1268864444444444,0.21357142857142858,0,2.17,10.554,44.151429999999998,2.30714,5.6000000000000001E-2,20.797503750000001,0,0,0]
[null,800,"Ammonium phosphate (dibasic)","6-00-370",0,0,100,115.9,100,0,0,0,0,100,0,0,0,0,0,0,0,0,0,0,0,0,0,0,75,0,0,0,0,0,0,0,0,0,0,0,0,0,0,20.6,0,0,0,0,0,0,0,0,0,0,0,0,0,0,0]
[null,801,"Ammonium phosphate (monobasic)","6-09-338",0,0,100,70.900000000000006,100,0,0,0,0,100,0,0,0,0,0,0,0,0,0,0,0,0,0,0,75,0,0,0,0,0,0,0,0,0,0,0,0,0,0,24.74,0,0,0,0,0,0,0,0,0,0,0,0,0,0,0]
[null,802,"Ammonium sulfate","6-09-339",0,0,100,134.1,100,0,0,0,0,100,0,0,0,0,0,0,0,0,0,0,0,0,0,0,75,0,0,0,0,0,0,0,0,0,0,0,0,0,0,0,0,0,0,0,24.1,0,1,0,0,0,0,0,0,0,0]
[null,803,"Bone meal  ","6-00-400",0,0,97,13.2,40,0,0,0,0,100,0,0,0,0,0,0,0,60,0,0,0,0,100,0,75,0,0,0,0,0,0,0,0,0,0,0,0,0,30.71,12.86,0,0,0,0,0,0,0,0,0,0,0,0,0,0,0]
[null,804,"Calcium carbonate","6-01-069",0,0,100,0,0,0,0,0,0,100,0,0,0,0,0,0,0,100,0,0,0,0,0,0,75,0,0,0,0,0,0,0,0,0,0,0,0,0,39.39,0,0,0,0,0,0,0,0,0,0,0,0,0,0,0,0]
[null,805,"Calcium chloride anhydrous",null,0,0,100,0,0,0,0,0,0,100,0,0,0,0,0,0,0,100,0,0,0,0,0,0,75,0,0,0,0,0,0,0,0,0,0,0,0,0,36.11,0,0,63.89,0,0,0,0,0,0,0,0,0,0,0,0,0]
[null,806,"Calcium chloride dihydrate",null,0,0,100,0,0,0,0,0,0,100,0,0,0,0,0,0,0,100,0,0,0,0,0,0,75,0,0,0,0,0,0,0,0,0,0,0,0,0,27.26,0,0,54.96,0,0,0,0,0,0,0,0,0,0,0,0,0]
[null,807,"Calcium hydroxide",null,0,0,100,0,0,0,0,0,0,100,0,0,0,0,0,0,0,100,0,0,0,0,0,0,75,0,0,0,0,0,0,0,0,0,0,0,0,0,54.09,0,0,0,0,0,0,0,0,0,0,0,0,0,0,0,0]
[null,808,"Calcium oxide",null,0,0,100,0,0,0,0,0,0,100,0,0,0,0,0,0,0,100,0,0,0,0,0,0,75,0,0,0,0,0,0,0,0,0,0,0,0,0,71.47,0,0,0,0,0,0,0,0,0,0,0,0,0,0,0,0]
[null,809,"Calcium phosphate (monobasic)","6-01-082",0,0,100,0,0,0,0,0,0,100,0,0,0,0,0,0,0,100,0,0,0,0,0,0,75,0,0,0,0,0,0,0,0,0,0,0,0,0,17.12,26.47,0,0,0,0,0,0,0,0,0,0,0,0,0,0,0]
[null,810,"Calcium sulfate dihydrate","6-01-089",0,0,100,0,0,0,0,0,0,100,0,0,0,0,0,0,0,100,0,0,0,0,0,0,75,0,0,0,0,0,0,0,0,0,0,0,0,0,23.28,0,0,0,0,0,18.62,0,0,0,0,0,0,0,0,0,0]
[null,811,"Cobalt carbonate","6-01-566",0,0,100,0,0,0,0,0,0,100,0,0,0,0,0,0,0,100,0,0,0,0,0,0,75,0,0,0,0,0,0,0,0,0,0,0,0,0,0,0,0,0,0,0,0,460000,0,0,0,0,0,0,0,0,0]
[null,812,"Copper sulfate pentahydrate","6-01-720",0,0,100,0,0,0,0,0,0,100,0,0,0,0,0,0,0,100,0,0,0,0,0,0,75,0,0,0,0,0,0,0,0,0,0,0,0,0,0,0,0,0,0,0,12.84,0,254500,0,0,0,0,0,0,0,0]
[null,813,"Dicalcium phosphate","6-01-080",0,0,100,0,0,0,0,0,0,100,0,0,0,0,0,0,0,100,0,0,0,0,0,0,75,0,0,0,0,0,0,0,0,0,0,0,0,0,22,19.3,0,0,0,0,1.1399999999999999,0,0,0,0,0,0,0,0,0,0]
[null,814,"EDTA  ","6-01-842",0,0,100,0,0,0,0,0,0,100,0,0,0,0,0,0,0,100,0,0,0,0,0,0,75,0,0,0,0,0,0,0,0,0,0,0,0,0,0,0,0,0,0,0,0,0,0,803400,0,0,0,0,0,0,0]
[null,815,"Iron sulfate","6-20-734",0,0,100,0,0,0,0,0,0,100,0,0,0,0,0,0,0,100,0,0,0,0,0,0,75,0,0,0,0,0,0,0,0,0,0,0,0,0,0,0,0,0,0,0,12.35,0,0,0,218400,0,0,0,0,0,0]
[null,816,"Limestone  ","6-02-632",0,0,100,0,0,0,0,0,0,100,0,0,0,0,0,0,0,100,0,0,0,0,0,0,75,0,0,0,0,0,0,0,0,0,0,0,0,0,34,0,2.06,0,0,0,0,0,0,0,0,0,0,0,0,0,0]
[null,817,"Limestone dolomitic, magnesium","6-02-633",0,0,100,0,0,0,0,0,0,100,0,0,0,0,0,0,0,100,0,0,0,0,0,0,75,0,0,0,0,0,0,0,0,0,0,0,0,0,22.3,0,9.99,0,0,0,0,0,0,0,0,0,0,0,0,0,0]
[null,818,"Magnesium carbonate","6-02-754",0,0,100,0,0,0,0,0,0,100,0,0,0,0,0,0,0,100,0,0,0,0,0,0,75,0,0,0,0,0,0,0,0,0,0,0,0,0,0.02,0,30.81,0,0,0,0,0,0,0,0,0,0,0,0,0,0]
[null,819,"Magnesium chloride hexadydrate",null,0,0,100,0,0,0,0,0,0,100,0,0,0,0,0,0,0,100,0,0,0,0,0,0,75,0,0,0,0,0,0,0,0,0,0,0,0,0,0,0,11.96,34.880000000000003,0,0,0,0,0,0,0,0,0,0,0,0,0]
[null,820,"Magnesium hydroxide",null,0,0,100,0,0,0,0,0,0,100,0,0,0,0,0,0,0,100,0,0,0,0,0,0,75,0,0,0,0,0,0,0,0,0,0,0,0,0,0,0,41.69,0,0,0,0,0,0,0,0,0,0,0,0,0,0]
[null,821,"Magnesium oxide","6-02-756",0,0,100,0,0,0,0,0,0,100,0,0,0,0,0,0,0,100,0,0,0,0,0,0,75,0,0,0,0,0,0,0,0,0,0,0,0,0,3.07,0,56.2,0,0,0,0,0,0,0,0,0,0,0,0,0,0]
[null,822,"Magnesium sulfate heptahydrate","6–02–758",0,0,100,0,0,0,0,0,0,100,0,0,0,0,0,0,0,100,0,0,0,0,0,0,75,0,0,0,0,0,0,0,0,0,0,0,0,0,0,0,9.86,0,0,0,13,0,0,0,0,0,0,0,0,0,0]
[null,823,"Manganese carbonate","6-03-036",0,0,100,0,0,0,0,0,0,100,0,0,0,0,0,0,0,100,0,0,0,0,0,0,75,0,0,0,0,0,0,0,0,0,0,0,0,0,0,0,0,0,0,0,0,0,0,0,0,478000,0,0,0,0,0]
[null,824,"Manganese oxide","6-03-056",0,0,100,0,0,0,0,0,0,100,0,0,0,0,0,0,0,100,0,0,0,0,0,0,75,0,0,0,0,0,0,0,0,0,0,0,0,0,0,0,0,0,0,0,0,0,0,0,0,774500,0,0,0,0,0]
[null,825,"Manganese sulfate monohydrate",null,0,0,100,0,0,0,0,0,0,100,0,0,0,0,0,0,0,100,0,0,0,0,0,0,75,0,0,0,0,0,0,0,0,0,0,0,0,0,0,0,0,0,0,0,18.97,0,0,0,0,325000,0,0,0,0,0]
[null,826,"Manganese sulfate pentahydrate",null,0,0,100,0,0,0,0,0,0,100,0,0,0,0,0,0,0,100,0,0,0,0,0,0,75,0,0,0,0,0,0,0,0,0,0,0,0,0,0,0,0,0,0,0,13.3,0,0,0,0,227890.00000000003,0,0,0,0,0]
[null,827,"Oystershell ground","6-03-481",0,0,100,0,0,0,0,0,0,100,0,0,0,0,0,0,0,100,0,0,0,0,0,0,75,0,0,0,0,0,0,0,0,0,0,0,0,0,38,0,0,0,0,0,0,0,0,0,0,0,0,0,0,0,0]
[null,828,"Phosphate deflourinated","6-01-780",0,0,100,0,0,0,0,0,0,100,0,0,0,0,0,0,0,100,0,0,0,0,0,0,75,0,0,0,0,0,0,0,0,0,0,0,0,0,32,18,0,0,0,0,0,0,0,0,0,0,0,0,0,0,0]
[null,829,"Phosphate mono-mono","6-04-288",0,0,100,0,0,0,0,0,0,100,0,0,0,0,0,0,0,100,0,0,0,0,0,0,75,0,0,0,0,0,0,0,0,0,0,0,0,0,0,22.5,0,0,0,16.68,0,0,0,0,0,0,0,0,0,0,0]
[null,830,"Phosphate rock","6-03-945",0,0,100,0,0,0,0,0,0,100,0,0,0,0,0,0,0,100,0,0,0,0,0,0,75,0,0,0,0,0,0,0,0,0,0,0,0,0,35,13,0,0,0,0,0,0,0,0,0,0,0,0,0,0,0]
[null,831,"Phosphate rock, low fluor","6-03-946",0,0,100,0,0,0,0,0,0,100,0,0,0,0,0,0,0,100,0,0,0,0,0,0,75,0,0,0,0,0,0,0,0,0,0,0,0,0,36,14,0,0,0,0,0,0,0,0,0,0,0,0,0,0,0]
[null,832,"Phosphate rock, soft","6-03-947",0,0,100,0,0,0,0,0,0,100,0,0,0,0,0,0,0,100,0,0,0,0,0,0,75,0,0,0,0,0,0,0,0,0,0,0,0,0,17,9,0,0,0,0,0,0,0,0,0,0,0,0,0,0,0]
[null,833,"Phosphoric acid","6-03-707",0,0,100,0,0,0,0,0,0,100,0,0,0,0,0,0,0,100,0,0,0,0,0,0,75,0,0,0,0,0,0,0,0,0,0,0,0,0,0,31.6,0,0,0,0,1.55,0,0,0,0,0,0,0,0,0,0]
[null,834,"Potassium bicarbonate","6-29-493",0,0,100,0,0,0,0,0,0,100,0,0,0,0,0,0,0,100,0,0,0,0,0,0,75,0,0,0,0,0,0,0,0,0,0,0,0,0,0,0,0,0,39.049999999999997,0,0,0,0,0,0,0,0,0,0,0,0]
[null,835,"Potassium carbonate",null,0,0,100,0,0,0,0,0,0,100,0,0,0,0,0,0,0,100,0,0,0,0,0,0,75,0,0,0,0,0,0,0,0,0,0,0,0,0,0,0,0,0,56.58,0,0,0,0,0,0,0,0,0,0,0,0]
[null,836,"Potassium chloride","6-03-755",0,0,100,0,0,0,0,0,0,100,0,0,0,0,0,0,0,100,0,0,0,0,0,0,75,0,0,0,0,0,0,0,0,0,0,0,0,0,0,0,0,47.3,50,0,0,0,0,0,0,0,0,0,0,0,0]
[null,837,"Potassium iodide","6-03-759",0,0,100,0,0,0,0,0,0,100,0,0,0,0,0,0,0,100,0,0,0,0,0,0,75,0,0,0,0,0,0,0,0,0,0,0,0,0,0,0,0,0,21,0,0,0,0,681700,0,0,0,0,0,0,0]
[null,838,"Potassium sulfate","6-06-098",0,0,100,0,0,0,0,0,0,100,0,0,0,0,0,0,0,100,0,0,0,0,0,0,75,0,0,0,0,0,0,0,0,0,0,0,0,0,0,0,0,0,41.84,0,17.350000000000001,0,0,0,0,0,0,0,0,0,0]
[null,839,"Salt (sodium chloride)","6-04-152",0,0,100,0,0,0,0,0,0,100,0,0,0,0,0,0,0,100,0,0,0,0,0,0,75,0,0,0,0,0,0,0,0,0,0,0,0,0,0,0,0,60.66,0,39.340000000000003,0,0,0,0,0,0,0,0,0,0,0]
[null,840,"Sodium bicarbonate","6-04-272",0,0,100,0,0,0,0,0,0,100,0,0,0,0,0,0,0,100,0,0,0,0,0,0,75,0,0,0,0,0,0,0,0,0,0,0,0,0,0,0,0,0,0,27,0,0,0,0,0,0,0,0,0,0,0]
[null,841,"Sodium phosphate (monobasic, monohydrate)","6-04-288",0,0,100,0,0,0,0,0,0,100,0,0,0,0,0,0,0,100,0,0,0,0,0,0,75,0,0,0,0,0,0,0,0,0,0,0,0,0,0,22.5,0,0,0,16.68,0,0,0,0,0,0,0,0,0,0,0]
[null,842,"Sodium selenite","6-26-013",0,0,100,0,0,0,0,0,0,100,0,0,0,0,0,0,0,100,0,0,0,0,0,0,75,0,0,0,0,0,0,0,0,0,0,0,0,0,0,0,0,0,0,26.6,0,0,0,0,0,0,456000,0,0,0,0]
[null,843,"Sodium sulfate decahydrate","6-04-292",0,0,100,0,0,0,0,0,0,100,0,0,0,0,0,0,0,100,0,0,0,0,0,0,75,0,0,0,0,0,0,0,0,0,0,0,0,0,0,0,0,0,0,14.27,9.9499999999999993,0,0,0,0,0,0,0,0,0,0]
[null,844,"Sodium tripolyphosphate","6-08-076",0,0,100,0,0,0,0,0,0,100,0,0,0,0,0,0,0,100,0,0,0,0,0,0,75,0,0,0,0,0,0,0,0,0,0,0,0,0,0,25,0,0,0,31,0,0,0,0,0,0,0,0,0,0,0]
[null,845,"Urea",null,0,0,99,281,100,0,0,0,0,0,0,0,0,0,0,0,0,6.00000049644223E-8,0,0,0,0,0,75,75,0,0,0,0,0,0,0,0,0,0,0,0,0,0,0,0,0,0,0,0,0,0,0,0,0,0,0,0,0,0]
[null,846,"Zinc oxide","6-05-553",0,0,100,0,0,0,0,0,0,100,0,0,0,0,0,0,0,100,0,0,0,0,0,0,75,0,0,0,0,0,0,0,0,0,0,0,0,0,0,0,0,0,0,0,0,0,0,0,0,0,0,780000,0,0,0]
[null,847,"Zinc sulfate","6-05-555",0,0,100,0,0,0,0,0,0,100,0,0,0,0,0,0,0,100,0,0,0,0,0,0,75,0,0,0,0,0,0,0,0,0,0,0,0,0,0,0,0,0,0,0,17.68,0,0,0,0,0,0,363600,0,0,0]

{"sheet":"Optimizer","index":7,"n_rows":34,"n_cols":25,"rows_kept":34,"cut":false,"hidden":true,"merged":[[13,2,13,3],[2,9,2,10],[2,11,2,12],[2,15,2,24]]}
[]
["Table Z1. Objective function",null,null,null,null,null,"Table Z2. Constraints for diet ingredients",null,null,null,null,null,null,null,"Table Z4. Optimized diets"]
["Is diet optimization on? (FALSE=default)",null,null,null,false,null,"Diet ingredients","Solution",null,"User input",null,"Constraints",null,null,"Diet ingredients","Diet ID"]
["Objective function",null,null,null,1,null,null,{"$f":"IF(parmUnit=1,\"kg/d\",\"lb/d\")","v":"lb/d"},"%","Min","Max","Min","Max",null,null,1,2,3,4,5,6,7,8,9,10]
["   1 = Minimize cost/day ($/d)",null,null,null,{"$f":"Calc!AL84","v":1.4860139860139863},null,{"$f":"IF(Inputs!AJ5<>\"\",Inputs!AJ5,\"\")","v":"Barley, Silage"},0,{"$f":"IF($H$27>0,H5*100/$H$27,0)","v":0},null,null,{"$f":"IF(J5<0,0,J5)","v":0},{"$f":"IF(G5=\"\",0,IF(AND(K5<>\"\",K5>=0),K5,9999))","v":9999},null,{"$f":"G5","v":"Barley, Silage"}]
[{"$f":"\"   2 = Minimize cost/ME allowable \" & IF(parmUnit=1,\"($/kg)\",\"($/lb)\")","v":"   2 = Minimize cost/ME allowable ($/lb)"},null,null,null,{"$f":"IF(Reports!D16>0,Optimizer!$E$5/Reports!D16,9999)","v":0.42995524896454379},null,{"$f":"IF(Inputs!AJ6<>\"\",Inputs!AJ6,\"\")","v":"Barley Grain, Heavy"},0,{"$f":"IF($H$27>0,H6*100/$H$27,0)","v":0},null,null,{"$f":"IF(J6<0,0,J6)","v":0},{"$f":"IF(G6=\"\",0,IF(AND(K6<>\"\",K6>=0),K6,9999))","v":9999},null,{"$f":"G6","v":"Barley Grain, Heavy"}]
[{"$f":"\"   3 = Minimize cost/MP allowable  \" & IF(parmUnit=1,\"($/kg)\",\"($/lb)\")","v":"   3 = Minimize cost/MP allowable  ($/lb)"},null,null,null,{"$f":"IF(Reports!D17>0,Optimizer!$E$5/Reports!D17,9999)","v":0.26413876136796177},null,{"$f":"IF(Inputs!AJ7<>\"\",Inputs!AJ7,\"\")","v":"Minerals "},0,0,null,null,0,9999,null,"Minerals "]
["   4 = Minimize crude protein (CP, %DM)",null,null,null,{"$f":"Calc!AV56","v":12.304526748971195},null,{"$f":"IF(Inputs!AJ8<>\"\",Inputs!AJ8,\"\")","v":""},0,0,null,null,0,0,null,""]
["   5 = Minimize feed conversion (DMI:ADG)",null,null,null,{"$f":"IF(Reports!D16>0,Optimizer!$E$5/Reports!D16,9999)","v":0.42995524896454379},null,{"$f":"IF(Inputs!AJ9<>\"\",Inputs!AJ9,\"\")","v":""},0,0,null,null,0,0,null,""]
["   6 = Minimize |MP - ME|/ME allowable, %",null,null,null,{"$f":"IF(Reports!D17>0,Optimizer!$E$5/Reports!D17,9999)","v":0.26413876136796177},null,{"$f":"IF(Inputs!AJ10<>\"\",Inputs!AJ10,\"\")","v":""},0,0,null,null,0,0,null,""]
[null,null,null,null,null,null,{"$f":"IF(Inputs!AJ11<>\"\",Inputs!AJ11,\"\")","v":""},0,0,null,null,0,0,null,""]
[null,null,null,null,null,null,{"$f":"IF(Inputs!AJ12<>\"\",Inputs!AJ12,\"\")","v":""},0,0,null,null,0,0,null,""]
["Table Z3. Constraints for performance, required and supplied nutrients",null,null,null,null,null,{"$f":"IF(Inputs!AJ13<>\"\",Inputs!AJ13,\"\")","v":""},0,0,null,null,0,0,null,""]
["Constraints","Actual","User input",null,"Met?",null,{"$f":"IF(Inputs!AJ14<>\"\",Inputs!AJ14,\"\")","v":""},0,0,null,null,0,0,null,""]
[null,null,"Min","Max",null,null,{"$f":"IF(Inputs!AJ15<>\"\",Inputs!AJ15,\"\")","v":""},0,0,null,null,0,0,null,""]
[{"$f":"\"Actual DMI, \"&IF(parmUnit=1,\"kg/d\",\"lb/d\")","v":"Actual DMI, lb/d"},{"$f":"H27","v":0},0,9999,{"$f":"IF(AND(B16>=C16,B16<=D16),\"Yes\",\"No\")","v":"Yes"},null,{"$f":"IF(Inputs!AJ16<>\"\",Inputs!AJ16,\"\")","v":""},0,0,null,null,0,0,null,""]
[{"$f":"\"Average daily gain, \" &IF(parmUnit=1,\"kg/d\",\"lb/d\")","v":"Average daily gain, lb/d"},{"$f":"Calc!D96*IF(parmUnit=1,1,2.20466)","v":3.4563002374879024},0,9999,"Yes",null,{"$f":"IF(Inputs!AJ17<>\"\",Inputs!AJ17,\"\")","v":""},0,0,null,null,0,0,null,""]
[{"$f":"\"ME allowable, \"&IF(parmUnit=1,\"kg/d\",\"lb/d\")","v":"ME allowable, lb/d"},{"$f":"Reports!D16","v":3.4562061739977277},0,9999,"Yes",null,{"$f":"IF(Inputs!AJ18<>\"\",Inputs!AJ18,\"\")","v":""},0,0,null,null,0,0,null,""]
[{"$f":"\"MP allowable, \"&IF(parmUnit=1,\"kg/d\",\"lb/d\")","v":"MP allowable, lb/d"},{"$f":"Reports!D17","v":5.6258838283256578},0,9999,"Yes",null,{"$f":"IF(Inputs!AJ19<>\"\",Inputs!AJ19,\"\")","v":""},0,0,null,null,0,0,null,""]
["|MP - ME|/ME allowable, %",{"$f":"IF(Reports!D16>0,Optimizer!$E$5/Reports!D16,0)","v":0.42995524896454379},0,100,"Yes",null,{"$f":"IF(Inputs!AJ20<>\"\",Inputs!AJ20,\"\")","v":""},0,0,null,null,0,0,null,""]
["Dietary TDN, %DM",{"$f":"IF(parmSolution=1,Calc!AJ112,Calc!AK308)","v":76.716038637600249},0,9999,"Yes",null,{"$f":"IF(Inputs!AJ21<>\"\",Inputs!AJ21,\"\")","v":""},0,0,null,null,0,0,null,""]
[{"$f":"\"Dietary ME, \"&IF(parmUnit=1,\"Mcal/kg\",\"Mcal/lb\")","v":"Dietary ME, Mcal/lb"},{"$f":"IF(parmSolution=1,Calc!AX112,Calc!AP308)/IF(parmUnit=1,1,2.2046)","v":1.2873138497526972},0,9999,"Yes",null,{"$f":"IF(Inputs!AJ22<>\"\",Inputs!AJ22,\"\")","v":""},0,0,null,null,0,0,null,""]
[{"$f":"\"Dietary NEm, \"&IF(parmUnit=1,\"Mcal/kg\",\"Mcal/lb\")","v":"Dietary NEm, Mcal/lb"},{"$f":"IF(parmSolution=1,Calc!AY112,Calc!AQ308)/IF(parmUnit=1,1,2.2046)","v":0.86028890733155072},0,9999,"Yes",null,{"$f":"IF(Inputs!AJ23<>\"\",Inputs!AJ23,\"\")","v":""},0,0,null,null,0,0,null,""]
[{"$f":"\"Dietary NEg, \"&IF(parmUnit=1,\"Mcal/kg\",\"Mcal/lb\")","v":"Dietary NEg, Mcal/lb"},{"$f":"IF(parmSolution=1,Calc!AZ112,Calc!AR308)/IF(parmUnit=1,1,2.2046)","v":0.57035166233019119},0,9999,"Yes",null,{"$f":"IF(Inputs!AJ24<>\"\",Inputs!AJ24,\"\")","v":""},0,0,null,null,0,0,null,""]
["Dietary ME, Mcal/d",{"$f":"Reports!D10","v":31.281726548990545},0,9999,"Yes",null,{"$f":"IF(Inputs!AJ25<>\"\",Inputs!AJ25,\"\")","v":""},0,0,null,null,0,0,null,""]
["Dietary CP, %DM",{"$f":"Calc!AV56","v":12.304526748971195},0,100,"Yes",null,{"$f":"IF(Inputs!AJ26<>\"\",Inputs!AJ26,\"\")","v":""},0,0,null,null,0,0,null,""]
["Dietary RDP, %CP",{"$f":"IF(parmSolution=1,Calc!BH100,Calc!BC229)","v":75.106315073210737},0,100,"Yes",null,{"$f":"\"Total DMI, \" &IF(parmUnit=1,\"kg/d\",\"lb/d\")","v":"Total DMI, lb/d"},{"$f":"SUM(H5:H26)","v":0},{"$f":"SUM(I5:I26)","v":0},null,null,null,null,null,{"$f":"G27","v":"Total DMI, lb/d"}]
["RDP balance, g/d",{"$f":"IF(parmSolution=1,Calc!BH109,Calc!BC239)*1000","v":-324.84968382498056},0,9999,"No",null,{"$f":"\"Predicted DMI, \"&IF(parmUnit=1,\"kg/d\",\"lb/d\")","v":"Predicted DMI, lb/d"},{"$f":"Calc!D191*IF(parmUnit=1,1,2.2046)","v":24.478573185746562},null,null,"Required Ca, g/d",null,{"$f":"Calc!I157","v":41.597231852931323},null,"Diet cost, $/d"]
["Dietary MP, g/d",{"$f":"IF(parmSolution=1,Calc!AN140,Calc!AU308)*1000","v":1014.3034950019946},0,9999,"Yes",null,"Ratio Actual:Predicted DMI",{"$f":"IF(H28>0,H27/H28,0)","v":0},null,null,"Required P, g/d",null,{"$f":"Calc!J157","v":22.134443510371604},null,{"$f":"A18","v":"ME allowable, lb/d"}]
["Dietary Ca, g/d",{"$f":"Calc!AJ392","v":16.102694366324958},0,9999,"Yes",null,"Required ME, Mcal/d",{"$f":"Calc!D40+Calc!D57+Calc!D77+Calc!D94","v":31.281726548990541},null,null,"Required Ca, %DM",null,{"$f":"IF(H27>0,M28*100/IF(parmUnit=1,H27*1000,H27*1000/2.2046),0)","v":0},null,{"$f":"A19","v":"MP allowable, lb/d"}]
["Dietary P, g/d",{"$f":"Calc!AK392","v":36.741358976685113},0,9999,"Yes",null,"Required MP, g/d",{"$f":"Calc!D41+Calc!D60+Calc!D80+Calc!D99","v":773.63839623278852},null,null,"Required P, %DM",null,{"$f":"IF(H27>0,M29*100/IF(parmUnit=1,H27*1000,H27*1000/2.2046),0)","v":0},null,{"$f":"A21","v":"Dietary TDN, %DM"}]
["Dietary Ca, %DM",{"$f":"IF(H27>0,B30*100/IF(parmUnit=1,H27*1000,H27*1000/2.2046),0)","v":0},0,100,{"$f":"IF(AND(B32>=C32,B32<=D32),\"Yes\",\"No\")","v":"Yes"},null,"Dietary peNDF, %NDF",{"$f":"peNDF","v":11.564403292181073},null,null,null,null,null,null,{"$f":"A26","v":"Dietary CP, %DM"}]
["Dietary P, %DM",{"$f":"IF(H27>0,B31*100/IF(parmUnit=1,H27*1000,H27*1000/2.2046),0)","v":0},0,100,"Yes",null,null,null,null,null,null,null,null,null,{"$f":"A32","v":"Dietary Ca, %DM"}]
["Ratio Ca:P",{"$f":"IF(B33>0,B32/B33,0)","v":0},1,4,"No",null,null,null,null,null,null,null,null,null,{"$f":"A33","v":"Dietary P, %DM"}]

{"sheet":"Stochastic","index":8,"n_rows":60,"n_cols":25,"rows_kept":60,"cut":false,"hidden":true,"merged":[[2,16,2,17]]}
[]
[null,"Is stochastic simulation on? (FALSE=default)",null,null,null,false,"# of Iterations:",null,5000,null,"Table K4. Stochastic results"]
[null,"Use predicted DMI?",null,null,null,false,"Initial seed:",null,123456,null,null,null,null,null,null,null,"90% Prediction"]
[null,"Create summary report",null,null,null,false,"pDMI (1, 2, or 3)",null,3,null,null,null,null,"Output","Mean","SD","Lower","Upper"]
[null,null,null,null,null,null,null,null,null,null,"Metabolizable energy"]
[null,"Table K1. Animal weight and intake",null,null,null,null,null,null,"pDMI",null,"   Required for maintenance",null,null,{"$f":"_xll.RiskOutput(\"ME for maintenance\")+Reports!E11","v":{"$error":"#NAME?"}},9.6047986687055857,0.59468870942837915,8.6551624926265394,10.590830142608574]
[null,null,"BCS","IBW","FBW","MBW","DMI",null,{"$f":"IF(I4=1,Calc!D188,IF(I4=2,Calc!D187,Calc!D191))*IF(parmUnit=1,1,2.2046)","v":24.478573185746562},null,"   Required for pregnancy",null,null,{"$f":"_xll.RiskOutput(\"ME for pregnancy\")+Reports!E12","v":{"$error":"#NAME?"}},9.3279365507530461,0,9.3279365507525576,9.3279365507525576]
[null,"Mean",5,300,300,550,6,null,"1 = iSBW",null,"   Required for lactation",null,null,{"$f":"_xll.RiskOutput(\"ME for lactation\")+Reports!E13","v":{"$error":"#NAME?"}},2.7067547760737956,1.9938818927871808E-2,2.676249071112907,2.741463510118415]
[null,"SD",1,20,10,10,2,null,"2 = NEm",null,"   Required for growth",null,null,{"$f":"_xll.RiskOutput(\"ME for growth\")+Reports!E14","v":{"$error":"#NAME?"}},0,0,0,0]
[null,"RiskNormal",{"$f":"_xll.RiskNormal(C8,C9,_xll.RiskName(C7),_xll.RiskCorrmat(AnMatrix,1))","v":{"$error":"#NAME?"}},{"$f":"_xll.RiskNormal(D8,D9,_xll.RiskName(D7),_xll.RiskCorrmat(AnMatrix,2))","v":{"$error":"#NAME?"}},{"$f":"_xll.RiskNormal(E8,E9,_xll.RiskName(E7),_xll.RiskCorrmat(AnMatrix,3))","v":{"$error":"#NAME?"}},{"$f":"_xll.RiskNormal(F8,F9,_xll.RiskName(F7),_xll.RiskCorrmat(AnMatrix,4))","v":{"$error":"#NAME?"}},{"$f":"_xll.RiskNormal(G8,G9,_xll.RiskName(G7),_xll.RiskCorrmat(AnMatrix,5))","v":{"$error":"#NAME?"}},null,"3 = pDMI",null,"   Allowable gain/milk",null,null,{"$f":"_xll.RiskOutput(\"ME allowable\")+Reports!D16","v":{"$error":"#NAME?"}},-1.348554518881337,5.5438390007667238,-10.39722649917525,7.767909593336209]
[null,"@RISK Correlations",{"$f":"\"BCS in \"&CELL(\"address\",$C$10)","v":"BCS in $C$10"},{"$f":"\"IBW in \"&CELL(\"address\",$D$10)","v":"IBW in $D$10"},{"$f":"\"FBW in \"&CELL(\"address\",$E$10)","v":"FBW in $E$10"},{"$f":"\"MBW in \"&CELL(\"address\",$F$10)","v":"MBW in $F$10"},{"$f":"\"DMI in \"&CELL(\"address\",$G$10)","v":"DMI in $G$10"},null,null,null,"   Supplied",null,null,{"$f":"_xll.RiskOutput(\"ME supplied\")+Reports!D10","v":{"$error":"#NAME?"}},17.488886306376031,5.8535646084408146,7.9239900819711631,27.198218597707001]
[null,{"$f":"\"BCS in \"&CELL(\"address\",$C$10)","v":"BCS in $C$10"},1,null,null,null,null,null,null,null,"Metabolizable Protein"]
[null,{"$f":"\"IBW in \"&CELL(\"address\",$D$10)","v":"IBW in $D$10"},0,1,null,null,null,null,null,null,"   Required for maintenance",null,null,{"$f":"_xll.RiskOutput(\"MP for maintenance\")+Reports!I11","v":{"$error":"#NAME?"}},265.24822803161567,13.685427002473499,249.99116239605422,281.02829669298887]
[null,{"$f":"\"FBW in \"&CELL(\"address\",$E$10)","v":"FBW in $E$10"},0,0.76604249999999996,1,null,null,null,null,null,"   Required for pregnancy",null,null,{"$f":"_xll.RiskOutput(\"MP for pregnancy\")+Reports!I12","v":{"$error":"#NAME?"}},250.6209251079903,0,250.62092510800906,250.62092510800906]
[null,{"$f":"\"MBW in \"&CELL(\"address\",$F$10)","v":"MBW in $F$10"},0,0,0.61283399999999999,1,null,null,null,null,"   Required for lactation",null,null,{"$f":"_xll.RiskOutput(\"MP for lactation\")+Reports!I13","v":{"$error":"#NAME?"}},148.23622759244563,0,148.2362275924385,148.2362275924385]
[null,{"$f":"\"DMI in \"&CELL(\"address\",$G$10)","v":"DMI in $G$10"},-0.38302120000000001,0.38302120000000001,0.38302120000000001,0.38302120000000001,1,null,null,null,"   Required for growth",null,null,{"$f":"_xll.RiskOutput(\"MP for growth\")+Reports!I14","v":{"$error":"#NAME?"}},0,0,0,0]
[null,null,null,null,null,null,null,null,null,null,"   Allowable gain/milk",null,null,{"$f":"_xll.RiskOutput(\"MP allowable\")++Reports!D17","v":{"$error":"#NAME?"}},2.872112268196381E-2,2.8787271894235302,-4.5155051608839996,4.9097074802803142]
[null,"Table K2. Environment factors",null,null,null,null,null,null,null,null,"   Supplied"]
[null,null,"WS","Tp","Tc","RHp","RHc","LNT","Mud",null,"      Undegraded feed",null,null,{"$f":"_xll.RiskOutput(\"MP supplied RUP\")+Reports!D36","v":{"$error":"#NAME?"}},226.97812544089476,89.898524554594019,92.508928250866802,383.54992433328226]
[null,"Mean",20,20,20,65,65,10,10,null,"      Microbial protein",null,null,{"$f":"_xll.RiskOutput(\"MP supplied MCP\")+Reports!D35","v":{"$error":"#NAME?"}},290.57010871706029,88.119656493203777,146.61276621091761,436.71305071758547]
[null,"SD",0,0,0,0,0,0,0,null,"Ruminal balance"]
[null,"RiskNormal",{"$f":"_xll.RiskNormal(C20,C21,_xll.RiskName(C19),_xll.RiskCorrmat(EnvMatrix,1))","v":{"$error":"#NAME?"}},{"$f":"_xll.RiskNormal(D20,D21,_xll.RiskName(D19),_xll.RiskCorrmat(EnvMatrix,2))","v":{"$error":"#NAME?"}},{"$f":"_xll.RiskNormal(E20,E21,_xll.RiskName(E19),_xll.RiskCorrmat(EnvMatrix,3))","v":{"$error":"#NAME?"}},{"$f":"_xll.RiskNormal(F20,F21,_xll.RiskTruncate(0,100),_xll.RiskName(F19),_xll.RiskCorrmat(EnvMatrix,4))","v":{"$error":"#NAME?"}},{"$f":"_xll.RiskNormal(G20,G21,_xll.RiskTruncate(0,100),_xll.RiskName(G19),_xll.RiskCorrmat(EnvMatrix,5))","v":{"$error":"#NAME?"}},{"$f":"_xll.RiskNormal(H20,H21,_xll.RiskName(H19),_xll.RiskCorrmat(EnvMatrix,6))","v":{"$error":"#NAME?"}},{"$f":"_xll.RiskNormal(I20,I21,_xll.RiskName(I19),_xll.RiskCorrmat(EnvMatrix,7))","v":{"$error":"#NAME?"}},null,"   Nitrogen",null,null,{"$f":"_xll.RiskOutput(\"Rumen Balance N\")+Reports!I30","v":{"$error":"#NAME?"}},72.087369949166458,31.082026009754927,25.658876435260858,127.51516010050213,null,null,null,null,null,null," "]
[null,"@RISK Correlations",{"$f":"\"WS in \"&CELL(\"address\",$C$22)","v":"WS in $C$22"},{"$f":"\"Tp in \"&CELL(\"address\",$D$22)","v":"Tp in $D$22"},{"$f":"\"Tc in \"&CELL(\"address\",$E$22)","v":"Tc in $E$22"},{"$f":"\"RHp in \"&CELL(\"address\",$F$22)","v":"RHp in $F$22"},{"$f":"\"RHc in \"&CELL(\"address\",$G$22)","v":"RHc in $G$22"},{"$f":"\"LNT in \"&CELL(\"address\",$H$22)","v":"LNT in $H$22"},{"$f":"\"Mud in \"&CELL(\"address\",$I$22)","v":"Mud in $I$22"},null,"   RDP",null,null,{"$f":"_xll.RiskOutput(\"Rumen Balance RDP\")+Reports!I33","v":{"$error":"#NAME?"}},0.45054606218228821,0.19426266256096841,0.16036797772038036,0.79696975062813813]
[null,{"$f":"\"WS in \"&CELL(\"address\",$C$22)","v":"WS in $C$22"},1,null,null,null,null,null,null,null,"Methane"]
[null,{"$f":"\"Tp in \"&CELL(\"address\",$D$22)","v":"Tp in $D$22"},-0.44964870000000001,1,null,null,null,null,null,null,"   g/kg RDCHO",null,null,{"$f":"_xll.RiskOutput(\"CH4 g/kg RDCHO\")+IF(parmSolution=1,0,IF(SUM(Calc!AR224:AU224)>0,Calc!AW476*1000/SUM(Calc!AR224:AU224),0))","v":{"$error":"#NAME?"}},0,0,0,0]
[null,{"$f":"\"Tc in \"&CELL(\"address\",$E$22)","v":"Tc in $E$22"},-0.26978920000000001,0.71943780000000002,1,null,null,null,null,null,"   g/d",null,null,{"$f":"_xll.RiskOutput(\"CH4 g/d\")+IF(parmSolution=1,Calc!BP42,Calc!BQ42)","v":{"$error":"#NAME?"}},129.40913151382486,35.830689606815945,72.472903269693006,187.31820008550096]
[null,{"$f":"\"RHp in \"&CELL(\"address\",$F$22)","v":"RHp in $F$22"},-0.26978920000000001,-0.44964870000000001,-0.44964870000000001,1,null,null,null,null,"   g/kg DM",null,null,{"$f":"_xll.RiskOutput(\"CH4 g/kg DM\")+IF(parmSolution=1,Calc!BP43,Calc!BQ43)","v":{"$error":"#NAME?"}},21.791271089888792,30.996801427307535,20.203036499756752,26.669848596900451]
[null,{"$f":"\"RHc in \"&CELL(\"address\",$G$22)","v":"RHc in $G$22"},-0.26978920000000001,-0.44964870000000001,-0.44964870000000001,0,1,null,null,null,"Dry matter intake",null,null,null,6.0000479446662389,2.0000136337250689,2.7094759244017026,9.28841771635404]
[null,{"$f":"\"LNT in \"&CELL(\"address\",$H$22)","v":"LNT in $H$22"},0,0,0,0,0,1]
[null,{"$f":"\"Mud in \"&CELL(\"address\",$I$22)","v":"Mud in $I$22"},0,0,0,0,0,0,1]
[]
[null,"Table K3. Feed distributions and correlations"]
[null,null,"DM, %AF","CP, %DM","SP, %CP","ADIN, %CP","Sugars, %DM","OA, %DM","Fat, %DM","Ash, %DM","Starch, %DM","NDF, %DM","Lignin, %DM","TDN 1x, %DM","ME 1x, Mcal/kg","NEm 1x, Mcal/kg","NEg 1x, Mcal/kg","RUP 1x, %CP","kd PB, %/h","kd CB1, %/h","kd CB2, %/h","kd CB3, %/h","PBID, %","CB1ID, %","CB2ID, %"]
[null,"Mean",79.099999999999994,19.8,32.200000000000003,4.7153321545844911,0,0,3.5389999999999993,4.7829999999999995,42.78929999999999,23.251099999999994,2.5770999999999997,78.79602352044509,2.9149585040049013,1.960977192857178,1.3129399274238689,23.913028731577405,6.7,22.7,26.2,4.59,81.7,93.4,75]
[null,"SD",2.8230220696904307,1.6292503943876855,4.8049952035143813,2.6613568741034292,0.60368600000000006,0,0.72095861471164702,1.0013014617302634,2.219958202213717,3.5800812007712,0.73212782534708976,2.4020776130359369,5.8705999999999994E-2,5.0920800000000002E-2,4.4759510000000002E-2,4.68064707,{"$f":"0.1*S34","v":0.67},{"$f":"0.1*T34","v":2.27},2.62,0.45900000000000002,8.17,9.3400000000000016,{"$f":"0.1*Y34","v":7.5}]
[null,"RiskNormal",{"$f":"_xll.RiskNormal(C34,C35,_xll.RiskName(C33),_xll.RiskCorrmat(FdMatrix,1))","v":{"$error":"#NAME?"}},{"$f":"_xll.RiskNormal(D34,D35,_xll.RiskName(D33),_xll.RiskCorrmat(FdMatrix,2))","v":{"$error":"#NAME?"}},{"$f":"_xll.RiskNormal(E34,E35,_xll.RiskName(E33),_xll.RiskCorrmat(FdMatrix,3))","v":{"$error":"#NAME?"}},{"$f":"_xll.RiskNormal(F34,F35,_xll.RiskName(F33),_xll.RiskCorrmat(FdMatrix,4))","v":{"$error":"#NAME?"}},{"$f":"_xll.RiskNormal(G34,G35,_xll.RiskName(G33),_xll.RiskCorrmat(FdMatrix,5))","v":{"$error":"#NAME?"}},{"$f":"_xll.RiskNormal(H34,H35,_xll.RiskName(H33),_xll.RiskCorrmat(FdMatrix,6))","v":{"$error":"#NAME?"}},{"$f":"_xll.RiskNormal(I34,I35,_xll.RiskName(I33),_xll.RiskCorrmat(FdMatrix,7))","v":{"$error":"#NAME?"}},{"$f":"_xll.RiskNormal(J34,J35,_xll.RiskName(J33),_xll.RiskCorrmat(FdMatrix,8))","v":{"$error":"#NAME?"}},{"$f":"_xll.RiskNormal(K34,K35,_xll.RiskName(K33),_xll.RiskCorrmat(FdMatrix,9))","v":{"$error":"#NAME?"}},{"$f":"_xll.RiskNormal(L34,L35,_xll.RiskName(L33),_xll.RiskCorrmat(FdMatrix,10))","v":{"$error":"#NAME?"}},{"$f":"_xll.RiskNormal(M34,M35,_xll.RiskName(M33),_xll.RiskCorrmat(FdMatrix,11))","v":{"$error":"#NAME?"}},{"$f":"_xll.RiskNormal(N34,N35,_xll.RiskName(N33),_xll.RiskCorrmat(FdMatrix,12))","v":{"$error":"#NAME?"}},{"$f":"_xll.RiskNormal(O34,O35,_xll.RiskName(O33),_xll.RiskCorrmat(FdMatrix,13))","v":{"$error":"#NAME?"}},{"$f":"_xll.RiskNormal(P34,P35,_xll.RiskName(P33),_xll.RiskCorrmat(FdMatrix,14))","v":{"$error":"#NAME?"}},{"$f":"_xll.RiskNormal(Q34,Q35,_xll.RiskName(Q33),_xll.RiskCorrmat(FdMatrix,15))","v":{"$error":"#NAME?"}},{"$f":"_xll.RiskNormal(R34,R35,_xll.RiskName(R33),_xll.RiskCorrmat(FdMatrix,16))","v":{"$error":"#NAME?"}},{"$f":"_xll.RiskNormal(S34,S35,_xll.RiskName(S33),_xll.RiskCorrmat(FdMatrix,17))","v":{"$error":"#NAME?"}},{"$f":"_xll.RiskNormal(T34,T35,_xll.RiskName(T33),_xll.RiskCorrmat(FdMatrix,18))","v":{"$error":"#NAME?"}},{"$f":"_xll.RiskNormal(U34,U35,_xll.RiskName(U33),_xll.RiskCorrmat(FdMatrix,19))","v":{"$error":"#NAME?"}},{"$f":"_xll.RiskNormal(V34,V35,_xll.RiskName(V33),_xll.RiskCorrmat(FdMatrix,20))","v":{"$error":"#NAME?"}},{"$f":"_xll.RiskNormal(W34,W35,_xll.RiskName(W33),_xll.RiskCorrmat(FdMatrix,21))","v":{"$error":"#NAME?"}},{"$f":"_xll.RiskNormal(X34,X35,_xll.RiskName(X33),_xll.RiskCorrmat(FdMatrix,22))","v":{"$error":"#NAME?"}},{"$f":"_xll.RiskNormal(Y34,Y35,_xll.RiskName(Y33),_xll.RiskCorrmat(FdMatrix,23))","v":{"$error":"#NAME?"}}]
[null,"@RISK Correlations",{"$f":"\"DM, %AF in \"&CELL(\"address\",$C$36)","v":"DM, %AF in $C$36"},{"$f":"\"CP, %DM in \"&CELL(\"address\",$D$36)","v":"CP, %DM in $D$36"},{"$f":"\"SP, %CP in \"&CELL(\"address\",$E$36)","v":"SP, %CP in $E$36"},{"$f":"\"ADICP, %CP in \"&CELL(\"address\",$F$36)","v":"ADICP, %CP in $F$36"},{"$f":"\"Sugars, %DM in \"&CELL(\"address\",$G$36)","v":"Sugars, %DM in $G$36"},{"$f":"\"OA, %DM in \"&CELL(\"address\",$H$36)","v":"OA, %DM in $H$36"},{"$f":"\"Fat, %DM in \"&CELL(\"address\",$I$36)","v":"Fat, %DM in $I$36"},{"$f":"\"Ash, %DM in \"&CELL(\"address\",$J$36)","v":"Ash, %DM in $J$36"},{"$f":"\"Starch, %DM in \"&CELL(\"address\",$K$36)","v":"Starch, %DM in $K$36"},{"$f":"\"NDF, %DM in \"&CELL(\"address\",$L$36)","v":"NDF, %DM in $L$36"},{"$f":"\"Lignin, %DM in \"&CELL(\"address\",$M$36)","v":"Lignin, %DM in $M$36"},{"$f":"\"TDN 1x, %DM in \"&CELL(\"address\",$N$36)","v":"TDN 1x, %DM in $N$36"},{"$f":"\"ME 1x, Mcal/kg in \"&CELL(\"address\",$O$36)","v":"ME 1x, Mcal/kg in $O$36"},{"$f":"\"NEm 1x, Mcal/kg in \"&CELL(\"address\",$P$36)","v":"NEm 1x, Mcal/kg in $P$36"},{"$f":"\"NEg 1x, Mcal/kg in \"&CELL(\"address\",$Q$36)","v":"NEg 1x, Mcal/kg in $Q$36"},{"$f":"\"RUP 1x, %CP in \"&CELL(\"address\",$R$36)","v":"RUP 1x, %CP in $R$36"},{"$f":"\"kd PB, %/h in \"&CELL(\"address\",$S$36)","v":"kd PB, %/h in $S$36"},{"$f":"\"kd CB1, %/h in \"&CELL(\"address\",$T$36)","v":"kd CB1, %/h in $T$36"},{"$f":"\"kd CB2, %/h in \"&CELL(\"address\",$U$36)","v":"kd CB2, %/h in $U$36"},{"$f":"\"kd CB3, %/h in \"&CELL(\"address\",$V$36)","v":"kd CB3, %/h in $V$36"},{"$f":"\"PBID, % in \"&CELL(\"address\",$W$36)","v":"PBID, % in $W$36"},{"$f":"\"CB1ID, % in \"&CELL(\"address\",$X$36)","v":"CB1ID, % in $X$36"},{"$f":"\"CB2ID, % in \"&CELL(\"address\",$Y$36)","v":"CB2ID, % in $Y$36"}]
[null,{"$f":"\"DM, %AF in \"&CELL(\"address\",$C$36)","v":"DM, %AF in $C$36"},1]
[null,{"$f":"\"CP, %DM in \"&CELL(\"address\",$D$36)","v":"CP, %DM in $D$36"},0.1965876,1]
[null,{"$f":"\"SP, %CP in \"&CELL(\"address\",$E$36)","v":"SP, %CP in $E$36"},-0.31506319999999999,-9.2627609999999999E-2,1]
[null,{"$f":"\"ADIN, %CP in \"&CELL(\"address\",$F$36)","v":"ADIN, %CP in $F$36"},0.1721376,0.2705631,-0.32435900000000001,1]
[null,{"$f":"\"Sugars, %DM in \"&CELL(\"address\",$G$36)","v":"Sugars, %DM in $G$36"},0.1923424,-9.3835760000000004E-2,7.7025289999999996E-2,-5.3876519999999997E-2,1]
[null,{"$f":"\"OA, %DM in \"&CELL(\"address\",$H$36)","v":"OA, %DM in $H$36"},0,0,0,0,0,1]
[null,{"$f":"\"Fat, %DM in \"&CELL(\"address\",$I$36)","v":"Fat, %DM in $I$36"},0.1164337,0.3994567,-5.1976290000000001E-2,0.18471470000000001,-0.36692740000000001,0,1]
[null,{"$f":"\"Ash, %DM in \"&CELL(\"address\",$J$36)","v":"Ash, %DM in $J$36"},-0.2212836,-9.2905390000000004E-2,0.30220999999999998,8.3892049999999996E-2,0.35739460000000001,0,-0.2370227,1]
[null,{"$f":"\"Starch, %DM in \"&CELL(\"address\",$K$36)","v":"Starch, %DM in $K$36"},-0.1652991,-0.16239999999999999,-9.3831419999999999E-2,-0.33043470000000003,-0.1137045,0,-8.7889910000000002E-2,-0.2846148,1]
[null,{"$f":"\"NDF, %DM in \"&CELL(\"address\",$L$36)","v":"NDF, %DM in $L$36"},-8.2175689999999996E-2,-0.36732579999999998,0.16883680000000001,5.0970509999999997E-2,5.1318519999999995E-4,0,-0.30239850000000001,0.3493058,-0.34020440000000002,1]
[null,{"$f":"\"Lignin, %DM in \"&CELL(\"address\",$M$36)","v":"Lignin, %DM in $M$36"},0.1176209,-8.0011879999999994E-2,-4.3074590000000003E-2,0.44609529999999997,-4.9983630000000001E-2,0,7.5135000000000002E-3,0.31430039999999998,-0.4160431,0.52297229999999995,1]
[null,{"$f":"\"TDN 1x, %DM in \"&CELL(\"address\",$N$36)","v":"TDN 1x, %DM in $N$36"},0.26509670000000002,0.335507,-0.1134701,-0.17111270000000001,-0.1868583,0,0.322712,-0.45473819999999998,0.2327824,-0.59831400000000001,-0.56215110000000001,1]
[null,{"$f":"\"ME 1x, Mcal/kg in \"&CELL(\"address\",$O$36)","v":"ME 1x, Mcal/kg in $O$36"},0.2352543,0.48864020000000002,-0.2486447,3.6174820000000003E-2,-4.1182389999999999E-2,0,0.48188019999999998,-0.44330199999999997,0.20177919999999999,-0.78351230000000005,-0.53695879999999996,0.83412580000000003,1]
[null,{"$f":"\"NEm 1x, Mcal/kg in \"&CELL(\"address\",$P$36)","v":"NEm 1x, Mcal/kg in $P$36"},0.15154809999999999,0.37167879999999998,-0.21603520000000001,-5.6265660000000002E-2,-0.1527974,0,0.48709429999999998,-0.45653359999999998,0.30269950000000001,-0.78248799999999996,-0.55359709999999995,0.85312350000000003,0.85567530000000003,1]
[null,{"$f":"\"NEg 1x, Mcal/kg in \"&CELL(\"address\",$Q$36)","v":"NEg 1x, Mcal/kg in $Q$36"},0.15404419999999999,0.37397370000000002,-0.21717349999999999,-4.8208019999999997E-2,-0.15644340000000001,0,0.49153629999999998,-0.4585187,0.30109900000000001,-0.78286650000000002,-0.55141430000000002,0.85219560000000005,0.85647430000000002,0.88244659999999997,1]
[null,{"$f":"\"RUP 1x, %CP in \"&CELL(\"address\",$R$36)","v":"RUP 1x, %CP in $R$36"},0.16026670000000001,-0.15473519999999999,-0.68312969999999995,0.24453349999999999,-0.20814930000000001,0,7.4466050000000006E-2,-0.37294319999999997,0.1153555,-0.17333480000000001,-2.2613920000000001E-3,0.21049519999999999,0.16847680000000001,0.17643800000000001,0.17681569999999999,1]
[null,{"$f":"\"kd PB, %/h in \"&CELL(\"address\",$S$36)","v":"kd PB, %/h in $S$36"},0,0,0,0,0,0,0,0,0,0,0,0,0,0,0,0,1]
[null,{"$f":"\"kd CB1, %/h in \"&CELL(\"address\",$T$36)","v":"kd CB1, %/h in $T$36"},0,0,0,0,0,0,0,0,0,0,0,0,0,0,0,0,0,1]
[null,{"$f":"\"kd CB2, %/h in \"&CELL(\"address\",$U$36)","v":"kd CB2, %/h in $U$36"},0,0,0,0,0,0,0,0,0,0,0,0,0,0,0,0,0,0,1]
[null,{"$f":"\"kd CB3, %/h in \"&CELL(\"address\",$V$36)","v":"kd CB3, %/h in $V$36"},0,0,0,0,0,0,0,0,0,0,0,0,0,0,0,0,0,0,0,1]
[null,{"$f":"\"PBID, % in \"&CELL(\"address\",$W$36)","v":"PBID, % in $W$36"},0,0,0,0,0,0,0,0,0,0,0,0,0,0,0,0,0,0,0,0,1]
[null,{"$f":"\"CB1ID, % in \"&CELL(\"address\",$X$36)","v":"CB1ID, % in $X$36"},0,0,0,0,0,0,0,0,0,0,0,0,0,0,0,0,0,0,0,0,0,1]
[null,{"$f":"\"CB2ID, % in \"&CELL(\"address\",$Y$36)","v":"CB2ID, % in $Y$36"},0,0,0,0,0,0,0,0,0,0,0,0,0,0,0,0,0,0,0,0,0,0,1]

{"sheet":"Save","index":9,"n_rows":41,"n_cols":64,"rows_kept":41,"cut":false,"hidden":true,"merged":[]}
["ORIGINAL Beef Cattle Nutrient Requirements Model 2016 Version 1.0.37.5"]
["2016/Jul/24 13:30:21"]
["Luis Tedeschi"]
[null,null,null,null,null,null,null,null,2]
[1,10,2,1.61,0,10,true,5,"Alfalfa hay",0,100,87.03,19.809999999999999,25.19,12.21,8.67,0,1.55,11.87,2.97,41.73,6.77,55,1.99,1.1399999999999999,0.26,29,3.67,30,30,3,73.3,75,75,98,0.25,0.09,0.25,0.49,0.25,0.06,0,0.31,0,0.25,0.4,0.34,1.47,0.26,0.3,0.57999999999999996,2.5499999999999998,0.1,0.26,0,7.82,0,0,44.55,0,23.47,34.6,0,0]
[1,1,2,20,0,70,true,56,"Corn grain steam flaked",0,0,80.7,8.48,8.1999999999999993,4.1100000000000003,0,0,3.19,1.26,76.239999999999995,8.9700000000000006,1.25,90.69,3.51,2.1800000000000002,0.68,70.36,3.89,25,25,6,85.8,95,75,48,0.16,0.18,0.24,0.95,0.15,0.1,0,0.32,0,0.25,0.03,0.33,0.02,0.25,0.09,1.5,0.33,0.01,0.1,0.43,2.69,0,33.76,7.14,0,19.760000000000002,0,0,0]
[1,2,0,20,0,20,false,155,"Soybean meal high CP",0,0,89.24,52.85,44.11,10.17,13.3,0,1.88,7.36,2.02,11.33,1.17,79.55,3.67,1.91,0.57999999999999996,29.45,1.29,0,0,0,98.6,0,75,0,0.45,0.56999999999999995,0.08,1.19,0.83,0.1,0,0.7,0,0.42,0.17,0.81,0.42,0.75,0.32,1.27,2.36,0.02,0.41,1.07,15.91,0,201.87,42.3,0.53,51.68,0,0,0]
[1,5,0,65,-3,null,false]
[null,300,1150.01,65,-6,null,false]
[null,500,null,1,0,null,false]
[null,521.64,null,20,0,null,false]
[null,3,null,2.54,0,null,false]
[null,2,null,2,0,null,false]
[null,3,null,2,1.5,null,false]
[null,1,null,1,0,null,false]
[null,2,null,0,0,null,false]
[null,3,null,null,null,null,false]
[null,0,null,null,null,null,false]
[null,30.84,null,null,null,null,false]
[null,0,null,null,null,null,false]
[null,5,null,null,null,null,false]
[null,0,null,null,null,null,false]
[null,30,null,null,null,null,false]
[null,12,null,null,null,null,false]
[null,null,null,null,null,null,false]
[null,null,null,null,null,null,false]
[]
[]
[]
[null,null,null,null,null,7,2,0.8,4.18,3.82,6.96,5.0999999999999996,0.4,20,0,0.55000000000000004,0.8,280]
[null,null,null,null,null,100,7.11,0.8,55.65,1.74,2.69,2,0.4,95,0,0.6,0.8,280]
[null,null,null,null,null,null,null,0.8,0.66,4,5.88,5.7,0.15,50,0,0.65,0.8,280]
[null,null,null,null,null,null,null,0.6,16,5.9,7.51,8.1,0.05,95,null,0.55000000000000004,0.85,280]
[null,null,null,null,null,null,null,62.5,null,5.6,8.1999999999999993,7.9,60,95]
[null,null,null,null,null,null,null,21.1,null,2.4,2.68,2.6,25,50]
[null,null,null,null,null,null,null,4.4000000000000004,null,0,0,0,15,30]
[null,null,null,null,null,null,null,12,null,4.2,5.16,5.0999999999999996,null,11.9]
[null,null,null,null,null,null,null,85,null,4.32,4.32,4.32,null,17]
[null,null,null,null,null,null,null,2.4,null,3.3,5.59,5.8,null,4.41]
[null,null,null,null,null,null,null,null,null,1.63,1.63,1.63]
[null,null,null,null,null,null,null,null,null,4.7,6.16,6.2]

{"sheet":"Batch","index":10,"n_rows":1363,"n_cols":1,"rows_kept":1363,"cut":false,"hidden":true,"merged":[]}
["MODEL INPUTS\\Simulation ID"]
["Solution type"]
["Unit system"]
["Feed basis"]
["Animal class"]
["Age"]
["Age class (for DMI & WC)"]
["Sex"]
["Body condition score"]
["Initial body weight"]
["Final body weight"]
["Mature body weight"]
["Reference animal's EBF"]
["Breed type"]
["Breeding system"]
["   Dam's breed"]
["   Dam's maternal"]
["   Dam's paternal"]
["Days pregnant"]
["Calf birth weight"]
["Days since calving"]
["Relative milk yield"]
["Milk production"]
["Age at first calving"]
["Herd calving interval"]
["Feed additive"]
["Implant"]
["Grazing unit size"]
["Days on pasture"]
["Available forage mass"]
["Wind speed"]
["Temperature, previous"]
["Temperature, current"]
["RH, previous"]
["RH, current"]
["Storm exposure"]
["Lowest night temp."]
["Hair depth"]
["Hide"]
["Hair coat"]
["Cattle panting"]
["Mud depth"]
["Maintenance factor"]
["Adjustments for required NEm"]
["Adjustments for predicted DMI"]
["Monensin adjustment for DMI"]
["Implant adjustment for DMI"]
["Ruminal pH"]
["DE to ME efficiency"]
["Tabular ME and NE values for ELS"]
["MCP yield (MCP/TDN, %)"]
["Desired animal performance"]
["MP to NP efficiency"]
["Recycled ruminal N"]
["Feed 1 - Name"]
["Feed 2 - Name"]
["Feed 3 - Name"]
["Feed 4 - Name"]
["Feed 5 - Name"]
["Feed 6 - Name"]
["Feed 7 - Name"]
["Feed 8 - Name"]
["Feed 9 - Name"]
["Feed 10 - Name"]
["Feed 11 - Name"]
["Feed 12 - Name"]
["Feed 13 - Name"]
["Feed 14 - Name"]
["Feed 15 - Name"]
["Feed 16 - Name"]
["Feed 17 - Name"]
["Feed 18 - Name"]
["Feed 19 - Name"]
["Feed 20 - Name"]
["Feed 21 - Name"]
["Feed 22 - Name"]
["Feed unit (1=Amount, 2=%)"]
["Ration intake"]
["Feed 1 - Amount"]
["Feed 2 - Amount"]
["Feed 3 - Amount"]
["Feed 4 - Amount"]
["Feed 5 - Amount"]
["Feed 6 - Amount"]
["Feed 7 - Amount"]
["Feed 8 - Amount"]
["Feed 9 - Amount"]
["Feed 10 - Amount"]
["Feed 11 - Amount"]
["Feed 12 - Amount"]
["Feed 13 - Amount"]
["Feed 14 - Amount"]
["Feed 15 - Amount"]
["Feed 16 - Amount"]
["Feed 17 - Amount"]
["Feed 18 - Amount"]
["Feed 19 - Amount"]
["Feed 20 - Amount"]
["Feed 21 - Amount"]
["Feed 22 - Amount"]
["Feed 1 - Cost"]
["Feed 1 - Forage"]
["Feed 1 - DM"]
["Feed 1 - CP"]
["Feed 1 - SP"]
["Feed 1 - ADICP"]
["Feed 1 - Sugars"]
["Feed 1 - OA"]
["Feed 1 - Fat"]
["Feed 1 - Ash"]
["Feed 1 - Starch"]
["Feed 1 - NDF"]
["Feed 1 - Lignin"]
["Feed 1 - TDN 1x"]
["Feed 1 - ME 1x"]
["Feed 1 - NEm 1x"]
["Feed 1 - NEg 1x"]
["Feed 1 - RUP 1x"]
["Feed 1 - kd PB"]
["Feed 1 - kd CB1"]
["Feed 1 - kd CB2"]
["Feed 1 - kd CB3"]
["Feed 1 - PBID"]
["Feed 1 - CB1ID"]
["Feed 1 - CB2ID"]
["Feed 1 - pef"]
["Feed 1 - ARG"]
["Feed 1 - HIS"]
["Feed 1 - ILE"]
["Feed 1 - LEU"]
["Feed 1 - LYS"]
["Feed 1 - MET"]
["Feed 1 - CYS"]
["Feed 1 - PHE"]
["Feed 1 - TYR"]
["Feed 1 - THR"]
["Feed 1 - TRP"]
["Feed 1 - VAL"]
["Feed 1 - Ca"]
["Feed 1 - P"]
["Feed 1 - Mg"]
["Feed 1 - Cl"]
["Feed 1 - K"]
["Feed 1 - Na"]
["Feed 1 - S"]
["Feed 1 - Co"]
["Feed 1 - Cu"]
["Feed 1 - I"]
["Feed 1 - Fe"]
["Feed 1 - Mn"]
["Feed 1 - Se"]
["Feed 1 - Zn"]
["Feed 1 - VitA"]
["Feed 1 - VitD"]
["Feed 1 - VitE"]
["Feed 2 - Cost"]
["Feed 2 - Forage"]
["Feed 2 - DM"]
["Feed 2 - CP"]
["Feed 2 - SP"]
["Feed 2 - ADICP"]
["Feed 2 - Sugars"]
["Feed 2 - OA"]
["Feed 2 - Fat"]
["Feed 2 - Ash"]
["Feed 2 - Starch"]
["Feed 2 - NDF"]
["Feed 2 - Lignin"]
["Feed 2 - TDN 1x"]
["Feed 2 - ME 1x"]
["Feed 2 - NEm 1x"]
["Feed 2 - NEg 1x"]
["Feed 2 - RUP 1x"]
["Feed 2 - kd PB"]
["Feed 2 - kd CB1"]
["Feed 2 - kd CB2"]
["Feed 2 - kd CB3"]
["Feed 2 - PBID"]
["Feed 2 - CB1ID"]
["Feed 2 - CB2ID"]
["Feed 2 - pef"]
["Feed 2 - ARG"]
["Feed 2 - HIS"]
["Feed 2 - ILE"]
["Feed 2 - LEU"]
["Feed 2 - LYS"]
["Feed 2 - MET"]
["Feed 2 - CYS"]
["Feed 2 - PHE"]
["Feed 2 - TYR"]
["Feed 2 - THR"]
["Feed 2 - TRP"]
["Feed 2 - VAL"]
["Feed 2 - Ca"]
["Feed 2 - P"]
["Feed 2 - Mg"]
["Feed 2 - Cl"]
["Feed 2 - K"]
["Feed 2 - Na"]
["Feed 2 - S"]
["Feed 2 - Co"]
["Feed 2 - Cu"]
["Feed 2 - I"]
["Feed 2 - Fe"]
["Feed 2 - Mn"]
["Feed 2 - Se"]
["Feed 2 - Zn"]
["Feed 2 - VitA"]
["Feed 2 - VitD"]
["Feed 2 - VitE"]
["Feed 3 - Cost"]
["Feed 3 - Forage"]
["Feed 3 - DM"]
["Feed 3 - CP"]
["Feed 3 - SP"]
["Feed 3 - ADICP"]
["Feed 3 - Sugars"]
["Feed 3 - OA"]
["Feed 3 - Fat"]
["Feed 3 - Ash"]
["Feed 3 - Starch"]
["Feed 3 - NDF"]
["Feed 3 - Lignin"]
["Feed 3 - TDN 1x"]
["Feed 3 - ME 1x"]
["Feed 3 - NEm 1x"]
["Feed 3 - NEg 1x"]
["Feed 3 - RUP 1x"]
["Feed 3 - kd PB"]
["Feed 3 - kd CB1"]
["Feed 3 - kd CB2"]
["Feed 3 - kd CB3"]
["Feed 3 - PBID"]
["Feed 3 - CB1ID"]
["Feed 3 - CB2ID"]
["Feed 3 - pef"]
["Feed 3 - ARG"]
["Feed 3 - HIS"]
["Feed 3 - ILE"]
["Feed 3 - LEU"]
["Feed 3 - LYS"]
["Feed 3 - MET"]
["Feed 3 - CYS"]
["Feed 3 - PHE"]
["Feed 3 - TYR"]
["Feed 3 - THR"]
["Feed 3 - TRP"]
["Feed 3 - VAL"]
["Feed 3 - Ca"]
["Feed 3 - P"]
["Feed 3 - Mg"]
["Feed 3 - Cl"]
["Feed 3 - K"]
["Feed 3 - Na"]
["Feed 3 - S"]
["Feed 3 - Co"]
["Feed 3 - Cu"]
["Feed 3 - I"]
["Feed 3 - Fe"]
["Feed 3 - Mn"]
["Feed 3 - Se"]
["Feed 3 - Zn"]
["Feed 3 - VitA"]
["Feed 3 - VitD"]
["Feed 3 - VitE"]
["Feed 4 - Cost"]
["Feed 4 - Forage"]
["Feed 4 - DM"]
["Feed 4 - CP"]
["Feed 4 - SP"]
["Feed 4 - ADICP"]
["Feed 4 - Sugars"]
["Feed 4 - OA"]
["Feed 4 - Fat"]
["Feed 4 - Ash"]
["Feed 4 - Starch"]
["Feed 4 - NDF"]
["Feed 4 - Lignin"]
["Feed 4 - TDN 1x"]
["Feed 4 - ME 1x"]
["Feed 4 - NEm 1x"]
["Feed 4 - NEg 1x"]
["Feed 4 - RUP 1x"]
["Feed 4 - kd PB"]
["Feed 4 - kd CB1"]
["Feed 4 - kd CB2"]
["Feed 4 - kd CB3"]
["Feed 4 - PBID"]
["Feed 4 - CB1ID"]
["Feed 4 - CB2ID"]
["Feed 4 - pef"]
["Feed 4 - ARG"]
["Feed 4 - HIS"]
["Feed 4 - ILE"]
["Feed 4 - LEU"]
["Feed 4 - LYS"]
["Feed 4 - MET"]
["Feed 4 - CYS"]
["Feed 4 - PHE"]
["Feed 4 - TYR"]
["Feed 4 - THR"]
["Feed 4 - TRP"]
["Feed 4 - VAL"]
["Feed 4 - Ca"]
["Feed 4 - P"]
["Feed 4 - Mg"]
["Feed 4 - Cl"]
["Feed 4 - K"]
["Feed 4 - Na"]
["Feed 4 - S"]
["Feed 4 - Co"]
["Feed 4 - Cu"]
["Feed 4 - I"]
["Feed 4 - Fe"]
["Feed 4 - Mn"]
["Feed 4 - Se"]
["Feed 4 - Zn"]
["Feed 4 - VitA"]
["Feed 4 - VitD"]
["Feed 4 - VitE"]
["Feed 5 - Cost"]
["Feed 5 - Forage"]
["Feed 5 - DM"]
["Feed 5 - CP"]
["Feed 5 - SP"]
["Feed 5 - ADICP"]
["Feed 5 - Sugars"]
["Feed 5 - OA"]
["Feed 5 - Fat"]
["Feed 5 - Ash"]
["Feed 5 - Starch"]
["Feed 5 - NDF"]
["Feed 5 - Lignin"]
["Feed 5 - TDN 1x"]
["Feed 5 - ME 1x"]
["Feed 5 - NEm 1x"]
["Feed 5 - NEg 1x"]
["Feed 5 - RUP 1x"]
["Feed 5 - kd PB"]
["Feed 5 - kd CB1"]
["Feed 5 - kd CB2"]
["Feed 5 - kd CB3"]
["Feed 5 - PBID"]
["Feed 5 - CB1ID"]
["Feed 5 - CB2ID"]
["Feed 5 - pef"]
["Feed 5 - ARG"]
["Feed 5 - HIS"]
["Feed 5 - ILE"]
["Feed 5 - LEU"]
["Feed 5 - LYS"]
["Feed 5 - MET"]
["Feed 5 - CYS"]
["Feed 5 - PHE"]
["Feed 5 - TYR"]
["Feed 5 - THR"]
["Feed 5 - TRP"]
["Feed 5 - VAL"]
["Feed 5 - Ca"]
["Feed 5 - P"]
["Feed 5 - Mg"]
["Feed 5 - Cl"]
["Feed 5 - K"]
["Feed 5 - Na"]
["Feed 5 - S"]
["Feed 5 - Co"]
["Feed 5 - Cu"]
["Feed 5 - I"]
["Feed 5 - Fe"]
["Feed 5 - Mn"]
["Feed 5 - Se"]
["Feed 5 - Zn"]
["Feed 5 - VitA"]
["Feed 5 - VitD"]
["Feed 5 - VitE"]
["Feed 6 - Cost"]
["Feed 6 - Forage"]
["Feed 6 - DM"]
["Feed 6 - CP"]
["Feed 6 - SP"]
["Feed 6 - ADICP"]
["Feed 6 - Sugars"]
["Feed 6 - OA"]
["Feed 6 - Fat"]
["Feed 6 - Ash"]
["Feed 6 - Starch"]
["Feed 6 - NDF"]
["Feed 6 - Lignin"]
["Feed 6 - TDN 1x"]
["Feed 6 - ME 1x"]
["Feed 6 - NEm 1x"]
["Feed 6 - NEg 1x"]
["Feed 6 - RUP 1x"]
["Feed 6 - kd PB"]
["Feed 6 - kd CB1"]
["Feed 6 - kd CB2"]
["Feed 6 - kd CB3"]
["Feed 6 - PBID"]
["Feed 6 - CB1ID"]
["Feed 6 - CB2ID"]
["Feed 6 - pef"]
["Feed 6 - ARG"]
["Feed 6 - HIS"]
["Feed 6 - ILE"]
["Feed 6 - LEU"]
["Feed 6 - LYS"]
["Feed 6 - MET"]
["Feed 6 - CYS"]
["Feed 6 - PHE"]
["Feed 6 - TYR"]
["Feed 6 - THR"]
["Feed 6 - TRP"]
["Feed 6 - VAL"]
["Feed 6 - Ca"]
["Feed 6 - P"]
["Feed 6 - Mg"]
["Feed 6 - Cl"]
["Feed 6 - K"]
["Feed 6 - Na"]
["Feed 6 - S"]
["Feed 6 - Co"]
["Feed 6 - Cu"]
["Feed 6 - I"]
["Feed 6 - Fe"]
["Feed 6 - Mn"]
["Feed 6 - Se"]
["Feed 6 - Zn"]
["Feed 6 - VitA"]
["Feed 6 - VitD"]
["Feed 6 - VitE"]
["Feed 7 - Cost"]
["Feed 7 - Forage"]
["Feed 7 - DM"]
["Feed 7 - CP"]
["Feed 7 - SP"]
["Feed 7 - ADICP"]
["Feed 7 - Sugars"]
["Feed 7 - OA"]
["Feed 7 - Fat"]
["Feed 7 - Ash"]
["Feed 7 - Starch"]
["Feed 7 - NDF"]
["Feed 7 - Lignin"]
["Feed 7 - TDN 1x"]
["Feed 7 - ME 1x"]
["Feed 7 - NEm 1x"]
["Feed 7 - NEg 1x"]
["Feed 7 - RUP 1x"]
["Feed 7 - kd PB"]
["Feed 7 - kd CB1"]
["Feed 7 - kd CB2"]
["Feed 7 - kd CB3"]
["Feed 7 - PBID"]
["Feed 7 - CB1ID"]
["Feed 7 - CB2ID"]
["Feed 7 - pef"]
["Feed 7 - ARG"]
["Feed 7 - HIS"]
["Feed 7 - ILE"]
["Feed 7 - LEU"]
["Feed 7 - LYS"]
["Feed 7 - MET"]
["Feed 7 - CYS"]
["Feed 7 - PHE"]
["Feed 7 - TYR"]
["Feed 7 - THR"]
["Feed 7 - TRP"]
["Feed 7 - VAL"]
["Feed 7 - Ca"]
["Feed 7 - P"]
["Feed 7 - Mg"]
["Feed 7 - Cl"]
["Feed 7 - K"]
["Feed 7 - Na"]
["Feed 7 - S"]
["Feed 7 - Co"]
["Feed 7 - Cu"]
["Feed 7 - I"]
["Feed 7 - Fe"]
["Feed 7 - Mn"]
["Feed 7 - Se"]
["Feed 7 - Zn"]
["Feed 7 - VitA"]
["Feed 7 - VitD"]
["Feed 7 - VitE"]
["Feed 8 - Cost"]
["Feed 8 - Forage"]
["Feed 8 - DM"]
["Feed 8 - CP"]
["Feed 8 - SP"]
["Feed 8 - ADICP"]
["Feed 8 - Sugars"]
["Feed 8 - OA"]
["Feed 8 - Fat"]
["Feed 8 - Ash"]
["Feed 8 - Starch"]
["Feed 8 - NDF"]
["Feed 8 - Lignin"]
["Feed 8 - TDN 1x"]
["Feed 8 - ME 1x"]
["Feed 8 - NEm 1x"]
["Feed 8 - NEg 1x"]
["Feed 8 - RUP 1x"]
["Feed 8 - kd PB"]
["Feed 8 - kd CB1"]
["Feed 8 - kd CB2"]
["Feed 8 - kd CB3"]
["Feed 8 - PBID"]
["Feed 8 - CB1ID"]
["Feed 8 - CB2ID"]
["Feed 8 - pef"]
["Feed 8 - ARG"]
["Feed 8 - HIS"]
["Feed 8 - ILE"]
["Feed 8 - LEU"]
["Feed 8 - LYS"]
["Feed 8 - MET"]
["Feed 8 - CYS"]
["Feed 8 - PHE"]
["Feed 8 - TYR"]
["Feed 8 - THR"]
["Feed 8 - TRP"]
["Feed 8 - VAL"]
["Feed 8 - Ca"]
["Feed 8 - P"]
["Feed 8 - Mg"]
["Feed 8 - Cl"]
["Feed 8 - K"]
["Feed 8 - Na"]
["Feed 8 - S"]
["Feed 8 - Co"]
["Feed 8 - Cu"]
["Feed 8 - I"]
["Feed 8 - Fe"]
["Feed 8 - Mn"]
["Feed 8 - Se"]
["Feed 8 - Zn"]
["Feed 8 - VitA"]
["Feed 8 - VitD"]
["Feed 8 - VitE"]
["Feed 9 - Cost"]
["Feed 9 - Forage"]
["Feed 9 - DM"]
["Feed 9 - CP"]
["Feed 9 - SP"]
["Feed 9 - ADICP"]
["Feed 9 - Sugars"]
["Feed 9 - OA"]
["Feed 9 - Fat"]
["Feed 9 - Ash"]
["Feed 9 - Starch"]
["Feed 9 - NDF"]
["Feed 9 - Lignin"]
["Feed 9 - TDN 1x"]
["Feed 9 - ME 1x"]
["Feed 9 - NEm 1x"]
["Feed 9 - NEg 1x"]
["Feed 9 - RUP 1x"]
["Feed 9 - kd PB"]
["Feed 9 - kd CB1"]
["Feed 9 - kd CB2"]
["Feed 9 - kd CB3"]
["Feed 9 - PBID"]
["Feed 9 - CB1ID"]
["Feed 9 - CB2ID"]
["Feed 9 - pef"]
["Feed 9 - ARG"]
["Feed 9 - HIS"]
["Feed 9 - ILE"]
["Feed 9 - LEU"]
["Feed 9 - LYS"]
["Feed 9 - MET"]
["Feed 9 - CYS"]
["Feed 9 - PHE"]
["Feed 9 - TYR"]
["Feed 9 - THR"]
["Feed 9 - TRP"]
["Feed 9 - VAL"]
["Feed 9 - Ca"]
["Feed 9 - P"]
["Feed 9 - Mg"]
["Feed 9 - Cl"]
["Feed 9 - K"]
["Feed 9 - Na"]
["Feed 9 - S"]
["Feed 9 - Co"]
["Feed 9 - Cu"]
["Feed 9 - I"]
["Feed 9 - Fe"]
["Feed 9 - Mn"]
["Feed 9 - Se"]
["Feed 9 - Zn"]
["Feed 9 - VitA"]
["Feed 9 - VitD"]
["Feed 9 - VitE"]
["Feed 10 - Cost"]
["Feed 10 - Forage"]
["Feed 10 - DM"]
["Feed 10 - CP"]
["Feed 10 - SP"]
["Feed 10 - ADICP"]
["Feed 10 - Sugars"]
["Feed 10 - OA"]
["Feed 10 - Fat"]
["Feed 10 - Ash"]
["Feed 10 - Starch"]
["Feed 10 - NDF"]
["Feed 10 - Lignin"]
["Feed 10 - TDN 1x"]
["Feed 10 - ME 1x"]
["Feed 10 - NEm 1x"]
["Feed 10 - NEg 1x"]
["Feed 10 - RUP 1x"]
["Feed 10 - kd PB"]
["Feed 10 - kd CB1"]
["Feed 10 - kd CB2"]
["Feed 10 - kd CB3"]
["Feed 10 - PBID"]
["Feed 10 - CB1ID"]
["Feed 10 - CB2ID"]
["Feed 10 - pef"]
["Feed 10 - ARG"]
["Feed 10 - HIS"]
["Feed 10 - ILE"]
["Feed 10 - LEU"]
["Feed 10 - LYS"]
["Feed 10 - MET"]
["Feed 10 - CYS"]
["Feed 10 - PHE"]
["Feed 10 - TYR"]
["Feed 10 - THR"]
["Feed 10 - TRP"]
["Feed 10 - VAL"]
["Feed 10 - Ca"]
["Feed 10 - P"]
["Feed 10 - Mg"]
["Feed 10 - Cl"]
["Feed 10 - K"]
["Feed 10 - Na"]
["Feed 10 - S"]
["Feed 10 - Co"]
["Feed 10 - Cu"]
["Feed 10 - I"]
["Feed 10 - Fe"]
["Feed 10 - Mn"]
["Feed 10 - Se"]
["Feed 10 - Zn"]
["Feed 10 - VitA"]
["Feed 10 - VitD"]
["Feed 10 - VitE"]
["Feed 11 - Cost"]
["Feed 11 - Forage"]
["Feed 11 - DM"]
["Feed 11 - CP"]
["Feed 11 - SP"]
["Feed 11 - ADICP"]
["Feed 11 - Sugars"]
["Feed 11 - OA"]
["Feed 11 - Fat"]
["Feed 11 - Ash"]
["Feed 11 - Starch"]
["Feed 11 - NDF"]
["Feed 11 - Lignin"]
["Feed 11 - TDN 1x"]
["Feed 11 - ME 1x"]
["Feed 11 - NEm 1x"]
["Feed 11 - NEg 1x"]
["Feed 11 - RUP 1x"]
["Feed 11 - kd PB"]
["Feed 11 - kd CB1"]
["Feed 11 - kd CB2"]
["Feed 11 - kd CB3"]
["Feed 11 - PBID"]
["Feed 11 - CB1ID"]
["Feed 11 - CB2ID"]
["Feed 11 - pef"]
["Feed 11 - ARG"]
["Feed 11 - HIS"]
["Feed 11 - ILE"]
["Feed 11 - LEU"]
["Feed 11 - LYS"]
["Feed 11 - MET"]
["Feed 11 - CYS"]
["Feed 11 - PHE"]
["Feed 11 - TYR"]
["Feed 11 - THR"]
["Feed 11 - TRP"]
["Feed 11 - VAL"]
["Feed 11 - Ca"]
["Feed 11 - P"]
["Feed 11 - Mg"]
["Feed 11 - Cl"]
["Feed 11 - K"]
["Feed 11 - Na"]
["Feed 11 - S"]
["Feed 11 - Co"]
["Feed 11 - Cu"]
["Feed 11 - I"]
["Feed 11 - Fe"]
["Feed 11 - Mn"]
["Feed 11 - Se"]
["Feed 11 - Zn"]
["Feed 11 - VitA"]
["Feed 11 - VitD"]
["Feed 11 - VitE"]
["Feed 12 - Cost"]
["Feed 12 - Forage"]
["Feed 12 - DM"]
["Feed 12 - CP"]
["Feed 12 - SP"]
["Feed 12 - ADICP"]
["Feed 12 - Sugars"]
["Feed 12 - OA"]
["Feed 12 - Fat"]
["Feed 12 - Ash"]
["Feed 12 - Starch"]
["Feed 12 - NDF"]
["Feed 12 - Lignin"]
["Feed 12 - TDN 1x"]
["Feed 12 - ME 1x"]
["Feed 12 - NEm 1x"]
["Feed 12 - NEg 1x"]
["Feed 12 - RUP 1x"]
["Feed 12 - kd PB"]
["Feed 12 - kd CB1"]
["Feed 12 - kd CB2"]
["Feed 12 - kd CB3"]
["Feed 12 - PBID"]
["Feed 12 - CB1ID"]
["Feed 12 - CB2ID"]
["Feed 12 - pef"]
["Feed 12 - ARG"]
["Feed 12 - HIS"]
["Feed 12 - ILE"]
["Feed 12 - LEU"]
["Feed 12 - LYS"]
["Feed 12 - MET"]
["Feed 12 - CYS"]
["Feed 12 - PHE"]
["Feed 12 - TYR"]
["Feed 12 - THR"]
["Feed 12 - TRP"]
["Feed 12 - VAL"]
["Feed 12 - Ca"]
["Feed 12 - P"]
["Feed 12 - Mg"]
["Feed 12 - Cl"]
["Feed 12 - K"]
["Feed 12 - Na"]
["Feed 12 - S"]
["Feed 12 - Co"]
["Feed 12 - Cu"]
["Feed 12 - I"]
["Feed 12 - Fe"]
["Feed 12 - Mn"]
["Feed 12 - Se"]
["Feed 12 - Zn"]
["Feed 12 - VitA"]
["Feed 12 - VitD"]
["Feed 12 - VitE"]
["Feed 13 - Cost"]
["Feed 13 - Forage"]
["Feed 13 - DM"]
["Feed 13 - CP"]
["Feed 13 - SP"]
["Feed 13 - ADICP"]
["Feed 13 - Sugars"]
["Feed 13 - OA"]
["Feed 13 - Fat"]
["Feed 13 - Ash"]
["Feed 13 - Starch"]
["Feed 13 - NDF"]
["Feed 13 - Lignin"]
["Feed 13 - TDN 1x"]
["Feed 13 - ME 1x"]
["Feed 13 - NEm 1x"]
["Feed 13 - NEg 1x"]
["Feed 13 - RUP 1x"]
["Feed 13 - kd PB"]
["Feed 13 - kd CB1"]
["Feed 13 - kd CB2"]
["Feed 13 - kd CB3"]
["Feed 13 - PBID"]
["Feed 13 - CB1ID"]
["Feed 13 - CB2ID"]
["Feed 13 - pef"]
["Feed 13 - ARG"]
["Feed 13 - HIS"]
["Feed 13 - ILE"]
["Feed 13 - LEU"]
["Feed 13 - LYS"]
["Feed 13 - MET"]
["Feed 13 - CYS"]
["Feed 13 - PHE"]
["Feed 13 - TYR"]
["Feed 13 - THR"]
["Feed 13 - TRP"]
["Feed 13 - VAL"]
["Feed 13 - Ca"]
["Feed 13 - P"]
["Feed 13 - Mg"]
["Feed 13 - Cl"]
["Feed 13 - K"]
["Feed 13 - Na"]
["Feed 13 - S"]
["Feed 13 - Co"]
["Feed 13 - Cu"]
["Feed 13 - I"]
["Feed 13 - Fe"]
["Feed 13 - Mn"]
["Feed 13 - Se"]
["Feed 13 - Zn"]
["Feed 13 - VitA"]
["Feed 13 - VitD"]
["Feed 13 - VitE"]
["Feed 14 - Cost"]
["Feed 14 - Forage"]
["Feed 14 - DM"]
["Feed 14 - CP"]
["Feed 14 - SP"]
["Feed 14 - ADICP"]
["Feed 14 - Sugars"]
["Feed 14 - OA"]
["Feed 14 - Fat"]
["Feed 14 - Ash"]
["Feed 14 - Starch"]
["Feed 14 - NDF"]
["Feed 14 - Lignin"]
["Feed 14 - TDN 1x"]
["Feed 14 - ME 1x"]
["Feed 14 - NEm 1x"]
["Feed 14 - NEg 1x"]
["Feed 14 - RUP 1x"]
["Feed 14 - kd PB"]
["Feed 14 - kd CB1"]
["Feed 14 - kd CB2"]
["Feed 14 - kd CB3"]
["Feed 14 - PBID"]
["Feed 14 - CB1ID"]
["Feed 14 - CB2ID"]
["Feed 14 - pef"]
["Feed 14 - ARG"]
["Feed 14 - HIS"]
["Feed 14 - ILE"]
["Feed 14 - LEU"]
["Feed 14 - LYS"]
["Feed 14 - MET"]
["Feed 14 - CYS"]
["Feed 14 - PHE"]
["Feed 14 - TYR"]
["Feed 14 - THR"]
["Feed 14 - TRP"]
["Feed 14 - VAL"]
["Feed 14 - Ca"]
["Feed 14 - P"]
["Feed 14 - Mg"]
["Feed 14 - Cl"]
["Feed 14 - K"]
["Feed 14 - Na"]
["Feed 14 - S"]
["Feed 14 - Co"]
["Feed 14 - Cu"]
["Feed 14 - I"]
["Feed 14 - Fe"]
["Feed 14 - Mn"]
["Feed 14 - Se"]
["Feed 14 - Zn"]
["Feed 14 - VitA"]
["Feed 14 - VitD"]
["Feed 14 - VitE"]
["Feed 15 - Cost"]
["Feed 15 - Forage"]
["Feed 15 - DM"]
["Feed 15 - CP"]
["Feed 15 - SP"]
["Feed 15 - ADICP"]
["Feed 15 - Sugars"]
["Feed 15 - OA"]
["Feed 15 - Fat"]
["Feed 15 - Ash"]
["Feed 15 - Starch"]
["Feed 15 - NDF"]
["Feed 15 - Lignin"]
["Feed 15 - TDN 1x"]
["Feed 15 - ME 1x"]
["Feed 15 - NEm 1x"]
["Feed 15 - NEg 1x"]
["Feed 15 - RUP 1x"]
["Feed 15 - kd PB"]
["Feed 15 - kd CB1"]
["Feed 15 - kd CB2"]
["Feed 15 - kd CB3"]
["Feed 15 - PBID"]
["Feed 15 - CB1ID"]
["Feed 15 - CB2ID"]
["Feed 15 - pef"]
["Feed 15 - ARG"]
["Feed 15 - HIS"]
["Feed 15 - ILE"]
["Feed 15 - LEU"]
["Feed 15 - LYS"]
["Feed 15 - MET"]
["Feed 15 - CYS"]
["Feed 15 - PHE"]
["Feed 15 - TYR"]
["Feed 15 - THR"]
["Feed 15 - TRP"]
["Feed 15 - VAL"]
["Feed 15 - Ca"]
["Feed 15 - P"]
["Feed 15 - Mg"]
["Feed 15 - Cl"]
["Feed 15 - K"]
["Feed 15 - Na"]
["Feed 15 - S"]
["Feed 15 - Co"]
["Feed 15 - Cu"]
["Feed 15 - I"]
["Feed 15 - Fe"]
["Feed 15 - Mn"]
["Feed 15 - Se"]
["Feed 15 - Zn"]
["Feed 15 - VitA"]
["Feed 15 - VitD"]
["Feed 15 - VitE"]
["Feed 16 - Cost"]
["Feed 16 - Forage"]
["Feed 16 - DM"]
["Feed 16 - CP"]
["Feed 16 - SP"]
["Feed 16 - ADICP"]
["Feed 16 - Sugars"]
["Feed 16 - OA"]
["Feed 16 - Fat"]
["Feed 16 - Ash"]
["Feed 16 - Starch"]
["Feed 16 - NDF"]
["Feed 16 - Lignin"]
["Feed 16 - TDN 1x"]
["Feed 16 - ME 1x"]
["Feed 16 - NEm 1x"]
["Feed 16 - NEg 1x"]
["Feed 16 - RUP 1x"]
["Feed 16 - kd PB"]
["Feed 16 - kd CB1"]
["Feed 16 - kd CB2"]
["Feed 16 - kd CB3"]
["Feed 16 - PBID"]
["Feed 16 - CB1ID"]
["Feed 16 - CB2ID"]
["Feed 16 - pef"]
["Feed 16 - ARG"]
["Feed 16 - HIS"]
["Feed 16 - ILE"]
["Feed 16 - LEU"]
["Feed 16 - LYS"]
["Feed 16 - MET"]
["Feed 16 - CYS"]
["Feed 16 - PHE"]
["Feed 16 - TYR"]
["Feed 16 - THR"]
["Feed 16 - TRP"]
["Feed 16 - VAL"]
["Feed 16 - Ca"]
["Feed 16 - P"]
["Feed 16 - Mg"]
["Feed 16 - Cl"]
["Feed 16 - K"]
["Feed 16 - Na"]
["Feed 16 - S"]
["Feed 16 - Co"]
["Feed 16 - Cu"]
["Feed 16 - I"]
["Feed 16 - Fe"]
["Feed 16 - Mn"]
["Feed 16 - Se"]
["Feed 16 - Zn"]
["Feed 16 - VitA"]
["Feed 16 - VitD"]
["Feed 16 - VitE"]
["Feed 17 - Cost"]
["Feed 17 - Forage"]
["Feed 17 - DM"]
["Feed 17 - CP"]
["Feed 17 - SP"]
["Feed 17 - ADICP"]
["Feed 17 - Sugars"]
["Feed 17 - OA"]
["Feed 17 - Fat"]
["Feed 17 - Ash"]
["Feed 17 - Starch"]
["Feed 17 - NDF"]
["Feed 17 - Lignin"]
["Feed 17 - TDN 1x"]
["Feed 17 - ME 1x"]
["Feed 17 - NEm 1x"]
["Feed 17 - NEg 1x"]
["Feed 17 - RUP 1x"]
["Feed 17 - kd PB"]
["Feed 17 - kd CB1"]
["Feed 17 - kd CB2"]
["Feed 17 - kd CB3"]
["Feed 17 - PBID"]
["Feed 17 - CB1ID"]
["Feed 17 - CB2ID"]
["Feed 17 - pef"]
["Feed 17 - ARG"]
["Feed 17 - HIS"]
["Feed 17 - ILE"]
["Feed 17 - LEU"]
["Feed 17 - LYS"]
["Feed 17 - MET"]
["Feed 17 - CYS"]
["Feed 17 - PHE"]
["Feed 17 - TYR"]
["Feed 17 - THR"]
["Feed 17 - TRP"]
["Feed 17 - VAL"]
["Feed 17 - Ca"]
["Feed 17 - P"]
["Feed 17 - Mg"]
["Feed 17 - Cl"]
["Feed 17 - K"]
["Feed 17 - Na"]
["Feed 17 - S"]
["Feed 17 - Co"]
["Feed 17 - Cu"]
["Feed 17 - I"]
["Feed 17 - Fe"]
["Feed 17 - Mn"]
["Feed 17 - Se"]
["Feed 17 - Zn"]
["Feed 17 - VitA"]
["Feed 17 - VitD"]
["Feed 17 - VitE"]
["Feed 18 - Cost"]
["Feed 18 - Forage"]
["Feed 18 - DM"]
["Feed 18 - CP"]
["Feed 18 - SP"]
["Feed 18 - ADICP"]
["Feed 18 - Sugars"]
["Feed 18 - OA"]
["Feed 18 - Fat"]
["Feed 18 - Ash"]
["Feed 18 - Starch"]
["Feed 18 - NDF"]
["Feed 18 - Lignin"]
["Feed 18 - TDN 1x"]
["Feed 18 - ME 1x"]
["Feed 18 - NEm 1x"]
["Feed 18 - NEg 1x"]
["Feed 18 - RUP 1x"]
["Feed 18 - kd PB"]
["Feed 18 - kd CB1"]
["Feed 18 - kd CB2"]
["Feed 18 - kd CB3"]
["Feed 18 - PBID"]
["Feed 18 - CB1ID"]
["Feed 18 - CB2ID"]
["Feed 18 - pef"]
["Feed 18 - ARG"]
["Feed 18 - HIS"]
["Feed 18 - ILE"]
["Feed 18 - LEU"]
["Feed 18 - LYS"]
["Feed 18 - MET"]
["Feed 18 - CYS"]
["Feed 18 - PHE"]
["Feed 18 - TYR"]
["Feed 18 - THR"]
["Feed 18 - TRP"]
["Feed 18 - VAL"]
["Feed 18 - Ca"]
["Feed 18 - P"]
["Feed 18 - Mg"]
["Feed 18 - Cl"]
["Feed 18 - K"]
["Feed 18 - Na"]
["Feed 18 - S"]
["Feed 18 - Co"]
["Feed 18 - Cu"]
["Feed 18 - I"]
["Feed 18 - Fe"]
["Feed 18 - Mn"]
["Feed 18 - Se"]
["Feed 18 - Zn"]
["Feed 18 - VitA"]
["Feed 18 - VitD"]
["Feed 18 - VitE"]
["Feed 19 - Cost"]
["Feed 19 - Forage"]
["Feed 19 - DM"]
["Feed 19 - CP"]
["Feed 19 - SP"]
["Feed 19 - ADICP"]
["Feed 19 - Sugars"]
["Feed 19 - OA"]
["Feed 19 - Fat"]
["Feed 19 - Ash"]
["Feed 19 - Starch"]
["Feed 19 - NDF"]
["Feed 19 - Lignin"]
["Feed 19 - TDN 1x"]
["Feed 19 - ME 1x"]
["Feed 19 - NEm 1x"]
["Feed 19 - NEg 1x"]
["Feed 19 - RUP 1x"]
["Feed 19 - kd PB"]
["Feed 19 - kd CB1"]
["Feed 19 - kd CB2"]
["Feed 19 - kd CB3"]
["Feed 19 - PBID"]
["Feed 19 - CB1ID"]
["Feed 19 - CB2ID"]
["Feed 19 - pef"]
["Feed 19 - ARG"]
["Feed 19 - HIS"]
["Feed 19 - ILE"]
["Feed 19 - LEU"]
["Feed 19 - LYS"]
["Feed 19 - MET"]
["Feed 19 - CYS"]
["Feed 19 - PHE"]
["Feed 19 - TYR"]
["Feed 19 - THR"]
["Feed 19 - TRP"]
["Feed 19 - VAL"]
["Feed 19 - Ca"]
["Feed 19 - P"]
["Feed 19 - Mg"]
["Feed 19 - Cl"]
["Feed 19 - K"]
["Feed 19 - Na"]
["Feed 19 - S"]
["Feed 19 - Co"]
["Feed 19 - Cu"]
["Feed 19 - I"]
["Feed 19 - Fe"]
["Feed 19 - Mn"]
["Feed 19 - Se"]
["Feed 19 - Zn"]
["Feed 19 - VitA"]
["Feed 19 - VitD"]
["Feed 19 - VitE"]
["Feed 20 - Cost"]
["Feed 20 - Forage"]
["Feed 20 - DM"]
["Feed 20 - CP"]
["Feed 20 - SP"]
["Feed 20 - ADICP"]
["Feed 20 - Sugars"]
["Feed 20 - OA"]
["Feed 20 - Fat"]
["Feed 20 - Ash"]
["Feed 20 - Starch"]
["Feed 20 - NDF"]
["Feed 20 - Lignin"]
["Feed 20 - TDN 1x"]
["Feed 20 - ME 1x"]
["Feed 20 - NEm 1x"]
["Feed 20 - NEg 1x"]
["Feed 20 - RUP 1x"]
["Feed 20 - kd PB"]
["Feed 20 - kd CB1"]
["Feed 20 - kd CB2"]
["Feed 20 - kd CB3"]
["Feed 20 - PBID"]
["Feed 20 - CB1ID"]
["Feed 20 - CB2ID"]
["Feed 20 - pef"]
["Feed 20 - ARG"]
["Feed 20 - HIS"]
["Feed 20 - ILE"]
["Feed 20 - LEU"]
["Feed 20 - LYS"]
["Feed 20 - MET"]
["Feed 20 - CYS"]
["Feed 20 - PHE"]
["Feed 20 - TYR"]
["Feed 20 - THR"]
["Feed 20 - TRP"]
["Feed 20 - VAL"]
["Feed 20 - Ca"]
["Feed 20 - P"]
["Feed 20 - Mg"]
["Feed 20 - Cl"]
["Feed 20 - K"]
["Feed 20 - Na"]
["Feed 20 - S"]
["Feed 20 - Co"]
["Feed 20 - Cu"]
["Feed 20 - I"]
["Feed 20 - Fe"]
["Feed 20 - Mn"]
["Feed 20 - Se"]
["Feed 20 - Zn"]
["Feed 20 - VitA"]
["Feed 20 - VitD"]
["Feed 20 - VitE"]
["Feed 21 - Cost"]
["Feed 21 - Forage"]
["Feed 21 - DM"]
["Feed 21 - CP"]
["Feed 21 - SP"]
["Feed 21 - ADICP"]
["Feed 21 - Sugars"]
["Feed 21 - OA"]
["Feed 21 - Fat"]
["Feed 21 - Ash"]
["Feed 21 - Starch"]
["Feed 21 - NDF"]
["Feed 21 - Lignin"]
["Feed 21 - TDN 1x"]
["Feed 21 - ME 1x"]
["Feed 21 - NEm 1x"]
["Feed 21 - NEg 1x"]
["Feed 21 - RUP 1x"]
["Feed 21 - kd PB"]
["Feed 21 - kd CB1"]
["Feed 21 - kd CB2"]
["Feed 21 - kd CB3"]
["Feed 21 - PBID"]
["Feed 21 - CB1ID"]
["Feed 21 - CB2ID"]
["Feed 21 - pef"]
["Feed 21 - ARG"]
["Feed 21 - HIS"]
["Feed 21 - ILE"]
["Feed 21 - LEU"]
["Feed 21 - LYS"]
["Feed 21 - MET"]
["Feed 21 - CYS"]
["Feed 21 - PHE"]
["Feed 21 - TYR"]
["Feed 21 - THR"]
["Feed 21 - TRP"]
["Feed 21 - VAL"]
["Feed 21 - Ca"]
["Feed 21 - P"]
["Feed 21 - Mg"]
["Feed 21 - Cl"]
["Feed 21 - K"]
["Feed 21 - Na"]
["Feed 21 - S"]
["Feed 21 - Co"]
["Feed 21 - Cu"]
["Feed 21 - I"]
["Feed 21 - Fe"]
["Feed 21 - Mn"]
["Feed 21 - Se"]
["Feed 21 - Zn"]
["Feed 21 - VitA"]
["Feed 21 - VitD"]
["Feed 21 - VitE"]
["Feed 22 - Cost"]
["Feed 22 - Forage"]
["Feed 22 - DM"]
["Feed 22 - CP"]
["Feed 22 - SP"]
["Feed 22 - ADICP"]
["Feed 22 - Sugars"]
["Feed 22 - OA"]
["Feed 22 - Fat"]
["Feed 22 - Ash"]
["Feed 22 - Starch"]
["Feed 22 - NDF"]
["Feed 22 - Lignin"]
["Feed 22 - TDN 1x"]
["Feed 22 - ME 1x"]
["Feed 22 - NEm 1x"]
["Feed 22 - NEg 1x"]
["Feed 22 - RUP 1x"]
["Feed 22 - kd PB"]
["Feed 22 - kd CB1"]
["Feed 22 - kd CB2"]
["Feed 22 - kd CB3"]
["Feed 22 - PBID"]
["Feed 22 - CB1ID"]
["Feed 22 - CB2ID"]
["Feed 22 - pef"]
["Feed 22 - ARG"]
["Feed 22 - HIS"]
["Feed 22 - ILE"]
["Feed 22 - LEU"]
["Feed 22 - LYS"]
["Feed 22 - MET"]
["Feed 22 - CYS"]
["Feed 22 - PHE"]
["Feed 22 - TYR"]
["Feed 22 - THR"]
["Feed 22 - TRP"]
["Feed 22 - VAL"]
["Feed 22 - Ca"]
["Feed 22 - P"]
["Feed 22 - Mg"]
["Feed 22 - Cl"]
["Feed 22 - K"]
["Feed 22 - Na"]
["Feed 22 - S"]
["Feed 22 - Co"]
["Feed 22 - Cu"]
["Feed 22 - I"]
["Feed 22 - Fe"]
["Feed 22 - Mn"]
["Feed 22 - Se"]
["Feed 22 - Zn"]
["Feed 22 - VitA"]
["Feed 22 - VitD"]
["Feed 22 - VitE"]
[]
["MODEL OUTPUTS"]
["ME allowable production"]
["MP allowable production"]
["DMI predicted"]
["DMI actual"]
["Cost per day"]
["Dry matter"]
["Forage"]
["Crude protein"]
["Fat"]
["Ash"]
["NDF"]
["Lignin"]
["Carbohydrate (CHO)"]
["Nonfiber CHO"]
["Sugars"]
["Starch"]
["Pectin"]
["RDP(N):S ratio"]
["Ca:P ratio"]
["peNDF"]
["Ruminal pH"]
["TDN allowable MCP"]
["RDP required"]
["RDP available"]
["RDP balance"]
["RDP allowable MCP"]
["Ruminal N balance"]
["Ruminal N balance"]
["Apparent TDN"]
["Dietary DE"]
["ME:DE"]
["Dietary ME"]
["Dietary NEm"]
["Dietary NEg"]
["Methane ELS, MJ/d"]
["Methane ELS, Mcal/d"]
["Methane ELS, % GE"]
["Methane ELS, g/d"]
["Methane ELS, g/kg DM"]
["Methane ELS, mol/d"]
["Methane MLS, MJ/d"]
["Methane MLS, Mcal/d"]
["Methane MLS, % GE"]
["Methane MLS, g/d"]
["Methane MLS, g/kg DM"]
["Methane MLS, mol/d"]
[]
[]
["OBSERVED VARIABLES"]
["Average daily gain"]
["Dry matter intake"]

{"sheet":"Load","index":11,"n_rows":41,"n_cols":64,"rows_kept":41,"cut":false,"hidden":true,"merged":[]}
["ORIGINAL Beef Cattle Nutrient Requirements Model 2016 Version 1.0.37.1"]
["2016/Jun/15 23:03:11"]
["Luis Tedeschi"]
[null,null,null,null,null,null,null,null,1]
[2,14,2,5,0,5,true,301,"Barley, Silage",25,100,39,10.4,70,6.1,0,0,3,8,14.06,48.7,3.09,60,0.98,0.59,0.33,14,8.27,50,50,4,54,75,75,65,0.15,0.16,0.32,0.56999999999999995,0.32,0.15,0,0.35,0,0.35,0.12,0.49,0.52,0.28999999999999998,0.19,0.15,2.57,0.12,0.24,0.72,7.7,0,375,44.8,0.15,24.5,0,0,0]
[2,2,2,40,1,19,true,402,"Barley Grain, Heavy",120,0,88,13,17,5,0,0,2.1,3,57.69,19,1.91,84,1.38,0.94,0.63,33.07,10.4,30,30,5,79.2,75,75,34,0.43,0.2,0.35,0.61,0.27,7.0000000000000007E-2,0,0.5,0,0.28000000000000003,0.11,0.43,0.05,0.35,0.12,0.28999999999999998,0.56999999999999995,0.01,0.15,0.35,5.3,0.05,59.5,18.3,0.18,13,3.8,0,26.2]
[1,2,0,30,1,0.3,true,800,"Minerals ",200,0,99,0,0,0,0,0,0,100,0,0,0,0,0,0,0,100,0,0,0,0,0,0,75,0,0,0,0,0,0,0,0,0,0,0,0,0,0,0,0,0,0,0,0,0,0,0,0,0,0,0,0,0,0]
[1,5,0,65,-3,0,false]
[null,872,0,65,-6,0,false]
[null,1337,null,1,0,0,false]
[null,1337,null,30,82,0,false]
[null,3,null,0.2,0,0,false]
[null,2,null,2,0,0,false]
[null,2,null,1,1.5,0,false]
[null,14,null,1,0,0,false]
[null,7,null,0,0,0,false]
[null,1,null,null,null,0,false]
[null,0,null,null,null,0,false]
[null,0,null,null,null,0,false]
[null,0,null,null,null,0,false]
[null,5,null,null,null,0,false]
[null,0,null,null,null,0,false]
[null,0,null,null,null,0,false]
[null,0,null,null,null,0,false]
[null,null,null,null,null,0,false]
[null,null,null,null,null,0,false]
[]
[]
[]
[null,null,null,null,null,0,2,0.8,4.18,3.82,6.96,5.0999999999999996,0.4,20,0,0.55000000000000004,0.8,280]
[null,null,null,null,null,100,7.11,0.8,55.65,1.74,2.69,2,0.4,95,0,0.6,0.8,280]
[null,null,null,null,null,null,null,0.8,0.66,4,5.88,5.7,0.15,50,0,0.65,0.8,280]
[null,null,null,null,null,null,null,0.6,16,5.9,7.51,8.1,0.05,95,null,0.55000000000000004,0.85,280]
[null,null,null,null,null,null,null,62.5,null,5.6,8.1999999999999993,7.9,60,95]
[null,null,null,null,null,null,null,21.1,null,2.4,2.68,2.6,25,50]
[null,null,null,null,null,null,null,4.4000000000000004,null,0,0,0,15,30]
[null,null,null,null,null,null,null,12,null,4.2,5.16,5.0999999999999996,null,11.9]
[null,null,null,null,null,null,null,100,null,4.32,4.32,4.32,null,17]
[null,null,null,null,null,null,null,2.4,null,3.3,5.59,5.8,null,4.41]
[null,null,null,null,null,null,null,null,null,1.63,1.63,1.63]
[null,null,null,null,null,null,null,null,null,4.7,6.16,6.2]